{"text_format":"1","workbook":"xlsx","n_sheets":6,"sheets":["Summary","Update DB","Ingredient DB","Recipes DB","Unit of measures","List"],"not_rendered":{"charts":0,"images":6,"macros":1,"external_links":0,"defined_names":3,"comments":0,"pivot_tables":0},"unopened":[],"bounds":{"document_bytes":16777216,"sheet_cells":100000,"rows_first":2000,"rows_last":500,"rows_between":2000,"halvings":0,"cell_chars":16384,"cell_head_chars":4096},"cells_cut":0,"cells_raw":0,"read":"whole","date_system":"1900"}

{"sheet":"Summary","index":0,"n_rows":6,"n_cols":5,"rows_kept":6,"cut":false,"hidden":false,"merged":[]}
["Recipe Name","Target food cost % of price","Number of servings","Target price per serving","Recipe Cost"]
[{"$f":"IFERROR(_xlfn._xlws.SORT(_xlfn.UNIQUE(_xlfn._xlws.FILTER('Recipes DB'!A2:E9638, 'Recipes DB'!A2:A9638<>\"\"))),\"\")","v":"Chicken"},0.3,5,16.554400000000001,20.1555]
["Grilled Lemon Herb Chicken",0.4,4,17.343499999999999,23.427199999999999]
["Pizza Dough",0.4,1,4.3658999999999999,1.4175]
["Pizza Margarita",0.4,8,5.7294999999999998,16.6675]
["Pizza New",0.4,8,6.1559999999999997,17.9084]

{"sheet":"Update DB","index":1,"n_rows":102,"n_cols":16,"rows_kept":102,"cut":false,"hidden":false,"merged":[[6,12,6,14]]}
["Select Recipe / Create New","Pizza Margarita"]
["Total cost",{"$f":"SUM(E9:E993)","v":16.6675}]
["Target food cost % of price",0.4]
["Number of servings",8]
["Target price per serving",{"$f":"((B2/B3)/B4)*(1+B6)*(1+B7)","v":5.729453125}]
["Buffer [%]",0]
["VAT [%]",0.1]
["Ingredient","Quantity","Recipe UOM","Yield %","Cost","Data Issues","Ingredient UOM","Price per Ingredient UOM","Recipe UOM Ratio to Ingredient","Ingredient UOM","UOM Conversiton","UOM Conversition (Default)","Index","UOM","Cost","Ingredient in DB?"]
["Pizza Dough",1,"Each",1,{"$f":"IF(B9>0,B9*H9*K9/D9,\"\")","v":1.4175},{"$f":"IF(ISERROR(P9),\"Add Ingredient to DB\",IF(B9>0,IF(AND(ISERROR(L9),ISERROR(K9)),\"Add cross UOM conversion\",\"\"),\"\"))","v":""},{"$f":"IFERROR(IFERROR(VLOOKUP($A9,'Ingredient DB'!$A$3:$Z$9999,3,0),N9),\"\")","v":"Each"},{"$f":"IFERROR(IFERROR(VLOOKUP($A9,'Ingredient DB'!$A$3:$Z$9999,5,0),O9),\"\")","v":1.4175},{"$f":"IFERROR(INDEX('Ingredient DB'!$A$3:$ZZ$9999,MATCH($A9,'Ingredient DB'!$A$3:$A$9999,0),MATCH($C9,'Ingredient DB'!$A$3:$ZZ$3,0)),\"\")","v":""},{"$f":"IFERROR(INDEX('Ingredient DB'!$A$3:$ZZ$9999,MATCH($A9,'Ingredient DB'!$A$3:$A$9999,0),MATCH($G9,'Ingredient DB'!$A$3:$ZZ$3,0)),\"\")","v":""},{"$f":"IF(B9>0,IFERROR(J9/I9,L9),\"\")","v":1},{"$f":"IF(B9>0,INDEX('Unit of measures'!$A$7:$T$25,MATCH(G9,'Unit of measures'!$A$7:$A$25,0),MATCH(C9,'Unit of measures'!$A$7:$T$7,0)),\"\")","v":1},{"$f":"IFERROR(MATCH(A9,'Recipes DB'!$A:$A,0),\"\")","v":15},{"$f":"IF(M9<>\"\",\"Each\",\"\")","v":"Each"},{"$f":"IF(M9<>\"\",INDEX('Recipes DB'!E:E,M9,),\"\")","v":1.4175},{"$f":"IF(AND(O9=\"\",A9>0),MATCH(A9,'Ingredient DB'!A:A,0),\"\")","v":""}]
["Tomato sauce",0.8,"Liter (L)",0.95,4.2105263157894735,"",{"$f":"IFERROR(IFERROR(VLOOKUP($A10,'Ingredient DB'!$A$3:$Z$9999,3,0),N10),\"\")","v":"Liter (L)"},{"$f":"IFERROR(IFERROR(VLOOKUP($A10,'Ingredient DB'!$A$3:$Z$9999,5,0),O10),\"\")","v":5},{"$f":"IFERROR(INDEX('Ingredient DB'!$A$3:$ZZ$9999,MATCH($A10,'Ingredient DB'!$A$3:$A$9999,0),MATCH($C10,'Ingredient DB'!$A$3:$ZZ$3,0)),\"\")","v":""},{"$f":"IFERROR(INDEX('Ingredient DB'!$A$3:$ZZ$9999,MATCH($A10,'Ingredient DB'!$A$3:$A$9999,0),MATCH($G10,'Ingredient DB'!$A$3:$ZZ$3,0)),\"\")","v":""},1,{"$f":"IF(B10>0,INDEX('Unit of measures'!$A$7:$T$25,MATCH(G10,'Unit of measures'!$A$7:$A$25,0),MATCH(C10,'Unit of measures'!$A$7:$T$7,0)),\"\")","v":1},{"$f":"IFERROR(MATCH(A10,'Recipes DB'!$A:$A,0),\"\")","v":""},"",{"$f":"IF(M10<>\"\",INDEX('Recipes DB'!E:E,M10,),\"\")","v":""},{"$f":"IF(AND(O10=\"\",A10>0),MATCH(A10,'Ingredient DB'!A:A,0),\"\")","v":33}]
["Fresh mozzarella cheese, sliced",1.2,"Kilogram (kg)",0.95,10.105263157894736,"",{"$f":"IFERROR(IFERROR(VLOOKUP($A11,'Ingredient DB'!$A$3:$Z$9999,3,0),N11),\"\")","v":"Kilogram (kg)"},{"$f":"IFERROR(IFERROR(VLOOKUP($A11,'Ingredient DB'!$A$3:$Z$9999,5,0),O11),\"\")","v":8},{"$f":"IFERROR(INDEX('Ingredient DB'!$A$3:$ZZ$9999,MATCH($A11,'Ingredient DB'!$A$3:$A$9999,0),MATCH($C11,'Ingredient DB'!$A$3:$ZZ$3,0)),\"\")","v":""},{"$f":"IFERROR(INDEX('Ingredient DB'!$A$3:$ZZ$9999,MATCH($A11,'Ingredient DB'!$A$3:$A$9999,0),MATCH($G11,'Ingredient DB'!$A$3:$ZZ$3,0)),\"\")","v":""},1,{"$f":"IF(B11>0,INDEX('Unit of measures'!$A$7:$T$25,MATCH(G11,'Unit of measures'!$A$7:$A$25,0),MATCH(C11,'Unit of measures'!$A$7:$T$7,0)),\"\")","v":1},{"$f":"IFERROR(MATCH(A11,'Recipes DB'!$A:$A,0),\"\")","v":""},"",{"$f":"IF(M11<>\"\",INDEX('Recipes DB'!E:E,M11,),\"\")","v":""},{"$f":"IF(AND(O11=\"\",A11>0),MATCH(A11,'Ingredient DB'!A:A,0),\"\")","v":15}]
["Fresh basil leaves",20,"Gram (g)",0.95,0.25263157894736843,"",{"$f":"IFERROR(IFERROR(VLOOKUP($A12,'Ingredient DB'!$A$3:$Z$9999,3,0),N12),\"\")","v":"Kilogram (kg)"},{"$f":"IFERROR(IFERROR(VLOOKUP($A12,'Ingredient DB'!$A$3:$Z$9999,5,0),O12),\"\")","v":12},{"$f":"IFERROR(INDEX('Ingredient DB'!$A$3:$ZZ$9999,MATCH($A12,'Ingredient DB'!$A$3:$A$9999,0),MATCH($C12,'Ingredient DB'!$A$3:$ZZ$3,0)),\"\")","v":""},{"$f":"IFERROR(INDEX('Ingredient DB'!$A$3:$ZZ$9999,MATCH($A12,'Ingredient DB'!$A$3:$A$9999,0),MATCH($G12,'Ingredient DB'!$A$3:$ZZ$3,0)),\"\")","v":""},1E-3,{"$f":"IF(B12>0,INDEX('Unit of measures'!$A$7:$T$25,MATCH(G12,'Unit of measures'!$A$7:$A$25,0),MATCH(C12,'Unit of measures'!$A$7:$T$7,0)),\"\")","v":1E-3},{"$f":"IFERROR(MATCH(A12,'Recipes DB'!$A:$A,0),\"\")","v":""},"",{"$f":"IF(M12<>\"\",INDEX('Recipes DB'!E:E,M12,),\"\")","v":""},{"$f":"IF(AND(O12=\"\",A12>0),MATCH(A12,'Ingredient DB'!A:A,0),\"\")","v":14}]
["Extra-virgin olive oil",40,"Milliliter (ml)",0.95,0.63157894736842102,"",{"$f":"IFERROR(IFERROR(VLOOKUP($A13,'Ingredient DB'!$A$3:$Z$9999,3,0),N13),\"\")","v":"Liter (L)"},{"$f":"IFERROR(IFERROR(VLOOKUP($A13,'Ingredient DB'!$A$3:$Z$9999,5,0),O13),\"\")","v":15},{"$f":"IFERROR(INDEX('Ingredient DB'!$A$3:$ZZ$9999,MATCH($A13,'Ingredient DB'!$A$3:$A$9999,0),MATCH($C13,'Ingredient DB'!$A$3:$ZZ$3,0)),\"\")","v":""},{"$f":"IFERROR(INDEX('Ingredient DB'!$A$3:$ZZ$9999,MATCH($A13,'Ingredient DB'!$A$3:$A$9999,0),MATCH($G13,'Ingredient DB'!$A$3:$ZZ$3,0)),\"\")","v":""},1E-3,{"$f":"IF(B13>0,INDEX('Unit of measures'!$A$7:$T$25,MATCH(G13,'Unit of measures'!$A$7:$A$25,0),MATCH(C13,'Unit of measures'!$A$7:$T$7,0)),\"\")","v":1E-3},{"$f":"IFERROR(MATCH(A13,'Recipes DB'!$A:$A,0),\"\")","v":""},"",{"$f":"IF(M13<>\"\",INDEX('Recipes DB'!E:E,M13,),\"\")","v":""},{"$f":"IF(AND(O13=\"\",A13>0),MATCH(A13,'Ingredient DB'!A:A,0),\"\")","v":12}]
["Salt",10,"Gram (g)",1,0.05,"",{"$f":"IFERROR(IFERROR(VLOOKUP($A14,'Ingredient DB'!$A$3:$Z$9999,3,0),N14),\"\")","v":"Gram (g)"},{"$f":"IFERROR(IFERROR(VLOOKUP($A14,'Ingredient DB'!$A$3:$Z$9999,5,0),O14),\"\")","v":5.0000000000000001E-3},{"$f":"IFERROR(INDEX('Ingredient DB'!$A$3:$ZZ$9999,MATCH($A14,'Ingredient DB'!$A$3:$A$9999,0),MATCH($C14,'Ingredient DB'!$A$3:$ZZ$3,0)),\"\")","v":""},{"$f":"IFERROR(INDEX('Ingredient DB'!$A$3:$ZZ$9999,MATCH($A14,'Ingredient DB'!$A$3:$A$9999,0),MATCH($G14,'Ingredient DB'!$A$3:$ZZ$3,0)),\"\")","v":""},1,{"$f":"IF(B14>0,INDEX('Unit of measures'!$A$7:$T$25,MATCH(G14,'Unit of measures'!$A$7:$A$25,0),MATCH(C14,'Unit of measures'!$A$7:$T$7,0)),\"\")","v":1},{"$f":"IFERROR(MATCH(A14,'Recipes DB'!$A:$A,0),\"\")","v":""},"",{"$f":"IF(M14<>\"\",INDEX('Recipes DB'!E:E,M14,),\"\")","v":""},{"$f":"IF(AND(O14=\"\",A14>0),MATCH(A14,'Ingredient DB'!A:A,0),\"\")","v":28}]
[null,null,null,null,"","",{"$f":"IFERROR(IFERROR(VLOOKUP($A15,'Ingredient DB'!$A$3:$Z$9999,3,0),N15),\"\")","v":""},{"$f":"IFERROR(IFERROR(VLOOKUP($A15,'Ingredient DB'!$A$3:$Z$9999,5,0),O15),\"\")","v":""},{"$f":"IFERROR(INDEX('Ingredient DB'!$A$3:$ZZ$9999,MATCH($A15,'Ingredient DB'!$A$3:$A$9999,0),MATCH($C15,'Ingredient DB'!$A$3:$ZZ$3,0)),\"\")","v":""},{"$f":"IFERROR(INDEX('Ingredient DB'!$A$3:$ZZ$9999,MATCH($A15,'Ingredient DB'!$A$3:$A$9999,0),MATCH($G15,'Ingredient DB'!$A$3:$ZZ$3,0)),\"\")","v":""},"",{"$f":"IF(B15>0,INDEX('Unit of measures'!$A$7:$T$25,MATCH(G15,'Unit of measures'!$A$7:$A$25,0),MATCH(C15,'Unit of measures'!$A$7:$T$7,0)),\"\")","v":""},{"$f":"IFERROR(MATCH(A15,'Recipes DB'!$A:$A,0),\"\")","v":""},"",{"$f":"IF(M15<>\"\",INDEX('Recipes DB'!E:E,M15,),\"\")","v":""},{"$f":"IF(AND(O15=\"\",A15>0),MATCH(A15,'Ingredient DB'!A:A,0),\"\")","v":""}]
[null,null,null,null,"","",{"$f":"IFERROR(IFERROR(VLOOKUP($A16,'Ingredient DB'!$A$3:$Z$9999,3,0),N16),\"\")","v":""},{"$f":"IFERROR(IFERROR(VLOOKUP($A16,'Ingredient DB'!$A$3:$Z$9999,5,0),O16),\"\")","v":""},{"$f":"IFERROR(INDEX('Ingredient DB'!$A$3:$ZZ$9999,MATCH($A16,'Ingredient DB'!$A$3:$A$9999,0),MATCH($C16,'Ingredient DB'!$A$3:$ZZ$3,0)),\"\")","v":""},{"$f":"IFERROR(INDEX('Ingredient DB'!$A$3:$ZZ$9999,MATCH($A16,'Ingredient DB'!$A$3:$A$9999,0),MATCH($G16,'Ingredient DB'!$A$3:$ZZ$3,0)),\"\")","v":""},"",{"$f":"IF(B16>0,INDEX('Unit of measures'!$A$7:$T$25,MATCH(G16,'Unit of measures'!$A$7:$A$25,0),MATCH(C16,'Unit of measures'!$A$7:$T$7,0)),\"\")","v":""},{"$f":"IFERROR(MATCH(A16,'Recipes DB'!$A:$A,0),\"\")","v":""},"",{"$f":"IF(M16<>\"\",INDEX('Recipes DB'!E:E,M16,),\"\")","v":""},{"$f":"IF(AND(O16=\"\",A16>0),MATCH(A16,'Ingredient DB'!A:A,0),\"\")","v":""}]
[null,null,null,null,"","",{"$f":"IFERROR(IFERROR(VLOOKUP($A17,'Ingredient DB'!$A$3:$Z$9999,3,0),N17),\"\")","v":""},{"$f":"IFERROR(IFERROR(VLOOKUP($A17,'Ingredient DB'!$A$3:$Z$9999,5,0),O17),\"\")","v":""},{"$f":"IFERROR(INDEX('Ingredient DB'!$A$3:$ZZ$9999,MATCH($A17,'Ingredient DB'!$A$3:$A$9999,0),MATCH($C17,'Ingredient DB'!$A$3:$ZZ$3,0)),\"\")","v":""},{"$f":"IFERROR(INDEX('Ingredient DB'!$A$3:$ZZ$9999,MATCH($A17,'Ingredient DB'!$A$3:$A$9999,0),MATCH($G17,'Ingredient DB'!$A$3:$ZZ$3,0)),\"\")","v":""},"",{"$f":"IF(B17>0,INDEX('Unit of measures'!$A$7:$T$25,MATCH(G17,'Unit of measures'!$A$7:$A$25,0),MATCH(C17,'Unit of measures'!$A$7:$T$7,0)),\"\")","v":""},{"$f":"IFERROR(MATCH(A17,'Recipes DB'!$A:$A,0),\"\")","v":""},"",{"$f":"IF(M17<>\"\",INDEX('Recipes DB'!E:E,M17,),\"\")","v":""},{"$f":"IF(AND(O17=\"\",A17>0),MATCH(A17,'Ingredient DB'!A:A,0),\"\")","v":""}]
[null,null,null,null,"","",{"$f":"IFERROR(IFERROR(VLOOKUP($A18,'Ingredient DB'!$A$3:$Z$9999,3,0),N18),\"\")","v":""},{"$f":"IFERROR(IFERROR(VLOOKUP($A18,'Ingredient DB'!$A$3:$Z$9999,5,0),O18),\"\")","v":""},{"$f":"IFERROR(INDEX('Ingredient DB'!$A$3:$ZZ$9999,MATCH($A18,'Ingredient DB'!$A$3:$A$9999,0),MATCH($C18,'Ingredient DB'!$A$3:$ZZ$3,0)),\"\")","v":""},{"$f":"IFERROR(INDEX('Ingredient DB'!$A$3:$ZZ$9999,MATCH($A18,'Ingredient DB'!$A$3:$A$9999,0),MATCH($G18,'Ingredient DB'!$A$3:$ZZ$3,0)),\"\")","v":""},"",{"$f":"IF(B18>0,INDEX('Unit of measures'!$A$7:$T$25,MATCH(G18,'Unit of measures'!$A$7:$A$25,0),MATCH(C18,'Unit of measures'!$A$7:$T$7,0)),\"\")","v":""},{"$f":"IFERROR(MATCH(A18,'Recipes DB'!$A:$A,0),\"\")","v":""},"",{"$f":"IF(M18<>\"\",INDEX('Recipes DB'!E:E,M18,),\"\")","v":""},{"$f":"IF(AND(O18=\"\",A18>0),MATCH(A18,'Ingredient DB'!A:A,0),\"\")","v":""}]
[null,null,null,null,"","",{"$f":"IFERROR(IFERROR(VLOOKUP($A19,'Ingredient DB'!$A$3:$Z$9999,3,0),N19),\"\")","v":""},{"$f":"IFERROR(IFERROR(VLOOKUP($A19,'Ingredient DB'!$A$3:$Z$9999,5,0),O19),\"\")","v":""},{"$f":"IFERROR(INDEX('Ingredient DB'!$A$3:$ZZ$9999,MATCH($A19,'Ingredient DB'!$A$3:$A$9999,0),MATCH($C19,'Ingredient DB'!$A$3:$ZZ$3,0)),\"\")","v":""},{"$f":"IFERROR(INDEX('Ingredient DB'!$A$3:$ZZ$9999,MATCH($A19,'Ingredient DB'!$A$3:$A$9999,0),MATCH($G19,'Ingredient DB'!$A$3:$ZZ$3,0)),\"\")","v":""},"",{"$f":"IF(B19>0,INDEX('Unit of measures'!$A$7:$T$25,MATCH(G19,'Unit of measures'!$A$7:$A$25,0),MATCH(C19,'Unit of measures'!$A$7:$T$7,0)),\"\")","v":""},{"$f":"IFERROR(MATCH(A19,'Recipes DB'!$A:$A,0),\"\")","v":""},"",{"$f":"IF(M19<>\"\",INDEX('Recipes DB'!E:E,M19,),\"\")","v":""},{"$f":"IF(AND(O19=\"\",A19>0),MATCH(A19,'Ingredient DB'!A:A,0),\"\")","v":""}]
[null,null,null,null,"","",{"$f":"IFERROR(IFERROR(VLOOKUP($A20,'Ingredient DB'!$A$3:$Z$9999,3,0),N20),\"\")","v":""},{"$f":"IFERROR(IFERROR(VLOOKUP($A20,'Ingredient DB'!$A$3:$Z$9999,5,0),O20),\"\")","v":""},{"$f":"IFERROR(INDEX('Ingredient DB'!$A$3:$ZZ$9999,MATCH($A20,'Ingredient DB'!$A$3:$A$9999,0),MATCH($C20,'Ingredient DB'!$A$3:$ZZ$3,0)),\"\")","v":""},{"$f":"IFERROR(INDEX('Ingredient DB'!$A$3:$ZZ$9999,MATCH($A20,'Ingredient DB'!$A$3:$A$9999,0),MATCH($G20,'Ingredient DB'!$A$3:$ZZ$3,0)),\"\")","v":""},"",{"$f":"IF(B20>0,INDEX('Unit of measures'!$A$7:$T$25,MATCH(G20,'Unit of measures'!$A$7:$A$25,0),MATCH(C20,'Unit of measures'!$A$7:$T$7,0)),\"\")","v":""},{"$f":"IFERROR(MATCH(A20,'Recipes DB'!$A:$A,0),\"\")","v":""},"",{"$f":"IF(M20<>\"\",INDEX('Recipes DB'!E:E,M20,),\"\")","v":""},{"$f":"IF(AND(O20=\"\",A20>0),MATCH(A20,'Ingredient DB'!A:A,0),\"\")","v":""}]
[null,null,null,null,"","",{"$f":"IFERROR(IFERROR(VLOOKUP($A21,'Ingredient DB'!$A$3:$Z$9999,3,0),N21),\"\")","v":""},{"$f":"IFERROR(IFERROR(VLOOKUP($A21,'Ingredient DB'!$A$3:$Z$9999,5,0),O21),\"\")","v":""},{"$f":"IFERROR(INDEX('Ingredient DB'!$A$3:$ZZ$9999,MATCH($A21,'Ingredient DB'!$A$3:$A$9999,0),MATCH($C21,'Ingredient DB'!$A$3:$ZZ$3,0)),\"\")","v":""},{"$f":"IFERROR(INDEX('Ingredient DB'!$A$3:$ZZ$9999,MATCH($A21,'Ingredient DB'!$A$3:$A$9999,0),MATCH($G21,'Ingredient DB'!$A$3:$ZZ$3,0)),\"\")","v":""},"",{"$f":"IF(B21>0,INDEX('Unit of measures'!$A$7:$T$25,MATCH(G21,'Unit of measures'!$A$7:$A$25,0),MATCH(C21,'Unit of measures'!$A$7:$T$7,0)),\"\")","v":""},{"$f":"IFERROR(MATCH(A21,'Recipes DB'!$A:$A,0),\"\")","v":""},"",{"$f":"IF(M21<>\"\",INDEX('Recipes DB'!E:E,M21,),\"\")","v":""},{"$f":"IF(AND(O21=\"\",A21>0),MATCH(A21,'Ingredient DB'!A:A,0),\"\")","v":""}]
[null,null,null,null,"","",{"$f":"IFERROR(IFERROR(VLOOKUP($A22,'Ingredient DB'!$A$3:$Z$9999,3,0),N22),\"\")","v":""},{"$f":"IFERROR(IFERROR(VLOOKUP($A22,'Ingredient DB'!$A$3:$Z$9999,5,0),O22),\"\")","v":""},{"$f":"IFERROR(INDEX('Ingredient DB'!$A$3:$ZZ$9999,MATCH($A22,'Ingredient DB'!$A$3:$A$9999,0),MATCH($C22,'Ingredient DB'!$A$3:$ZZ$3,0)),\"\")","v":""},{"$f":"IFERROR(INDEX('Ingredient DB'!$A$3:$ZZ$9999,MATCH($A22,'Ingredient DB'!$A$3:$A$9999,0),MATCH($G22,'Ingredient DB'!$A$3:$ZZ$3,0)),\"\")","v":""},"",{"$f":"IF(B22>0,INDEX('Unit of measures'!$A$7:$T$25,MATCH(G22,'Unit of measures'!$A$7:$A$25,0),MATCH(C22,'Unit of measures'!$A$7:$T$7,0)),\"\")","v":""},{"$f":"IFERROR(MATCH(A22,'Recipes DB'!$A:$A,0),\"\")","v":""},"",{"$f":"IF(M22<>\"\",INDEX('Recipes DB'!E:E,M22,),\"\")","v":""},{"$f":"IF(AND(O22=\"\",A22>0),MATCH(A22,'Ingredient DB'!A:A,0),\"\")","v":""}]
[null,null,null,null,"","",{"$f":"IFERROR(IFERROR(VLOOKUP($A23,'Ingredient DB'!$A$3:$Z$9999,3,0),N23),\"\")","v":""},{"$f":"IFERROR(IFERROR(VLOOKUP($A23,'Ingredient DB'!$A$3:$Z$9999,5,0),O23),\"\")","v":""},{"$f":"IFERROR(INDEX('Ingredient DB'!$A$3:$ZZ$9999,MATCH($A23,'Ingredient DB'!$A$3:$A$9999,0),MATCH($C23,'Ingredient DB'!$A$3:$ZZ$3,0)),\"\")","v":""},{"$f":"IFERROR(INDEX('Ingredient DB'!$A$3:$ZZ$9999,MATCH($A23,'Ingredient DB'!$A$3:$A$9999,0),MATCH($G23,'Ingredient DB'!$A$3:$ZZ$3,0)),\"\")","v":""},"",{"$f":"IF(B23>0,INDEX('Unit of measures'!$A$7:$T$25,MATCH(G23,'Unit of measures'!$A$7:$A$25,0),MATCH(C23,'Unit of measures'!$A$7:$T$7,0)),\"\")","v":""},{"$f":"IFERROR(MATCH(A23,'Recipes DB'!$A:$A,0),\"\")","v":""},"",{"$f":"IF(M23<>\"\",INDEX('Recipes DB'!E:E,M23,),\"\")","v":""},{"$f":"IF(AND(O23=\"\",A23>0),MATCH(A23,'Ingredient DB'!A:A,0),\"\")","v":""}]
[null,null,null,null,"","",{"$f":"IFERROR(IFERROR(VLOOKUP($A24,'Ingredient DB'!$A$3:$Z$9999,3,0),N24),\"\")","v":""},{"$f":"IFERROR(IFERROR(VLOOKUP($A24,'Ingredient DB'!$A$3:$Z$9999,5,0),O24),\"\")","v":""},{"$f":"IFERROR(INDEX('Ingredient DB'!$A$3:$ZZ$9999,MATCH($A24,'Ingredient DB'!$A$3:$A$9999,0),MATCH($C24,'Ingredient DB'!$A$3:$ZZ$3,0)),\"\")","v":""},{"$f":"IFERROR(INDEX('Ingredient DB'!$A$3:$ZZ$9999,MATCH($A24,'Ingredient DB'!$A$3:$A$9999,0),MATCH($G24,'Ingredient DB'!$A$3:$ZZ$3,0)),\"\")","v":""},"",{"$f":"IF(B24>0,INDEX('Unit of measures'!$A$7:$T$25,MATCH(G24,'Unit of measures'!$A$7:$A$25,0),MATCH(C24,'Unit of measures'!$A$7:$T$7,0)),\"\")","v":""},{"$f":"IFERROR(MATCH(A24,'Recipes DB'!$A:$A,0),\"\")","v":""},"",{"$f":"IF(M24<>\"\",INDEX('Recipes DB'!E:E,M24,),\"\")","v":""},{"$f":"IF(AND(O24=\"\",A24>0),MATCH(A24,'Ingredient DB'!A:A,0),\"\")","v":""}]
[null,null,null,null,"","",{"$f":"IFERROR(IFERROR(VLOOKUP($A25,'Ingredient DB'!$A$3:$Z$9999,3,0),N25),\"\")","v":""},{"$f":"IFERROR(IFERROR(VLOOKUP($A25,'Ingredient DB'!$A$3:$Z$9999,5,0),O25),\"\")","v":""},{"$f":"IFERROR(INDEX('Ingredient DB'!$A$3:$ZZ$9999,MATCH($A25,'Ingredient DB'!$A$3:$A$9999,0),MATCH($C25,'Ingredient DB'!$A$3:$ZZ$3,0)),\"\")","v":""},{"$f":"IFERROR(INDEX('Ingredient DB'!$A$3:$ZZ$9999,MATCH($A25,'Ingredient DB'!$A$3:$A$9999,0),MATCH($G25,'Ingredient DB'!$A$3:$ZZ$3,0)),\"\")","v":""},"",{"$f":"IF(B25>0,INDEX('Unit of measures'!$A$7:$T$25,MATCH(G25,'Unit of measures'!$A$7:$A$25,0),MATCH(C25,'Unit of measures'!$A$7:$T$7,0)),\"\")","v":""},{"$f":"IFERROR(MATCH(A25,'Recipes DB'!$A:$A,0),\"\")","v":""},"",{"$f":"IF(M25<>\"\",INDEX('Recipes DB'!E:E,M25,),\"\")","v":""},{"$f":"IF(AND(O25=\"\",A25>0),MATCH(A25,'Ingredient DB'!A:A,0),\"\")","v":""}]
[null,null,null,null,"","",{"$f":"IFERROR(IFERROR(VLOOKUP($A26,'Ingredient DB'!$A$3:$Z$9999,3,0),N26),\"\")","v":""},{"$f":"IFERROR(IFERROR(VLOOKUP($A26,'Ingredient DB'!$A$3:$Z$9999,5,0),O26),\"\")","v":""},{"$f":"IFERROR(INDEX('Ingredient DB'!$A$3:$ZZ$9999,MATCH($A26,'Ingredient DB'!$A$3:$A$9999,0),MATCH($C26,'Ingredient DB'!$A$3:$ZZ$3,0)),\"\")","v":""},{"$f":"IFERROR(INDEX('Ingredient DB'!$A$3:$ZZ$9999,MATCH($A26,'Ingredient DB'!$A$3:$A$9999,0),MATCH($G26,'Ingredient DB'!$A$3:$ZZ$3,0)),\"\")","v":""},"",{"$f":"IF(B26>0,INDEX('Unit of measures'!$A$7:$T$25,MATCH(G26,'Unit of measures'!$A$7:$A$25,0),MATCH(C26,'Unit of measures'!$A$7:$T$7,0)),\"\")","v":""},{"$f":"IFERROR(MATCH(A26,'Recipes DB'!$A:$A,0),\"\")","v":""},"",{"$f":"IF(M26<>\"\",INDEX('Recipes DB'!E:E,M26,),\"\")","v":""},{"$f":"IF(AND(O26=\"\",A26>0),MATCH(A26,'Ingredient DB'!A:A,0),\"\")","v":""}]
[null,null,null,null,"","",{"$f":"IFERROR(IFERROR(VLOOKUP($A27,'Ingredient DB'!$A$3:$Z$9999,3,0),N27),\"\")","v":""},{"$f":"IFERROR(IFERROR(VLOOKUP($A27,'Ingredient DB'!$A$3:$Z$9999,5,0),O27),\"\")","v":""},{"$f":"IFERROR(INDEX('Ingredient DB'!$A$3:$ZZ$9999,MATCH($A27,'Ingredient DB'!$A$3:$A$9999,0),MATCH($C27,'Ingredient DB'!$A$3:$ZZ$3,0)),\"\")","v":""},{"$f":"IFERROR(INDEX('Ingredient DB'!$A$3:$ZZ$9999,MATCH($A27,'Ingredient DB'!$A$3:$A$9999,0),MATCH($G27,'Ingredient DB'!$A$3:$ZZ$3,0)),\"\")","v":""},"",{"$f":"IF(B27>0,INDEX('Unit of measures'!$A$7:$T$25,MATCH(G27,'Unit of measures'!$A$7:$A$25,0),MATCH(C27,'Unit of measures'!$A$7:$T$7,0)),\"\")","v":""},{"$f":"IFERROR(MATCH(A27,'Recipes DB'!$A:$A,0),\"\")","v":""},"",{"$f":"IF(M27<>\"\",INDEX('Recipes DB'!E:E,M27,),\"\")","v":""},{"$f":"IF(AND(O27=\"\",A27>0),MATCH(A27,'Ingredient DB'!A:A,0),\"\")","v":""}]
[null,null,null,null,"","",{"$f":"IFERROR(IFERROR(VLOOKUP($A28,'Ingredient DB'!$A$3:$Z$9999,3,0),N28),\"\")","v":""},{"$f":"IFERROR(IFERROR(VLOOKUP($A28,'Ingredient DB'!$A$3:$Z$9999,5,0),O28),\"\")","v":""},{"$f":"IFERROR(INDEX('Ingredient DB'!$A$3:$ZZ$9999,MATCH($A28,'Ingredient DB'!$A$3:$A$9999,0),MATCH($C28,'Ingredient DB'!$A$3:$ZZ$3,0)),\"\")","v":""},{"$f":"IFERROR(INDEX('Ingredient DB'!$A$3:$ZZ$9999,MATCH($A28,'Ingredient DB'!$A$3:$A$9999,0),MATCH($G28,'Ingredient DB'!$A$3:$ZZ$3,0)),\"\")","v":""},"",{"$f":"IF(B28>0,INDEX('Unit of measures'!$A$7:$T$25,MATCH(G28,'Unit of measures'!$A$7:$A$25,0),MATCH(C28,'Unit of measures'!$A$7:$T$7,0)),\"\")","v":""},{"$f":"IFERROR(MATCH(A28,'Recipes DB'!$A:$A,0),\"\")","v":""},"",{"$f":"IF(M28<>\"\",INDEX('Recipes DB'!E:E,M28,),\"\")","v":""},{"$f":"IF(AND(O28=\"\",A28>0),MATCH(A28,'Ingredient DB'!A:A,0),\"\")","v":""}]
[null,null,null,null,"","",{"$f":"IFERROR(IFERROR(VLOOKUP($A29,'Ingredient DB'!$A$3:$Z$9999,3,0),N29),\"\")","v":""},{"$f":"IFERROR(IFERROR(VLOOKUP($A29,'Ingredient DB'!$A$3:$Z$9999,5,0),O29),\"\")","v":""},{"$f":"IFERROR(INDEX('Ingredient DB'!$A$3:$ZZ$9999,MATCH($A29,'Ingredient DB'!$A$3:$A$9999,0),MATCH($C29,'Ingredient DB'!$A$3:$ZZ$3,0)),\"\")","v":""},{"$f":"IFERROR(INDEX('Ingredient DB'!$A$3:$ZZ$9999,MATCH($A29,'Ingredient DB'!$A$3:$A$9999,0),MATCH($G29,'Ingredient DB'!$A$3:$ZZ$3,0)),\"\")","v":""},"",{"$f":"IF(B29>0,INDEX('Unit of measures'!$A$7:$T$25,MATCH(G29,'Unit of measures'!$A$7:$A$25,0),MATCH(C29,'Unit of measures'!$A$7:$T$7,0)),\"\")","v":""},{"$f":"IFERROR(MATCH(A29,'Recipes DB'!$A:$A,0),\"\")","v":""},"",{"$f":"IF(M29<>\"\",INDEX('Recipes DB'!E:E,M29,),\"\")","v":""},{"$f":"IF(AND(O29=\"\",A29>0),MATCH(A29,'Ingredient DB'!A:A,0),\"\")","v":""}]
[null,null,null,null,"","",{"$f":"IFERROR(IFERROR(VLOOKUP($A30,'Ingredient DB'!$A$3:$Z$9999,3,0),N30),\"\")","v":""},{"$f":"IFERROR(IFERROR(VLOOKUP($A30,'Ingredient DB'!$A$3:$Z$9999,5,0),O30),\"\")","v":""},{"$f":"IFERROR(INDEX('Ingredient DB'!$A$3:$ZZ$9999,MATCH($A30,'Ingredient DB'!$A$3:$A$9999,0),MATCH($C30,'Ingredient DB'!$A$3:$ZZ$3,0)),\"\")","v":""},{"$f":"IFERROR(INDEX('Ingredient DB'!$A$3:$ZZ$9999,MATCH($A30,'Ingredient DB'!$A$3:$A$9999,0),MATCH($G30,'Ingredient DB'!$A$3:$ZZ$3,0)),\"\")","v":""},"",{"$f":"IF(B30>0,INDEX('Unit of measures'!$A$7:$T$25,MATCH(G30,'Unit of measures'!$A$7:$A$25,0),MATCH(C30,'Unit of measures'!$A$7:$T$7,0)),\"\")","v":""},{"$f":"IFERROR(MATCH(A30,'Recipes DB'!$A:$A,0),\"\")","v":""},"",{"$f":"IF(M30<>\"\",INDEX('Recipes DB'!E:E,M30,),\"\")","v":""},{"$f":"IF(AND(O30=\"\",A30>0),MATCH(A30,'Ingredient DB'!A:A,0),\"\")","v":""}]
[null,null,null,null,"","",{"$f":"IFERROR(IFERROR(VLOOKUP($A31,'Ingredient DB'!$A$3:$Z$9999,3,0),N31),\"\")","v":""},{"$f":"IFERROR(IFERROR(VLOOKUP($A31,'Ingredient DB'!$A$3:$Z$9999,5,0),O31),\"\")","v":""},{"$f":"IFERROR(INDEX('Ingredient DB'!$A$3:$ZZ$9999,MATCH($A31,'Ingredient DB'!$A$3:$A$9999,0),MATCH($C31,'Ingredient DB'!$A$3:$ZZ$3,0)),\"\")","v":""},{"$f":"IFERROR(INDEX('Ingredient DB'!$A$3:$ZZ$9999,MATCH($A31,'Ingredient DB'!$A$3:$A$9999,0),MATCH($G31,'Ingredient DB'!$A$3:$ZZ$3,0)),\"\")","v":""},"",{"$f":"IF(B31>0,INDEX('Unit of measures'!$A$7:$T$25,MATCH(G31,'Unit of measures'!$A$7:$A$25,0),MATCH(C31,'Unit of measures'!$A$7:$T$7,0)),\"\")","v":""},{"$f":"IFERROR(MATCH(A31,'Recipes DB'!$A:$A,0),\"\")","v":""},"",{"$f":"IF(M31<>\"\",INDEX('Recipes DB'!E:E,M31,),\"\")","v":""},{"$f":"IF(AND(O31=\"\",A31>0),MATCH(A31,'Ingredient DB'!A:A,0),\"\")","v":""}]
[null,null,null,null,"","",{"$f":"IFERROR(IFERROR(VLOOKUP($A32,'Ingredient DB'!$A$3:$Z$9999,3,0),N32),\"\")","v":""},{"$f":"IFERROR(IFERROR(VLOOKUP($A32,'Ingredient DB'!$A$3:$Z$9999,5,0),O32),\"\")","v":""},{"$f":"IFERROR(INDEX('Ingredient DB'!$A$3:$ZZ$9999,MATCH($A32,'Ingredient DB'!$A$3:$A$9999,0),MATCH($C32,'Ingredient DB'!$A$3:$ZZ$3,0)),\"\")","v":""},{"$f":"IFERROR(INDEX('Ingredient DB'!$A$3:$ZZ$9999,MATCH($A32,'Ingredient DB'!$A$3:$A$9999,0),MATCH($G32,'Ingredient DB'!$A$3:$ZZ$3,0)),\"\")","v":""},"",{"$f":"IF(B32>0,INDEX('Unit of measures'!$A$7:$T$25,MATCH(G32,'Unit of measures'!$A$7:$A$25,0),MATCH(C32,'Unit of measures'!$A$7:$T$7,0)),\"\")","v":""},{"$f":"IFERROR(MATCH(A32,'Recipes DB'!$A:$A,0),\"\")","v":""},"",{"$f":"IF(M32<>\"\",INDEX('Recipes DB'!E:E,M32,),\"\")","v":""},{"$f":"IF(AND(O32=\"\",A32>0),MATCH(A32,'Ingredient DB'!A:A,0),\"\")","v":""}]
[null,null,null,null,"","",{"$f":"IFERROR(IFERROR(VLOOKUP($A33,'Ingredient DB'!$A$3:$Z$9999,3,0),N33),\"\")","v":""},{"$f":"IFERROR(IFERROR(VLOOKUP($A33,'Ingredient DB'!$A$3:$Z$9999,5,0),O33),\"\")","v":""},{"$f":"IFERROR(INDEX('Ingredient DB'!$A$3:$ZZ$9999,MATCH($A33,'Ingredient DB'!$A$3:$A$9999,0),MATCH($C33,'Ingredient DB'!$A$3:$ZZ$3,0)),\"\")","v":""},{"$f":"IFERROR(INDEX('Ingredient DB'!$A$3:$ZZ$9999,MATCH($A33,'Ingredient DB'!$A$3:$A$9999,0),MATCH($G33,'Ingredient DB'!$A$3:$ZZ$3,0)),\"\")","v":""},"",{"$f":"IF(B33>0,INDEX('Unit of measures'!$A$7:$T$25,MATCH(G33,'Unit of measures'!$A$7:$A$25,0),MATCH(C33,'Unit of measures'!$A$7:$T$7,0)),\"\")","v":""},{"$f":"IFERROR(MATCH(A33,'Recipes DB'!$A:$A,0),\"\")","v":""},"",{"$f":"IF(M33<>\"\",INDEX('Recipes DB'!E:E,M33,),\"\")","v":""},{"$f":"IF(AND(O33=\"\",A33>0),MATCH(A33,'Ingredient DB'!A:A,0),\"\")","v":""}]
[null,null,null,null,"","",{"$f":"IFERROR(IFERROR(VLOOKUP($A34,'Ingredient DB'!$A$3:$Z$9999,3,0),N34),\"\")","v":""},{"$f":"IFERROR(IFERROR(VLOOKUP($A34,'Ingredient DB'!$A$3:$Z$9999,5,0),O34),\"\")","v":""},{"$f":"IFERROR(INDEX('Ingredient DB'!$A$3:$ZZ$9999,MATCH($A34,'Ingredient DB'!$A$3:$A$9999,0),MATCH($C34,'Ingredient DB'!$A$3:$ZZ$3,0)),\"\")","v":""},{"$f":"IFERROR(INDEX('Ingredient DB'!$A$3:$ZZ$9999,MATCH($A34,'Ingredient DB'!$A$3:$A$9999,0),MATCH($G34,'Ingredient DB'!$A$3:$ZZ$3,0)),\"\")","v":""},"",{"$f":"IF(B34>0,INDEX('Unit of measures'!$A$7:$T$25,MATCH(G34,'Unit of measures'!$A$7:$A$25,0),MATCH(C34,'Unit of measures'!$A$7:$T$7,0)),\"\")","v":""},{"$f":"IFERROR(MATCH(A34,'Recipes DB'!$A:$A,0),\"\")","v":""},"",{"$f":"IF(M34<>\"\",INDEX('Recipes DB'!E:E,M34,),\"\")","v":""},{"$f":"IF(AND(O34=\"\",A34>0),MATCH(A34,'Ingredient DB'!A:A,0),\"\")","v":""}]
[null,null,null,null,{"$f":"IF(B35>0,B35*H35*K35/D35,\"\")","v":""},{"$f":"IF(ISERROR(P35),\"Add Ingredient to DB\",IF(B35>0,IF(AND(ISERROR(L35),ISERROR(K35)),\"Add cross UOM conversion\",\"\"),\"\"))","v":""},{"$f":"IFERROR(IFERROR(VLOOKUP($A35,'Ingredient DB'!$A$3:$Z$9999,3,0),N35),\"\")","v":""},{"$f":"IFERROR(IFERROR(VLOOKUP($A35,'Ingredient DB'!$A$3:$Z$9999,5,0),O35),\"\")","v":""},{"$f":"IFERROR(INDEX('Ingredient DB'!$A$3:$ZZ$9999,MATCH($A35,'Ingredient DB'!$A$3:$A$9999,0),MATCH($C35,'Ingredient DB'!$A$3:$ZZ$3,0)),\"\")","v":""},{"$f":"IFERROR(INDEX('Ingredient DB'!$A$3:$ZZ$9999,MATCH($A35,'Ingredient DB'!$A$3:$A$9999,0),MATCH($G35,'Ingredient DB'!$A$3:$ZZ$3,0)),\"\")","v":""},{"$f":"IF(B35>0,IFERROR(J35/I35,L35),\"\")","v":""},{"$f":"IF(B35>0,INDEX('Unit of measures'!$A$7:$T$25,MATCH(G35,'Unit of measures'!$A$7:$A$25,0),MATCH(C35,'Unit of measures'!$A$7:$T$7,0)),\"\")","v":""},{"$f":"IFERROR(MATCH(A35,'Recipes DB'!$A:$A,0),\"\")","v":""},"",{"$f":"IF(M35<>\"\",INDEX('Recipes DB'!E:E,M35,),\"\")","v":""},{"$f":"IF(AND(O35=\"\",A35>0),MATCH(A35,'Ingredient DB'!A:A,0),\"\")","v":""}]
[null,null,null,null,"","",{"$f":"IFERROR(IFERROR(VLOOKUP($A36,'Ingredient DB'!$A$3:$Z$9999,3,0),N36),\"\")","v":""},{"$f":"IFERROR(IFERROR(VLOOKUP($A36,'Ingredient DB'!$A$3:$Z$9999,5,0),O36),\"\")","v":""},{"$f":"IFERROR(INDEX('Ingredient DB'!$A$3:$ZZ$9999,MATCH($A36,'Ingredient DB'!$A$3:$A$9999,0),MATCH($C36,'Ingredient DB'!$A$3:$ZZ$3,0)),\"\")","v":""},{"$f":"IFERROR(INDEX('Ingredient DB'!$A$3:$ZZ$9999,MATCH($A36,'Ingredient DB'!$A$3:$A$9999,0),MATCH($G36,'Ingredient DB'!$A$3:$ZZ$3,0)),\"\")","v":""},"",{"$f":"IF(B36>0,INDEX('Unit of measures'!$A$7:$T$25,MATCH(G36,'Unit of measures'!$A$7:$A$25,0),MATCH(C36,'Unit of measures'!$A$7:$T$7,0)),\"\")","v":""},{"$f":"IFERROR(MATCH(A36,'Recipes DB'!$A:$A,0),\"\")","v":""},"",{"$f":"IF(M36<>\"\",INDEX('Recipes DB'!E:E,M36,),\"\")","v":""},{"$f":"IF(AND(O36=\"\",A36>0),MATCH(A36,'Ingredient DB'!A:A,0),\"\")","v":""}]
[null,null,null,null,"","",{"$f":"IFERROR(IFERROR(VLOOKUP($A37,'Ingredient DB'!$A$3:$Z$9999,3,0),N37),\"\")","v":""},{"$f":"IFERROR(IFERROR(VLOOKUP($A37,'Ingredient DB'!$A$3:$Z$9999,5,0),O37),\"\")","v":""},{"$f":"IFERROR(INDEX('Ingredient DB'!$A$3:$ZZ$9999,MATCH($A37,'Ingredient DB'!$A$3:$A$9999,0),MATCH($C37,'Ingredient DB'!$A$3:$ZZ$3,0)),\"\")","v":""},{"$f":"IFERROR(INDEX('Ingredient DB'!$A$3:$ZZ$9999,MATCH($A37,'Ingredient DB'!$A$3:$A$9999,0),MATCH($G37,'Ingredient DB'!$A$3:$ZZ$3,0)),\"\")","v":""},"",{"$f":"IF(B37>0,INDEX('Unit of measures'!$A$7:$T$25,MATCH(G37,'Unit of measures'!$A$7:$A$25,0),MATCH(C37,'Unit of measures'!$A$7:$T$7,0)),\"\")","v":""},{"$f":"IFERROR(MATCH(A37,'Recipes DB'!$A:$A,0),\"\")","v":""},"",{"$f":"IF(M37<>\"\",INDEX('Recipes DB'!E:E,M37,),\"\")","v":""},{"$f":"IF(AND(O37=\"\",A37>0),MATCH(A37,'Ingredient DB'!A:A,0),\"\")","v":""}]
[null,null,null,null,"","",{"$f":"IFERROR(IFERROR(VLOOKUP($A38,'Ingredient DB'!$A$3:$Z$9999,3,0),N38),\"\")","v":""},{"$f":"IFERROR(IFERROR(VLOOKUP($A38,'Ingredient DB'!$A$3:$Z$9999,5,0),O38),\"\")","v":""},{"$f":"IFERROR(INDEX('Ingredient DB'!$A$3:$ZZ$9999,MATCH($A38,'Ingredient DB'!$A$3:$A$9999,0),MATCH($C38,'Ingredient DB'!$A$3:$ZZ$3,0)),\"\")","v":""},{"$f":"IFERROR(INDEX('Ingredient DB'!$A$3:$ZZ$9999,MATCH($A38,'Ingredient DB'!$A$3:$A$9999,0),MATCH($G38,'Ingredient DB'!$A$3:$ZZ$3,0)),\"\")","v":""},"",{"$f":"IF(B38>0,INDEX('Unit of measures'!$A$7:$T$25,MATCH(G38,'Unit of measures'!$A$7:$A$25,0),MATCH(C38,'Unit of measures'!$A$7:$T$7,0)),\"\")","v":""},{"$f":"IFERROR(MATCH(A38,'Recipes DB'!$A:$A,0),\"\")","v":""},"",{"$f":"IF(M38<>\"\",INDEX('Recipes DB'!E:E,M38,),\"\")","v":""},{"$f":"IF(AND(O38=\"\",A38>0),MATCH(A38,'Ingredient DB'!A:A,0),\"\")","v":""}]
[null,null,null,null,"","",{"$f":"IFERROR(IFERROR(VLOOKUP($A39,'Ingredient DB'!$A$3:$Z$9999,3,0),N39),\"\")","v":""},{"$f":"IFERROR(IFERROR(VLOOKUP($A39,'Ingredient DB'!$A$3:$Z$9999,5,0),O39),\"\")","v":""},{"$f":"IFERROR(INDEX('Ingredient DB'!$A$3:$ZZ$9999,MATCH($A39,'Ingredient DB'!$A$3:$A$9999,0),MATCH($C39,'Ingredient DB'!$A$3:$ZZ$3,0)),\"\")","v":""},{"$f":"IFERROR(INDEX('Ingredient DB'!$A$3:$ZZ$9999,MATCH($A39,'Ingredient DB'!$A$3:$A$9999,0),MATCH($G39,'Ingredient DB'!$A$3:$ZZ$3,0)),\"\")","v":""},"",{"$f":"IF(B39>0,INDEX('Unit of measures'!$A$7:$T$25,MATCH(G39,'Unit of measures'!$A$7:$A$25,0),MATCH(C39,'Unit of measures'!$A$7:$T$7,0)),\"\")","v":""},{"$f":"IFERROR(MATCH(A39,'Recipes DB'!$A:$A,0),\"\")","v":""},"",{"$f":"IF(M39<>\"\",INDEX('Recipes DB'!E:E,M39,),\"\")","v":""},{"$f":"IF(AND(O39=\"\",A39>0),MATCH(A39,'Ingredient DB'!A:A,0),\"\")","v":""}]
[null,null,null,null,"","",{"$f":"IFERROR(IFERROR(VLOOKUP($A40,'Ingredient DB'!$A$3:$Z$9999,3,0),N40),\"\")","v":""},{"$f":"IFERROR(IFERROR(VLOOKUP($A40,'Ingredient DB'!$A$3:$Z$9999,5,0),O40),\"\")","v":""},{"$f":"IFERROR(INDEX('Ingredient DB'!$A$3:$ZZ$9999,MATCH($A40,'Ingredient DB'!$A$3:$A$9999,0),MATCH($C40,'Ingredient DB'!$A$3:$ZZ$3,0)),\"\")","v":""},{"$f":"IFERROR(INDEX('Ingredient DB'!$A$3:$ZZ$9999,MATCH($A40,'Ingredient DB'!$A$3:$A$9999,0),MATCH($G40,'Ingredient DB'!$A$3:$ZZ$3,0)),\"\")","v":""},"",{"$f":"IF(B40>0,INDEX('Unit of measures'!$A$7:$T$25,MATCH(G40,'Unit of measures'!$A$7:$A$25,0),MATCH(C40,'Unit of measures'!$A$7:$T$7,0)),\"\")","v":""},{"$f":"IFERROR(MATCH(A40,'Recipes DB'!$A:$A,0),\"\")","v":""},"",{"$f":"IF(M40<>\"\",INDEX('Recipes DB'!E:E,M40,),\"\")","v":""},{"$f":"IF(AND(O40=\"\",A40>0),MATCH(A40,'Ingredient DB'!A:A,0),\"\")","v":""}]
[null,null,null,null,"","",{"$f":"IFERROR(IFERROR(VLOOKUP($A41,'Ingredient DB'!$A$3:$Z$9999,3,0),N41),\"\")","v":""},{"$f":"IFERROR(IFERROR(VLOOKUP($A41,'Ingredient DB'!$A$3:$Z$9999,5,0),O41),\"\")","v":""},{"$f":"IFERROR(INDEX('Ingredient DB'!$A$3:$ZZ$9999,MATCH($A41,'Ingredient DB'!$A$3:$A$9999,0),MATCH($C41,'Ingredient DB'!$A$3:$ZZ$3,0)),\"\")","v":""},{"$f":"IFERROR(INDEX('Ingredient DB'!$A$3:$ZZ$9999,MATCH($A41,'Ingredient DB'!$A$3:$A$9999,0),MATCH($G41,'Ingredient DB'!$A$3:$ZZ$3,0)),\"\")","v":""},"",{"$f":"IF(B41>0,INDEX('Unit of measures'!$A$7:$T$25,MATCH(G41,'Unit of measures'!$A$7:$A$25,0),MATCH(C41,'Unit of measures'!$A$7:$T$7,0)),\"\")","v":""},{"$f":"IFERROR(MATCH(A41,'Recipes DB'!$A:$A,0),\"\")","v":""},"",{"$f":"IF(M41<>\"\",INDEX('Recipes DB'!E:E,M41,),\"\")","v":""},{"$f":"IF(AND(O41=\"\",A41>0),MATCH(A41,'Ingredient DB'!A:A,0),\"\")","v":""}]
[null,null,null,null,"","",{"$f":"IFERROR(IFERROR(VLOOKUP($A42,'Ingredient DB'!$A$3:$Z$9999,3,0),N42),\"\")","v":""},{"$f":"IFERROR(IFERROR(VLOOKUP($A42,'Ingredient DB'!$A$3:$Z$9999,5,0),O42),\"\")","v":""},{"$f":"IFERROR(INDEX('Ingredient DB'!$A$3:$ZZ$9999,MATCH($A42,'Ingredient DB'!$A$3:$A$9999,0),MATCH($C42,'Ingredient DB'!$A$3:$ZZ$3,0)),\"\")","v":""},{"$f":"IFERROR(INDEX('Ingredient DB'!$A$3:$ZZ$9999,MATCH($A42,'Ingredient DB'!$A$3:$A$9999,0),MATCH($G42,'Ingredient DB'!$A$3:$ZZ$3,0)),\"\")","v":""},"",{"$f":"IF(B42>0,INDEX('Unit of measures'!$A$7:$T$25,MATCH(G42,'Unit of measures'!$A$7:$A$25,0),MATCH(C42,'Unit of measures'!$A$7:$T$7,0)),\"\")","v":""},{"$f":"IFERROR(MATCH(A42,'Recipes DB'!$A:$A,0),\"\")","v":""},"",{"$f":"IF(M42<>\"\",INDEX('Recipes DB'!E:E,M42,),\"\")","v":""},{"$f":"IF(AND(O42=\"\",A42>0),MATCH(A42,'Ingredient DB'!A:A,0),\"\")","v":""}]
[null,null,null,null,"","",{"$f":"IFERROR(IFERROR(VLOOKUP($A43,'Ingredient DB'!$A$3:$Z$9999,3,0),N43),\"\")","v":""},{"$f":"IFERROR(IFERROR(VLOOKUP($A43,'Ingredient DB'!$A$3:$Z$9999,5,0),O43),\"\")","v":""},{"$f":"IFERROR(INDEX('Ingredient DB'!$A$3:$ZZ$9999,MATCH($A43,'Ingredient DB'!$A$3:$A$9999,0),MATCH($C43,'Ingredient DB'!$A$3:$ZZ$3,0)),\"\")","v":""},{"$f":"IFERROR(INDEX('Ingredient DB'!$A$3:$ZZ$9999,MATCH($A43,'Ingredient DB'!$A$3:$A$9999,0),MATCH($G43,'Ingredient DB'!$A$3:$ZZ$3,0)),\"\")","v":""},"",{"$f":"IF(B43>0,INDEX('Unit of measures'!$A$7:$T$25,MATCH(G43,'Unit of measures'!$A$7:$A$25,0),MATCH(C43,'Unit of measures'!$A$7:$T$7,0)),\"\")","v":""},{"$f":"IFERROR(MATCH(A43,'Recipes DB'!$A:$A,0),\"\")","v":""},"",{"$f":"IF(M43<>\"\",INDEX('Recipes DB'!E:E,M43,),\"\")","v":""},{"$f":"IF(AND(O43=\"\",A43>0),MATCH(A43,'Ingredient DB'!A:A,0),\"\")","v":""}]
[null,null,null,null,"","",{"$f":"IFERROR(IFERROR(VLOOKUP($A44,'Ingredient DB'!$A$3:$Z$9999,3,0),N44),\"\")","v":""},{"$f":"IFERROR(IFERROR(VLOOKUP($A44,'Ingredient DB'!$A$3:$Z$9999,5,0),O44),\"\")","v":""},{"$f":"IFERROR(INDEX('Ingredient DB'!$A$3:$ZZ$9999,MATCH($A44,'Ingredient DB'!$A$3:$A$9999,0),MATCH($C44,'Ingredient DB'!$A$3:$ZZ$3,0)),\"\")","v":""},{"$f":"IFERROR(INDEX('Ingredient DB'!$A$3:$ZZ$9999,MATCH($A44,'Ingredient DB'!$A$3:$A$9999,0),MATCH($G44,'Ingredient DB'!$A$3:$ZZ$3,0)),\"\")","v":""},"",{"$f":"IF(B44>0,INDEX('Unit of measures'!$A$7:$T$25,MATCH(G44,'Unit of measures'!$A$7:$A$25,0),MATCH(C44,'Unit of measures'!$A$7:$T$7,0)),\"\")","v":""},{"$f":"IFERROR(MATCH(A44,'Recipes DB'!$A:$A,0),\"\")","v":""},"",{"$f":"IF(M44<>\"\",INDEX('Recipes DB'!E:E,M44,),\"\")","v":""},{"$f":"IF(AND(O44=\"\",A44>0),MATCH(A44,'Ingredient DB'!A:A,0),\"\")","v":""}]
[null,null,null,null,"","",{"$f":"IFERROR(IFERROR(VLOOKUP($A45,'Ingredient DB'!$A$3:$Z$9999,3,0),N45),\"\")","v":""},{"$f":"IFERROR(IFERROR(VLOOKUP($A45,'Ingredient DB'!$A$3:$Z$9999,5,0),O45),\"\")","v":""},{"$f":"IFERROR(INDEX('Ingredient DB'!$A$3:$ZZ$9999,MATCH($A45,'Ingredient DB'!$A$3:$A$9999,0),MATCH($C45,'Ingredient DB'!$A$3:$ZZ$3,0)),\"\")","v":""},{"$f":"IFERROR(INDEX('Ingredient DB'!$A$3:$ZZ$9999,MATCH($A45,'Ingredient DB'!$A$3:$A$9999,0),MATCH($G45,'Ingredient DB'!$A$3:$ZZ$3,0)),\"\")","v":""},"",{"$f":"IF(B45>0,INDEX('Unit of measures'!$A$7:$T$25,MATCH(G45,'Unit of measures'!$A$7:$A$25,0),MATCH(C45,'Unit of measures'!$A$7:$T$7,0)),\"\")","v":""},{"$f":"IFERROR(MATCH(A45,'Recipes DB'!$A:$A,0),\"\")","v":""},"",{"$f":"IF(M45<>\"\",INDEX('Recipes DB'!E:E,M45,),\"\")","v":""},{"$f":"IF(AND(O45=\"\",A45>0),MATCH(A45,'Ingredient DB'!A:A,0),\"\")","v":""}]
[null,null,null,null,"","",{"$f":"IFERROR(IFERROR(VLOOKUP($A46,'Ingredient DB'!$A$3:$Z$9999,3,0),N46),\"\")","v":""},{"$f":"IFERROR(IFERROR(VLOOKUP($A46,'Ingredient DB'!$A$3:$Z$9999,5,0),O46),\"\")","v":""},{"$f":"IFERROR(INDEX('Ingredient DB'!$A$3:$ZZ$9999,MATCH($A46,'Ingredient DB'!$A$3:$A$9999,0),MATCH($C46,'Ingredient DB'!$A$3:$ZZ$3,0)),\"\")","v":""},{"$f":"IFERROR(INDEX('Ingredient DB'!$A$3:$ZZ$9999,MATCH($A46,'Ingredient DB'!$A$3:$A$9999,0),MATCH($G46,'Ingredient DB'!$A$3:$ZZ$3,0)),\"\")","v":""},"",{"$f":"IF(B46>0,INDEX('Unit of measures'!$A$7:$T$25,MATCH(G46,'Unit of measures'!$A$7:$A$25,0),MATCH(C46,'Unit of measures'!$A$7:$T$7,0)),\"\")","v":""},{"$f":"IFERROR(MATCH(A46,'Recipes DB'!$A:$A,0),\"\")","v":""},"",{"$f":"IF(M46<>\"\",INDEX('Recipes DB'!E:E,M46,),\"\")","v":""},{"$f":"IF(AND(O46=\"\",A46>0),MATCH(A46,'Ingredient DB'!A:A,0),\"\")","v":""}]
[null,null,null,null,"","",{"$f":"IFERROR(IFERROR(VLOOKUP($A47,'Ingredient DB'!$A$3:$Z$9999,3,0),N47),\"\")","v":""},{"$f":"IFERROR(IFERROR(VLOOKUP($A47,'Ingredient DB'!$A$3:$Z$9999,5,0),O47),\"\")","v":""},{"$f":"IFERROR(INDEX('Ingredient DB'!$A$3:$ZZ$9999,MATCH($A47,'Ingredient DB'!$A$3:$A$9999,0),MATCH($C47,'Ingredient DB'!$A$3:$ZZ$3,0)),\"\")","v":""},{"$f":"IFERROR(INDEX('Ingredient DB'!$A$3:$ZZ$9999,MATCH($A47,'Ingredient DB'!$A$3:$A$9999,0),MATCH($G47,'Ingredient DB'!$A$3:$ZZ$3,0)),\"\")","v":""},"",{"$f":"IF(B47>0,INDEX('Unit of measures'!$A$7:$T$25,MATCH(G47,'Unit of measures'!$A$7:$A$25,0),MATCH(C47,'Unit of measures'!$A$7:$T$7,0)),\"\")","v":""},{"$f":"IFERROR(MATCH(A47,'Recipes DB'!$A:$A,0),\"\")","v":""},"",{"$f":"IF(M47<>\"\",INDEX('Recipes DB'!E:E,M47,),\"\")","v":""},{"$f":"IF(AND(O47=\"\",A47>0),MATCH(A47,'Ingredient DB'!A:A,0),\"\")","v":""}]
[null,null,null,null,"","",{"$f":"IFERROR(IFERROR(VLOOKUP($A48,'Ingredient DB'!$A$3:$Z$9999,3,0),N48),\"\")","v":""},{"$f":"IFERROR(IFERROR(VLOOKUP($A48,'Ingredient DB'!$A$3:$Z$9999,5,0),O48),\"\")","v":""},{"$f":"IFERROR(INDEX('Ingredient DB'!$A$3:$ZZ$9999,MATCH($A48,'Ingredient DB'!$A$3:$A$9999,0),MATCH($C48,'Ingredient DB'!$A$3:$ZZ$3,0)),\"\")","v":""},{"$f":"IFERROR(INDEX('Ingredient DB'!$A$3:$ZZ$9999,MATCH($A48,'Ingredient DB'!$A$3:$A$9999,0),MATCH($G48,'Ingredient DB'!$A$3:$ZZ$3,0)),\"\")","v":""},"",{"$f":"IF(B48>0,INDEX('Unit of measures'!$A$7:$T$25,MATCH(G48,'Unit of measures'!$A$7:$A$25,0),MATCH(C48,'Unit of measures'!$A$7:$T$7,0)),\"\")","v":""},{"$f":"IFERROR(MATCH(A48,'Recipes DB'!$A:$A,0),\"\")","v":""},"",{"$f":"IF(M48<>\"\",INDEX('Recipes DB'!E:E,M48,),\"\")","v":""},{"$f":"IF(AND(O48=\"\",A48>0),MATCH(A48,'Ingredient DB'!A:A,0),\"\")","v":""}]
[null,null,null,null,"","",{"$f":"IFERROR(IFERROR(VLOOKUP($A49,'Ingredient DB'!$A$3:$Z$9999,3,0),N49),\"\")","v":""},{"$f":"IFERROR(IFERROR(VLOOKUP($A49,'Ingredient DB'!$A$3:$Z$9999,5,0),O49),\"\")","v":""},{"$f":"IFERROR(INDEX('Ingredient DB'!$A$3:$ZZ$9999,MATCH($A49,'Ingredient DB'!$A$3:$A$9999,0),MATCH($C49,'Ingredient DB'!$A$3:$ZZ$3,0)),\"\")","v":""},{"$f":"IFERROR(INDEX('Ingredient DB'!$A$3:$ZZ$9999,MATCH($A49,'Ingredient DB'!$A$3:$A$9999,0),MATCH($G49,'Ingredient DB'!$A$3:$ZZ$3,0)),\"\")","v":""},"",{"$f":"IF(B49>0,INDEX('Unit of measures'!$A$7:$T$25,MATCH(G49,'Unit of measures'!$A$7:$A$25,0),MATCH(C49,'Unit of measures'!$A$7:$T$7,0)),\"\")","v":""},{"$f":"IFERROR(MATCH(A49,'Recipes DB'!$A:$A,0),\"\")","v":""},"",{"$f":"IF(M49<>\"\",INDEX('Recipes DB'!E:E,M49,),\"\")","v":""},{"$f":"IF(AND(O49=\"\",A49>0),MATCH(A49,'Ingredient DB'!A:A,0),\"\")","v":""}]
[null,null,null,null,"","",{"$f":"IFERROR(IFERROR(VLOOKUP($A50,'Ingredient DB'!$A$3:$Z$9999,3,0),N50),\"\")","v":""},{"$f":"IFERROR(IFERROR(VLOOKUP($A50,'Ingredient DB'!$A$3:$Z$9999,5,0),O50),\"\")","v":""},{"$f":"IFERROR(INDEX('Ingredient DB'!$A$3:$ZZ$9999,MATCH($A50,'Ingredient DB'!$A$3:$A$9999,0),MATCH($C50,'Ingredient DB'!$A$3:$ZZ$3,0)),\"\")","v":""},{"$f":"IFERROR(INDEX('Ingredient DB'!$A$3:$ZZ$9999,MATCH($A50,'Ingredient DB'!$A$3:$A$9999,0),MATCH($G50,'Ingredient DB'!$A$3:$ZZ$3,0)),\"\")","v":""},"",{"$f":"IF(B50>0,INDEX('Unit of measures'!$A$7:$T$25,MATCH(G50,'Unit of measures'!$A$7:$A$25,0),MATCH(C50,'Unit of measures'!$A$7:$T$7,0)),\"\")","v":""},{"$f":"IFERROR(MATCH(A50,'Recipes DB'!$A:$A,0),\"\")","v":""},"",{"$f":"IF(M50<>\"\",INDEX('Recipes DB'!E:E,M50,),\"\")","v":""},{"$f":"IF(AND(O50=\"\",A50>0),MATCH(A50,'Ingredient DB'!A:A,0),\"\")","v":""}]
[null,null,null,null,"","",{"$f":"IFERROR(IFERROR(VLOOKUP($A51,'Ingredient DB'!$A$3:$Z$9999,3,0),N51),\"\")","v":""},{"$f":"IFERROR(IFERROR(VLOOKUP($A51,'Ingredient DB'!$A$3:$Z$9999,5,0),O51),\"\")","v":""},{"$f":"IFERROR(INDEX('Ingredient DB'!$A$3:$ZZ$9999,MATCH($A51,'Ingredient DB'!$A$3:$A$9999,0),MATCH($C51,'Ingredient DB'!$A$3:$ZZ$3,0)),\"\")","v":""},{"$f":"IFERROR(INDEX('Ingredient DB'!$A$3:$ZZ$9999,MATCH($A51,'Ingredient DB'!$A$3:$A$9999,0),MATCH($G51,'Ingredient DB'!$A$3:$ZZ$3,0)),\"\")","v":""},"",{"$f":"IF(B51>0,INDEX('Unit of measures'!$A$7:$T$25,MATCH(G51,'Unit of measures'!$A$7:$A$25,0),MATCH(C51,'Unit of measures'!$A$7:$T$7,0)),\"\")","v":""},{"$f":"IFERROR(MATCH(A51,'Recipes DB'!$A:$A,0),\"\")","v":""},"",{"$f":"IF(M51<>\"\",INDEX('Recipes DB'!E:E,M51,),\"\")","v":""},{"$f":"IF(AND(O51=\"\",A51>0),MATCH(A51,'Ingredient DB'!A:A,0),\"\")","v":""}]
[null,null,null,null,"","",{"$f":"IFERROR(IFERROR(VLOOKUP($A52,'Ingredient DB'!$A$3:$Z$9999,3,0),N52),\"\")","v":""},{"$f":"IFERROR(IFERROR(VLOOKUP($A52,'Ingredient DB'!$A$3:$Z$9999,5,0),O52),\"\")","v":""},{"$f":"IFERROR(INDEX('Ingredient DB'!$A$3:$ZZ$9999,MATCH($A52,'Ingredient DB'!$A$3:$A$9999,0),MATCH($C52,'Ingredient DB'!$A$3:$ZZ$3,0)),\"\")","v":""},{"$f":"IFERROR(INDEX('Ingredient DB'!$A$3:$ZZ$9999,MATCH($A52,'Ingredient DB'!$A$3:$A$9999,0),MATCH($G52,'Ingredient DB'!$A$3:$ZZ$3,0)),\"\")","v":""},"",{"$f":"IF(B52>0,INDEX('Unit of measures'!$A$7:$T$25,MATCH(G52,'Unit of measures'!$A$7:$A$25,0),MATCH(C52,'Unit of measures'!$A$7:$T$7,0)),\"\")","v":""},{"$f":"IFERROR(MATCH(A52,'Recipes DB'!$A:$A,0),\"\")","v":""},"",{"$f":"IF(M52<>\"\",INDEX('Recipes DB'!E:E,M52,),\"\")","v":""},{"$f":"IF(AND(O52=\"\",A52>0),MATCH(A52,'Ingredient DB'!A:A,0),\"\")","v":""}]
[null,null,null,null,"","",{"$f":"IFERROR(IFERROR(VLOOKUP($A53,'Ingredient DB'!$A$3:$Z$9999,3,0),N53),\"\")","v":""},{"$f":"IFERROR(IFERROR(VLOOKUP($A53,'Ingredient DB'!$A$3:$Z$9999,5,0),O53),\"\")","v":""},{"$f":"IFERROR(INDEX('Ingredient DB'!$A$3:$ZZ$9999,MATCH($A53,'Ingredient DB'!$A$3:$A$9999,0),MATCH($C53,'Ingredient DB'!$A$3:$ZZ$3,0)),\"\")","v":""},{"$f":"IFERROR(INDEX('Ingredient DB'!$A$3:$ZZ$9999,MATCH($A53,'Ingredient DB'!$A$3:$A$9999,0),MATCH($G53,'Ingredient DB'!$A$3:$ZZ$3,0)),\"\")","v":""},"",{"$f":"IF(B53>0,INDEX('Unit of measures'!$A$7:$T$25,MATCH(G53,'Unit of measures'!$A$7:$A$25,0),MATCH(C53,'Unit of measures'!$A$7:$T$7,0)),\"\")","v":""},{"$f":"IFERROR(MATCH(A53,'Recipes DB'!$A:$A,0),\"\")","v":""},"",{"$f":"IF(M53<>\"\",INDEX('Recipes DB'!E:E,M53,),\"\")","v":""},{"$f":"IF(AND(O53=\"\",A53>0),MATCH(A53,'Ingredient DB'!A:A,0),\"\")","v":""}]
[null,null,null,null,"","",{"$f":"IFERROR(IFERROR(VLOOKUP($A54,'Ingredient DB'!$A$3:$Z$9999,3,0),N54),\"\")","v":""},{"$f":"IFERROR(IFERROR(VLOOKUP($A54,'Ingredient DB'!$A$3:$Z$9999,5,0),O54),\"\")","v":""},{"$f":"IFERROR(INDEX('Ingredient DB'!$A$3:$ZZ$9999,MATCH($A54,'Ingredient DB'!$A$3:$A$9999,0),MATCH($C54,'Ingredient DB'!$A$3:$ZZ$3,0)),\"\")","v":""},{"$f":"IFERROR(INDEX('Ingredient DB'!$A$3:$ZZ$9999,MATCH($A54,'Ingredient DB'!$A$3:$A$9999,0),MATCH($G54,'Ingredient DB'!$A$3:$ZZ$3,0)),\"\")","v":""},"",{"$f":"IF(B54>0,INDEX('Unit of measures'!$A$7:$T$25,MATCH(G54,'Unit of measures'!$A$7:$A$25,0),MATCH(C54,'Unit of measures'!$A$7:$T$7,0)),\"\")","v":""},{"$f":"IFERROR(MATCH(A54,'Recipes DB'!$A:$A,0),\"\")","v":""},"",{"$f":"IF(M54<>\"\",INDEX('Recipes DB'!E:E,M54,),\"\")","v":""},{"$f":"IF(AND(O54=\"\",A54>0),MATCH(A54,'Ingredient DB'!A:A,0),\"\")","v":""}]
[null,null,null,null,"","",{"$f":"IFERROR(IFERROR(VLOOKUP($A55,'Ingredient DB'!$A$3:$Z$9999,3,0),N55),\"\")","v":""},{"$f":"IFERROR(IFERROR(VLOOKUP($A55,'Ingredient DB'!$A$3:$Z$9999,5,0),O55),\"\")","v":""},{"$f":"IFERROR(INDEX('Ingredient DB'!$A$3:$ZZ$9999,MATCH($A55,'Ingredient DB'!$A$3:$A$9999,0),MATCH($C55,'Ingredient DB'!$A$3:$ZZ$3,0)),\"\")","v":""},{"$f":"IFERROR(INDEX('Ingredient DB'!$A$3:$ZZ$9999,MATCH($A55,'Ingredient DB'!$A$3:$A$9999,0),MATCH($G55,'Ingredient DB'!$A$3:$ZZ$3,0)),\"\")","v":""},"",{"$f":"IF(B55>0,INDEX('Unit of measures'!$A$7:$T$25,MATCH(G55,'Unit of measures'!$A$7:$A$25,0),MATCH(C55,'Unit of measures'!$A$7:$T$7,0)),\"\")","v":""},{"$f":"IFERROR(MATCH(A55,'Recipes DB'!$A:$A,0),\"\")","v":""},"",{"$f":"IF(M55<>\"\",INDEX('Recipes DB'!E:E,M55,),\"\")","v":""},{"$f":"IF(AND(O55=\"\",A55>0),MATCH(A55,'Ingredient DB'!A:A,0),\"\")","v":""}]
[null,null,null,null,"","",{"$f":"IFERROR(IFERROR(VLOOKUP($A56,'Ingredient DB'!$A$3:$Z$9999,3,0),N56),\"\")","v":""},{"$f":"IFERROR(IFERROR(VLOOKUP($A56,'Ingredient DB'!$A$3:$Z$9999,5,0),O56),\"\")","v":""},{"$f":"IFERROR(INDEX('Ingredient DB'!$A$3:$ZZ$9999,MATCH($A56,'Ingredient DB'!$A$3:$A$9999,0),MATCH($C56,'Ingredient DB'!$A$3:$ZZ$3,0)),\"\")","v":""},{"$f":"IFERROR(INDEX('Ingredient DB'!$A$3:$ZZ$9999,MATCH($A56,'Ingredient DB'!$A$3:$A$9999,0),MATCH($G56,'Ingredient DB'!$A$3:$ZZ$3,0)),\"\")","v":""},"",{"$f":"IF(B56>0,INDEX('Unit of measures'!$A$7:$T$25,MATCH(G56,'Unit of measures'!$A$7:$A$25,0),MATCH(C56,'Unit of measures'!$A$7:$T$7,0)),\"\")","v":""},{"$f":"IFERROR(MATCH(A56,'Recipes DB'!$A:$A,0),\"\")","v":""},"",{"$f":"IF(M56<>\"\",INDEX('Recipes DB'!E:E,M56,),\"\")","v":""},{"$f":"IF(AND(O56=\"\",A56>0),MATCH(A56,'Ingredient DB'!A:A,0),\"\")","v":""}]
[null,null,null,null,"","",{"$f":"IFERROR(IFERROR(VLOOKUP($A57,'Ingredient DB'!$A$3:$Z$9999,3,0),N57),\"\")","v":""},{"$f":"IFERROR(IFERROR(VLOOKUP($A57,'Ingredient DB'!$A$3:$Z$9999,5,0),O57),\"\")","v":""},{"$f":"IFERROR(INDEX('Ingredient DB'!$A$3:$ZZ$9999,MATCH($A57,'Ingredient DB'!$A$3:$A$9999,0),MATCH($C57,'Ingredient DB'!$A$3:$ZZ$3,0)),\"\")","v":""},{"$f":"IFERROR(INDEX('Ingredient DB'!$A$3:$ZZ$9999,MATCH($A57,'Ingredient DB'!$A$3:$A$9999,0),MATCH($G57,'Ingredient DB'!$A$3:$ZZ$3,0)),\"\")","v":""},"",{"$f":"IF(B57>0,INDEX('Unit of measures'!$A$7:$T$25,MATCH(G57,'Unit of measures'!$A$7:$A$25,0),MATCH(C57,'Unit of measures'!$A$7:$T$7,0)),\"\")","v":""},{"$f":"IFERROR(MATCH(A57,'Recipes DB'!$A:$A,0),\"\")","v":""},"",{"$f":"IF(M57<>\"\",INDEX('Recipes DB'!E:E,M57,),\"\")","v":""},{"$f":"IF(AND(O57=\"\",A57>0),MATCH(A57,'Ingredient DB'!A:A,0),\"\")","v":""}]
[null,null,null,null,"","",{"$f":"IFERROR(IFERROR(VLOOKUP($A58,'Ingredient DB'!$A$3:$Z$9999,3,0),N58),\"\")","v":""},{"$f":"IFERROR(IFERROR(VLOOKUP($A58,'Ingredient DB'!$A$3:$Z$9999,5,0),O58),\"\")","v":""},{"$f":"IFERROR(INDEX('Ingredient DB'!$A$3:$ZZ$9999,MATCH($A58,'Ingredient DB'!$A$3:$A$9999,0),MATCH($C58,'Ingredient DB'!$A$3:$ZZ$3,0)),\"\")","v":""},{"$f":"IFERROR(INDEX('Ingredient DB'!$A$3:$ZZ$9999,MATCH($A58,'Ingredient DB'!$A$3:$A$9999,0),MATCH($G58,'Ingredient DB'!$A$3:$ZZ$3,0)),\"\")","v":""},"",{"$f":"IF(B58>0,INDEX('Unit of measures'!$A$7:$T$25,MATCH(G58,'Unit of measures'!$A$7:$A$25,0),MATCH(C58,'Unit of measures'!$A$7:$T$7,0)),\"\")","v":""},{"$f":"IFERROR(MATCH(A58,'Recipes DB'!$A:$A,0),\"\")","v":""},"",{"$f":"IF(M58<>\"\",INDEX('Recipes DB'!E:E,M58,),\"\")","v":""},{"$f":"IF(AND(O58=\"\",A58>0),MATCH(A58,'Ingredient DB'!A:A,0),\"\")","v":""}]
[null,null,null,null,"","",{"$f":"IFERROR(IFERROR(VLOOKUP($A59,'Ingredient DB'!$A$3:$Z$9999,3,0),N59),\"\")","v":""},{"$f":"IFERROR(IFERROR(VLOOKUP($A59,'Ingredient DB'!$A$3:$Z$9999,5,0),O59),\"\")","v":""},{"$f":"IFERROR(INDEX('Ingredient DB'!$A$3:$ZZ$9999,MATCH($A59,'Ingredient DB'!$A$3:$A$9999,0),MATCH($C59,'Ingredient DB'!$A$3:$ZZ$3,0)),\"\")","v":""},{"$f":"IFERROR(INDEX('Ingredient DB'!$A$3:$ZZ$9999,MATCH($A59,'Ingredient DB'!$A$3:$A$9999,0),MATCH($G59,'Ingredient DB'!$A$3:$ZZ$3,0)),\"\")","v":""},"",{"$f":"IF(B59>0,INDEX('Unit of measures'!$A$7:$T$25,MATCH(G59,'Unit of measures'!$A$7:$A$25,0),MATCH(C59,'Unit of measures'!$A$7:$T$7,0)),\"\")","v":""},{"$f":"IFERROR(MATCH(A59,'Recipes DB'!$A:$A,0),\"\")","v":""},"",{"$f":"IF(M59<>\"\",INDEX('Recipes DB'!E:E,M59,),\"\")","v":""},{"$f":"IF(AND(O59=\"\",A59>0),MATCH(A59,'Ingredient DB'!A:A,0),\"\")","v":""}]
[null,null,null,null,"","",{"$f":"IFERROR(IFERROR(VLOOKUP($A60,'Ingredient DB'!$A$3:$Z$9999,3,0),N60),\"\")","v":""},{"$f":"IFERROR(IFERROR(VLOOKUP($A60,'Ingredient DB'!$A$3:$Z$9999,5,0),O60),\"\")","v":""},{"$f":"IFERROR(INDEX('Ingredient DB'!$A$3:$ZZ$9999,MATCH($A60,'Ingredient DB'!$A$3:$A$9999,0),MATCH($C60,'Ingredient DB'!$A$3:$ZZ$3,0)),\"\")","v":""},{"$f":"IFERROR(INDEX('Ingredient DB'!$A$3:$ZZ$9999,MATCH($A60,'Ingredient DB'!$A$3:$A$9999,0),MATCH($G60,'Ingredient DB'!$A$3:$ZZ$3,0)),\"\")","v":""},"",{"$f":"IF(B60>0,INDEX('Unit of measures'!$A$7:$T$25,MATCH(G60,'Unit of measures'!$A$7:$A$25,0),MATCH(C60,'Unit of measures'!$A$7:$T$7,0)),\"\")","v":""},{"$f":"IFERROR(MATCH(A60,'Recipes DB'!$A:$A,0),\"\")","v":""},"",{"$f":"IF(M60<>\"\",INDEX('Recipes DB'!E:E,M60,),\"\")","v":""},{"$f":"IF(AND(O60=\"\",A60>0),MATCH(A60,'Ingredient DB'!A:A,0),\"\")","v":""}]
[null,null,null,null,"","",{"$f":"IFERROR(IFERROR(VLOOKUP($A61,'Ingredient DB'!$A$3:$Z$9999,3,0),N61),\"\")","v":""},{"$f":"IFERROR(IFERROR(VLOOKUP($A61,'Ingredient DB'!$A$3:$Z$9999,5,0),O61),\"\")","v":""},{"$f":"IFERROR(INDEX('Ingredient DB'!$A$3:$ZZ$9999,MATCH($A61,'Ingredient DB'!$A$3:$A$9999,0),MATCH($C61,'Ingredient DB'!$A$3:$ZZ$3,0)),\"\")","v":""},{"$f":"IFERROR(INDEX('Ingredient DB'!$A$3:$ZZ$9999,MATCH($A61,'Ingredient DB'!$A$3:$A$9999,0),MATCH($G61,'Ingredient DB'!$A$3:$ZZ$3,0)),\"\")","v":""},"",{"$f":"IF(B61>0,INDEX('Unit of measures'!$A$7:$T$25,MATCH(G61,'Unit of measures'!$A$7:$A$25,0),MATCH(C61,'Unit of measures'!$A$7:$T$7,0)),\"\")","v":""},{"$f":"IFERROR(MATCH(A61,'Recipes DB'!$A:$A,0),\"\")","v":""},"",{"$f":"IF(M61<>\"\",INDEX('Recipes DB'!E:E,M61,),\"\")","v":""},{"$f":"IF(AND(O61=\"\",A61>0),MATCH(A61,'Ingredient DB'!A:A,0),\"\")","v":""}]
[null,null,null,null,"","",{"$f":"IFERROR(IFERROR(VLOOKUP($A62,'Ingredient DB'!$A$3:$Z$9999,3,0),N62),\"\")","v":""},{"$f":"IFERROR(IFERROR(VLOOKUP($A62,'Ingredient DB'!$A$3:$Z$9999,5,0),O62),\"\")","v":""},{"$f":"IFERROR(INDEX('Ingredient DB'!$A$3:$ZZ$9999,MATCH($A62,'Ingredient DB'!$A$3:$A$9999,0),MATCH($C62,'Ingredient DB'!$A$3:$ZZ$3,0)),\"\")","v":""},{"$f":"IFERROR(INDEX('Ingredient DB'!$A$3:$ZZ$9999,MATCH($A62,'Ingredient DB'!$A$3:$A$9999,0),MATCH($G62,'Ingredient DB'!$A$3:$ZZ$3,0)),\"\")","v":""},"",{"$f":"IF(B62>0,INDEX('Unit of measures'!$A$7:$T$25,MATCH(G62,'Unit of measures'!$A$7:$A$25,0),MATCH(C62,'Unit of measures'!$A$7:$T$7,0)),\"\")","v":""},{"$f":"IFERROR(MATCH(A62,'Recipes DB'!$A:$A,0),\"\")","v":""},"",{"$f":"IF(M62<>\"\",INDEX('Recipes DB'!E:E,M62,),\"\")","v":""},{"$f":"IF(AND(O62=\"\",A62>0),MATCH(A62,'Ingredient DB'!A:A,0),\"\")","v":""}]
[null,null,null,null,"","",{"$f":"IFERROR(IFERROR(VLOOKUP($A63,'Ingredient DB'!$A$3:$Z$9999,3,0),N63),\"\")","v":""},{"$f":"IFERROR(IFERROR(VLOOKUP($A63,'Ingredient DB'!$A$3:$Z$9999,5,0),O63),\"\")","v":""},{"$f":"IFERROR(INDEX('Ingredient DB'!$A$3:$ZZ$9999,MATCH($A63,'Ingredient DB'!$A$3:$A$9999,0),MATCH($C63,'Ingredient DB'!$A$3:$ZZ$3,0)),\"\")","v":""},{"$f":"IFERROR(INDEX('Ingredient DB'!$A$3:$ZZ$9999,MATCH($A63,'Ingredient DB'!$A$3:$A$9999,0),MATCH($G63,'Ingredient DB'!$A$3:$ZZ$3,0)),\"\")","v":""},"",{"$f":"IF(B63>0,INDEX('Unit of measures'!$A$7:$T$25,MATCH(G63,'Unit of measures'!$A$7:$A$25,0),MATCH(C63,'Unit of measures'!$A$7:$T$7,0)),\"\")","v":""},{"$f":"IFERROR(MATCH(A63,'Recipes DB'!$A:$A,0),\"\")","v":""},"",{"$f":"IF(M63<>\"\",INDEX('Recipes DB'!E:E,M63,),\"\")","v":""},{"$f":"IF(AND(O63=\"\",A63>0),MATCH(A63,'Ingredient DB'!A:A,0),\"\")","v":""}]
[null,null,null,null,"","",{"$f":"IFERROR(IFERROR(VLOOKUP($A64,'Ingredient DB'!$A$3:$Z$9999,3,0),N64),\"\")","v":""},{"$f":"IFERROR(IFERROR(VLOOKUP($A64,'Ingredient DB'!$A$3:$Z$9999,5,0),O64),\"\")","v":""},{"$f":"IFERROR(INDEX('Ingredient DB'!$A$3:$ZZ$9999,MATCH($A64,'Ingredient DB'!$A$3:$A$9999,0),MATCH($C64,'Ingredient DB'!$A$3:$ZZ$3,0)),\"\")","v":""},{"$f":"IFERROR(INDEX('Ingredient DB'!$A$3:$ZZ$9999,MATCH($A64,'Ingredient DB'!$A$3:$A$9999,0),MATCH($G64,'Ingredient DB'!$A$3:$ZZ$3,0)),\"\")","v":""},"",{"$f":"IF(B64>0,INDEX('Unit of measures'!$A$7:$T$25,MATCH(G64,'Unit of measures'!$A$7:$A$25,0),MATCH(C64,'Unit of measures'!$A$7:$T$7,0)),\"\")","v":""},{"$f":"IFERROR(MATCH(A64,'Recipes DB'!$A:$A,0),\"\")","v":""},"",{"$f":"IF(M64<>\"\",INDEX('Recipes DB'!E:E,M64,),\"\")","v":""},{"$f":"IF(AND(O64=\"\",A64>0),MATCH(A64,'Ingredient DB'!A:A,0),\"\")","v":""}]
[null,null,null,null,"","",{"$f":"IFERROR(IFERROR(VLOOKUP($A65,'Ingredient DB'!$A$3:$Z$9999,3,0),N65),\"\")","v":""},{"$f":"IFERROR(IFERROR(VLOOKUP($A65,'Ingredient DB'!$A$3:$Z$9999,5,0),O65),\"\")","v":""},{"$f":"IFERROR(INDEX('Ingredient DB'!$A$3:$ZZ$9999,MATCH($A65,'Ingredient DB'!$A$3:$A$9999,0),MATCH($C65,'Ingredient DB'!$A$3:$ZZ$3,0)),\"\")","v":""},{"$f":"IFERROR(INDEX('Ingredient DB'!$A$3:$ZZ$9999,MATCH($A65,'Ingredient DB'!$A$3:$A$9999,0),MATCH($G65,'Ingredient DB'!$A$3:$ZZ$3,0)),\"\")","v":""},"",{"$f":"IF(B65>0,INDEX('Unit of measures'!$A$7:$T$25,MATCH(G65,'Unit of measures'!$A$7:$A$25,0),MATCH(C65,'Unit of measures'!$A$7:$T$7,0)),\"\")","v":""},{"$f":"IFERROR(MATCH(A65,'Recipes DB'!$A:$A,0),\"\")","v":""},"",{"$f":"IF(M65<>\"\",INDEX('Recipes DB'!E:E,M65,),\"\")","v":""},{"$f":"IF(AND(O65=\"\",A65>0),MATCH(A65,'Ingredient DB'!A:A,0),\"\")","v":""}]
[null,null,null,null,"","",{"$f":"IFERROR(IFERROR(VLOOKUP($A66,'Ingredient DB'!$A$3:$Z$9999,3,0),N66),\"\")","v":""},{"$f":"IFERROR(IFERROR(VLOOKUP($A66,'Ingredient DB'!$A$3:$Z$9999,5,0),O66),\"\")","v":""},{"$f":"IFERROR(INDEX('Ingredient DB'!$A$3:$ZZ$9999,MATCH($A66,'Ingredient DB'!$A$3:$A$9999,0),MATCH($C66,'Ingredient DB'!$A$3:$ZZ$3,0)),\"\")","v":""},{"$f":"IFERROR(INDEX('Ingredient DB'!$A$3:$ZZ$9999,MATCH($A66,'Ingredient DB'!$A$3:$A$9999,0),MATCH($G66,'Ingredient DB'!$A$3:$ZZ$3,0)),\"\")","v":""},"",{"$f":"IF(B66>0,INDEX('Unit of measures'!$A$7:$T$25,MATCH(G66,'Unit of measures'!$A$7:$A$25,0),MATCH(C66,'Unit of measures'!$A$7:$T$7,0)),\"\")","v":""},{"$f":"IFERROR(MATCH(A66,'Recipes DB'!$A:$A,0),\"\")","v":""},"",{"$f":"IF(M66<>\"\",INDEX('Recipes DB'!E:E,M66,),\"\")","v":""},{"$f":"IF(AND(O66=\"\",A66>0),MATCH(A66,'Ingredient DB'!A:A,0),\"\")","v":""}]
[null,null,null,null,{"$f":"IF(B67>0,B67*H67*K67/D67,\"\")","v":""},{"$f":"IF(ISERROR(P67),\"Add Ingredient to DB\",IF(B67>0,IF(AND(ISERROR(L67),ISERROR(K67)),\"Add cross UOM conversion\",\"\"),\"\"))","v":""},{"$f":"IFERROR(IFERROR(VLOOKUP($A67,'Ingredient DB'!$A$3:$Z$9999,3,0),N67),\"\")","v":""},{"$f":"IFERROR(IFERROR(VLOOKUP($A67,'Ingredient DB'!$A$3:$Z$9999,5,0),O67),\"\")","v":""},{"$f":"IFERROR(INDEX('Ingredient DB'!$A$3:$ZZ$9999,MATCH($A67,'Ingredient DB'!$A$3:$A$9999,0),MATCH($C67,'Ingredient DB'!$A$3:$ZZ$3,0)),\"\")","v":""},{"$f":"IFERROR(INDEX('Ingredient DB'!$A$3:$ZZ$9999,MATCH($A67,'Ingredient DB'!$A$3:$A$9999,0),MATCH($G67,'Ingredient DB'!$A$3:$ZZ$3,0)),\"\")","v":""},{"$f":"IF(B67>0,IFERROR(J67/I67,L67),\"\")","v":""},{"$f":"IF(B67>0,INDEX('Unit of measures'!$A$7:$T$25,MATCH(G67,'Unit of measures'!$A$7:$A$25,0),MATCH(C67,'Unit of measures'!$A$7:$T$7,0)),\"\")","v":""},{"$f":"IFERROR(MATCH(A67,'Recipes DB'!$A:$A,0),\"\")","v":""},"",{"$f":"IF(M67<>\"\",INDEX('Recipes DB'!E:E,M67,),\"\")","v":""},{"$f":"IF(AND(O67=\"\",A67>0),MATCH(A67,'Ingredient DB'!A:A,0),\"\")","v":""}]
[null,null,null,null,"","",{"$f":"IFERROR(IFERROR(VLOOKUP($A68,'Ingredient DB'!$A$3:$Z$9999,3,0),N68),\"\")","v":""},{"$f":"IFERROR(IFERROR(VLOOKUP($A68,'Ingredient DB'!$A$3:$Z$9999,5,0),O68),\"\")","v":""},{"$f":"IFERROR(INDEX('Ingredient DB'!$A$3:$ZZ$9999,MATCH($A68,'Ingredient DB'!$A$3:$A$9999,0),MATCH($C68,'Ingredient DB'!$A$3:$ZZ$3,0)),\"\")","v":""},{"$f":"IFERROR(INDEX('Ingredient DB'!$A$3:$ZZ$9999,MATCH($A68,'Ingredient DB'!$A$3:$A$9999,0),MATCH($G68,'Ingredient DB'!$A$3:$ZZ$3,0)),\"\")","v":""},"",{"$f":"IF(B68>0,INDEX('Unit of measures'!$A$7:$T$25,MATCH(G68,'Unit of measures'!$A$7:$A$25,0),MATCH(C68,'Unit of measures'!$A$7:$T$7,0)),\"\")","v":""},{"$f":"IFERROR(MATCH(A68,'Recipes DB'!$A:$A,0),\"\")","v":""},{"$f":"IF(M68<>\"\",\"Each\",\"\")","v":""},{"$f":"IF(M68<>\"\",INDEX('Recipes DB'!E:E,M68,),\"\")","v":""},{"$f":"IF(AND(O68=\"\",A68>0),MATCH(A68,'Ingredient DB'!A:A,0),\"\")","v":""}]
[null,null,null,null,"","",{"$f":"IFERROR(IFERROR(VLOOKUP($A69,'Ingredient DB'!$A$3:$Z$9999,3,0),N69),\"\")","v":""},{"$f":"IFERROR(IFERROR(VLOOKUP($A69,'Ingredient DB'!$A$3:$Z$9999,5,0),O69),\"\")","v":""},{"$f":"IFERROR(INDEX('Ingredient DB'!$A$3:$ZZ$9999,MATCH($A69,'Ingredient DB'!$A$3:$A$9999,0),MATCH($C69,'Ingredient DB'!$A$3:$ZZ$3,0)),\"\")","v":""},{"$f":"IFERROR(INDEX('Ingredient DB'!$A$3:$ZZ$9999,MATCH($A69,'Ingredient DB'!$A$3:$A$9999,0),MATCH($G69,'Ingredient DB'!$A$3:$ZZ$3,0)),\"\")","v":""},"",{"$f":"IF(B69>0,INDEX('Unit of measures'!$A$7:$T$25,MATCH(G69,'Unit of measures'!$A$7:$A$25,0),MATCH(C69,'Unit of measures'!$A$7:$T$7,0)),\"\")","v":""},{"$f":"IFERROR(MATCH(A69,'Recipes DB'!$A:$A,0),\"\")","v":""},"",{"$f":"IF(M69<>\"\",INDEX('Recipes DB'!E:E,M69,),\"\")","v":""},{"$f":"IF(AND(O69=\"\",A69>0),MATCH(A69,'Ingredient DB'!A:A,0),\"\")","v":""}]
[null,null,null,null,"","",{"$f":"IFERROR(IFERROR(VLOOKUP($A70,'Ingredient DB'!$A$3:$Z$9999,3,0),N70),\"\")","v":""},{"$f":"IFERROR(IFERROR(VLOOKUP($A70,'Ingredient DB'!$A$3:$Z$9999,5,0),O70),\"\")","v":""},{"$f":"IFERROR(INDEX('Ingredient DB'!$A$3:$ZZ$9999,MATCH($A70,'Ingredient DB'!$A$3:$A$9999,0),MATCH($C70,'Ingredient DB'!$A$3:$ZZ$3,0)),\"\")","v":""},{"$f":"IFERROR(INDEX('Ingredient DB'!$A$3:$ZZ$9999,MATCH($A70,'Ingredient DB'!$A$3:$A$9999,0),MATCH($G70,'Ingredient DB'!$A$3:$ZZ$3,0)),\"\")","v":""},"",{"$f":"IF(B70>0,INDEX('Unit of measures'!$A$7:$T$25,MATCH(G70,'Unit of measures'!$A$7:$A$25,0),MATCH(C70,'Unit of measures'!$A$7:$T$7,0)),\"\")","v":""},{"$f":"IFERROR(MATCH(A70,'Recipes DB'!$A:$A,0),\"\")","v":""},"",{"$f":"IF(M70<>\"\",INDEX('Recipes DB'!E:E,M70,),\"\")","v":""},{"$f":"IF(AND(O70=\"\",A70>0),MATCH(A70,'Ingredient DB'!A:A,0),\"\")","v":""}]
[null,null,null,null,"","",{"$f":"IFERROR(IFERROR(VLOOKUP($A71,'Ingredient DB'!$A$3:$Z$9999,3,0),N71),\"\")","v":""},{"$f":"IFERROR(IFERROR(VLOOKUP($A71,'Ingredient DB'!$A$3:$Z$9999,5,0),O71),\"\")","v":""},{"$f":"IFERROR(INDEX('Ingredient DB'!$A$3:$ZZ$9999,MATCH($A71,'Ingredient DB'!$A$3:$A$9999,0),MATCH($C71,'Ingredient DB'!$A$3:$ZZ$3,0)),\"\")","v":""},{"$f":"IFERROR(INDEX('Ingredient DB'!$A$3:$ZZ$9999,MATCH($A71,'Ingredient DB'!$A$3:$A$9999,0),MATCH($G71,'Ingredient DB'!$A$3:$ZZ$3,0)),\"\")","v":""},"",{"$f":"IF(B71>0,INDEX('Unit of measures'!$A$7:$T$25,MATCH(G71,'Unit of measures'!$A$7:$A$25,0),MATCH(C71,'Unit of measures'!$A$7:$T$7,0)),\"\")","v":""},{"$f":"IFERROR(MATCH(A71,'Recipes DB'!$A:$A,0),\"\")","v":""},"",{"$f":"IF(M71<>\"\",INDEX('Recipes DB'!E:E,M71,),\"\")","v":""},{"$f":"IF(AND(O71=\"\",A71>0),MATCH(A71,'Ingredient DB'!A:A,0),\"\")","v":""}]
[null,null,null,null,"","",{"$f":"IFERROR(IFERROR(VLOOKUP($A72,'Ingredient DB'!$A$3:$Z$9999,3,0),N72),\"\")","v":""},{"$f":"IFERROR(IFERROR(VLOOKUP($A72,'Ingredient DB'!$A$3:$Z$9999,5,0),O72),\"\")","v":""},{"$f":"IFERROR(INDEX('Ingredient DB'!$A$3:$ZZ$9999,MATCH($A72,'Ingredient DB'!$A$3:$A$9999,0),MATCH($C72,'Ingredient DB'!$A$3:$ZZ$3,0)),\"\")","v":""},{"$f":"IFERROR(INDEX('Ingredient DB'!$A$3:$ZZ$9999,MATCH($A72,'Ingredient DB'!$A$3:$A$9999,0),MATCH($G72,'Ingredient DB'!$A$3:$ZZ$3,0)),\"\")","v":""},"",{"$f":"IF(B72>0,INDEX('Unit of measures'!$A$7:$T$25,MATCH(G72,'Unit of measures'!$A$7:$A$25,0),MATCH(C72,'Unit of measures'!$A$7:$T$7,0)),\"\")","v":""},{"$f":"IFERROR(MATCH(A72,'Recipes DB'!$A:$A,0),\"\")","v":""},"",{"$f":"IF(M72<>\"\",INDEX('Recipes DB'!E:E,M72,),\"\")","v":""},{"$f":"IF(AND(O72=\"\",A72>0),MATCH(A72,'Ingredient DB'!A:A,0),\"\")","v":""}]
[null,null,null,null,"","",{"$f":"IFERROR(IFERROR(VLOOKUP($A73,'Ingredient DB'!$A$3:$Z$9999,3,0),N73),\"\")","v":""},{"$f":"IFERROR(IFERROR(VLOOKUP($A73,'Ingredient DB'!$A$3:$Z$9999,5,0),O73),\"\")","v":""},{"$f":"IFERROR(INDEX('Ingredient DB'!$A$3:$ZZ$9999,MATCH($A73,'Ingredient DB'!$A$3:$A$9999,0),MATCH($C73,'Ingredient DB'!$A$3:$ZZ$3,0)),\"\")","v":""},{"$f":"IFERROR(INDEX('Ingredient DB'!$A$3:$ZZ$9999,MATCH($A73,'Ingredient DB'!$A$3:$A$9999,0),MATCH($G73,'Ingredient DB'!$A$3:$ZZ$3,0)),\"\")","v":""},"",{"$f":"IF(B73>0,INDEX('Unit of measures'!$A$7:$T$25,MATCH(G73,'Unit of measures'!$A$7:$A$25,0),MATCH(C73,'Unit of measures'!$A$7:$T$7,0)),\"\")","v":""},{"$f":"IFERROR(MATCH(A73,'Recipes DB'!$A:$A,0),\"\")","v":""},"",{"$f":"IF(M73<>\"\",INDEX('Recipes DB'!E:E,M73,),\"\")","v":""},{"$f":"IF(AND(O73=\"\",A73>0),MATCH(A73,'Ingredient DB'!A:A,0),\"\")","v":""}]
[null,null,null,null,"","",{"$f":"IFERROR(IFERROR(VLOOKUP($A74,'Ingredient DB'!$A$3:$Z$9999,3,0),N74),\"\")","v":""},{"$f":"IFERROR(IFERROR(VLOOKUP($A74,'Ingredient DB'!$A$3:$Z$9999,5,0),O74),\"\")","v":""},{"$f":"IFERROR(INDEX('Ingredient DB'!$A$3:$ZZ$9999,MATCH($A74,'Ingredient DB'!$A$3:$A$9999,0),MATCH($C74,'Ingredient DB'!$A$3:$ZZ$3,0)),\"\")","v":""},{"$f":"IFERROR(INDEX('Ingredient DB'!$A$3:$ZZ$9999,MATCH($A74,'Ingredient DB'!$A$3:$A$9999,0),MATCH($G74,'Ingredient DB'!$A$3:$ZZ$3,0)),\"\")","v":""},"",{"$f":"IF(B74>0,INDEX('Unit of measures'!$A$7:$T$25,MATCH(G74,'Unit of measures'!$A$7:$A$25,0),MATCH(C74,'Unit of measures'!$A$7:$T$7,0)),\"\")","v":""},{"$f":"IFERROR(MATCH(A74,'Recipes DB'!$A:$A,0),\"\")","v":""},"",{"$f":"IF(M74<>\"\",INDEX('Recipes DB'!E:E,M74,),\"\")","v":""},{"$f":"IF(AND(O74=\"\",A74>0),MATCH(A74,'Ingredient DB'!A:A,0),\"\")","v":""}]
[null,null,null,null,"","",{"$f":"IFERROR(IFERROR(VLOOKUP($A75,'Ingredient DB'!$A$3:$Z$9999,3,0),N75),\"\")","v":""},{"$f":"IFERROR(IFERROR(VLOOKUP($A75,'Ingredient DB'!$A$3:$Z$9999,5,0),O75),\"\")","v":""},{"$f":"IFERROR(INDEX('Ingredient DB'!$A$3:$ZZ$9999,MATCH($A75,'Ingredient DB'!$A$3:$A$9999,0),MATCH($C75,'Ingredient DB'!$A$3:$ZZ$3,0)),\"\")","v":""},{"$f":"IFERROR(INDEX('Ingredient DB'!$A$3:$ZZ$9999,MATCH($A75,'Ingredient DB'!$A$3:$A$9999,0),MATCH($G75,'Ingredient DB'!$A$3:$ZZ$3,0)),\"\")","v":""},"",{"$f":"IF(B75>0,INDEX('Unit of measures'!$A$7:$T$25,MATCH(G75,'Unit of measures'!$A$7:$A$25,0),MATCH(C75,'Unit of measures'!$A$7:$T$7,0)),\"\")","v":""},{"$f":"IFERROR(MATCH(A75,'Recipes DB'!$A:$A,0),\"\")","v":""},"",{"$f":"IF(M75<>\"\",INDEX('Recipes DB'!E:E,M75,),\"\")","v":""},{"$f":"IF(AND(O75=\"\",A75>0),MATCH(A75,'Ingredient DB'!A:A,0),\"\")","v":""}]
[null,null,null,null,"","",{"$f":"IFERROR(IFERROR(VLOOKUP($A76,'Ingredient DB'!$A$3:$Z$9999,3,0),N76),\"\")","v":""},{"$f":"IFERROR(IFERROR(VLOOKUP($A76,'Ingredient DB'!$A$3:$Z$9999,5,0),O76),\"\")","v":""},{"$f":"IFERROR(INDEX('Ingredient DB'!$A$3:$ZZ$9999,MATCH($A76,'Ingredient DB'!$A$3:$A$9999,0),MATCH($C76,'Ingredient DB'!$A$3:$ZZ$3,0)),\"\")","v":""},{"$f":"IFERROR(INDEX('Ingredient DB'!$A$3:$ZZ$9999,MATCH($A76,'Ingredient DB'!$A$3:$A$9999,0),MATCH($G76,'Ingredient DB'!$A$3:$ZZ$3,0)),\"\")","v":""},"",{"$f":"IF(B76>0,INDEX('Unit of measures'!$A$7:$T$25,MATCH(G76,'Unit of measures'!$A$7:$A$25,0),MATCH(C76,'Unit of measures'!$A$7:$T$7,0)),\"\")","v":""},{"$f":"IFERROR(MATCH(A76,'Recipes DB'!$A:$A,0),\"\")","v":""},"",{"$f":"IF(M76<>\"\",INDEX('Recipes DB'!E:E,M76,),\"\")","v":""},{"$f":"IF(AND(O76=\"\",A76>0),MATCH(A76,'Ingredient DB'!A:A,0),\"\")","v":""}]
[null,null,null,null,"","",{"$f":"IFERROR(IFERROR(VLOOKUP($A77,'Ingredient DB'!$A$3:$Z$9999,3,0),N77),\"\")","v":""},{"$f":"IFERROR(IFERROR(VLOOKUP($A77,'Ingredient DB'!$A$3:$Z$9999,5,0),O77),\"\")","v":""},{"$f":"IFERROR(INDEX('Ingredient DB'!$A$3:$ZZ$9999,MATCH($A77,'Ingredient DB'!$A$3:$A$9999,0),MATCH($C77,'Ingredient DB'!$A$3:$ZZ$3,0)),\"\")","v":""},{"$f":"IFERROR(INDEX('Ingredient DB'!$A$3:$ZZ$9999,MATCH($A77,'Ingredient DB'!$A$3:$A$9999,0),MATCH($G77,'Ingredient DB'!$A$3:$ZZ$3,0)),\"\")","v":""},"",{"$f":"IF(B77>0,INDEX('Unit of measures'!$A$7:$T$25,MATCH(G77,'Unit of measures'!$A$7:$A$25,0),MATCH(C77,'Unit of measures'!$A$7:$T$7,0)),\"\")","v":""},{"$f":"IFERROR(MATCH(A77,'Recipes DB'!$A:$A,0),\"\")","v":""},"",{"$f":"IF(M77<>\"\",INDEX('Recipes DB'!E:E,M77,),\"\")","v":""},{"$f":"IF(AND(O77=\"\",A77>0),MATCH(A77,'Ingredient DB'!A:A,0),\"\")","v":""}]
[null,null,null,null,"","",{"$f":"IFERROR(IFERROR(VLOOKUP($A78,'Ingredient DB'!$A$3:$Z$9999,3,0),N78),\"\")","v":""},{"$f":"IFERROR(IFERROR(VLOOKUP($A78,'Ingredient DB'!$A$3:$Z$9999,5,0),O78),\"\")","v":""},{"$f":"IFERROR(INDEX('Ingredient DB'!$A$3:$ZZ$9999,MATCH($A78,'Ingredient DB'!$A$3:$A$9999,0),MATCH($C78,'Ingredient DB'!$A$3:$ZZ$3,0)),\"\")","v":""},{"$f":"IFERROR(INDEX('Ingredient DB'!$A$3:$ZZ$9999,MATCH($A78,'Ingredient DB'!$A$3:$A$9999,0),MATCH($G78,'Ingredient DB'!$A$3:$ZZ$3,0)),\"\")","v":""},"",{"$f":"IF(B78>0,INDEX('Unit of measures'!$A$7:$T$25,MATCH(G78,'Unit of measures'!$A$7:$A$25,0),MATCH(C78,'Unit of measures'!$A$7:$T$7,0)),\"\")","v":""},{"$f":"IFERROR(MATCH(A78,'Recipes DB'!$A:$A,0),\"\")","v":""},"",{"$f":"IF(M78<>\"\",INDEX('Recipes DB'!E:E,M78,),\"\")","v":""},{"$f":"IF(AND(O78=\"\",A78>0),MATCH(A78,'Ingredient DB'!A:A,0),\"\")","v":""}]
[null,null,null,null,"","",{"$f":"IFERROR(IFERROR(VLOOKUP($A79,'Ingredient DB'!$A$3:$Z$9999,3,0),N79),\"\")","v":""},{"$f":"IFERROR(IFERROR(VLOOKUP($A79,'Ingredient DB'!$A$3:$Z$9999,5,0),O79),\"\")","v":""},{"$f":"IFERROR(INDEX('Ingredient DB'!$A$3:$ZZ$9999,MATCH($A79,'Ingredient DB'!$A$3:$A$9999,0),MATCH($C79,'Ingredient DB'!$A$3:$ZZ$3,0)),\"\")","v":""},{"$f":"IFERROR(INDEX('Ingredient DB'!$A$3:$ZZ$9999,MATCH($A79,'Ingredient DB'!$A$3:$A$9999,0),MATCH($G79,'Ingredient DB'!$A$3:$ZZ$3,0)),\"\")","v":""},"",{"$f":"IF(B79>0,INDEX('Unit of measures'!$A$7:$T$25,MATCH(G79,'Unit of measures'!$A$7:$A$25,0),MATCH(C79,'Unit of measures'!$A$7:$T$7,0)),\"\")","v":""},{"$f":"IFERROR(MATCH(A79,'Recipes DB'!$A:$A,0),\"\")","v":""},"",{"$f":"IF(M79<>\"\",INDEX('Recipes DB'!E:E,M79,),\"\")","v":""},{"$f":"IF(AND(O79=\"\",A79>0),MATCH(A79,'Ingredient DB'!A:A,0),\"\")","v":""}]
[null,null,null,null,"","",{"$f":"IFERROR(IFERROR(VLOOKUP($A80,'Ingredient DB'!$A$3:$Z$9999,3,0),N80),\"\")","v":""},{"$f":"IFERROR(IFERROR(VLOOKUP($A80,'Ingredient DB'!$A$3:$Z$9999,5,0),O80),\"\")","v":""},{"$f":"IFERROR(INDEX('Ingredient DB'!$A$3:$ZZ$9999,MATCH($A80,'Ingredient DB'!$A$3:$A$9999,0),MATCH($C80,'Ingredient DB'!$A$3:$ZZ$3,0)),\"\")","v":""},{"$f":"IFERROR(INDEX('Ingredient DB'!$A$3:$ZZ$9999,MATCH($A80,'Ingredient DB'!$A$3:$A$9999,0),MATCH($G80,'Ingredient DB'!$A$3:$ZZ$3,0)),\"\")","v":""},"",{"$f":"IF(B80>0,INDEX('Unit of measures'!$A$7:$T$25,MATCH(G80,'Unit of measures'!$A$7:$A$25,0),MATCH(C80,'Unit of measures'!$A$7:$T$7,0)),\"\")","v":""},{"$f":"IFERROR(MATCH(A80,'Recipes DB'!$A:$A,0),\"\")","v":""},"",{"$f":"IF(M80<>\"\",INDEX('Recipes DB'!E:E,M80,),\"\")","v":""},{"$f":"IF(AND(O80=\"\",A80>0),MATCH(A80,'Ingredient DB'!A:A,0),\"\")","v":""}]
[null,null,null,null,"","",{"$f":"IFERROR(IFERROR(VLOOKUP($A81,'Ingredient DB'!$A$3:$Z$9999,3,0),N81),\"\")","v":""},{"$f":"IFERROR(IFERROR(VLOOKUP($A81,'Ingredient DB'!$A$3:$Z$9999,5,0),O81),\"\")","v":""},{"$f":"IFERROR(INDEX('Ingredient DB'!$A$3:$ZZ$9999,MATCH($A81,'Ingredient DB'!$A$3:$A$9999,0),MATCH($C81,'Ingredient DB'!$A$3:$ZZ$3,0)),\"\")","v":""},{"$f":"IFERROR(INDEX('Ingredient DB'!$A$3:$ZZ$9999,MATCH($A81,'Ingredient DB'!$A$3:$A$9999,0),MATCH($G81,'Ingredient DB'!$A$3:$ZZ$3,0)),\"\")","v":""},"",{"$f":"IF(B81>0,INDEX('Unit of measures'!$A$7:$T$25,MATCH(G81,'Unit of measures'!$A$7:$A$25,0),MATCH(C81,'Unit of measures'!$A$7:$T$7,0)),\"\")","v":""},{"$f":"IFERROR(MATCH(A81,'Recipes DB'!$A:$A,0),\"\")","v":""},"",{"$f":"IF(M81<>\"\",INDEX('Recipes DB'!E:E,M81,),\"\")","v":""},{"$f":"IF(AND(O81=\"\",A81>0),MATCH(A81,'Ingredient DB'!A:A,0),\"\")","v":""}]
[null,null,null,null,"","",{"$f":"IFERROR(IFERROR(VLOOKUP($A82,'Ingredient DB'!$A$3:$Z$9999,3,0),N82),\"\")","v":""},{"$f":"IFERROR(IFERROR(VLOOKUP($A82,'Ingredient DB'!$A$3:$Z$9999,5,0),O82),\"\")","v":""},{"$f":"IFERROR(INDEX('Ingredient DB'!$A$3:$ZZ$9999,MATCH($A82,'Ingredient DB'!$A$3:$A$9999,0),MATCH($C82,'Ingredient DB'!$A$3:$ZZ$3,0)),\"\")","v":""},{"$f":"IFERROR(INDEX('Ingredient DB'!$A$3:$ZZ$9999,MATCH($A82,'Ingredient DB'!$A$3:$A$9999,0),MATCH($G82,'Ingredient DB'!$A$3:$ZZ$3,0)),\"\")","v":""},"",{"$f":"IF(B82>0,INDEX('Unit of measures'!$A$7:$T$25,MATCH(G82,'Unit of measures'!$A$7:$A$25,0),MATCH(C82,'Unit of measures'!$A$7:$T$7,0)),\"\")","v":""},{"$f":"IFERROR(MATCH(A82,'Recipes DB'!$A:$A,0),\"\")","v":""},"",{"$f":"IF(M82<>\"\",INDEX('Recipes DB'!E:E,M82,),\"\")","v":""},{"$f":"IF(AND(O82=\"\",A82>0),MATCH(A82,'Ingredient DB'!A:A,0),\"\")","v":""}]
[null,null,null,null,"","",{"$f":"IFERROR(IFERROR(VLOOKUP($A83,'Ingredient DB'!$A$3:$Z$9999,3,0),N83),\"\")","v":""},{"$f":"IFERROR(IFERROR(VLOOKUP($A83,'Ingredient DB'!$A$3:$Z$9999,5,0),O83),\"\")","v":""},{"$f":"IFERROR(INDEX('Ingredient DB'!$A$3:$ZZ$9999,MATCH($A83,'Ingredient DB'!$A$3:$A$9999,0),MATCH($C83,'Ingredient DB'!$A$3:$ZZ$3,0)),\"\")","v":""},{"$f":"IFERROR(INDEX('Ingredient DB'!$A$3:$ZZ$9999,MATCH($A83,'Ingredient DB'!$A$3:$A$9999,0),MATCH($G83,'Ingredient DB'!$A$3:$ZZ$3,0)),\"\")","v":""},"",{"$f":"IF(B83>0,INDEX('Unit of measures'!$A$7:$T$25,MATCH(G83,'Unit of measures'!$A$7:$A$25,0),MATCH(C83,'Unit of measures'!$A$7:$T$7,0)),\"\")","v":""},{"$f":"IFERROR(MATCH(A83,'Recipes DB'!$A:$A,0),\"\")","v":""},"",{"$f":"IF(M83<>\"\",INDEX('Recipes DB'!E:E,M83,),\"\")","v":""},{"$f":"IF(AND(O83=\"\",A83>0),MATCH(A83,'Ingredient DB'!A:A,0),\"\")","v":""}]
[null,null,null,null,"","",{"$f":"IFERROR(IFERROR(VLOOKUP($A84,'Ingredient DB'!$A$3:$Z$9999,3,0),N84),\"\")","v":""},{"$f":"IFERROR(IFERROR(VLOOKUP($A84,'Ingredient DB'!$A$3:$Z$9999,5,0),O84),\"\")","v":""},{"$f":"IFERROR(INDEX('Ingredient DB'!$A$3:$ZZ$9999,MATCH($A84,'Ingredient DB'!$A$3:$A$9999,0),MATCH($C84,'Ingredient DB'!$A$3:$ZZ$3,0)),\"\")","v":""},{"$f":"IFERROR(INDEX('Ingredient DB'!$A$3:$ZZ$9999,MATCH($A84,'Ingredient DB'!$A$3:$A$9999,0),MATCH($G84,'Ingredient DB'!$A$3:$ZZ$3,0)),\"\")","v":""},"",{"$f":"IF(B84>0,INDEX('Unit of measures'!$A$7:$T$25,MATCH(G84,'Unit of measures'!$A$7:$A$25,0),MATCH(C84,'Unit of measures'!$A$7:$T$7,0)),\"\")","v":""},{"$f":"IFERROR(MATCH(A84,'Recipes DB'!$A:$A,0),\"\")","v":""},"",{"$f":"IF(M84<>\"\",INDEX('Recipes DB'!E:E,M84,),\"\")","v":""},{"$f":"IF(AND(O84=\"\",A84>0),MATCH(A84,'Ingredient DB'!A:A,0),\"\")","v":""}]
[null,null,null,null,"","",{"$f":"IFERROR(IFERROR(VLOOKUP($A85,'Ingredient DB'!$A$3:$Z$9999,3,0),N85),\"\")","v":""},{"$f":"IFERROR(IFERROR(VLOOKUP($A85,'Ingredient DB'!$A$3:$Z$9999,5,0),O85),\"\")","v":""},{"$f":"IFERROR(INDEX('Ingredient DB'!$A$3:$ZZ$9999,MATCH($A85,'Ingredient DB'!$A$3:$A$9999,0),MATCH($C85,'Ingredient DB'!$A$3:$ZZ$3,0)),\"\")","v":""},{"$f":"IFERROR(INDEX('Ingredient DB'!$A$3:$ZZ$9999,MATCH($A85,'Ingredient DB'!$A$3:$A$9999,0),MATCH($G85,'Ingredient DB'!$A$3:$ZZ$3,0)),\"\")","v":""},"",{"$f":"IF(B85>0,INDEX('Unit of measures'!$A$7:$T$25,MATCH(G85,'Unit of measures'!$A$7:$A$25,0),MATCH(C85,'Unit of measures'!$A$7:$T$7,0)),\"\")","v":""},{"$f":"IFERROR(MATCH(A85,'Recipes DB'!$A:$A,0),\"\")","v":""},"",{"$f":"IF(M85<>\"\",INDEX('Recipes DB'!E:E,M85,),\"\")","v":""},{"$f":"IF(AND(O85=\"\",A85>0),MATCH(A85,'Ingredient DB'!A:A,0),\"\")","v":""}]
[null,null,null,null,"","",{"$f":"IFERROR(IFERROR(VLOOKUP($A86,'Ingredient DB'!$A$3:$Z$9999,3,0),N86),\"\")","v":""},{"$f":"IFERROR(IFERROR(VLOOKUP($A86,'Ingredient DB'!$A$3:$Z$9999,5,0),O86),\"\")","v":""},{"$f":"IFERROR(INDEX('Ingredient DB'!$A$3:$ZZ$9999,MATCH($A86,'Ingredient DB'!$A$3:$A$9999,0),MATCH($C86,'Ingredient DB'!$A$3:$ZZ$3,0)),\"\")","v":""},{"$f":"IFERROR(INDEX('Ingredient DB'!$A$3:$ZZ$9999,MATCH($A86,'Ingredient DB'!$A$3:$A$9999,0),MATCH($G86,'Ingredient DB'!$A$3:$ZZ$3,0)),\"\")","v":""},"",{"$f":"IF(B86>0,INDEX('Unit of measures'!$A$7:$T$25,MATCH(G86,'Unit of measures'!$A$7:$A$25,0),MATCH(C86,'Unit of measures'!$A$7:$T$7,0)),\"\")","v":""},{"$f":"IFERROR(MATCH(A86,'Recipes DB'!$A:$A,0),\"\")","v":""},"",{"$f":"IF(M86<>\"\",INDEX('Recipes DB'!E:E,M86,),\"\")","v":""},{"$f":"IF(AND(O86=\"\",A86>0),MATCH(A86,'Ingredient DB'!A:A,0),\"\")","v":""}]
[null,null,null,null,"","",{"$f":"IFERROR(IFERROR(VLOOKUP($A87,'Ingredient DB'!$A$3:$Z$9999,3,0),N87),\"\")","v":""},{"$f":"IFERROR(IFERROR(VLOOKUP($A87,'Ingredient DB'!$A$3:$Z$9999,5,0),O87),\"\")","v":""},{"$f":"IFERROR(INDEX('Ingredient DB'!$A$3:$ZZ$9999,MATCH($A87,'Ingredient DB'!$A$3:$A$9999,0),MATCH($C87,'Ingredient DB'!$A$3:$ZZ$3,0)),\"\")","v":""},{"$f":"IFERROR(INDEX('Ingredient DB'!$A$3:$ZZ$9999,MATCH($A87,'Ingredient DB'!$A$3:$A$9999,0),MATCH($G87,'Ingredient DB'!$A$3:$ZZ$3,0)),\"\")","v":""},"",{"$f":"IF(B87>0,INDEX('Unit of measures'!$A$7:$T$25,MATCH(G87,'Unit of measures'!$A$7:$A$25,0),MATCH(C87,'Unit of measures'!$A$7:$T$7,0)),\"\")","v":""},{"$f":"IFERROR(MATCH(A87,'Recipes DB'!$A:$A,0),\"\")","v":""},"",{"$f":"IF(M87<>\"\",INDEX('Recipes DB'!E:E,M87,),\"\")","v":""},{"$f":"IF(AND(O87=\"\",A87>0),MATCH(A87,'Ingredient DB'!A:A,0),\"\")","v":""}]
[null,null,null,null,"","",{"$f":"IFERROR(IFERROR(VLOOKUP($A88,'Ingredient DB'!$A$3:$Z$9999,3,0),N88),\"\")","v":""},{"$f":"IFERROR(IFERROR(VLOOKUP($A88,'Ingredient DB'!$A$3:$Z$9999,5,0),O88),\"\")","v":""},{"$f":"IFERROR(INDEX('Ingredient DB'!$A$3:$ZZ$9999,MATCH($A88,'Ingredient DB'!$A$3:$A$9999,0),MATCH($C88,'Ingredient DB'!$A$3:$ZZ$3,0)),\"\")","v":""},{"$f":"IFERROR(INDEX('Ingredient DB'!$A$3:$ZZ$9999,MATCH($A88,'Ingredient DB'!$A$3:$A$9999,0),MATCH($G88,'Ingredient DB'!$A$3:$ZZ$3,0)),\"\")","v":""},"",{"$f":"IF(B88>0,INDEX('Unit of measures'!$A$7:$T$25,MATCH(G88,'Unit of measures'!$A$7:$A$25,0),MATCH(C88,'Unit of measures'!$A$7:$T$7,0)),\"\")","v":""},{"$f":"IFERROR(MATCH(A88,'Recipes DB'!$A:$A,0),\"\")","v":""},"",{"$f":"IF(M88<>\"\",INDEX('Recipes DB'!E:E,M88,),\"\")","v":""},{"$f":"IF(AND(O88=\"\",A88>0),MATCH(A88,'Ingredient DB'!A:A,0),\"\")","v":""}]
[null,null,null,null,"","",{"$f":"IFERROR(IFERROR(VLOOKUP($A89,'Ingredient DB'!$A$3:$Z$9999,3,0),N89),\"\")","v":""},{"$f":"IFERROR(IFERROR(VLOOKUP($A89,'Ingredient DB'!$A$3:$Z$9999,5,0),O89),\"\")","v":""},{"$f":"IFERROR(INDEX('Ingredient DB'!$A$3:$ZZ$9999,MATCH($A89,'Ingredient DB'!$A$3:$A$9999,0),MATCH($C89,'Ingredient DB'!$A$3:$ZZ$3,0)),\"\")","v":""},{"$f":"IFERROR(INDEX('Ingredient DB'!$A$3:$ZZ$9999,MATCH($A89,'Ingredient DB'!$A$3:$A$9999,0),MATCH($G89,'Ingredient DB'!$A$3:$ZZ$3,0)),\"\")","v":""},"",{"$f":"IF(B89>0,INDEX('Unit of measures'!$A$7:$T$25,MATCH(G89,'Unit of measures'!$A$7:$A$25,0),MATCH(C89,'Unit of measures'!$A$7:$T$7,0)),\"\")","v":""},{"$f":"IFERROR(MATCH(A89,'Recipes DB'!$A:$A,0),\"\")","v":""},"",{"$f":"IF(M89<>\"\",INDEX('Recipes DB'!E:E,M89,),\"\")","v":""},{"$f":"IF(AND(O89=\"\",A89>0),MATCH(A89,'Ingredient DB'!A:A,0),\"\")","v":""}]
[null,null,null,null,"","",{"$f":"IFERROR(IFERROR(VLOOKUP($A90,'Ingredient DB'!$A$3:$Z$9999,3,0),N90),\"\")","v":""},{"$f":"IFERROR(IFERROR(VLOOKUP($A90,'Ingredient DB'!$A$3:$Z$9999,5,0),O90),\"\")","v":""},{"$f":"IFERROR(INDEX('Ingredient DB'!$A$3:$ZZ$9999,MATCH($A90,'Ingredient DB'!$A$3:$A$9999,0),MATCH($C90,'Ingredient DB'!$A$3:$ZZ$3,0)),\"\")","v":""},{"$f":"IFERROR(INDEX('Ingredient DB'!$A$3:$ZZ$9999,MATCH($A90,'Ingredient DB'!$A$3:$A$9999,0),MATCH($G90,'Ingredient DB'!$A$3:$ZZ$3,0)),\"\")","v":""},"",{"$f":"IF(B90>0,INDEX('Unit of measures'!$A$7:$T$25,MATCH(G90,'Unit of measures'!$A$7:$A$25,0),MATCH(C90,'Unit of measures'!$A$7:$T$7,0)),\"\")","v":""},{"$f":"IFERROR(MATCH(A90,'Recipes DB'!$A:$A,0),\"\")","v":""},"",{"$f":"IF(M90<>\"\",INDEX('Recipes DB'!E:E,M90,),\"\")","v":""},{"$f":"IF(AND(O90=\"\",A90>0),MATCH(A90,'Ingredient DB'!A:A,0),\"\")","v":""}]
[null,null,null,null,"","",{"$f":"IFERROR(IFERROR(VLOOKUP($A91,'Ingredient DB'!$A$3:$Z$9999,3,0),N91),\"\")","v":""},{"$f":"IFERROR(IFERROR(VLOOKUP($A91,'Ingredient DB'!$A$3:$Z$9999,5,0),O91),\"\")","v":""},{"$f":"IFERROR(INDEX('Ingredient DB'!$A$3:$ZZ$9999,MATCH($A91,'Ingredient DB'!$A$3:$A$9999,0),MATCH($C91,'Ingredient DB'!$A$3:$ZZ$3,0)),\"\")","v":""},{"$f":"IFERROR(INDEX('Ingredient DB'!$A$3:$ZZ$9999,MATCH($A91,'Ingredient DB'!$A$3:$A$9999,0),MATCH($G91,'Ingredient DB'!$A$3:$ZZ$3,0)),\"\")","v":""},"",{"$f":"IF(B91>0,INDEX('Unit of measures'!$A$7:$T$25,MATCH(G91,'Unit of measures'!$A$7:$A$25,0),MATCH(C91,'Unit of measures'!$A$7:$T$7,0)),\"\")","v":""},{"$f":"IFERROR(MATCH(A91,'Recipes DB'!$A:$A,0),\"\")","v":""},"",{"$f":"IF(M91<>\"\",INDEX('Recipes DB'!E:E,M91,),\"\")","v":""},{"$f":"IF(AND(O91=\"\",A91>0),MATCH(A91,'Ingredient DB'!A:A,0),\"\")","v":""}]
[null,null,null,null,"","",{"$f":"IFERROR(IFERROR(VLOOKUP($A92,'Ingredient DB'!$A$3:$Z$9999,3,0),N92),\"\")","v":""},{"$f":"IFERROR(IFERROR(VLOOKUP($A92,'Ingredient DB'!$A$3:$Z$9999,5,0),O92),\"\")","v":""},{"$f":"IFERROR(INDEX('Ingredient DB'!$A$3:$ZZ$9999,MATCH($A92,'Ingredient DB'!$A$3:$A$9999,0),MATCH($C92,'Ingredient DB'!$A$3:$ZZ$3,0)),\"\")","v":""},{"$f":"IFERROR(INDEX('Ingredient DB'!$A$3:$ZZ$9999,MATCH($A92,'Ingredient DB'!$A$3:$A$9999,0),MATCH($G92,'Ingredient DB'!$A$3:$ZZ$3,0)),\"\")","v":""},"",{"$f":"IF(B92>0,INDEX('Unit of measures'!$A$7:$T$25,MATCH(G92,'Unit of measures'!$A$7:$A$25,0),MATCH(C92,'Unit of measures'!$A$7:$T$7,0)),\"\")","v":""},{"$f":"IFERROR(MATCH(A92,'Recipes DB'!$A:$A,0),\"\")","v":""},"",{"$f":"IF(M92<>\"\",INDEX('Recipes DB'!E:E,M92,),\"\")","v":""},{"$f":"IF(AND(O92=\"\",A92>0),MATCH(A92,'Ingredient DB'!A:A,0),\"\")","v":""}]
[null,null,null,null,"","",{"$f":"IFERROR(IFERROR(VLOOKUP($A93,'Ingredient DB'!$A$3:$Z$9999,3,0),N93),\"\")","v":""},{"$f":"IFERROR(IFERROR(VLOOKUP($A93,'Ingredient DB'!$A$3:$Z$9999,5,0),O93),\"\")","v":""},{"$f":"IFERROR(INDEX('Ingredient DB'!$A$3:$ZZ$9999,MATCH($A93,'Ingredient DB'!$A$3:$A$9999,0),MATCH($C93,'Ingredient DB'!$A$3:$ZZ$3,0)),\"\")","v":""},{"$f":"IFERROR(INDEX('Ingredient DB'!$A$3:$ZZ$9999,MATCH($A93,'Ingredient DB'!$A$3:$A$9999,0),MATCH($G93,'Ingredient DB'!$A$3:$ZZ$3,0)),\"\")","v":""},"",{"$f":"IF(B93>0,INDEX('Unit of measures'!$A$7:$T$25,MATCH(G93,'Unit of measures'!$A$7:$A$25,0),MATCH(C93,'Unit of measures'!$A$7:$T$7,0)),\"\")","v":""},{"$f":"IFERROR(MATCH(A93,'Recipes DB'!$A:$A,0),\"\")","v":""},"",{"$f":"IF(M93<>\"\",INDEX('Recipes DB'!E:E,M93,),\"\")","v":""},{"$f":"IF(AND(O93=\"\",A93>0),MATCH(A93,'Ingredient DB'!A:A,0),\"\")","v":""}]
[null,null,null,null,"","",{"$f":"IFERROR(IFERROR(VLOOKUP($A94,'Ingredient DB'!$A$3:$Z$9999,3,0),N94),\"\")","v":""},{"$f":"IFERROR(IFERROR(VLOOKUP($A94,'Ingredient DB'!$A$3:$Z$9999,5,0),O94),\"\")","v":""},{"$f":"IFERROR(INDEX('Ingredient DB'!$A$3:$ZZ$9999,MATCH($A94,'Ingredient DB'!$A$3:$A$9999,0),MATCH($C94,'Ingredient DB'!$A$3:$ZZ$3,0)),\"\")","v":""},{"$f":"IFERROR(INDEX('Ingredient DB'!$A$3:$ZZ$9999,MATCH($A94,'Ingredient DB'!$A$3:$A$9999,0),MATCH($G94,'Ingredient DB'!$A$3:$ZZ$3,0)),\"\")","v":""},"",{"$f":"IF(B94>0,INDEX('Unit of measures'!$A$7:$T$25,MATCH(G94,'Unit of measures'!$A$7:$A$25,0),MATCH(C94,'Unit of measures'!$A$7:$T$7,0)),\"\")","v":""},{"$f":"IFERROR(MATCH(A94,'Recipes DB'!$A:$A,0),\"\")","v":""},"",{"$f":"IF(M94<>\"\",INDEX('Recipes DB'!E:E,M94,),\"\")","v":""},{"$f":"IF(AND(O94=\"\",A94>0),MATCH(A94,'Ingredient DB'!A:A,0),\"\")","v":""}]
[null,null,null,null,"","",{"$f":"IFERROR(IFERROR(VLOOKUP($A95,'Ingredient DB'!$A$3:$Z$9999,3,0),N95),\"\")","v":""},{"$f":"IFERROR(IFERROR(VLOOKUP($A95,'Ingredient DB'!$A$3:$Z$9999,5,0),O95),\"\")","v":""},{"$f":"IFERROR(INDEX('Ingredient DB'!$A$3:$ZZ$9999,MATCH($A95,'Ingredient DB'!$A$3:$A$9999,0),MATCH($C95,'Ingredient DB'!$A$3:$ZZ$3,0)),\"\")","v":""},{"$f":"IFERROR(INDEX('Ingredient DB'!$A$3:$ZZ$9999,MATCH($A95,'Ingredient DB'!$A$3:$A$9999,0),MATCH($G95,'Ingredient DB'!$A$3:$ZZ$3,0)),\"\")","v":""},"",{"$f":"IF(B95>0,INDEX('Unit of measures'!$A$7:$T$25,MATCH(G95,'Unit of measures'!$A$7:$A$25,0),MATCH(C95,'Unit of measures'!$A$7:$T$7,0)),\"\")","v":""},{"$f":"IFERROR(MATCH(A95,'Recipes DB'!$A:$A,0),\"\")","v":""},"",{"$f":"IF(M95<>\"\",INDEX('Recipes DB'!E:E,M95,),\"\")","v":""},{"$f":"IF(AND(O95=\"\",A95>0),MATCH(A95,'Ingredient DB'!A:A,0),\"\")","v":""}]
[null,null,null,null,"","",{"$f":"IFERROR(IFERROR(VLOOKUP($A96,'Ingredient DB'!$A$3:$Z$9999,3,0),N96),\"\")","v":""},{"$f":"IFERROR(IFERROR(VLOOKUP($A96,'Ingredient DB'!$A$3:$Z$9999,5,0),O96),\"\")","v":""},{"$f":"IFERROR(INDEX('Ingredient DB'!$A$3:$ZZ$9999,MATCH($A96,'Ingredient DB'!$A$3:$A$9999,0),MATCH($C96,'Ingredient DB'!$A$3:$ZZ$3,0)),\"\")","v":""},{"$f":"IFERROR(INDEX('Ingredient DB'!$A$3:$ZZ$9999,MATCH($A96,'Ingredient DB'!$A$3:$A$9999,0),MATCH($G96,'Ingredient DB'!$A$3:$ZZ$3,0)),\"\")","v":""},"",{"$f":"IF(B96>0,INDEX('Unit of measures'!$A$7:$T$25,MATCH(G96,'Unit of measures'!$A$7:$A$25,0),MATCH(C96,'Unit of measures'!$A$7:$T$7,0)),\"\")","v":""},{"$f":"IFERROR(MATCH(A96,'Recipes DB'!$A:$A,0),\"\")","v":""},"",{"$f":"IF(M96<>\"\",INDEX('Recipes DB'!E:E,M96,),\"\")","v":""},{"$f":"IF(AND(O96=\"\",A96>0),MATCH(A96,'Ingredient DB'!A:A,0),\"\")","v":""}]
[null,null,null,null,"","",{"$f":"IFERROR(IFERROR(VLOOKUP($A97,'Ingredient DB'!$A$3:$Z$9999,3,0),N97),\"\")","v":""},{"$f":"IFERROR(IFERROR(VLOOKUP($A97,'Ingredient DB'!$A$3:$Z$9999,5,0),O97),\"\")","v":""},{"$f":"IFERROR(INDEX('Ingredient DB'!$A$3:$ZZ$9999,MATCH($A97,'Ingredient DB'!$A$3:$A$9999,0),MATCH($C97,'Ingredient DB'!$A$3:$ZZ$3,0)),\"\")","v":""},{"$f":"IFERROR(INDEX('Ingredient DB'!$A$3:$ZZ$9999,MATCH($A97,'Ingredient DB'!$A$3:$A$9999,0),MATCH($G97,'Ingredient DB'!$A$3:$ZZ$3,0)),\"\")","v":""},"",{"$f":"IF(B97>0,INDEX('Unit of measures'!$A$7:$T$25,MATCH(G97,'Unit of measures'!$A$7:$A$25,0),MATCH(C97,'Unit of measures'!$A$7:$T$7,0)),\"\")","v":""},{"$f":"IFERROR(MATCH(A97,'Recipes DB'!$A:$A,0),\"\")","v":""},"",{"$f":"IF(M97<>\"\",INDEX('Recipes DB'!E:E,M97,),\"\")","v":""},{"$f":"IF(AND(O97=\"\",A97>0),MATCH(A97,'Ingredient DB'!A:A,0),\"\")","v":""}]
[null,null,null,null,"","",{"$f":"IFERROR(IFERROR(VLOOKUP($A98,'Ingredient DB'!$A$3:$Z$9999,3,0),N98),\"\")","v":""},{"$f":"IFERROR(IFERROR(VLOOKUP($A98,'Ingredient DB'!$A$3:$Z$9999,5,0),O98),\"\")","v":""},{"$f":"IFERROR(INDEX('Ingredient DB'!$A$3:$ZZ$9999,MATCH($A98,'Ingredient DB'!$A$3:$A$9999,0),MATCH($C98,'Ingredient DB'!$A$3:$ZZ$3,0)),\"\")","v":""},{"$f":"IFERROR(INDEX('Ingredient DB'!$A$3:$ZZ$9999,MATCH($A98,'Ingredient DB'!$A$3:$A$9999,0),MATCH($G98,'Ingredient DB'!$A$3:$ZZ$3,0)),\"\")","v":""},"",{"$f":"IF(B98>0,INDEX('Unit of measures'!$A$7:$T$25,MATCH(G98,'Unit of measures'!$A$7:$A$25,0),MATCH(C98,'Unit of measures'!$A$7:$T$7,0)),\"\")","v":""},{"$f":"IFERROR(MATCH(A98,'Recipes DB'!$A:$A,0),\"\")","v":""},"",{"$f":"IF(M98<>\"\",INDEX('Recipes DB'!E:E,M98,),\"\")","v":""},{"$f":"IF(AND(O98=\"\",A98>0),MATCH(A98,'Ingredient DB'!A:A,0),\"\")","v":""}]
[null,null,null,null,{"$f":"IF(B99>0,B99*H99*K99/D99,\"\")","v":""},"",{"$f":"IFERROR(IFERROR(VLOOKUP($A99,'Ingredient DB'!$A$3:$Z$9999,3,0),N99),\"\")","v":""},{"$f":"IFERROR(IFERROR(VLOOKUP($A99,'Ingredient DB'!$A$3:$Z$9999,5,0),O99),\"\")","v":""},{"$f":"IFERROR(INDEX('Ingredient DB'!$A$3:$ZZ$9999,MATCH($A99,'Ingredient DB'!$A$3:$A$9999,0),MATCH($C99,'Ingredient DB'!$A$3:$ZZ$3,0)),\"\")","v":""},{"$f":"IFERROR(INDEX('Ingredient DB'!$A$3:$ZZ$9999,MATCH($A99,'Ingredient DB'!$A$3:$A$9999,0),MATCH($G99,'Ingredient DB'!$A$3:$ZZ$3,0)),\"\")","v":""},{"$f":"IF(B99>0,IFERROR(J99/I99,L99),\"\")","v":""},{"$f":"IF(B99>0,INDEX('Unit of measures'!$A$7:$T$25,MATCH(G99,'Unit of measures'!$A$7:$A$25,0),MATCH(C99,'Unit of measures'!$A$7:$T$7,0)),\"\")","v":""},{"$f":"IFERROR(MATCH(A99,'Recipes DB'!$A:$A,0),\"\")","v":""},"",{"$f":"IF(M99<>\"\",INDEX('Recipes DB'!E:E,M99,),\"\")","v":""},{"$f":"IF(AND(O99=\"\",A99>0),MATCH(A99,'Ingredient DB'!A:A,0),\"\")","v":""}]
[null,null,null,null,"","",{"$f":"IFERROR(IFERROR(VLOOKUP($A100,'Ingredient DB'!$A$3:$Z$9999,3,0),N100),\"\")","v":""},{"$f":"IFERROR(IFERROR(VLOOKUP($A100,'Ingredient DB'!$A$3:$Z$9999,5,0),O100),\"\")","v":""},{"$f":"IFERROR(INDEX('Ingredient DB'!$A$3:$ZZ$9999,MATCH($A100,'Ingredient DB'!$A$3:$A$9999,0),MATCH($C100,'Ingredient DB'!$A$3:$ZZ$3,0)),\"\")","v":""},{"$f":"IFERROR(INDEX('Ingredient DB'!$A$3:$ZZ$9999,MATCH($A100,'Ingredient DB'!$A$3:$A$9999,0),MATCH($G100,'Ingredient DB'!$A$3:$ZZ$3,0)),\"\")","v":""},"",{"$f":"IF(B100>0,INDEX('Unit of measures'!$A$7:$T$25,MATCH(G100,'Unit of measures'!$A$7:$A$25,0),MATCH(C100,'Unit of measures'!$A$7:$T$7,0)),\"\")","v":""},{"$f":"IFERROR(MATCH(A100,'Recipes DB'!$A:$A,0),\"\")","v":""},"",{"$f":"IF(M100<>\"\",INDEX('Recipes DB'!E:E,M100,),\"\")","v":""},{"$f":"IF(AND(O100=\"\",A100>0),MATCH(A100,'Ingredient DB'!A:A,0),\"\")","v":""}]
[null,null,null,null,"","",{"$f":"IFERROR(IFERROR(VLOOKUP($A101,'Ingredient DB'!$A$3:$Z$9999,3,0),N101),\"\")","v":""},{"$f":"IFERROR(IFERROR(VLOOKUP($A101,'Ingredient DB'!$A$3:$Z$9999,5,0),O101),\"\")","v":""},{"$f":"IFERROR(INDEX('Ingredient DB'!$A$3:$ZZ$9999,MATCH($A101,'Ingredient DB'!$A$3:$A$9999,0),MATCH($C101,'Ingredient DB'!$A$3:$ZZ$3,0)),\"\")","v":""},{"$f":"IFERROR(INDEX('Ingredient DB'!$A$3:$ZZ$9999,MATCH($A101,'Ingredient DB'!$A$3:$A$9999,0),MATCH($G101,'Ingredient DB'!$A$3:$ZZ$3,0)),\"\")","v":""},"",{"$f":"IF(B101>0,INDEX('Unit of measures'!$A$7:$T$25,MATCH(G101,'Unit of measures'!$A$7:$A$25,0),MATCH(C101,'Unit of measures'!$A$7:$T$7,0)),\"\")","v":""},{"$f":"IFERROR(MATCH(A101,'Recipes DB'!$A:$A,0),\"\")","v":""},"",{"$f":"IF(M101<>\"\",INDEX('Recipes DB'!E:E,M101,),\"\")","v":""},{"$f":"IF(AND(O101=\"\",A101>0),MATCH(A101,'Ingredient DB'!A:A,0),\"\")","v":""}]
[null,null,null,null,"","",{"$f":"IFERROR(IFERROR(VLOOKUP($A102,'Ingredient DB'!$A$3:$Z$9999,3,0),N102),\"\")","v":""},{"$f":"IFERROR(IFERROR(VLOOKUP($A102,'Ingredient DB'!$A$3:$Z$9999,5,0),O102),\"\")","v":""},{"$f":"IFERROR(INDEX('Ingredient DB'!$A$3:$ZZ$9999,MATCH($A102,'Ingredient DB'!$A$3:$A$9999,0),MATCH($C102,'Ingredient DB'!$A$3:$ZZ$3,0)),\"\")","v":""},{"$f":"IFERROR(INDEX('Ingredient DB'!$A$3:$ZZ$9999,MATCH($A102,'Ingredient DB'!$A$3:$A$9999,0),MATCH($G102,'Ingredient DB'!$A$3:$ZZ$3,0)),\"\")","v":""},"",{"$f":"IF(B102>0,INDEX('Unit of measures'!$A$7:$T$25,MATCH(G102,'Unit of measures'!$A$7:$A$25,0),MATCH(C102,'Unit of measures'!$A$7:$T$7,0)),\"\")","v":""},{"$f":"IFERROR(MATCH(A102,'Recipes DB'!$A:$A,0),\"\")","v":""},"",{"$f":"IF(M102<>\"\",INDEX('Recipes DB'!E:E,M102,),\"\")","v":""},{"$f":"IF(AND(O102=\"\",A102>0),MATCH(A102,'Ingredient DB'!A:A,0),\"\")","v":""}]

{"sheet":"Ingredient DB","index":2,"n_rows":303,"n_cols":25,"rows_kept":303,"cut":false,"hidden":false,"merged":[[0,5,0,24],[1,5,1,6],[1,16,1,17],[1,23,1,24]]}
["Search Ingredient",null,null,null,null,"Conversion between UOM Types"]
[null,null,null,null,null,"Volume",null,null,null,null,null,null,null,null,null,null,"Weight",null,null,null,null,null,null,"Each"]
["Ingredient","Purchase QTY","Purchase Unit of Measure","Price","Price per UOM","UOM","QTY","Teaspoon (tsp)","Tablespoon (tbs)","Cup (cup)","Fluid Ounce (oz)","Milliliter (ml)","Quart (qt)","Pint (pt)","Gallon (gal)","Liter (L)","UOM","QTY","Milligram (mg)","Gram (g)","Kilogram (kg)","Ounce (ozm)","Pound (lbm)","UOM","Each"]
["Black pepper",200,"Gram (g)",5,{"$f":"IFERROR(D4/B4,\"\")","v":2.5000000000000001E-2},null,null,{"$f":"$G4*INDEX('Unit of measures'!$A$7:$R$24,MATCH(H$3,'Unit of measures'!$A$7:$A$24,0),MATCH($F4,'Unit of measures'!$A$7:$R$7,0))","v":{"$error":"#N/A"}},{"$f":"$G4*INDEX('Unit of measures'!$A$7:$R$24,MATCH(I$3,'Unit of measures'!$A$7:$A$24,0),MATCH($F4,'Unit of measures'!$A$7:$R$7,0))","v":{"$error":"#N/A"}},{"$f":"$G4*INDEX('Unit of measures'!$A$7:$R$24,MATCH(J$3,'Unit of measures'!$A$7:$A$24,0),MATCH($F4,'Unit of measures'!$A$7:$R$7,0))","v":{"$error":"#N/A"}},{"$f":"$G4*INDEX('Unit of measures'!$A$7:$R$24,MATCH(K$3,'Unit of measures'!$A$7:$A$24,0),MATCH($F4,'Unit of measures'!$A$7:$R$7,0))","v":{"$error":"#N/A"}},{"$f":"$G4*INDEX('Unit of measures'!$A$7:$R$24,MATCH(L$3,'Unit of measures'!$A$7:$A$24,0),MATCH($F4,'Unit of measures'!$A$7:$R$7,0))","v":{"$error":"#N/A"}},{"$f":"$G4*INDEX('Unit of measures'!$A$7:$R$24,MATCH(M$3,'Unit of measures'!$A$7:$A$24,0),MATCH($F4,'Unit of measures'!$A$7:$R$7,0))","v":{"$error":"#N/A"}},{"$f":"$G4*INDEX('Unit of measures'!$A$7:$R$24,MATCH(N$3,'Unit of measures'!$A$7:$A$24,0),MATCH($F4,'Unit of measures'!$A$7:$R$7,0))","v":{"$error":"#N/A"}},{"$f":"$G4*INDEX('Unit of measures'!$A$7:$R$24,MATCH(O$3,'Unit of measures'!$A$7:$A$24,0),MATCH($F4,'Unit of measures'!$A$7:$R$7,0))","v":{"$error":"#N/A"}},{"$f":"$G4*INDEX('Unit of measures'!$A$7:$R$24,MATCH(P$3,'Unit of measures'!$A$7:$A$24,0),MATCH($F4,'Unit of measures'!$A$7:$R$7,0))","v":{"$error":"#N/A"}},null,null,{"$f":"$R4*INDEX('Unit of measures'!$A$7:$R$24,MATCH(S$3,'Unit of measures'!$A$7:$A$24,0),MATCH($Q4,'Unit of measures'!$A$7:$R$7,0))","v":{"$error":"#N/A"}},{"$f":"$R4*INDEX('Unit of measures'!$A$7:$R$24,MATCH(T$3,'Unit of measures'!$A$7:$A$24,0),MATCH($Q4,'Unit of measures'!$A$7:$R$7,0))","v":{"$error":"#N/A"}},{"$f":"$R4*INDEX('Unit of measures'!$A$7:$R$24,MATCH(U$3,'Unit of measures'!$A$7:$A$24,0),MATCH($Q4,'Unit of measures'!$A$7:$R$7,0))","v":{"$error":"#N/A"}},{"$f":"$R4*INDEX('Unit of measures'!$A$7:$R$24,MATCH(V$3,'Unit of measures'!$A$7:$A$24,0),MATCH($Q4,'Unit of measures'!$A$7:$R$7,0))","v":{"$error":"#N/A"}},{"$f":"$R4*INDEX('Unit of measures'!$A$7:$R$24,MATCH(W$3,'Unit of measures'!$A$7:$A$24,0),MATCH($Q4,'Unit of measures'!$A$7:$R$7,0))","v":{"$error":"#N/A"}},"Each"]
["Carrots",1,"Each",0.5,0.5,null,null,{"$f":"$G5*INDEX('Unit of measures'!$A$7:$R$24,MATCH(H$3,'Unit of measures'!$A$7:$A$24,0),MATCH($F5,'Unit of measures'!$A$7:$R$7,0))","v":{"$error":"#N/A"}},{"$f":"$G5*INDEX('Unit of measures'!$A$7:$R$24,MATCH(I$3,'Unit of measures'!$A$7:$A$24,0),MATCH($F5,'Unit of measures'!$A$7:$R$7,0))","v":{"$error":"#N/A"}},{"$f":"$G5*INDEX('Unit of measures'!$A$7:$R$24,MATCH(J$3,'Unit of measures'!$A$7:$A$24,0),MATCH($F5,'Unit of measures'!$A$7:$R$7,0))","v":{"$error":"#N/A"}},{"$f":"$G5*INDEX('Unit of measures'!$A$7:$R$24,MATCH(K$3,'Unit of measures'!$A$7:$A$24,0),MATCH($F5,'Unit of measures'!$A$7:$R$7,0))","v":{"$error":"#N/A"}},{"$f":"$G5*INDEX('Unit of measures'!$A$7:$R$24,MATCH(L$3,'Unit of measures'!$A$7:$A$24,0),MATCH($F5,'Unit of measures'!$A$7:$R$7,0))","v":{"$error":"#N/A"}},{"$f":"$G5*INDEX('Unit of measures'!$A$7:$R$24,MATCH(M$3,'Unit of measures'!$A$7:$A$24,0),MATCH($F5,'Unit of measures'!$A$7:$R$7,0))","v":{"$error":"#N/A"}},{"$f":"$G5*INDEX('Unit of measures'!$A$7:$R$24,MATCH(N$3,'Unit of measures'!$A$7:$A$24,0),MATCH($F5,'Unit of measures'!$A$7:$R$7,0))","v":{"$error":"#N/A"}},{"$f":"$G5*INDEX('Unit of measures'!$A$7:$R$24,MATCH(O$3,'Unit of measures'!$A$7:$A$24,0),MATCH($F5,'Unit of measures'!$A$7:$R$7,0))","v":{"$error":"#N/A"}},{"$f":"$G5*INDEX('Unit of measures'!$A$7:$R$24,MATCH(P$3,'Unit of measures'!$A$7:$A$24,0),MATCH($F5,'Unit of measures'!$A$7:$R$7,0))","v":{"$error":"#N/A"}},"Kilogram (kg)",2,{"$f":"$R5*INDEX('Unit of measures'!$A$7:$R$24,MATCH(S$3,'Unit of measures'!$A$7:$A$24,0),MATCH($Q5,'Unit of measures'!$A$7:$R$7,0))","v":2000000},{"$f":"$R5*INDEX('Unit of measures'!$A$7:$R$24,MATCH(T$3,'Unit of measures'!$A$7:$A$24,0),MATCH($Q5,'Unit of measures'!$A$7:$R$7,0))","v":2000},{"$f":"$R5*INDEX('Unit of measures'!$A$7:$R$24,MATCH(U$3,'Unit of measures'!$A$7:$A$24,0),MATCH($Q5,'Unit of measures'!$A$7:$R$7,0))","v":2},{"$f":"$R5*INDEX('Unit of measures'!$A$7:$R$24,MATCH(V$3,'Unit of measures'!$A$7:$A$24,0),MATCH($Q5,'Unit of measures'!$A$7:$R$7,0))","v":70.548000000000002},{"$f":"$R5*INDEX('Unit of measures'!$A$7:$R$24,MATCH(W$3,'Unit of measures'!$A$7:$A$24,0),MATCH($Q5,'Unit of measures'!$A$7:$R$7,0))","v":4.4092000000000002},"Each"]
["Chicken Bouillon Granules",1,"Teaspoon (tsp)",0.05,0.05,null,null,{"$f":"$G6*INDEX('Unit of measures'!$A$7:$R$24,MATCH(H$3,'Unit of measures'!$A$7:$A$24,0),MATCH($F6,'Unit of measures'!$A$7:$R$7,0))","v":{"$error":"#N/A"}},{"$f":"$G6*INDEX('Unit of measures'!$A$7:$R$24,MATCH(I$3,'Unit of measures'!$A$7:$A$24,0),MATCH($F6,'Unit of measures'!$A$7:$R$7,0))","v":{"$error":"#N/A"}},{"$f":"$G6*INDEX('Unit of measures'!$A$7:$R$24,MATCH(J$3,'Unit of measures'!$A$7:$A$24,0),MATCH($F6,'Unit of measures'!$A$7:$R$7,0))","v":{"$error":"#N/A"}},{"$f":"$G6*INDEX('Unit of measures'!$A$7:$R$24,MATCH(K$3,'Unit of measures'!$A$7:$A$24,0),MATCH($F6,'Unit of measures'!$A$7:$R$7,0))","v":{"$error":"#N/A"}},{"$f":"$G6*INDEX('Unit of measures'!$A$7:$R$24,MATCH(L$3,'Unit of measures'!$A$7:$A$24,0),MATCH($F6,'Unit of measures'!$A$7:$R$7,0))","v":{"$error":"#N/A"}},{"$f":"$G6*INDEX('Unit of measures'!$A$7:$R$24,MATCH(M$3,'Unit of measures'!$A$7:$A$24,0),MATCH($F6,'Unit of measures'!$A$7:$R$7,0))","v":{"$error":"#N/A"}},{"$f":"$G6*INDEX('Unit of measures'!$A$7:$R$24,MATCH(N$3,'Unit of measures'!$A$7:$A$24,0),MATCH($F6,'Unit of measures'!$A$7:$R$7,0))","v":{"$error":"#N/A"}},{"$f":"$G6*INDEX('Unit of measures'!$A$7:$R$24,MATCH(O$3,'Unit of measures'!$A$7:$A$24,0),MATCH($F6,'Unit of measures'!$A$7:$R$7,0))","v":{"$error":"#N/A"}},{"$f":"$G6*INDEX('Unit of measures'!$A$7:$R$24,MATCH(P$3,'Unit of measures'!$A$7:$A$24,0),MATCH($F6,'Unit of measures'!$A$7:$R$7,0))","v":{"$error":"#N/A"}},null,null,{"$f":"$R6*INDEX('Unit of measures'!$A$7:$R$24,MATCH(S$3,'Unit of measures'!$A$7:$A$24,0),MATCH($Q6,'Unit of measures'!$A$7:$R$7,0))","v":{"$error":"#N/A"}},{"$f":"$R6*INDEX('Unit of measures'!$A$7:$R$24,MATCH(T$3,'Unit of measures'!$A$7:$A$24,0),MATCH($Q6,'Unit of measures'!$A$7:$R$7,0))","v":{"$error":"#N/A"}},{"$f":"$R6*INDEX('Unit of measures'!$A$7:$R$24,MATCH(U$3,'Unit of measures'!$A$7:$A$24,0),MATCH($Q6,'Unit of measures'!$A$7:$R$7,0))","v":{"$error":"#N/A"}},{"$f":"$R6*INDEX('Unit of measures'!$A$7:$R$24,MATCH(V$3,'Unit of measures'!$A$7:$A$24,0),MATCH($Q6,'Unit of measures'!$A$7:$R$7,0))","v":{"$error":"#N/A"}},{"$f":"$R6*INDEX('Unit of measures'!$A$7:$R$24,MATCH(W$3,'Unit of measures'!$A$7:$A$24,0),MATCH($Q6,'Unit of measures'!$A$7:$R$7,0))","v":{"$error":"#N/A"}},"Each"]
["Chicken breast",1,"Kilogram (kg)",8.5,8.5,null,null,{"$f":"$G7*INDEX('Unit of measures'!$A$7:$R$24,MATCH(H$3,'Unit of measures'!$A$7:$A$24,0),MATCH($F7,'Unit of measures'!$A$7:$R$7,0))","v":{"$error":"#N/A"}},{"$f":"$G7*INDEX('Unit of measures'!$A$7:$R$24,MATCH(I$3,'Unit of measures'!$A$7:$A$24,0),MATCH($F7,'Unit of measures'!$A$7:$R$7,0))","v":{"$error":"#N/A"}},{"$f":"$G7*INDEX('Unit of measures'!$A$7:$R$24,MATCH(J$3,'Unit of measures'!$A$7:$A$24,0),MATCH($F7,'Unit of measures'!$A$7:$R$7,0))","v":{"$error":"#N/A"}},{"$f":"$G7*INDEX('Unit of measures'!$A$7:$R$24,MATCH(K$3,'Unit of measures'!$A$7:$A$24,0),MATCH($F7,'Unit of measures'!$A$7:$R$7,0))","v":{"$error":"#N/A"}},{"$f":"$G7*INDEX('Unit of measures'!$A$7:$R$24,MATCH(L$3,'Unit of measures'!$A$7:$A$24,0),MATCH($F7,'Unit of measures'!$A$7:$R$7,0))","v":{"$error":"#N/A"}},{"$f":"$G7*INDEX('Unit of measures'!$A$7:$R$24,MATCH(M$3,'Unit of measures'!$A$7:$A$24,0),MATCH($F7,'Unit of measures'!$A$7:$R$7,0))","v":{"$error":"#N/A"}},{"$f":"$G7*INDEX('Unit of measures'!$A$7:$R$24,MATCH(N$3,'Unit of measures'!$A$7:$A$24,0),MATCH($F7,'Unit of measures'!$A$7:$R$7,0))","v":{"$error":"#N/A"}},{"$f":"$G7*INDEX('Unit of measures'!$A$7:$R$24,MATCH(O$3,'Unit of measures'!$A$7:$A$24,0),MATCH($F7,'Unit of measures'!$A$7:$R$7,0))","v":{"$error":"#N/A"}},{"$f":"$G7*INDEX('Unit of measures'!$A$7:$R$24,MATCH(P$3,'Unit of measures'!$A$7:$A$24,0),MATCH($F7,'Unit of measures'!$A$7:$R$7,0))","v":{"$error":"#N/A"}},null,null,{"$f":"$R7*INDEX('Unit of measures'!$A$7:$R$24,MATCH(S$3,'Unit of measures'!$A$7:$A$24,0),MATCH($Q7,'Unit of measures'!$A$7:$R$7,0))","v":{"$error":"#N/A"}},{"$f":"$R7*INDEX('Unit of measures'!$A$7:$R$24,MATCH(T$3,'Unit of measures'!$A$7:$A$24,0),MATCH($Q7,'Unit of measures'!$A$7:$R$7,0))","v":{"$error":"#N/A"}},{"$f":"$R7*INDEX('Unit of measures'!$A$7:$R$24,MATCH(U$3,'Unit of measures'!$A$7:$A$24,0),MATCH($Q7,'Unit of measures'!$A$7:$R$7,0))","v":{"$error":"#N/A"}},{"$f":"$R7*INDEX('Unit of measures'!$A$7:$R$24,MATCH(V$3,'Unit of measures'!$A$7:$A$24,0),MATCH($Q7,'Unit of measures'!$A$7:$R$7,0))","v":{"$error":"#N/A"}},{"$f":"$R7*INDEX('Unit of measures'!$A$7:$R$24,MATCH(W$3,'Unit of measures'!$A$7:$A$24,0),MATCH($Q7,'Unit of measures'!$A$7:$R$7,0))","v":{"$error":"#N/A"}},"Each"]
["Cloves Garlic",1,"Each",0.5,0.5,null,null,{"$f":"$G8*INDEX('Unit of measures'!$A$7:$R$24,MATCH(H$3,'Unit of measures'!$A$7:$A$24,0),MATCH($F8,'Unit of measures'!$A$7:$R$7,0))","v":{"$error":"#N/A"}},{"$f":"$G8*INDEX('Unit of measures'!$A$7:$R$24,MATCH(I$3,'Unit of measures'!$A$7:$A$24,0),MATCH($F8,'Unit of measures'!$A$7:$R$7,0))","v":{"$error":"#N/A"}},{"$f":"$G8*INDEX('Unit of measures'!$A$7:$R$24,MATCH(J$3,'Unit of measures'!$A$7:$A$24,0),MATCH($F8,'Unit of measures'!$A$7:$R$7,0))","v":{"$error":"#N/A"}},{"$f":"$G8*INDEX('Unit of measures'!$A$7:$R$24,MATCH(K$3,'Unit of measures'!$A$7:$A$24,0),MATCH($F8,'Unit of measures'!$A$7:$R$7,0))","v":{"$error":"#N/A"}},{"$f":"$G8*INDEX('Unit of measures'!$A$7:$R$24,MATCH(L$3,'Unit of measures'!$A$7:$A$24,0),MATCH($F8,'Unit of measures'!$A$7:$R$7,0))","v":{"$error":"#N/A"}},{"$f":"$G8*INDEX('Unit of measures'!$A$7:$R$24,MATCH(M$3,'Unit of measures'!$A$7:$A$24,0),MATCH($F8,'Unit of measures'!$A$7:$R$7,0))","v":{"$error":"#N/A"}},{"$f":"$G8*INDEX('Unit of measures'!$A$7:$R$24,MATCH(N$3,'Unit of measures'!$A$7:$A$24,0),MATCH($F8,'Unit of measures'!$A$7:$R$7,0))","v":{"$error":"#N/A"}},{"$f":"$G8*INDEX('Unit of measures'!$A$7:$R$24,MATCH(O$3,'Unit of measures'!$A$7:$A$24,0),MATCH($F8,'Unit of measures'!$A$7:$R$7,0))","v":{"$error":"#N/A"}},{"$f":"$G8*INDEX('Unit of measures'!$A$7:$R$24,MATCH(P$3,'Unit of measures'!$A$7:$A$24,0),MATCH($F8,'Unit of measures'!$A$7:$R$7,0))","v":{"$error":"#N/A"}},null,null,{"$f":"$R8*INDEX('Unit of measures'!$A$7:$R$24,MATCH(S$3,'Unit of measures'!$A$7:$A$24,0),MATCH($Q8,'Unit of measures'!$A$7:$R$7,0))","v":{"$error":"#N/A"}},{"$f":"$R8*INDEX('Unit of measures'!$A$7:$R$24,MATCH(T$3,'Unit of measures'!$A$7:$A$24,0),MATCH($Q8,'Unit of measures'!$A$7:$R$7,0))","v":{"$error":"#N/A"}},{"$f":"$R8*INDEX('Unit of measures'!$A$7:$R$24,MATCH(U$3,'Unit of measures'!$A$7:$A$24,0),MATCH($Q8,'Unit of measures'!$A$7:$R$7,0))","v":{"$error":"#N/A"}},{"$f":"$R8*INDEX('Unit of measures'!$A$7:$R$24,MATCH(V$3,'Unit of measures'!$A$7:$A$24,0),MATCH($Q8,'Unit of measures'!$A$7:$R$7,0))","v":{"$error":"#N/A"}},{"$f":"$R8*INDEX('Unit of measures'!$A$7:$R$24,MATCH(W$3,'Unit of measures'!$A$7:$A$24,0),MATCH($Q8,'Unit of measures'!$A$7:$R$7,0))","v":{"$error":"#N/A"}},"Each"]
["Cumin Seeds",1,"Cup (cup)",15,15,"Liter (L)",1.5,{"$f":"$G9*INDEX('Unit of measures'!$A$7:$R$24,MATCH(H$3,'Unit of measures'!$A$7:$A$24,0),MATCH($F9,'Unit of measures'!$A$7:$R$7,0))","v":304.32614999999998},{"$f":"$G9*INDEX('Unit of measures'!$A$7:$R$24,MATCH(I$3,'Unit of measures'!$A$7:$A$24,0),MATCH($F9,'Unit of measures'!$A$7:$R$7,0))","v":101.44200000000001},{"$f":"$G9*INDEX('Unit of measures'!$A$7:$R$24,MATCH(J$3,'Unit of measures'!$A$7:$A$24,0),MATCH($F9,'Unit of measures'!$A$7:$R$7,0))","v":6.3401999999999994},{"$f":"$G9*INDEX('Unit of measures'!$A$7:$R$24,MATCH(K$3,'Unit of measures'!$A$7:$A$24,0),MATCH($F9,'Unit of measures'!$A$7:$R$7,0))","v":50.721000000000004},{"$f":"$G9*INDEX('Unit of measures'!$A$7:$R$24,MATCH(L$3,'Unit of measures'!$A$7:$A$24,0),MATCH($F9,'Unit of measures'!$A$7:$R$7,0))","v":1500},{"$f":"$G9*INDEX('Unit of measures'!$A$7:$R$24,MATCH(M$3,'Unit of measures'!$A$7:$A$24,0),MATCH($F9,'Unit of measures'!$A$7:$R$7,0))","v":1.5850499999999998},{"$f":"$G9*INDEX('Unit of measures'!$A$7:$R$24,MATCH(N$3,'Unit of measures'!$A$7:$A$24,0),MATCH($F9,'Unit of measures'!$A$7:$R$7,0))","v":3.1700999999999997},{"$f":"$G9*INDEX('Unit of measures'!$A$7:$R$24,MATCH(O$3,'Unit of measures'!$A$7:$A$24,0),MATCH($F9,'Unit of measures'!$A$7:$R$7,0))","v":0.39629999999999999},{"$f":"$G9*INDEX('Unit of measures'!$A$7:$R$24,MATCH(P$3,'Unit of measures'!$A$7:$A$24,0),MATCH($F9,'Unit of measures'!$A$7:$R$7,0))","v":1.5},"Gram (g)",300,{"$f":"$R9*INDEX('Unit of measures'!$A$7:$R$24,MATCH(S$3,'Unit of measures'!$A$7:$A$24,0),MATCH($Q9,'Unit of measures'!$A$7:$R$7,0))","v":300000},{"$f":"$R9*INDEX('Unit of measures'!$A$7:$R$24,MATCH(T$3,'Unit of measures'!$A$7:$A$24,0),MATCH($Q9,'Unit of measures'!$A$7:$R$7,0))","v":300},{"$f":"$R9*INDEX('Unit of measures'!$A$7:$R$24,MATCH(U$3,'Unit of measures'!$A$7:$A$24,0),MATCH($Q9,'Unit of measures'!$A$7:$R$7,0))","v":0.3},{"$f":"$R9*INDEX('Unit of measures'!$A$7:$R$24,MATCH(V$3,'Unit of measures'!$A$7:$A$24,0),MATCH($Q9,'Unit of measures'!$A$7:$R$7,0))","v":10.59},{"$f":"$R9*INDEX('Unit of measures'!$A$7:$R$24,MATCH(W$3,'Unit of measures'!$A$7:$A$24,0),MATCH($Q9,'Unit of measures'!$A$7:$R$7,0))","v":0.66},"Each",3]
["Dried oregano",50,"Gram (g)",2,0.04,null,null,{"$f":"$G10*INDEX('Unit of measures'!$A$7:$R$24,MATCH(H$3,'Unit of measures'!$A$7:$A$24,0),MATCH($F10,'Unit of measures'!$A$7:$R$7,0))","v":{"$error":"#N/A"}},{"$f":"$G10*INDEX('Unit of measures'!$A$7:$R$24,MATCH(I$3,'Unit of measures'!$A$7:$A$24,0),MATCH($F10,'Unit of measures'!$A$7:$R$7,0))","v":{"$error":"#N/A"}},{"$f":"$G10*INDEX('Unit of measures'!$A$7:$R$24,MATCH(J$3,'Unit of measures'!$A$7:$A$24,0),MATCH($F10,'Unit of measures'!$A$7:$R$7,0))","v":{"$error":"#N/A"}},{"$f":"$G10*INDEX('Unit of measures'!$A$7:$R$24,MATCH(K$3,'Unit of measures'!$A$7:$A$24,0),MATCH($F10,'Unit of measures'!$A$7:$R$7,0))","v":{"$error":"#N/A"}},{"$f":"$G10*INDEX('Unit of measures'!$A$7:$R$24,MATCH(L$3,'Unit of measures'!$A$7:$A$24,0),MATCH($F10,'Unit of measures'!$A$7:$R$7,0))","v":{"$error":"#N/A"}},{"$f":"$G10*INDEX('Unit of measures'!$A$7:$R$24,MATCH(M$3,'Unit of measures'!$A$7:$A$24,0),MATCH($F10,'Unit of measures'!$A$7:$R$7,0))","v":{"$error":"#N/A"}},{"$f":"$G10*INDEX('Unit of measures'!$A$7:$R$24,MATCH(N$3,'Unit of measures'!$A$7:$A$24,0),MATCH($F10,'Unit of measures'!$A$7:$R$7,0))","v":{"$error":"#N/A"}},{"$f":"$G10*INDEX('Unit of measures'!$A$7:$R$24,MATCH(O$3,'Unit of measures'!$A$7:$A$24,0),MATCH($F10,'Unit of measures'!$A$7:$R$7,0))","v":{"$error":"#N/A"}},{"$f":"$G10*INDEX('Unit of measures'!$A$7:$R$24,MATCH(P$3,'Unit of measures'!$A$7:$A$24,0),MATCH($F10,'Unit of measures'!$A$7:$R$7,0))","v":{"$error":"#N/A"}},null,null,{"$f":"$R10*INDEX('Unit of measures'!$A$7:$R$24,MATCH(S$3,'Unit of measures'!$A$7:$A$24,0),MATCH($Q10,'Unit of measures'!$A$7:$R$7,0))","v":{"$error":"#N/A"}},{"$f":"$R10*INDEX('Unit of measures'!$A$7:$R$24,MATCH(T$3,'Unit of measures'!$A$7:$A$24,0),MATCH($Q10,'Unit of measures'!$A$7:$R$7,0))","v":{"$error":"#N/A"}},{"$f":"$R10*INDEX('Unit of measures'!$A$7:$R$24,MATCH(U$3,'Unit of measures'!$A$7:$A$24,0),MATCH($Q10,'Unit of measures'!$A$7:$R$7,0))","v":{"$error":"#N/A"}},{"$f":"$R10*INDEX('Unit of measures'!$A$7:$R$24,MATCH(V$3,'Unit of measures'!$A$7:$A$24,0),MATCH($Q10,'Unit of measures'!$A$7:$R$7,0))","v":{"$error":"#N/A"}},{"$f":"$R10*INDEX('Unit of measures'!$A$7:$R$24,MATCH(W$3,'Unit of measures'!$A$7:$A$24,0),MATCH($Q10,'Unit of measures'!$A$7:$R$7,0))","v":{"$error":"#N/A"}},"Each"]
["Dry Yeast",40,"Gram (g)",2,0.05,null,null,{"$f":"$G11*INDEX('Unit of measures'!$A$7:$R$24,MATCH(H$3,'Unit of measures'!$A$7:$A$24,0),MATCH($F11,'Unit of measures'!$A$7:$R$7,0))","v":{"$error":"#N/A"}},{"$f":"$G11*INDEX('Unit of measures'!$A$7:$R$24,MATCH(I$3,'Unit of measures'!$A$7:$A$24,0),MATCH($F11,'Unit of measures'!$A$7:$R$7,0))","v":{"$error":"#N/A"}},{"$f":"$G11*INDEX('Unit of measures'!$A$7:$R$24,MATCH(J$3,'Unit of measures'!$A$7:$A$24,0),MATCH($F11,'Unit of measures'!$A$7:$R$7,0))","v":{"$error":"#N/A"}},{"$f":"$G11*INDEX('Unit of measures'!$A$7:$R$24,MATCH(K$3,'Unit of measures'!$A$7:$A$24,0),MATCH($F11,'Unit of measures'!$A$7:$R$7,0))","v":{"$error":"#N/A"}},{"$f":"$G11*INDEX('Unit of measures'!$A$7:$R$24,MATCH(L$3,'Unit of measures'!$A$7:$A$24,0),MATCH($F11,'Unit of measures'!$A$7:$R$7,0))","v":{"$error":"#N/A"}},{"$f":"$G11*INDEX('Unit of measures'!$A$7:$R$24,MATCH(M$3,'Unit of measures'!$A$7:$A$24,0),MATCH($F11,'Unit of measures'!$A$7:$R$7,0))","v":{"$error":"#N/A"}},{"$f":"$G11*INDEX('Unit of measures'!$A$7:$R$24,MATCH(N$3,'Unit of measures'!$A$7:$A$24,0),MATCH($F11,'Unit of measures'!$A$7:$R$7,0))","v":{"$error":"#N/A"}},{"$f":"$G11*INDEX('Unit of measures'!$A$7:$R$24,MATCH(O$3,'Unit of measures'!$A$7:$A$24,0),MATCH($F11,'Unit of measures'!$A$7:$R$7,0))","v":{"$error":"#N/A"}},{"$f":"$G11*INDEX('Unit of measures'!$A$7:$R$24,MATCH(P$3,'Unit of measures'!$A$7:$A$24,0),MATCH($F11,'Unit of measures'!$A$7:$R$7,0))","v":{"$error":"#N/A"}},null,null,{"$f":"$R11*INDEX('Unit of measures'!$A$7:$R$24,MATCH(S$3,'Unit of measures'!$A$7:$A$24,0),MATCH($Q11,'Unit of measures'!$A$7:$R$7,0))","v":{"$error":"#N/A"}},{"$f":"$R11*INDEX('Unit of measures'!$A$7:$R$24,MATCH(T$3,'Unit of measures'!$A$7:$A$24,0),MATCH($Q11,'Unit of measures'!$A$7:$R$7,0))","v":{"$error":"#N/A"}},{"$f":"$R11*INDEX('Unit of measures'!$A$7:$R$24,MATCH(U$3,'Unit of measures'!$A$7:$A$24,0),MATCH($Q11,'Unit of measures'!$A$7:$R$7,0))","v":{"$error":"#N/A"}},{"$f":"$R11*INDEX('Unit of measures'!$A$7:$R$24,MATCH(V$3,'Unit of measures'!$A$7:$A$24,0),MATCH($Q11,'Unit of measures'!$A$7:$R$7,0))","v":{"$error":"#N/A"}},{"$f":"$R11*INDEX('Unit of measures'!$A$7:$R$24,MATCH(W$3,'Unit of measures'!$A$7:$A$24,0),MATCH($Q11,'Unit of measures'!$A$7:$R$7,0))","v":{"$error":"#N/A"}},"Each"]
["Extra-Virgin Olive Oil",1,"Liter (L)",15,15,null,null,{"$f":"$G12*INDEX('Unit of measures'!$A$7:$R$24,MATCH(H$3,'Unit of measures'!$A$7:$A$24,0),MATCH($F12,'Unit of measures'!$A$7:$R$7,0))","v":{"$error":"#N/A"}},{"$f":"$G12*INDEX('Unit of measures'!$A$7:$R$24,MATCH(I$3,'Unit of measures'!$A$7:$A$24,0),MATCH($F12,'Unit of measures'!$A$7:$R$7,0))","v":{"$error":"#N/A"}},{"$f":"$G12*INDEX('Unit of measures'!$A$7:$R$24,MATCH(J$3,'Unit of measures'!$A$7:$A$24,0),MATCH($F12,'Unit of measures'!$A$7:$R$7,0))","v":{"$error":"#N/A"}},{"$f":"$G12*INDEX('Unit of measures'!$A$7:$R$24,MATCH(K$3,'Unit of measures'!$A$7:$A$24,0),MATCH($F12,'Unit of measures'!$A$7:$R$7,0))","v":{"$error":"#N/A"}},{"$f":"$G12*INDEX('Unit of measures'!$A$7:$R$24,MATCH(L$3,'Unit of measures'!$A$7:$A$24,0),MATCH($F12,'Unit of measures'!$A$7:$R$7,0))","v":{"$error":"#N/A"}},{"$f":"$G12*INDEX('Unit of measures'!$A$7:$R$24,MATCH(M$3,'Unit of measures'!$A$7:$A$24,0),MATCH($F12,'Unit of measures'!$A$7:$R$7,0))","v":{"$error":"#N/A"}},{"$f":"$G12*INDEX('Unit of measures'!$A$7:$R$24,MATCH(N$3,'Unit of measures'!$A$7:$A$24,0),MATCH($F12,'Unit of measures'!$A$7:$R$7,0))","v":{"$error":"#N/A"}},{"$f":"$G12*INDEX('Unit of measures'!$A$7:$R$24,MATCH(O$3,'Unit of measures'!$A$7:$A$24,0),MATCH($F12,'Unit of measures'!$A$7:$R$7,0))","v":{"$error":"#N/A"}},{"$f":"$G12*INDEX('Unit of measures'!$A$7:$R$24,MATCH(P$3,'Unit of measures'!$A$7:$A$24,0),MATCH($F12,'Unit of measures'!$A$7:$R$7,0))","v":{"$error":"#N/A"}},null,null,{"$f":"$R12*INDEX('Unit of measures'!$A$7:$R$24,MATCH(S$3,'Unit of measures'!$A$7:$A$24,0),MATCH($Q12,'Unit of measures'!$A$7:$R$7,0))","v":{"$error":"#N/A"}},{"$f":"$R12*INDEX('Unit of measures'!$A$7:$R$24,MATCH(T$3,'Unit of measures'!$A$7:$A$24,0),MATCH($Q12,'Unit of measures'!$A$7:$R$7,0))","v":{"$error":"#N/A"}},{"$f":"$R12*INDEX('Unit of measures'!$A$7:$R$24,MATCH(U$3,'Unit of measures'!$A$7:$A$24,0),MATCH($Q12,'Unit of measures'!$A$7:$R$7,0))","v":{"$error":"#N/A"}},{"$f":"$R12*INDEX('Unit of measures'!$A$7:$R$24,MATCH(V$3,'Unit of measures'!$A$7:$A$24,0),MATCH($Q12,'Unit of measures'!$A$7:$R$7,0))","v":{"$error":"#N/A"}},{"$f":"$R12*INDEX('Unit of measures'!$A$7:$R$24,MATCH(W$3,'Unit of measures'!$A$7:$A$24,0),MATCH($Q12,'Unit of measures'!$A$7:$R$7,0))","v":{"$error":"#N/A"}},"Each"]
["Fillets Salmon",2,"Pound (lbm)",30,15,null,null,{"$f":"$G13*INDEX('Unit of measures'!$A$7:$R$24,MATCH(H$3,'Unit of measures'!$A$7:$A$24,0),MATCH($F13,'Unit of measures'!$A$7:$R$7,0))","v":{"$error":"#N/A"}},{"$f":"$G13*INDEX('Unit of measures'!$A$7:$R$24,MATCH(I$3,'Unit of measures'!$A$7:$A$24,0),MATCH($F13,'Unit of measures'!$A$7:$R$7,0))","v":{"$error":"#N/A"}},{"$f":"$G13*INDEX('Unit of measures'!$A$7:$R$24,MATCH(J$3,'Unit of measures'!$A$7:$A$24,0),MATCH($F13,'Unit of measures'!$A$7:$R$7,0))","v":{"$error":"#N/A"}},{"$f":"$G13*INDEX('Unit of measures'!$A$7:$R$24,MATCH(K$3,'Unit of measures'!$A$7:$A$24,0),MATCH($F13,'Unit of measures'!$A$7:$R$7,0))","v":{"$error":"#N/A"}},{"$f":"$G13*INDEX('Unit of measures'!$A$7:$R$24,MATCH(L$3,'Unit of measures'!$A$7:$A$24,0),MATCH($F13,'Unit of measures'!$A$7:$R$7,0))","v":{"$error":"#N/A"}},{"$f":"$G13*INDEX('Unit of measures'!$A$7:$R$24,MATCH(M$3,'Unit of measures'!$A$7:$A$24,0),MATCH($F13,'Unit of measures'!$A$7:$R$7,0))","v":{"$error":"#N/A"}},{"$f":"$G13*INDEX('Unit of measures'!$A$7:$R$24,MATCH(N$3,'Unit of measures'!$A$7:$A$24,0),MATCH($F13,'Unit of measures'!$A$7:$R$7,0))","v":{"$error":"#N/A"}},{"$f":"$G13*INDEX('Unit of measures'!$A$7:$R$24,MATCH(O$3,'Unit of measures'!$A$7:$A$24,0),MATCH($F13,'Unit of measures'!$A$7:$R$7,0))","v":{"$error":"#N/A"}},{"$f":"$G13*INDEX('Unit of measures'!$A$7:$R$24,MATCH(P$3,'Unit of measures'!$A$7:$A$24,0),MATCH($F13,'Unit of measures'!$A$7:$R$7,0))","v":{"$error":"#N/A"}},null,null,{"$f":"$R13*INDEX('Unit of measures'!$A$7:$R$24,MATCH(S$3,'Unit of measures'!$A$7:$A$24,0),MATCH($Q13,'Unit of measures'!$A$7:$R$7,0))","v":{"$error":"#N/A"}},{"$f":"$R13*INDEX('Unit of measures'!$A$7:$R$24,MATCH(T$3,'Unit of measures'!$A$7:$A$24,0),MATCH($Q13,'Unit of measures'!$A$7:$R$7,0))","v":{"$error":"#N/A"}},{"$f":"$R13*INDEX('Unit of measures'!$A$7:$R$24,MATCH(U$3,'Unit of measures'!$A$7:$A$24,0),MATCH($Q13,'Unit of measures'!$A$7:$R$7,0))","v":{"$error":"#N/A"}},{"$f":"$R13*INDEX('Unit of measures'!$A$7:$R$24,MATCH(V$3,'Unit of measures'!$A$7:$A$24,0),MATCH($Q13,'Unit of measures'!$A$7:$R$7,0))","v":{"$error":"#N/A"}},{"$f":"$R13*INDEX('Unit of measures'!$A$7:$R$24,MATCH(W$3,'Unit of measures'!$A$7:$A$24,0),MATCH($Q13,'Unit of measures'!$A$7:$R$7,0))","v":{"$error":"#N/A"}},"Each"]
["Fresh Basil Leaves",1,"Kilogram (kg)",12,12,null,null,{"$f":"$G14*INDEX('Unit of measures'!$A$7:$R$24,MATCH(H$3,'Unit of measures'!$A$7:$A$24,0),MATCH($F14,'Unit of measures'!$A$7:$R$7,0))","v":{"$error":"#N/A"}},{"$f":"$G14*INDEX('Unit of measures'!$A$7:$R$24,MATCH(I$3,'Unit of measures'!$A$7:$A$24,0),MATCH($F14,'Unit of measures'!$A$7:$R$7,0))","v":{"$error":"#N/A"}},{"$f":"$G14*INDEX('Unit of measures'!$A$7:$R$24,MATCH(J$3,'Unit of measures'!$A$7:$A$24,0),MATCH($F14,'Unit of measures'!$A$7:$R$7,0))","v":{"$error":"#N/A"}},{"$f":"$G14*INDEX('Unit of measures'!$A$7:$R$24,MATCH(K$3,'Unit of measures'!$A$7:$A$24,0),MATCH($F14,'Unit of measures'!$A$7:$R$7,0))","v":{"$error":"#N/A"}},{"$f":"$G14*INDEX('Unit of measures'!$A$7:$R$24,MATCH(L$3,'Unit of measures'!$A$7:$A$24,0),MATCH($F14,'Unit of measures'!$A$7:$R$7,0))","v":{"$error":"#N/A"}},{"$f":"$G14*INDEX('Unit of measures'!$A$7:$R$24,MATCH(M$3,'Unit of measures'!$A$7:$A$24,0),MATCH($F14,'Unit of measures'!$A$7:$R$7,0))","v":{"$error":"#N/A"}},{"$f":"$G14*INDEX('Unit of measures'!$A$7:$R$24,MATCH(N$3,'Unit of measures'!$A$7:$A$24,0),MATCH($F14,'Unit of measures'!$A$7:$R$7,0))","v":{"$error":"#N/A"}},{"$f":"$G14*INDEX('Unit of measures'!$A$7:$R$24,MATCH(O$3,'Unit of measures'!$A$7:$A$24,0),MATCH($F14,'Unit of measures'!$A$7:$R$7,0))","v":{"$error":"#N/A"}},{"$f":"$G14*INDEX('Unit of measures'!$A$7:$R$24,MATCH(P$3,'Unit of measures'!$A$7:$A$24,0),MATCH($F14,'Unit of measures'!$A$7:$R$7,0))","v":{"$error":"#N/A"}},null,null,{"$f":"$R14*INDEX('Unit of measures'!$A$7:$R$24,MATCH(S$3,'Unit of measures'!$A$7:$A$24,0),MATCH($Q14,'Unit of measures'!$A$7:$R$7,0))","v":{"$error":"#N/A"}},{"$f":"$R14*INDEX('Unit of measures'!$A$7:$R$24,MATCH(T$3,'Unit of measures'!$A$7:$A$24,0),MATCH($Q14,'Unit of measures'!$A$7:$R$7,0))","v":{"$error":"#N/A"}},{"$f":"$R14*INDEX('Unit of measures'!$A$7:$R$24,MATCH(U$3,'Unit of measures'!$A$7:$A$24,0),MATCH($Q14,'Unit of measures'!$A$7:$R$7,0))","v":{"$error":"#N/A"}},{"$f":"$R14*INDEX('Unit of measures'!$A$7:$R$24,MATCH(V$3,'Unit of measures'!$A$7:$A$24,0),MATCH($Q14,'Unit of measures'!$A$7:$R$7,0))","v":{"$error":"#N/A"}},{"$f":"$R14*INDEX('Unit of measures'!$A$7:$R$24,MATCH(W$3,'Unit of measures'!$A$7:$A$24,0),MATCH($Q14,'Unit of measures'!$A$7:$R$7,0))","v":{"$error":"#N/A"}},"Each"]
["Fresh Mozzarella Cheese, Sliced",1,"Kilogram (kg)",8,8,null,null,{"$f":"$G15*INDEX('Unit of measures'!$A$7:$R$24,MATCH(H$3,'Unit of measures'!$A$7:$A$24,0),MATCH($F15,'Unit of measures'!$A$7:$R$7,0))","v":{"$error":"#N/A"}},{"$f":"$G15*INDEX('Unit of measures'!$A$7:$R$24,MATCH(I$3,'Unit of measures'!$A$7:$A$24,0),MATCH($F15,'Unit of measures'!$A$7:$R$7,0))","v":{"$error":"#N/A"}},{"$f":"$G15*INDEX('Unit of measures'!$A$7:$R$24,MATCH(J$3,'Unit of measures'!$A$7:$A$24,0),MATCH($F15,'Unit of measures'!$A$7:$R$7,0))","v":{"$error":"#N/A"}},{"$f":"$G15*INDEX('Unit of measures'!$A$7:$R$24,MATCH(K$3,'Unit of measures'!$A$7:$A$24,0),MATCH($F15,'Unit of measures'!$A$7:$R$7,0))","v":{"$error":"#N/A"}},{"$f":"$G15*INDEX('Unit of measures'!$A$7:$R$24,MATCH(L$3,'Unit of measures'!$A$7:$A$24,0),MATCH($F15,'Unit of measures'!$A$7:$R$7,0))","v":{"$error":"#N/A"}},{"$f":"$G15*INDEX('Unit of measures'!$A$7:$R$24,MATCH(M$3,'Unit of measures'!$A$7:$A$24,0),MATCH($F15,'Unit of measures'!$A$7:$R$7,0))","v":{"$error":"#N/A"}},{"$f":"$G15*INDEX('Unit of measures'!$A$7:$R$24,MATCH(N$3,'Unit of measures'!$A$7:$A$24,0),MATCH($F15,'Unit of measures'!$A$7:$R$7,0))","v":{"$error":"#N/A"}},{"$f":"$G15*INDEX('Unit of measures'!$A$7:$R$24,MATCH(O$3,'Unit of measures'!$A$7:$A$24,0),MATCH($F15,'Unit of measures'!$A$7:$R$7,0))","v":{"$error":"#N/A"}},{"$f":"$G15*INDEX('Unit of measures'!$A$7:$R$24,MATCH(P$3,'Unit of measures'!$A$7:$A$24,0),MATCH($F15,'Unit of measures'!$A$7:$R$7,0))","v":{"$error":"#N/A"}},null,null,{"$f":"$R15*INDEX('Unit of measures'!$A$7:$R$24,MATCH(S$3,'Unit of measures'!$A$7:$A$24,0),MATCH($Q15,'Unit of measures'!$A$7:$R$7,0))","v":{"$error":"#N/A"}},{"$f":"$R15*INDEX('Unit of measures'!$A$7:$R$24,MATCH(T$3,'Unit of measures'!$A$7:$A$24,0),MATCH($Q15,'Unit of measures'!$A$7:$R$7,0))","v":{"$error":"#N/A"}},{"$f":"$R15*INDEX('Unit of measures'!$A$7:$R$24,MATCH(U$3,'Unit of measures'!$A$7:$A$24,0),MATCH($Q15,'Unit of measures'!$A$7:$R$7,0))","v":{"$error":"#N/A"}},{"$f":"$R15*INDEX('Unit of measures'!$A$7:$R$24,MATCH(V$3,'Unit of measures'!$A$7:$A$24,0),MATCH($Q15,'Unit of measures'!$A$7:$R$7,0))","v":{"$error":"#N/A"}},{"$f":"$R15*INDEX('Unit of measures'!$A$7:$R$24,MATCH(W$3,'Unit of measures'!$A$7:$A$24,0),MATCH($Q15,'Unit of measures'!$A$7:$R$7,0))","v":{"$error":"#N/A"}},"Each"]
["Fresh parsley",100,"Gram (g)",1.5,1.4999999999999999E-2,null,null,{"$f":"$G16*INDEX('Unit of measures'!$A$7:$R$24,MATCH(H$3,'Unit of measures'!$A$7:$A$24,0),MATCH($F16,'Unit of measures'!$A$7:$R$7,0))","v":{"$error":"#N/A"}},{"$f":"$G16*INDEX('Unit of measures'!$A$7:$R$24,MATCH(I$3,'Unit of measures'!$A$7:$A$24,0),MATCH($F16,'Unit of measures'!$A$7:$R$7,0))","v":{"$error":"#N/A"}},{"$f":"$G16*INDEX('Unit of measures'!$A$7:$R$24,MATCH(J$3,'Unit of measures'!$A$7:$A$24,0),MATCH($F16,'Unit of measures'!$A$7:$R$7,0))","v":{"$error":"#N/A"}},{"$f":"$G16*INDEX('Unit of measures'!$A$7:$R$24,MATCH(K$3,'Unit of measures'!$A$7:$A$24,0),MATCH($F16,'Unit of measures'!$A$7:$R$7,0))","v":{"$error":"#N/A"}},{"$f":"$G16*INDEX('Unit of measures'!$A$7:$R$24,MATCH(L$3,'Unit of measures'!$A$7:$A$24,0),MATCH($F16,'Unit of measures'!$A$7:$R$7,0))","v":{"$error":"#N/A"}},{"$f":"$G16*INDEX('Unit of measures'!$A$7:$R$24,MATCH(M$3,'Unit of measures'!$A$7:$A$24,0),MATCH($F16,'Unit of measures'!$A$7:$R$7,0))","v":{"$error":"#N/A"}},{"$f":"$G16*INDEX('Unit of measures'!$A$7:$R$24,MATCH(N$3,'Unit of measures'!$A$7:$A$24,0),MATCH($F16,'Unit of measures'!$A$7:$R$7,0))","v":{"$error":"#N/A"}},{"$f":"$G16*INDEX('Unit of measures'!$A$7:$R$24,MATCH(O$3,'Unit of measures'!$A$7:$A$24,0),MATCH($F16,'Unit of measures'!$A$7:$R$7,0))","v":{"$error":"#N/A"}},{"$f":"$G16*INDEX('Unit of measures'!$A$7:$R$24,MATCH(P$3,'Unit of measures'!$A$7:$A$24,0),MATCH($F16,'Unit of measures'!$A$7:$R$7,0))","v":{"$error":"#N/A"}},null,null,{"$f":"$R16*INDEX('Unit of measures'!$A$7:$R$24,MATCH(S$3,'Unit of measures'!$A$7:$A$24,0),MATCH($Q16,'Unit of measures'!$A$7:$R$7,0))","v":{"$error":"#N/A"}},{"$f":"$R16*INDEX('Unit of measures'!$A$7:$R$24,MATCH(T$3,'Unit of measures'!$A$7:$A$24,0),MATCH($Q16,'Unit of measures'!$A$7:$R$7,0))","v":{"$error":"#N/A"}},{"$f":"$R16*INDEX('Unit of measures'!$A$7:$R$24,MATCH(U$3,'Unit of measures'!$A$7:$A$24,0),MATCH($Q16,'Unit of measures'!$A$7:$R$7,0))","v":{"$error":"#N/A"}},{"$f":"$R16*INDEX('Unit of measures'!$A$7:$R$24,MATCH(V$3,'Unit of measures'!$A$7:$A$24,0),MATCH($Q16,'Unit of measures'!$A$7:$R$7,0))","v":{"$error":"#N/A"}},{"$f":"$R16*INDEX('Unit of measures'!$A$7:$R$24,MATCH(W$3,'Unit of measures'!$A$7:$A$24,0),MATCH($Q16,'Unit of measures'!$A$7:$R$7,0))","v":{"$error":"#N/A"}},"Each"]
["Garam Masala",1,"Cup (cup)",12,12,null,null,{"$f":"$G17*INDEX('Unit of measures'!$A$7:$R$24,MATCH(H$3,'Unit of measures'!$A$7:$A$24,0),MATCH($F17,'Unit of measures'!$A$7:$R$7,0))","v":{"$error":"#N/A"}},{"$f":"$G17*INDEX('Unit of measures'!$A$7:$R$24,MATCH(I$3,'Unit of measures'!$A$7:$A$24,0),MATCH($F17,'Unit of measures'!$A$7:$R$7,0))","v":{"$error":"#N/A"}},{"$f":"$G17*INDEX('Unit of measures'!$A$7:$R$24,MATCH(J$3,'Unit of measures'!$A$7:$A$24,0),MATCH($F17,'Unit of measures'!$A$7:$R$7,0))","v":{"$error":"#N/A"}},{"$f":"$G17*INDEX('Unit of measures'!$A$7:$R$24,MATCH(K$3,'Unit of measures'!$A$7:$A$24,0),MATCH($F17,'Unit of measures'!$A$7:$R$7,0))","v":{"$error":"#N/A"}},{"$f":"$G17*INDEX('Unit of measures'!$A$7:$R$24,MATCH(L$3,'Unit of measures'!$A$7:$A$24,0),MATCH($F17,'Unit of measures'!$A$7:$R$7,0))","v":{"$error":"#N/A"}},{"$f":"$G17*INDEX('Unit of measures'!$A$7:$R$24,MATCH(M$3,'Unit of measures'!$A$7:$A$24,0),MATCH($F17,'Unit of measures'!$A$7:$R$7,0))","v":{"$error":"#N/A"}},{"$f":"$G17*INDEX('Unit of measures'!$A$7:$R$24,MATCH(N$3,'Unit of measures'!$A$7:$A$24,0),MATCH($F17,'Unit of measures'!$A$7:$R$7,0))","v":{"$error":"#N/A"}},{"$f":"$G17*INDEX('Unit of measures'!$A$7:$R$24,MATCH(O$3,'Unit of measures'!$A$7:$A$24,0),MATCH($F17,'Unit of measures'!$A$7:$R$7,0))","v":{"$error":"#N/A"}},{"$f":"$G17*INDEX('Unit of measures'!$A$7:$R$24,MATCH(P$3,'Unit of measures'!$A$7:$A$24,0),MATCH($F17,'Unit of measures'!$A$7:$R$7,0))","v":{"$error":"#N/A"}},null,null,{"$f":"$R17*INDEX('Unit of measures'!$A$7:$R$24,MATCH(S$3,'Unit of measures'!$A$7:$A$24,0),MATCH($Q17,'Unit of measures'!$A$7:$R$7,0))","v":{"$error":"#N/A"}},{"$f":"$R17*INDEX('Unit of measures'!$A$7:$R$24,MATCH(T$3,'Unit of measures'!$A$7:$A$24,0),MATCH($Q17,'Unit of measures'!$A$7:$R$7,0))","v":{"$error":"#N/A"}},{"$f":"$R17*INDEX('Unit of measures'!$A$7:$R$24,MATCH(U$3,'Unit of measures'!$A$7:$A$24,0),MATCH($Q17,'Unit of measures'!$A$7:$R$7,0))","v":{"$error":"#N/A"}},{"$f":"$R17*INDEX('Unit of measures'!$A$7:$R$24,MATCH(V$3,'Unit of measures'!$A$7:$A$24,0),MATCH($Q17,'Unit of measures'!$A$7:$R$7,0))","v":{"$error":"#N/A"}},{"$f":"$R17*INDEX('Unit of measures'!$A$7:$R$24,MATCH(W$3,'Unit of measures'!$A$7:$A$24,0),MATCH($Q17,'Unit of measures'!$A$7:$R$7,0))","v":{"$error":"#N/A"}},"Each"]
["Garlic",250,"Gram (g)",3,1.2E-2,"Tablespoon (tbs)",2,{"$f":"$G18*INDEX('Unit of measures'!$A$7:$R$24,MATCH(H$3,'Unit of measures'!$A$7:$A$24,0),MATCH($F18,'Unit of measures'!$A$7:$R$7,0))","v":6},{"$f":"$G18*INDEX('Unit of measures'!$A$7:$R$24,MATCH(I$3,'Unit of measures'!$A$7:$A$24,0),MATCH($F18,'Unit of measures'!$A$7:$R$7,0))","v":2},{"$f":"$G18*INDEX('Unit of measures'!$A$7:$R$24,MATCH(J$3,'Unit of measures'!$A$7:$A$24,0),MATCH($F18,'Unit of measures'!$A$7:$R$7,0))","v":0.125},{"$f":"$G18*INDEX('Unit of measures'!$A$7:$R$24,MATCH(K$3,'Unit of measures'!$A$7:$A$24,0),MATCH($F18,'Unit of measures'!$A$7:$R$7,0))","v":1},{"$f":"$G18*INDEX('Unit of measures'!$A$7:$R$24,MATCH(L$3,'Unit of measures'!$A$7:$A$24,0),MATCH($F18,'Unit of measures'!$A$7:$R$7,0))","v":29.573599999999999},{"$f":"$G18*INDEX('Unit of measures'!$A$7:$R$24,MATCH(M$3,'Unit of measures'!$A$7:$A$24,0),MATCH($F18,'Unit of measures'!$A$7:$R$7,0))","v":3.1199999999999999E-2},{"$f":"$G18*INDEX('Unit of measures'!$A$7:$R$24,MATCH(N$3,'Unit of measures'!$A$7:$A$24,0),MATCH($F18,'Unit of measures'!$A$7:$R$7,0))","v":6.2600000000000003E-2},{"$f":"$G18*INDEX('Unit of measures'!$A$7:$R$24,MATCH(O$3,'Unit of measures'!$A$7:$A$24,0),MATCH($F18,'Unit of measures'!$A$7:$R$7,0))","v":7.7999999999999996E-3},{"$f":"$G18*INDEX('Unit of measures'!$A$7:$R$24,MATCH(P$3,'Unit of measures'!$A$7:$A$24,0),MATCH($F18,'Unit of measures'!$A$7:$R$7,0))","v":2.9600000000000001E-2},"Milligram (mg)",15,{"$f":"$R18*INDEX('Unit of measures'!$A$7:$R$24,MATCH(S$3,'Unit of measures'!$A$7:$A$24,0),MATCH($Q18,'Unit of measures'!$A$7:$R$7,0))","v":15},{"$f":"$R18*INDEX('Unit of measures'!$A$7:$R$24,MATCH(T$3,'Unit of measures'!$A$7:$A$24,0),MATCH($Q18,'Unit of measures'!$A$7:$R$7,0))","v":1.4999999999999999E-2},{"$f":"$R18*INDEX('Unit of measures'!$A$7:$R$24,MATCH(U$3,'Unit of measures'!$A$7:$A$24,0),MATCH($Q18,'Unit of measures'!$A$7:$R$7,0))","v":0},{"$f":"$R18*INDEX('Unit of measures'!$A$7:$R$24,MATCH(V$3,'Unit of measures'!$A$7:$A$24,0),MATCH($Q18,'Unit of measures'!$A$7:$R$7,0))","v":0},{"$f":"$R18*INDEX('Unit of measures'!$A$7:$R$24,MATCH(W$3,'Unit of measures'!$A$7:$A$24,0),MATCH($Q18,'Unit of measures'!$A$7:$R$7,0))","v":0},"Each",1]
["Green Olives",1,"Kilogram (kg)",8,8,null,null,{"$f":"$G19*INDEX('Unit of measures'!$A$7:$R$24,MATCH(H$3,'Unit of measures'!$A$7:$A$24,0),MATCH($F19,'Unit of measures'!$A$7:$R$7,0))","v":{"$error":"#N/A"}},{"$f":"$G19*INDEX('Unit of measures'!$A$7:$R$24,MATCH(I$3,'Unit of measures'!$A$7:$A$24,0),MATCH($F19,'Unit of measures'!$A$7:$R$7,0))","v":{"$error":"#N/A"}},{"$f":"$G19*INDEX('Unit of measures'!$A$7:$R$24,MATCH(J$3,'Unit of measures'!$A$7:$A$24,0),MATCH($F19,'Unit of measures'!$A$7:$R$7,0))","v":{"$error":"#N/A"}},{"$f":"$G19*INDEX('Unit of measures'!$A$7:$R$24,MATCH(K$3,'Unit of measures'!$A$7:$A$24,0),MATCH($F19,'Unit of measures'!$A$7:$R$7,0))","v":{"$error":"#N/A"}},{"$f":"$G19*INDEX('Unit of measures'!$A$7:$R$24,MATCH(L$3,'Unit of measures'!$A$7:$A$24,0),MATCH($F19,'Unit of measures'!$A$7:$R$7,0))","v":{"$error":"#N/A"}},{"$f":"$G19*INDEX('Unit of measures'!$A$7:$R$24,MATCH(M$3,'Unit of measures'!$A$7:$A$24,0),MATCH($F19,'Unit of measures'!$A$7:$R$7,0))","v":{"$error":"#N/A"}},{"$f":"$G19*INDEX('Unit of measures'!$A$7:$R$24,MATCH(N$3,'Unit of measures'!$A$7:$A$24,0),MATCH($F19,'Unit of measures'!$A$7:$R$7,0))","v":{"$error":"#N/A"}},{"$f":"$G19*INDEX('Unit of measures'!$A$7:$R$24,MATCH(O$3,'Unit of measures'!$A$7:$A$24,0),MATCH($F19,'Unit of measures'!$A$7:$R$7,0))","v":{"$error":"#N/A"}},{"$f":"$G19*INDEX('Unit of measures'!$A$7:$R$24,MATCH(P$3,'Unit of measures'!$A$7:$A$24,0),MATCH($F19,'Unit of measures'!$A$7:$R$7,0))","v":{"$error":"#N/A"}},null,null,{"$f":"$R19*INDEX('Unit of measures'!$A$7:$R$24,MATCH(S$3,'Unit of measures'!$A$7:$A$24,0),MATCH($Q19,'Unit of measures'!$A$7:$R$7,0))","v":{"$error":"#N/A"}},{"$f":"$R19*INDEX('Unit of measures'!$A$7:$R$24,MATCH(T$3,'Unit of measures'!$A$7:$A$24,0),MATCH($Q19,'Unit of measures'!$A$7:$R$7,0))","v":{"$error":"#N/A"}},{"$f":"$R19*INDEX('Unit of measures'!$A$7:$R$24,MATCH(U$3,'Unit of measures'!$A$7:$A$24,0),MATCH($Q19,'Unit of measures'!$A$7:$R$7,0))","v":{"$error":"#N/A"}},{"$f":"$R19*INDEX('Unit of measures'!$A$7:$R$24,MATCH(V$3,'Unit of measures'!$A$7:$A$24,0),MATCH($Q19,'Unit of measures'!$A$7:$R$7,0))","v":{"$error":"#N/A"}},{"$f":"$R19*INDEX('Unit of measures'!$A$7:$R$24,MATCH(W$3,'Unit of measures'!$A$7:$A$24,0),MATCH($Q19,'Unit of measures'!$A$7:$R$7,0))","v":{"$error":"#N/A"}},"Each"]
["Ground Turmeric",1,"Cup (cup)",10,10,null,null,{"$f":"$G20*INDEX('Unit of measures'!$A$7:$R$24,MATCH(H$3,'Unit of measures'!$A$7:$A$24,0),MATCH($F20,'Unit of measures'!$A$7:$R$7,0))","v":{"$error":"#N/A"}},{"$f":"$G20*INDEX('Unit of measures'!$A$7:$R$24,MATCH(I$3,'Unit of measures'!$A$7:$A$24,0),MATCH($F20,'Unit of measures'!$A$7:$R$7,0))","v":{"$error":"#N/A"}},{"$f":"$G20*INDEX('Unit of measures'!$A$7:$R$24,MATCH(J$3,'Unit of measures'!$A$7:$A$24,0),MATCH($F20,'Unit of measures'!$A$7:$R$7,0))","v":{"$error":"#N/A"}},{"$f":"$G20*INDEX('Unit of measures'!$A$7:$R$24,MATCH(K$3,'Unit of measures'!$A$7:$A$24,0),MATCH($F20,'Unit of measures'!$A$7:$R$7,0))","v":{"$error":"#N/A"}},{"$f":"$G20*INDEX('Unit of measures'!$A$7:$R$24,MATCH(L$3,'Unit of measures'!$A$7:$A$24,0),MATCH($F20,'Unit of measures'!$A$7:$R$7,0))","v":{"$error":"#N/A"}},{"$f":"$G20*INDEX('Unit of measures'!$A$7:$R$24,MATCH(M$3,'Unit of measures'!$A$7:$A$24,0),MATCH($F20,'Unit of measures'!$A$7:$R$7,0))","v":{"$error":"#N/A"}},{"$f":"$G20*INDEX('Unit of measures'!$A$7:$R$24,MATCH(N$3,'Unit of measures'!$A$7:$A$24,0),MATCH($F20,'Unit of measures'!$A$7:$R$7,0))","v":{"$error":"#N/A"}},{"$f":"$G20*INDEX('Unit of measures'!$A$7:$R$24,MATCH(O$3,'Unit of measures'!$A$7:$A$24,0),MATCH($F20,'Unit of measures'!$A$7:$R$7,0))","v":{"$error":"#N/A"}},{"$f":"$G20*INDEX('Unit of measures'!$A$7:$R$24,MATCH(P$3,'Unit of measures'!$A$7:$A$24,0),MATCH($F20,'Unit of measures'!$A$7:$R$7,0))","v":{"$error":"#N/A"}},null,null,{"$f":"$R20*INDEX('Unit of measures'!$A$7:$R$24,MATCH(S$3,'Unit of measures'!$A$7:$A$24,0),MATCH($Q20,'Unit of measures'!$A$7:$R$7,0))","v":{"$error":"#N/A"}},{"$f":"$R20*INDEX('Unit of measures'!$A$7:$R$24,MATCH(T$3,'Unit of measures'!$A$7:$A$24,0),MATCH($Q20,'Unit of measures'!$A$7:$R$7,0))","v":{"$error":"#N/A"}},{"$f":"$R20*INDEX('Unit of measures'!$A$7:$R$24,MATCH(U$3,'Unit of measures'!$A$7:$A$24,0),MATCH($Q20,'Unit of measures'!$A$7:$R$7,0))","v":{"$error":"#N/A"}},{"$f":"$R20*INDEX('Unit of measures'!$A$7:$R$24,MATCH(V$3,'Unit of measures'!$A$7:$A$24,0),MATCH($Q20,'Unit of measures'!$A$7:$R$7,0))","v":{"$error":"#N/A"}},{"$f":"$R20*INDEX('Unit of measures'!$A$7:$R$24,MATCH(W$3,'Unit of measures'!$A$7:$A$24,0),MATCH($Q20,'Unit of measures'!$A$7:$R$7,0))","v":{"$error":"#N/A"}},"Each"]
["Large Onion",1,"Each",0.6,0.6,null,null,{"$f":"$G21*INDEX('Unit of measures'!$A$7:$R$24,MATCH(H$3,'Unit of measures'!$A$7:$A$24,0),MATCH($F21,'Unit of measures'!$A$7:$R$7,0))","v":{"$error":"#N/A"}},{"$f":"$G21*INDEX('Unit of measures'!$A$7:$R$24,MATCH(I$3,'Unit of measures'!$A$7:$A$24,0),MATCH($F21,'Unit of measures'!$A$7:$R$7,0))","v":{"$error":"#N/A"}},{"$f":"$G21*INDEX('Unit of measures'!$A$7:$R$24,MATCH(J$3,'Unit of measures'!$A$7:$A$24,0),MATCH($F21,'Unit of measures'!$A$7:$R$7,0))","v":{"$error":"#N/A"}},{"$f":"$G21*INDEX('Unit of measures'!$A$7:$R$24,MATCH(K$3,'Unit of measures'!$A$7:$A$24,0),MATCH($F21,'Unit of measures'!$A$7:$R$7,0))","v":{"$error":"#N/A"}},{"$f":"$G21*INDEX('Unit of measures'!$A$7:$R$24,MATCH(L$3,'Unit of measures'!$A$7:$A$24,0),MATCH($F21,'Unit of measures'!$A$7:$R$7,0))","v":{"$error":"#N/A"}},{"$f":"$G21*INDEX('Unit of measures'!$A$7:$R$24,MATCH(M$3,'Unit of measures'!$A$7:$A$24,0),MATCH($F21,'Unit of measures'!$A$7:$R$7,0))","v":{"$error":"#N/A"}},{"$f":"$G21*INDEX('Unit of measures'!$A$7:$R$24,MATCH(N$3,'Unit of measures'!$A$7:$A$24,0),MATCH($F21,'Unit of measures'!$A$7:$R$7,0))","v":{"$error":"#N/A"}},{"$f":"$G21*INDEX('Unit of measures'!$A$7:$R$24,MATCH(O$3,'Unit of measures'!$A$7:$A$24,0),MATCH($F21,'Unit of measures'!$A$7:$R$7,0))","v":{"$error":"#N/A"}},{"$f":"$G21*INDEX('Unit of measures'!$A$7:$R$24,MATCH(P$3,'Unit of measures'!$A$7:$A$24,0),MATCH($F21,'Unit of measures'!$A$7:$R$7,0))","v":{"$error":"#N/A"}},null,null,{"$f":"$R21*INDEX('Unit of measures'!$A$7:$R$24,MATCH(S$3,'Unit of measures'!$A$7:$A$24,0),MATCH($Q21,'Unit of measures'!$A$7:$R$7,0))","v":{"$error":"#N/A"}},{"$f":"$R21*INDEX('Unit of measures'!$A$7:$R$24,MATCH(T$3,'Unit of measures'!$A$7:$A$24,0),MATCH($Q21,'Unit of measures'!$A$7:$R$7,0))","v":{"$error":"#N/A"}},{"$f":"$R21*INDEX('Unit of measures'!$A$7:$R$24,MATCH(U$3,'Unit of measures'!$A$7:$A$24,0),MATCH($Q21,'Unit of measures'!$A$7:$R$7,0))","v":{"$error":"#N/A"}},{"$f":"$R21*INDEX('Unit of measures'!$A$7:$R$24,MATCH(V$3,'Unit of measures'!$A$7:$A$24,0),MATCH($Q21,'Unit of measures'!$A$7:$R$7,0))","v":{"$error":"#N/A"}},{"$f":"$R21*INDEX('Unit of measures'!$A$7:$R$24,MATCH(W$3,'Unit of measures'!$A$7:$A$24,0),MATCH($Q21,'Unit of measures'!$A$7:$R$7,0))","v":{"$error":"#N/A"}},"Each"]
["Lemon juice",500,"Milliliter (ml)",4,8.0000000000000002E-3,null,null,{"$f":"$G22*INDEX('Unit of measures'!$A$7:$R$24,MATCH(H$3,'Unit of measures'!$A$7:$A$24,0),MATCH($F22,'Unit of measures'!$A$7:$R$7,0))","v":{"$error":"#N/A"}},{"$f":"$G22*INDEX('Unit of measures'!$A$7:$R$24,MATCH(I$3,'Unit of measures'!$A$7:$A$24,0),MATCH($F22,'Unit of measures'!$A$7:$R$7,0))","v":{"$error":"#N/A"}},{"$f":"$G22*INDEX('Unit of measures'!$A$7:$R$24,MATCH(J$3,'Unit of measures'!$A$7:$A$24,0),MATCH($F22,'Unit of measures'!$A$7:$R$7,0))","v":{"$error":"#N/A"}},{"$f":"$G22*INDEX('Unit of measures'!$A$7:$R$24,MATCH(K$3,'Unit of measures'!$A$7:$A$24,0),MATCH($F22,'Unit of measures'!$A$7:$R$7,0))","v":{"$error":"#N/A"}},{"$f":"$G22*INDEX('Unit of measures'!$A$7:$R$24,MATCH(L$3,'Unit of measures'!$A$7:$A$24,0),MATCH($F22,'Unit of measures'!$A$7:$R$7,0))","v":{"$error":"#N/A"}},{"$f":"$G22*INDEX('Unit of measures'!$A$7:$R$24,MATCH(M$3,'Unit of measures'!$A$7:$A$24,0),MATCH($F22,'Unit of measures'!$A$7:$R$7,0))","v":{"$error":"#N/A"}},{"$f":"$G22*INDEX('Unit of measures'!$A$7:$R$24,MATCH(N$3,'Unit of measures'!$A$7:$A$24,0),MATCH($F22,'Unit of measures'!$A$7:$R$7,0))","v":{"$error":"#N/A"}},{"$f":"$G22*INDEX('Unit of measures'!$A$7:$R$24,MATCH(O$3,'Unit of measures'!$A$7:$A$24,0),MATCH($F22,'Unit of measures'!$A$7:$R$7,0))","v":{"$error":"#N/A"}},{"$f":"$G22*INDEX('Unit of measures'!$A$7:$R$24,MATCH(P$3,'Unit of measures'!$A$7:$A$24,0),MATCH($F22,'Unit of measures'!$A$7:$R$7,0))","v":{"$error":"#N/A"}},null,null,{"$f":"$R22*INDEX('Unit of measures'!$A$7:$R$24,MATCH(S$3,'Unit of measures'!$A$7:$A$24,0),MATCH($Q22,'Unit of measures'!$A$7:$R$7,0))","v":{"$error":"#N/A"}},{"$f":"$R22*INDEX('Unit of measures'!$A$7:$R$24,MATCH(T$3,'Unit of measures'!$A$7:$A$24,0),MATCH($Q22,'Unit of measures'!$A$7:$R$7,0))","v":{"$error":"#N/A"}},{"$f":"$R22*INDEX('Unit of measures'!$A$7:$R$24,MATCH(U$3,'Unit of measures'!$A$7:$A$24,0),MATCH($Q22,'Unit of measures'!$A$7:$R$7,0))","v":{"$error":"#N/A"}},{"$f":"$R22*INDEX('Unit of measures'!$A$7:$R$24,MATCH(V$3,'Unit of measures'!$A$7:$A$24,0),MATCH($Q22,'Unit of measures'!$A$7:$R$7,0))","v":{"$error":"#N/A"}},{"$f":"$R22*INDEX('Unit of measures'!$A$7:$R$24,MATCH(W$3,'Unit of measures'!$A$7:$A$24,0),MATCH($Q22,'Unit of measures'!$A$7:$R$7,0))","v":{"$error":"#N/A"}},"Each"]
["Medium Onions",1,"Each",1.5,1.5,null,null,{"$f":"$G23*INDEX('Unit of measures'!$A$7:$R$24,MATCH(H$3,'Unit of measures'!$A$7:$A$24,0),MATCH($F23,'Unit of measures'!$A$7:$R$7,0))","v":{"$error":"#N/A"}},{"$f":"$G23*INDEX('Unit of measures'!$A$7:$R$24,MATCH(I$3,'Unit of measures'!$A$7:$A$24,0),MATCH($F23,'Unit of measures'!$A$7:$R$7,0))","v":{"$error":"#N/A"}},{"$f":"$G23*INDEX('Unit of measures'!$A$7:$R$24,MATCH(J$3,'Unit of measures'!$A$7:$A$24,0),MATCH($F23,'Unit of measures'!$A$7:$R$7,0))","v":{"$error":"#N/A"}},{"$f":"$G23*INDEX('Unit of measures'!$A$7:$R$24,MATCH(K$3,'Unit of measures'!$A$7:$A$24,0),MATCH($F23,'Unit of measures'!$A$7:$R$7,0))","v":{"$error":"#N/A"}},{"$f":"$G23*INDEX('Unit of measures'!$A$7:$R$24,MATCH(L$3,'Unit of measures'!$A$7:$A$24,0),MATCH($F23,'Unit of measures'!$A$7:$R$7,0))","v":{"$error":"#N/A"}},{"$f":"$G23*INDEX('Unit of measures'!$A$7:$R$24,MATCH(M$3,'Unit of measures'!$A$7:$A$24,0),MATCH($F23,'Unit of measures'!$A$7:$R$7,0))","v":{"$error":"#N/A"}},{"$f":"$G23*INDEX('Unit of measures'!$A$7:$R$24,MATCH(N$3,'Unit of measures'!$A$7:$A$24,0),MATCH($F23,'Unit of measures'!$A$7:$R$7,0))","v":{"$error":"#N/A"}},{"$f":"$G23*INDEX('Unit of measures'!$A$7:$R$24,MATCH(O$3,'Unit of measures'!$A$7:$A$24,0),MATCH($F23,'Unit of measures'!$A$7:$R$7,0))","v":{"$error":"#N/A"}},{"$f":"$G23*INDEX('Unit of measures'!$A$7:$R$24,MATCH(P$3,'Unit of measures'!$A$7:$A$24,0),MATCH($F23,'Unit of measures'!$A$7:$R$7,0))","v":{"$error":"#N/A"}},null,null,{"$f":"$R23*INDEX('Unit of measures'!$A$7:$R$24,MATCH(S$3,'Unit of measures'!$A$7:$A$24,0),MATCH($Q23,'Unit of measures'!$A$7:$R$7,0))","v":{"$error":"#N/A"}},{"$f":"$R23*INDEX('Unit of measures'!$A$7:$R$24,MATCH(T$3,'Unit of measures'!$A$7:$A$24,0),MATCH($Q23,'Unit of measures'!$A$7:$R$7,0))","v":{"$error":"#N/A"}},{"$f":"$R23*INDEX('Unit of measures'!$A$7:$R$24,MATCH(U$3,'Unit of measures'!$A$7:$A$24,0),MATCH($Q23,'Unit of measures'!$A$7:$R$7,0))","v":{"$error":"#N/A"}},{"$f":"$R23*INDEX('Unit of measures'!$A$7:$R$24,MATCH(V$3,'Unit of measures'!$A$7:$A$24,0),MATCH($Q23,'Unit of measures'!$A$7:$R$7,0))","v":{"$error":"#N/A"}},{"$f":"$R23*INDEX('Unit of measures'!$A$7:$R$24,MATCH(W$3,'Unit of measures'!$A$7:$A$24,0),MATCH($Q23,'Unit of measures'!$A$7:$R$7,0))","v":{"$error":"#N/A"}},"Each"]
["Minced Fresh Ginger Root",1,"Each",1.5,1.5,null,null,{"$f":"$G24*INDEX('Unit of measures'!$A$7:$R$24,MATCH(H$3,'Unit of measures'!$A$7:$A$24,0),MATCH($F24,'Unit of measures'!$A$7:$R$7,0))","v":{"$error":"#N/A"}},{"$f":"$G24*INDEX('Unit of measures'!$A$7:$R$24,MATCH(I$3,'Unit of measures'!$A$7:$A$24,0),MATCH($F24,'Unit of measures'!$A$7:$R$7,0))","v":{"$error":"#N/A"}},{"$f":"$G24*INDEX('Unit of measures'!$A$7:$R$24,MATCH(J$3,'Unit of measures'!$A$7:$A$24,0),MATCH($F24,'Unit of measures'!$A$7:$R$7,0))","v":{"$error":"#N/A"}},{"$f":"$G24*INDEX('Unit of measures'!$A$7:$R$24,MATCH(K$3,'Unit of measures'!$A$7:$A$24,0),MATCH($F24,'Unit of measures'!$A$7:$R$7,0))","v":{"$error":"#N/A"}},{"$f":"$G24*INDEX('Unit of measures'!$A$7:$R$24,MATCH(L$3,'Unit of measures'!$A$7:$A$24,0),MATCH($F24,'Unit of measures'!$A$7:$R$7,0))","v":{"$error":"#N/A"}},{"$f":"$G24*INDEX('Unit of measures'!$A$7:$R$24,MATCH(M$3,'Unit of measures'!$A$7:$A$24,0),MATCH($F24,'Unit of measures'!$A$7:$R$7,0))","v":{"$error":"#N/A"}},{"$f":"$G24*INDEX('Unit of measures'!$A$7:$R$24,MATCH(N$3,'Unit of measures'!$A$7:$A$24,0),MATCH($F24,'Unit of measures'!$A$7:$R$7,0))","v":{"$error":"#N/A"}},{"$f":"$G24*INDEX('Unit of measures'!$A$7:$R$24,MATCH(O$3,'Unit of measures'!$A$7:$A$24,0),MATCH($F24,'Unit of measures'!$A$7:$R$7,0))","v":{"$error":"#N/A"}},{"$f":"$G24*INDEX('Unit of measures'!$A$7:$R$24,MATCH(P$3,'Unit of measures'!$A$7:$A$24,0),MATCH($F24,'Unit of measures'!$A$7:$R$7,0))","v":{"$error":"#N/A"}},null,null,{"$f":"$R24*INDEX('Unit of measures'!$A$7:$R$24,MATCH(S$3,'Unit of measures'!$A$7:$A$24,0),MATCH($Q24,'Unit of measures'!$A$7:$R$7,0))","v":{"$error":"#N/A"}},{"$f":"$R24*INDEX('Unit of measures'!$A$7:$R$24,MATCH(T$3,'Unit of measures'!$A$7:$A$24,0),MATCH($Q24,'Unit of measures'!$A$7:$R$7,0))","v":{"$error":"#N/A"}},{"$f":"$R24*INDEX('Unit of measures'!$A$7:$R$24,MATCH(U$3,'Unit of measures'!$A$7:$A$24,0),MATCH($Q24,'Unit of measures'!$A$7:$R$7,0))","v":{"$error":"#N/A"}},{"$f":"$R24*INDEX('Unit of measures'!$A$7:$R$24,MATCH(V$3,'Unit of measures'!$A$7:$A$24,0),MATCH($Q24,'Unit of measures'!$A$7:$R$7,0))","v":{"$error":"#N/A"}},{"$f":"$R24*INDEX('Unit of measures'!$A$7:$R$24,MATCH(W$3,'Unit of measures'!$A$7:$A$24,0),MATCH($Q24,'Unit of measures'!$A$7:$R$7,0))","v":{"$error":"#N/A"}},"Each"]
["Olive Oil",1,"Cup (cup)",2.5,2.5,"Liter (L)",1.25,{"$f":"$G25*INDEX('Unit of measures'!$A$7:$R$24,MATCH(H$3,'Unit of measures'!$A$7:$A$24,0),MATCH($F25,'Unit of measures'!$A$7:$R$7,0))","v":253.60512499999999},{"$f":"$G25*INDEX('Unit of measures'!$A$7:$R$24,MATCH(I$3,'Unit of measures'!$A$7:$A$24,0),MATCH($F25,'Unit of measures'!$A$7:$R$7,0))","v":84.534999999999997},{"$f":"$G25*INDEX('Unit of measures'!$A$7:$R$24,MATCH(J$3,'Unit of measures'!$A$7:$A$24,0),MATCH($F25,'Unit of measures'!$A$7:$R$7,0))","v":5.2835000000000001},{"$f":"$G25*INDEX('Unit of measures'!$A$7:$R$24,MATCH(K$3,'Unit of measures'!$A$7:$A$24,0),MATCH($F25,'Unit of measures'!$A$7:$R$7,0))","v":42.267499999999998},{"$f":"$G25*INDEX('Unit of measures'!$A$7:$R$24,MATCH(L$3,'Unit of measures'!$A$7:$A$24,0),MATCH($F25,'Unit of measures'!$A$7:$R$7,0))","v":1250},{"$f":"$G25*INDEX('Unit of measures'!$A$7:$R$24,MATCH(M$3,'Unit of measures'!$A$7:$A$24,0),MATCH($F25,'Unit of measures'!$A$7:$R$7,0))","v":1.320875},{"$f":"$G25*INDEX('Unit of measures'!$A$7:$R$24,MATCH(N$3,'Unit of measures'!$A$7:$A$24,0),MATCH($F25,'Unit of measures'!$A$7:$R$7,0))","v":2.64175},{"$f":"$G25*INDEX('Unit of measures'!$A$7:$R$24,MATCH(O$3,'Unit of measures'!$A$7:$A$24,0),MATCH($F25,'Unit of measures'!$A$7:$R$7,0))","v":0.33024999999999999},{"$f":"$G25*INDEX('Unit of measures'!$A$7:$R$24,MATCH(P$3,'Unit of measures'!$A$7:$A$24,0),MATCH($F25,'Unit of measures'!$A$7:$R$7,0))","v":1.25},"Kilogram (kg)",1.1000000000000001,{"$f":"$R25*INDEX('Unit of measures'!$A$7:$R$24,MATCH(S$3,'Unit of measures'!$A$7:$A$24,0),MATCH($Q25,'Unit of measures'!$A$7:$R$7,0))","v":1100000},{"$f":"$R25*INDEX('Unit of measures'!$A$7:$R$24,MATCH(T$3,'Unit of measures'!$A$7:$A$24,0),MATCH($Q25,'Unit of measures'!$A$7:$R$7,0))","v":1100},{"$f":"$R25*INDEX('Unit of measures'!$A$7:$R$24,MATCH(U$3,'Unit of measures'!$A$7:$A$24,0),MATCH($Q25,'Unit of measures'!$A$7:$R$7,0))","v":1.1000000000000001},{"$f":"$R25*INDEX('Unit of measures'!$A$7:$R$24,MATCH(V$3,'Unit of measures'!$A$7:$A$24,0),MATCH($Q25,'Unit of measures'!$A$7:$R$7,0))","v":38.801400000000001},{"$f":"$R25*INDEX('Unit of measures'!$A$7:$R$24,MATCH(W$3,'Unit of measures'!$A$7:$A$24,0),MATCH($Q25,'Unit of measures'!$A$7:$R$7,0))","v":2.4250600000000002},"Each",1]
["Olive oil",1,"Liter (L)",18,18,null,null,{"$f":"$G26*INDEX('Unit of measures'!$A$7:$R$24,MATCH(H$3,'Unit of measures'!$A$7:$A$24,0),MATCH($F26,'Unit of measures'!$A$7:$R$7,0))","v":{"$error":"#N/A"}},{"$f":"$G26*INDEX('Unit of measures'!$A$7:$R$24,MATCH(I$3,'Unit of measures'!$A$7:$A$24,0),MATCH($F26,'Unit of measures'!$A$7:$R$7,0))","v":{"$error":"#N/A"}},{"$f":"$G26*INDEX('Unit of measures'!$A$7:$R$24,MATCH(J$3,'Unit of measures'!$A$7:$A$24,0),MATCH($F26,'Unit of measures'!$A$7:$R$7,0))","v":{"$error":"#N/A"}},{"$f":"$G26*INDEX('Unit of measures'!$A$7:$R$24,MATCH(K$3,'Unit of measures'!$A$7:$A$24,0),MATCH($F26,'Unit of measures'!$A$7:$R$7,0))","v":{"$error":"#N/A"}},{"$f":"$G26*INDEX('Unit of measures'!$A$7:$R$24,MATCH(L$3,'Unit of measures'!$A$7:$A$24,0),MATCH($F26,'Unit of measures'!$A$7:$R$7,0))","v":{"$error":"#N/A"}},{"$f":"$G26*INDEX('Unit of measures'!$A$7:$R$24,MATCH(M$3,'Unit of measures'!$A$7:$A$24,0),MATCH($F26,'Unit of measures'!$A$7:$R$7,0))","v":{"$error":"#N/A"}},{"$f":"$G26*INDEX('Unit of measures'!$A$7:$R$24,MATCH(N$3,'Unit of measures'!$A$7:$A$24,0),MATCH($F26,'Unit of measures'!$A$7:$R$7,0))","v":{"$error":"#N/A"}},{"$f":"$G26*INDEX('Unit of measures'!$A$7:$R$24,MATCH(O$3,'Unit of measures'!$A$7:$A$24,0),MATCH($F26,'Unit of measures'!$A$7:$R$7,0))","v":{"$error":"#N/A"}},{"$f":"$G26*INDEX('Unit of measures'!$A$7:$R$24,MATCH(P$3,'Unit of measures'!$A$7:$A$24,0),MATCH($F26,'Unit of measures'!$A$7:$R$7,0))","v":{"$error":"#N/A"}},null,null,{"$f":"$R26*INDEX('Unit of measures'!$A$7:$R$24,MATCH(S$3,'Unit of measures'!$A$7:$A$24,0),MATCH($Q26,'Unit of measures'!$A$7:$R$7,0))","v":{"$error":"#N/A"}},{"$f":"$R26*INDEX('Unit of measures'!$A$7:$R$24,MATCH(T$3,'Unit of measures'!$A$7:$A$24,0),MATCH($Q26,'Unit of measures'!$A$7:$R$7,0))","v":{"$error":"#N/A"}},{"$f":"$R26*INDEX('Unit of measures'!$A$7:$R$24,MATCH(U$3,'Unit of measures'!$A$7:$A$24,0),MATCH($Q26,'Unit of measures'!$A$7:$R$7,0))","v":{"$error":"#N/A"}},{"$f":"$R26*INDEX('Unit of measures'!$A$7:$R$24,MATCH(V$3,'Unit of measures'!$A$7:$A$24,0),MATCH($Q26,'Unit of measures'!$A$7:$R$7,0))","v":{"$error":"#N/A"}},{"$f":"$R26*INDEX('Unit of measures'!$A$7:$R$24,MATCH(W$3,'Unit of measures'!$A$7:$A$24,0),MATCH($Q26,'Unit of measures'!$A$7:$R$7,0))","v":{"$error":"#N/A"}},"Each"]
["Paprika",100,"Gram (g)",3.5,3.5000000000000003E-2,null,null,{"$f":"$G27*INDEX('Unit of measures'!$A$7:$R$24,MATCH(H$3,'Unit of measures'!$A$7:$A$24,0),MATCH($F27,'Unit of measures'!$A$7:$R$7,0))","v":{"$error":"#N/A"}},{"$f":"$G27*INDEX('Unit of measures'!$A$7:$R$24,MATCH(I$3,'Unit of measures'!$A$7:$A$24,0),MATCH($F27,'Unit of measures'!$A$7:$R$7,0))","v":{"$error":"#N/A"}},{"$f":"$G27*INDEX('Unit of measures'!$A$7:$R$24,MATCH(J$3,'Unit of measures'!$A$7:$A$24,0),MATCH($F27,'Unit of measures'!$A$7:$R$7,0))","v":{"$error":"#N/A"}},{"$f":"$G27*INDEX('Unit of measures'!$A$7:$R$24,MATCH(K$3,'Unit of measures'!$A$7:$A$24,0),MATCH($F27,'Unit of measures'!$A$7:$R$7,0))","v":{"$error":"#N/A"}},{"$f":"$G27*INDEX('Unit of measures'!$A$7:$R$24,MATCH(L$3,'Unit of measures'!$A$7:$A$24,0),MATCH($F27,'Unit of measures'!$A$7:$R$7,0))","v":{"$error":"#N/A"}},{"$f":"$G27*INDEX('Unit of measures'!$A$7:$R$24,MATCH(M$3,'Unit of measures'!$A$7:$A$24,0),MATCH($F27,'Unit of measures'!$A$7:$R$7,0))","v":{"$error":"#N/A"}},{"$f":"$G27*INDEX('Unit of measures'!$A$7:$R$24,MATCH(N$3,'Unit of measures'!$A$7:$A$24,0),MATCH($F27,'Unit of measures'!$A$7:$R$7,0))","v":{"$error":"#N/A"}},{"$f":"$G27*INDEX('Unit of measures'!$A$7:$R$24,MATCH(O$3,'Unit of measures'!$A$7:$A$24,0),MATCH($F27,'Unit of measures'!$A$7:$R$7,0))","v":{"$error":"#N/A"}},{"$f":"$G27*INDEX('Unit of measures'!$A$7:$R$24,MATCH(P$3,'Unit of measures'!$A$7:$A$24,0),MATCH($F27,'Unit of measures'!$A$7:$R$7,0))","v":{"$error":"#N/A"}},null,null,{"$f":"$R27*INDEX('Unit of measures'!$A$7:$R$24,MATCH(S$3,'Unit of measures'!$A$7:$A$24,0),MATCH($Q27,'Unit of measures'!$A$7:$R$7,0))","v":{"$error":"#N/A"}},{"$f":"$R27*INDEX('Unit of measures'!$A$7:$R$24,MATCH(T$3,'Unit of measures'!$A$7:$A$24,0),MATCH($Q27,'Unit of measures'!$A$7:$R$7,0))","v":{"$error":"#N/A"}},{"$f":"$R27*INDEX('Unit of measures'!$A$7:$R$24,MATCH(U$3,'Unit of measures'!$A$7:$A$24,0),MATCH($Q27,'Unit of measures'!$A$7:$R$7,0))","v":{"$error":"#N/A"}},{"$f":"$R27*INDEX('Unit of measures'!$A$7:$R$24,MATCH(V$3,'Unit of measures'!$A$7:$A$24,0),MATCH($Q27,'Unit of measures'!$A$7:$R$7,0))","v":{"$error":"#N/A"}},{"$f":"$R27*INDEX('Unit of measures'!$A$7:$R$24,MATCH(W$3,'Unit of measures'!$A$7:$A$24,0),MATCH($Q27,'Unit of measures'!$A$7:$R$7,0))","v":{"$error":"#N/A"}},"Each"]
["Salt",100,"Gram (g)",0.5,5.0000000000000001E-3,null,null,{"$f":"$G28*INDEX('Unit of measures'!$A$7:$R$24,MATCH(H$3,'Unit of measures'!$A$7:$A$24,0),MATCH($F28,'Unit of measures'!$A$7:$R$7,0))","v":{"$error":"#N/A"}},{"$f":"$G28*INDEX('Unit of measures'!$A$7:$R$24,MATCH(I$3,'Unit of measures'!$A$7:$A$24,0),MATCH($F28,'Unit of measures'!$A$7:$R$7,0))","v":{"$error":"#N/A"}},{"$f":"$G28*INDEX('Unit of measures'!$A$7:$R$24,MATCH(J$3,'Unit of measures'!$A$7:$A$24,0),MATCH($F28,'Unit of measures'!$A$7:$R$7,0))","v":{"$error":"#N/A"}},{"$f":"$G28*INDEX('Unit of measures'!$A$7:$R$24,MATCH(K$3,'Unit of measures'!$A$7:$A$24,0),MATCH($F28,'Unit of measures'!$A$7:$R$7,0))","v":{"$error":"#N/A"}},{"$f":"$G28*INDEX('Unit of measures'!$A$7:$R$24,MATCH(L$3,'Unit of measures'!$A$7:$A$24,0),MATCH($F28,'Unit of measures'!$A$7:$R$7,0))","v":{"$error":"#N/A"}},{"$f":"$G28*INDEX('Unit of measures'!$A$7:$R$24,MATCH(M$3,'Unit of measures'!$A$7:$A$24,0),MATCH($F28,'Unit of measures'!$A$7:$R$7,0))","v":{"$error":"#N/A"}},{"$f":"$G28*INDEX('Unit of measures'!$A$7:$R$24,MATCH(N$3,'Unit of measures'!$A$7:$A$24,0),MATCH($F28,'Unit of measures'!$A$7:$R$7,0))","v":{"$error":"#N/A"}},{"$f":"$G28*INDEX('Unit of measures'!$A$7:$R$24,MATCH(O$3,'Unit of measures'!$A$7:$A$24,0),MATCH($F28,'Unit of measures'!$A$7:$R$7,0))","v":{"$error":"#N/A"}},{"$f":"$G28*INDEX('Unit of measures'!$A$7:$R$24,MATCH(P$3,'Unit of measures'!$A$7:$A$24,0),MATCH($F28,'Unit of measures'!$A$7:$R$7,0))","v":{"$error":"#N/A"}},null,null,{"$f":"$R28*INDEX('Unit of measures'!$A$7:$R$24,MATCH(S$3,'Unit of measures'!$A$7:$A$24,0),MATCH($Q28,'Unit of measures'!$A$7:$R$7,0))","v":{"$error":"#N/A"}},{"$f":"$R28*INDEX('Unit of measures'!$A$7:$R$24,MATCH(T$3,'Unit of measures'!$A$7:$A$24,0),MATCH($Q28,'Unit of measures'!$A$7:$R$7,0))","v":{"$error":"#N/A"}},{"$f":"$R28*INDEX('Unit of measures'!$A$7:$R$24,MATCH(U$3,'Unit of measures'!$A$7:$A$24,0),MATCH($Q28,'Unit of measures'!$A$7:$R$7,0))","v":{"$error":"#N/A"}},{"$f":"$R28*INDEX('Unit of measures'!$A$7:$R$24,MATCH(V$3,'Unit of measures'!$A$7:$A$24,0),MATCH($Q28,'Unit of measures'!$A$7:$R$7,0))","v":{"$error":"#N/A"}},{"$f":"$R28*INDEX('Unit of measures'!$A$7:$R$24,MATCH(W$3,'Unit of measures'!$A$7:$A$24,0),MATCH($Q28,'Unit of measures'!$A$7:$R$7,0))","v":{"$error":"#N/A"}},"Each"]
["Salt",1,"Kilogram (kg)",1,1,null,null,{"$f":"$G29*INDEX('Unit of measures'!$A$7:$R$24,MATCH(H$3,'Unit of measures'!$A$7:$A$24,0),MATCH($F29,'Unit of measures'!$A$7:$R$7,0))","v":{"$error":"#N/A"}},{"$f":"$G29*INDEX('Unit of measures'!$A$7:$R$24,MATCH(I$3,'Unit of measures'!$A$7:$A$24,0),MATCH($F29,'Unit of measures'!$A$7:$R$7,0))","v":{"$error":"#N/A"}},{"$f":"$G29*INDEX('Unit of measures'!$A$7:$R$24,MATCH(J$3,'Unit of measures'!$A$7:$A$24,0),MATCH($F29,'Unit of measures'!$A$7:$R$7,0))","v":{"$error":"#N/A"}},{"$f":"$G29*INDEX('Unit of measures'!$A$7:$R$24,MATCH(K$3,'Unit of measures'!$A$7:$A$24,0),MATCH($F29,'Unit of measures'!$A$7:$R$7,0))","v":{"$error":"#N/A"}},{"$f":"$G29*INDEX('Unit of measures'!$A$7:$R$24,MATCH(L$3,'Unit of measures'!$A$7:$A$24,0),MATCH($F29,'Unit of measures'!$A$7:$R$7,0))","v":{"$error":"#N/A"}},{"$f":"$G29*INDEX('Unit of measures'!$A$7:$R$24,MATCH(M$3,'Unit of measures'!$A$7:$A$24,0),MATCH($F29,'Unit of measures'!$A$7:$R$7,0))","v":{"$error":"#N/A"}},{"$f":"$G29*INDEX('Unit of measures'!$A$7:$R$24,MATCH(N$3,'Unit of measures'!$A$7:$A$24,0),MATCH($F29,'Unit of measures'!$A$7:$R$7,0))","v":{"$error":"#N/A"}},{"$f":"$G29*INDEX('Unit of measures'!$A$7:$R$24,MATCH(O$3,'Unit of measures'!$A$7:$A$24,0),MATCH($F29,'Unit of measures'!$A$7:$R$7,0))","v":{"$error":"#N/A"}},{"$f":"$G29*INDEX('Unit of measures'!$A$7:$R$24,MATCH(P$3,'Unit of measures'!$A$7:$A$24,0),MATCH($F29,'Unit of measures'!$A$7:$R$7,0))","v":{"$error":"#N/A"}},null,null,{"$f":"$R29*INDEX('Unit of measures'!$A$7:$R$24,MATCH(S$3,'Unit of measures'!$A$7:$A$24,0),MATCH($Q29,'Unit of measures'!$A$7:$R$7,0))","v":{"$error":"#N/A"}},{"$f":"$R29*INDEX('Unit of measures'!$A$7:$R$24,MATCH(T$3,'Unit of measures'!$A$7:$A$24,0),MATCH($Q29,'Unit of measures'!$A$7:$R$7,0))","v":{"$error":"#N/A"}},{"$f":"$R29*INDEX('Unit of measures'!$A$7:$R$24,MATCH(U$3,'Unit of measures'!$A$7:$A$24,0),MATCH($Q29,'Unit of measures'!$A$7:$R$7,0))","v":{"$error":"#N/A"}},{"$f":"$R29*INDEX('Unit of measures'!$A$7:$R$24,MATCH(V$3,'Unit of measures'!$A$7:$A$24,0),MATCH($Q29,'Unit of measures'!$A$7:$R$7,0))","v":{"$error":"#N/A"}},{"$f":"$R29*INDEX('Unit of measures'!$A$7:$R$24,MATCH(W$3,'Unit of measures'!$A$7:$A$24,0),MATCH($Q29,'Unit of measures'!$A$7:$R$7,0))","v":{"$error":"#N/A"}},"Each"]
["Stalks Celery",1,"Each",0.4,0.4,null,null,{"$f":"$G30*INDEX('Unit of measures'!$A$7:$R$24,MATCH(H$3,'Unit of measures'!$A$7:$A$24,0),MATCH($F30,'Unit of measures'!$A$7:$R$7,0))","v":{"$error":"#N/A"}},{"$f":"$G30*INDEX('Unit of measures'!$A$7:$R$24,MATCH(I$3,'Unit of measures'!$A$7:$A$24,0),MATCH($F30,'Unit of measures'!$A$7:$R$7,0))","v":{"$error":"#N/A"}},{"$f":"$G30*INDEX('Unit of measures'!$A$7:$R$24,MATCH(J$3,'Unit of measures'!$A$7:$A$24,0),MATCH($F30,'Unit of measures'!$A$7:$R$7,0))","v":{"$error":"#N/A"}},{"$f":"$G30*INDEX('Unit of measures'!$A$7:$R$24,MATCH(K$3,'Unit of measures'!$A$7:$A$24,0),MATCH($F30,'Unit of measures'!$A$7:$R$7,0))","v":{"$error":"#N/A"}},{"$f":"$G30*INDEX('Unit of measures'!$A$7:$R$24,MATCH(L$3,'Unit of measures'!$A$7:$A$24,0),MATCH($F30,'Unit of measures'!$A$7:$R$7,0))","v":{"$error":"#N/A"}},{"$f":"$G30*INDEX('Unit of measures'!$A$7:$R$24,MATCH(M$3,'Unit of measures'!$A$7:$A$24,0),MATCH($F30,'Unit of measures'!$A$7:$R$7,0))","v":{"$error":"#N/A"}},{"$f":"$G30*INDEX('Unit of measures'!$A$7:$R$24,MATCH(N$3,'Unit of measures'!$A$7:$A$24,0),MATCH($F30,'Unit of measures'!$A$7:$R$7,0))","v":{"$error":"#N/A"}},{"$f":"$G30*INDEX('Unit of measures'!$A$7:$R$24,MATCH(O$3,'Unit of measures'!$A$7:$A$24,0),MATCH($F30,'Unit of measures'!$A$7:$R$7,0))","v":{"$error":"#N/A"}},{"$f":"$G30*INDEX('Unit of measures'!$A$7:$R$24,MATCH(P$3,'Unit of measures'!$A$7:$A$24,0),MATCH($F30,'Unit of measures'!$A$7:$R$7,0))","v":{"$error":"#N/A"}},null,null,{"$f":"$R30*INDEX('Unit of measures'!$A$7:$R$24,MATCH(S$3,'Unit of measures'!$A$7:$A$24,0),MATCH($Q30,'Unit of measures'!$A$7:$R$7,0))","v":{"$error":"#N/A"}},{"$f":"$R30*INDEX('Unit of measures'!$A$7:$R$24,MATCH(T$3,'Unit of measures'!$A$7:$A$24,0),MATCH($Q30,'Unit of measures'!$A$7:$R$7,0))","v":{"$error":"#N/A"}},{"$f":"$R30*INDEX('Unit of measures'!$A$7:$R$24,MATCH(U$3,'Unit of measures'!$A$7:$A$24,0),MATCH($Q30,'Unit of measures'!$A$7:$R$7,0))","v":{"$error":"#N/A"}},{"$f":"$R30*INDEX('Unit of measures'!$A$7:$R$24,MATCH(V$3,'Unit of measures'!$A$7:$A$24,0),MATCH($Q30,'Unit of measures'!$A$7:$R$7,0))","v":{"$error":"#N/A"}},{"$f":"$R30*INDEX('Unit of measures'!$A$7:$R$24,MATCH(W$3,'Unit of measures'!$A$7:$A$24,0),MATCH($Q30,'Unit of measures'!$A$7:$R$7,0))","v":{"$error":"#N/A"}},"Each"]
["Steak",1000,"Gram (g)",15,1.4999999999999999E-2,null,null,{"$f":"$G31*INDEX('Unit of measures'!$A$7:$R$24,MATCH(H$3,'Unit of measures'!$A$7:$A$24,0),MATCH($F31,'Unit of measures'!$A$7:$R$7,0))","v":{"$error":"#N/A"}},{"$f":"$G31*INDEX('Unit of measures'!$A$7:$R$24,MATCH(I$3,'Unit of measures'!$A$7:$A$24,0),MATCH($F31,'Unit of measures'!$A$7:$R$7,0))","v":{"$error":"#N/A"}},{"$f":"$G31*INDEX('Unit of measures'!$A$7:$R$24,MATCH(J$3,'Unit of measures'!$A$7:$A$24,0),MATCH($F31,'Unit of measures'!$A$7:$R$7,0))","v":{"$error":"#N/A"}},{"$f":"$G31*INDEX('Unit of measures'!$A$7:$R$24,MATCH(K$3,'Unit of measures'!$A$7:$A$24,0),MATCH($F31,'Unit of measures'!$A$7:$R$7,0))","v":{"$error":"#N/A"}},{"$f":"$G31*INDEX('Unit of measures'!$A$7:$R$24,MATCH(L$3,'Unit of measures'!$A$7:$A$24,0),MATCH($F31,'Unit of measures'!$A$7:$R$7,0))","v":{"$error":"#N/A"}},{"$f":"$G31*INDEX('Unit of measures'!$A$7:$R$24,MATCH(M$3,'Unit of measures'!$A$7:$A$24,0),MATCH($F31,'Unit of measures'!$A$7:$R$7,0))","v":{"$error":"#N/A"}},{"$f":"$G31*INDEX('Unit of measures'!$A$7:$R$24,MATCH(N$3,'Unit of measures'!$A$7:$A$24,0),MATCH($F31,'Unit of measures'!$A$7:$R$7,0))","v":{"$error":"#N/A"}},{"$f":"$G31*INDEX('Unit of measures'!$A$7:$R$24,MATCH(O$3,'Unit of measures'!$A$7:$A$24,0),MATCH($F31,'Unit of measures'!$A$7:$R$7,0))","v":{"$error":"#N/A"}},{"$f":"$G31*INDEX('Unit of measures'!$A$7:$R$24,MATCH(P$3,'Unit of measures'!$A$7:$A$24,0),MATCH($F31,'Unit of measures'!$A$7:$R$7,0))","v":{"$error":"#N/A"}},null,null,{"$f":"$R31*INDEX('Unit of measures'!$A$7:$R$24,MATCH(S$3,'Unit of measures'!$A$7:$A$24,0),MATCH($Q31,'Unit of measures'!$A$7:$R$7,0))","v":{"$error":"#N/A"}},{"$f":"$R31*INDEX('Unit of measures'!$A$7:$R$24,MATCH(T$3,'Unit of measures'!$A$7:$A$24,0),MATCH($Q31,'Unit of measures'!$A$7:$R$7,0))","v":{"$error":"#N/A"}},{"$f":"$R31*INDEX('Unit of measures'!$A$7:$R$24,MATCH(U$3,'Unit of measures'!$A$7:$A$24,0),MATCH($Q31,'Unit of measures'!$A$7:$R$7,0))","v":{"$error":"#N/A"}},{"$f":"$R31*INDEX('Unit of measures'!$A$7:$R$24,MATCH(V$3,'Unit of measures'!$A$7:$A$24,0),MATCH($Q31,'Unit of measures'!$A$7:$R$7,0))","v":{"$error":"#N/A"}},{"$f":"$R31*INDEX('Unit of measures'!$A$7:$R$24,MATCH(W$3,'Unit of measures'!$A$7:$A$24,0),MATCH($Q31,'Unit of measures'!$A$7:$R$7,0))","v":{"$error":"#N/A"}},"Each"]
["Sugar",1,"Kilogram (kg)",0.8,0.8,null,null,{"$f":"$G32*INDEX('Unit of measures'!$A$7:$R$24,MATCH(H$3,'Unit of measures'!$A$7:$A$24,0),MATCH($F32,'Unit of measures'!$A$7:$R$7,0))","v":{"$error":"#N/A"}},{"$f":"$G32*INDEX('Unit of measures'!$A$7:$R$24,MATCH(I$3,'Unit of measures'!$A$7:$A$24,0),MATCH($F32,'Unit of measures'!$A$7:$R$7,0))","v":{"$error":"#N/A"}},{"$f":"$G32*INDEX('Unit of measures'!$A$7:$R$24,MATCH(J$3,'Unit of measures'!$A$7:$A$24,0),MATCH($F32,'Unit of measures'!$A$7:$R$7,0))","v":{"$error":"#N/A"}},{"$f":"$G32*INDEX('Unit of measures'!$A$7:$R$24,MATCH(K$3,'Unit of measures'!$A$7:$A$24,0),MATCH($F32,'Unit of measures'!$A$7:$R$7,0))","v":{"$error":"#N/A"}},{"$f":"$G32*INDEX('Unit of measures'!$A$7:$R$24,MATCH(L$3,'Unit of measures'!$A$7:$A$24,0),MATCH($F32,'Unit of measures'!$A$7:$R$7,0))","v":{"$error":"#N/A"}},{"$f":"$G32*INDEX('Unit of measures'!$A$7:$R$24,MATCH(M$3,'Unit of measures'!$A$7:$A$24,0),MATCH($F32,'Unit of measures'!$A$7:$R$7,0))","v":{"$error":"#N/A"}},{"$f":"$G32*INDEX('Unit of measures'!$A$7:$R$24,MATCH(N$3,'Unit of measures'!$A$7:$A$24,0),MATCH($F32,'Unit of measures'!$A$7:$R$7,0))","v":{"$error":"#N/A"}},{"$f":"$G32*INDEX('Unit of measures'!$A$7:$R$24,MATCH(O$3,'Unit of measures'!$A$7:$A$24,0),MATCH($F32,'Unit of measures'!$A$7:$R$7,0))","v":{"$error":"#N/A"}},{"$f":"$G32*INDEX('Unit of measures'!$A$7:$R$24,MATCH(P$3,'Unit of measures'!$A$7:$A$24,0),MATCH($F32,'Unit of measures'!$A$7:$R$7,0))","v":{"$error":"#N/A"}},null,null,{"$f":"$R32*INDEX('Unit of measures'!$A$7:$R$24,MATCH(S$3,'Unit of measures'!$A$7:$A$24,0),MATCH($Q32,'Unit of measures'!$A$7:$R$7,0))","v":{"$error":"#N/A"}},{"$f":"$R32*INDEX('Unit of measures'!$A$7:$R$24,MATCH(T$3,'Unit of measures'!$A$7:$A$24,0),MATCH($Q32,'Unit of measures'!$A$7:$R$7,0))","v":{"$error":"#N/A"}},{"$f":"$R32*INDEX('Unit of measures'!$A$7:$R$24,MATCH(U$3,'Unit of measures'!$A$7:$A$24,0),MATCH($Q32,'Unit of measures'!$A$7:$R$7,0))","v":{"$error":"#N/A"}},{"$f":"$R32*INDEX('Unit of measures'!$A$7:$R$24,MATCH(V$3,'Unit of measures'!$A$7:$A$24,0),MATCH($Q32,'Unit of measures'!$A$7:$R$7,0))","v":{"$error":"#N/A"}},{"$f":"$R32*INDEX('Unit of measures'!$A$7:$R$24,MATCH(W$3,'Unit of measures'!$A$7:$A$24,0),MATCH($Q32,'Unit of measures'!$A$7:$R$7,0))","v":{"$error":"#N/A"}},"Each"]
["Tomato Sauce",1,"Liter (L)",5,5,null,null,{"$f":"$G33*INDEX('Unit of measures'!$A$7:$R$24,MATCH(H$3,'Unit of measures'!$A$7:$A$24,0),MATCH($F33,'Unit of measures'!$A$7:$R$7,0))","v":{"$error":"#N/A"}},{"$f":"$G33*INDEX('Unit of measures'!$A$7:$R$24,MATCH(I$3,'Unit of measures'!$A$7:$A$24,0),MATCH($F33,'Unit of measures'!$A$7:$R$7,0))","v":{"$error":"#N/A"}},{"$f":"$G33*INDEX('Unit of measures'!$A$7:$R$24,MATCH(J$3,'Unit of measures'!$A$7:$A$24,0),MATCH($F33,'Unit of measures'!$A$7:$R$7,0))","v":{"$error":"#N/A"}},{"$f":"$G33*INDEX('Unit of measures'!$A$7:$R$24,MATCH(K$3,'Unit of measures'!$A$7:$A$24,0),MATCH($F33,'Unit of measures'!$A$7:$R$7,0))","v":{"$error":"#N/A"}},{"$f":"$G33*INDEX('Unit of measures'!$A$7:$R$24,MATCH(L$3,'Unit of measures'!$A$7:$A$24,0),MATCH($F33,'Unit of measures'!$A$7:$R$7,0))","v":{"$error":"#N/A"}},{"$f":"$G33*INDEX('Unit of measures'!$A$7:$R$24,MATCH(M$3,'Unit of measures'!$A$7:$A$24,0),MATCH($F33,'Unit of measures'!$A$7:$R$7,0))","v":{"$error":"#N/A"}},{"$f":"$G33*INDEX('Unit of measures'!$A$7:$R$24,MATCH(N$3,'Unit of measures'!$A$7:$A$24,0),MATCH($F33,'Unit of measures'!$A$7:$R$7,0))","v":{"$error":"#N/A"}},{"$f":"$G33*INDEX('Unit of measures'!$A$7:$R$24,MATCH(O$3,'Unit of measures'!$A$7:$A$24,0),MATCH($F33,'Unit of measures'!$A$7:$R$7,0))","v":{"$error":"#N/A"}},{"$f":"$G33*INDEX('Unit of measures'!$A$7:$R$24,MATCH(P$3,'Unit of measures'!$A$7:$A$24,0),MATCH($F33,'Unit of measures'!$A$7:$R$7,0))","v":{"$error":"#N/A"}},null,null,{"$f":"$R33*INDEX('Unit of measures'!$A$7:$R$24,MATCH(S$3,'Unit of measures'!$A$7:$A$24,0),MATCH($Q33,'Unit of measures'!$A$7:$R$7,0))","v":{"$error":"#N/A"}},{"$f":"$R33*INDEX('Unit of measures'!$A$7:$R$24,MATCH(T$3,'Unit of measures'!$A$7:$A$24,0),MATCH($Q33,'Unit of measures'!$A$7:$R$7,0))","v":{"$error":"#N/A"}},{"$f":"$R33*INDEX('Unit of measures'!$A$7:$R$24,MATCH(U$3,'Unit of measures'!$A$7:$A$24,0),MATCH($Q33,'Unit of measures'!$A$7:$R$7,0))","v":{"$error":"#N/A"}},{"$f":"$R33*INDEX('Unit of measures'!$A$7:$R$24,MATCH(V$3,'Unit of measures'!$A$7:$A$24,0),MATCH($Q33,'Unit of measures'!$A$7:$R$7,0))","v":{"$error":"#N/A"}},{"$f":"$R33*INDEX('Unit of measures'!$A$7:$R$24,MATCH(W$3,'Unit of measures'!$A$7:$A$24,0),MATCH($Q33,'Unit of measures'!$A$7:$R$7,0))","v":{"$error":"#N/A"}},"Each"]
["Tomatoes",1,"Each",1,1,null,null,{"$f":"$G34*INDEX('Unit of measures'!$A$7:$R$24,MATCH(H$3,'Unit of measures'!$A$7:$A$24,0),MATCH($F34,'Unit of measures'!$A$7:$R$7,0))","v":{"$error":"#N/A"}},{"$f":"$G34*INDEX('Unit of measures'!$A$7:$R$24,MATCH(I$3,'Unit of measures'!$A$7:$A$24,0),MATCH($F34,'Unit of measures'!$A$7:$R$7,0))","v":{"$error":"#N/A"}},{"$f":"$G34*INDEX('Unit of measures'!$A$7:$R$24,MATCH(J$3,'Unit of measures'!$A$7:$A$24,0),MATCH($F34,'Unit of measures'!$A$7:$R$7,0))","v":{"$error":"#N/A"}},{"$f":"$G34*INDEX('Unit of measures'!$A$7:$R$24,MATCH(K$3,'Unit of measures'!$A$7:$A$24,0),MATCH($F34,'Unit of measures'!$A$7:$R$7,0))","v":{"$error":"#N/A"}},{"$f":"$G34*INDEX('Unit of measures'!$A$7:$R$24,MATCH(L$3,'Unit of measures'!$A$7:$A$24,0),MATCH($F34,'Unit of measures'!$A$7:$R$7,0))","v":{"$error":"#N/A"}},{"$f":"$G34*INDEX('Unit of measures'!$A$7:$R$24,MATCH(M$3,'Unit of measures'!$A$7:$A$24,0),MATCH($F34,'Unit of measures'!$A$7:$R$7,0))","v":{"$error":"#N/A"}},{"$f":"$G34*INDEX('Unit of measures'!$A$7:$R$24,MATCH(N$3,'Unit of measures'!$A$7:$A$24,0),MATCH($F34,'Unit of measures'!$A$7:$R$7,0))","v":{"$error":"#N/A"}},{"$f":"$G34*INDEX('Unit of measures'!$A$7:$R$24,MATCH(O$3,'Unit of measures'!$A$7:$A$24,0),MATCH($F34,'Unit of measures'!$A$7:$R$7,0))","v":{"$error":"#N/A"}},{"$f":"$G34*INDEX('Unit of measures'!$A$7:$R$24,MATCH(P$3,'Unit of measures'!$A$7:$A$24,0),MATCH($F34,'Unit of measures'!$A$7:$R$7,0))","v":{"$error":"#N/A"}},null,null,{"$f":"$R34*INDEX('Unit of measures'!$A$7:$R$24,MATCH(S$3,'Unit of measures'!$A$7:$A$24,0),MATCH($Q34,'Unit of measures'!$A$7:$R$7,0))","v":{"$error":"#N/A"}},{"$f":"$R34*INDEX('Unit of measures'!$A$7:$R$24,MATCH(T$3,'Unit of measures'!$A$7:$A$24,0),MATCH($Q34,'Unit of measures'!$A$7:$R$7,0))","v":{"$error":"#N/A"}},{"$f":"$R34*INDEX('Unit of measures'!$A$7:$R$24,MATCH(U$3,'Unit of measures'!$A$7:$A$24,0),MATCH($Q34,'Unit of measures'!$A$7:$R$7,0))","v":{"$error":"#N/A"}},{"$f":"$R34*INDEX('Unit of measures'!$A$7:$R$24,MATCH(V$3,'Unit of measures'!$A$7:$A$24,0),MATCH($Q34,'Unit of measures'!$A$7:$R$7,0))","v":{"$error":"#N/A"}},{"$f":"$R34*INDEX('Unit of measures'!$A$7:$R$24,MATCH(W$3,'Unit of measures'!$A$7:$A$24,0),MATCH($Q34,'Unit of measures'!$A$7:$R$7,0))","v":{"$error":"#N/A"}},"Each"]
["Water",1,"Cup (cup)",0.05,0.05,null,null,{"$f":"$G35*INDEX('Unit of measures'!$A$7:$R$24,MATCH(H$3,'Unit of measures'!$A$7:$A$24,0),MATCH($F35,'Unit of measures'!$A$7:$R$7,0))","v":{"$error":"#N/A"}},{"$f":"$G35*INDEX('Unit of measures'!$A$7:$R$24,MATCH(I$3,'Unit of measures'!$A$7:$A$24,0),MATCH($F35,'Unit of measures'!$A$7:$R$7,0))","v":{"$error":"#N/A"}},{"$f":"$G35*INDEX('Unit of measures'!$A$7:$R$24,MATCH(J$3,'Unit of measures'!$A$7:$A$24,0),MATCH($F35,'Unit of measures'!$A$7:$R$7,0))","v":{"$error":"#N/A"}},{"$f":"$G35*INDEX('Unit of measures'!$A$7:$R$24,MATCH(K$3,'Unit of measures'!$A$7:$A$24,0),MATCH($F35,'Unit of measures'!$A$7:$R$7,0))","v":{"$error":"#N/A"}},{"$f":"$G35*INDEX('Unit of measures'!$A$7:$R$24,MATCH(L$3,'Unit of measures'!$A$7:$A$24,0),MATCH($F35,'Unit of measures'!$A$7:$R$7,0))","v":{"$error":"#N/A"}},{"$f":"$G35*INDEX('Unit of measures'!$A$7:$R$24,MATCH(M$3,'Unit of measures'!$A$7:$A$24,0),MATCH($F35,'Unit of measures'!$A$7:$R$7,0))","v":{"$error":"#N/A"}},{"$f":"$G35*INDEX('Unit of measures'!$A$7:$R$24,MATCH(N$3,'Unit of measures'!$A$7:$A$24,0),MATCH($F35,'Unit of measures'!$A$7:$R$7,0))","v":{"$error":"#N/A"}},{"$f":"$G35*INDEX('Unit of measures'!$A$7:$R$24,MATCH(O$3,'Unit of measures'!$A$7:$A$24,0),MATCH($F35,'Unit of measures'!$A$7:$R$7,0))","v":{"$error":"#N/A"}},{"$f":"$G35*INDEX('Unit of measures'!$A$7:$R$24,MATCH(P$3,'Unit of measures'!$A$7:$A$24,0),MATCH($F35,'Unit of measures'!$A$7:$R$7,0))","v":{"$error":"#N/A"}},null,null,{"$f":"$R35*INDEX('Unit of measures'!$A$7:$R$24,MATCH(S$3,'Unit of measures'!$A$7:$A$24,0),MATCH($Q35,'Unit of measures'!$A$7:$R$7,0))","v":{"$error":"#N/A"}},{"$f":"$R35*INDEX('Unit of measures'!$A$7:$R$24,MATCH(T$3,'Unit of measures'!$A$7:$A$24,0),MATCH($Q35,'Unit of measures'!$A$7:$R$7,0))","v":{"$error":"#N/A"}},{"$f":"$R35*INDEX('Unit of measures'!$A$7:$R$24,MATCH(U$3,'Unit of measures'!$A$7:$A$24,0),MATCH($Q35,'Unit of measures'!$A$7:$R$7,0))","v":{"$error":"#N/A"}},{"$f":"$R35*INDEX('Unit of measures'!$A$7:$R$24,MATCH(V$3,'Unit of measures'!$A$7:$A$24,0),MATCH($Q35,'Unit of measures'!$A$7:$R$7,0))","v":{"$error":"#N/A"}},{"$f":"$R35*INDEX('Unit of measures'!$A$7:$R$24,MATCH(W$3,'Unit of measures'!$A$7:$A$24,0),MATCH($Q35,'Unit of measures'!$A$7:$R$7,0))","v":{"$error":"#N/A"}},"Each"]
["White Flour",1,"Kilogram (kg)",2.5,2.5,null,null,{"$f":"$G36*INDEX('Unit of measures'!$A$7:$R$24,MATCH(H$3,'Unit of measures'!$A$7:$A$24,0),MATCH($F36,'Unit of measures'!$A$7:$R$7,0))","v":{"$error":"#N/A"}},{"$f":"$G36*INDEX('Unit of measures'!$A$7:$R$24,MATCH(I$3,'Unit of measures'!$A$7:$A$24,0),MATCH($F36,'Unit of measures'!$A$7:$R$7,0))","v":{"$error":"#N/A"}},{"$f":"$G36*INDEX('Unit of measures'!$A$7:$R$24,MATCH(J$3,'Unit of measures'!$A$7:$A$24,0),MATCH($F36,'Unit of measures'!$A$7:$R$7,0))","v":{"$error":"#N/A"}},{"$f":"$G36*INDEX('Unit of measures'!$A$7:$R$24,MATCH(K$3,'Unit of measures'!$A$7:$A$24,0),MATCH($F36,'Unit of measures'!$A$7:$R$7,0))","v":{"$error":"#N/A"}},{"$f":"$G36*INDEX('Unit of measures'!$A$7:$R$24,MATCH(L$3,'Unit of measures'!$A$7:$A$24,0),MATCH($F36,'Unit of measures'!$A$7:$R$7,0))","v":{"$error":"#N/A"}},{"$f":"$G36*INDEX('Unit of measures'!$A$7:$R$24,MATCH(M$3,'Unit of measures'!$A$7:$A$24,0),MATCH($F36,'Unit of measures'!$A$7:$R$7,0))","v":{"$error":"#N/A"}},{"$f":"$G36*INDEX('Unit of measures'!$A$7:$R$24,MATCH(N$3,'Unit of measures'!$A$7:$A$24,0),MATCH($F36,'Unit of measures'!$A$7:$R$7,0))","v":{"$error":"#N/A"}},{"$f":"$G36*INDEX('Unit of measures'!$A$7:$R$24,MATCH(O$3,'Unit of measures'!$A$7:$A$24,0),MATCH($F36,'Unit of measures'!$A$7:$R$7,0))","v":{"$error":"#N/A"}},{"$f":"$G36*INDEX('Unit of measures'!$A$7:$R$24,MATCH(P$3,'Unit of measures'!$A$7:$A$24,0),MATCH($F36,'Unit of measures'!$A$7:$R$7,0))","v":{"$error":"#N/A"}},null,null,{"$f":"$R36*INDEX('Unit of measures'!$A$7:$R$24,MATCH(S$3,'Unit of measures'!$A$7:$A$24,0),MATCH($Q36,'Unit of measures'!$A$7:$R$7,0))","v":{"$error":"#N/A"}},{"$f":"$R36*INDEX('Unit of measures'!$A$7:$R$24,MATCH(T$3,'Unit of measures'!$A$7:$A$24,0),MATCH($Q36,'Unit of measures'!$A$7:$R$7,0))","v":{"$error":"#N/A"}},{"$f":"$R36*INDEX('Unit of measures'!$A$7:$R$24,MATCH(U$3,'Unit of measures'!$A$7:$A$24,0),MATCH($Q36,'Unit of measures'!$A$7:$R$7,0))","v":{"$error":"#N/A"}},{"$f":"$R36*INDEX('Unit of measures'!$A$7:$R$24,MATCH(V$3,'Unit of measures'!$A$7:$A$24,0),MATCH($Q36,'Unit of measures'!$A$7:$R$7,0))","v":{"$error":"#N/A"}},{"$f":"$R36*INDEX('Unit of measures'!$A$7:$R$24,MATCH(W$3,'Unit of measures'!$A$7:$A$24,0),MATCH($Q36,'Unit of measures'!$A$7:$R$7,0))","v":{"$error":"#N/A"}},"Each"]
["Whole Chicken",2,"Pound (lbm)",12,6,null,null,{"$f":"$G37*INDEX('Unit of measures'!$A$7:$R$24,MATCH(H$3,'Unit of measures'!$A$7:$A$24,0),MATCH($F37,'Unit of measures'!$A$7:$R$7,0))","v":{"$error":"#N/A"}},{"$f":"$G37*INDEX('Unit of measures'!$A$7:$R$24,MATCH(I$3,'Unit of measures'!$A$7:$A$24,0),MATCH($F37,'Unit of measures'!$A$7:$R$7,0))","v":{"$error":"#N/A"}},{"$f":"$G37*INDEX('Unit of measures'!$A$7:$R$24,MATCH(J$3,'Unit of measures'!$A$7:$A$24,0),MATCH($F37,'Unit of measures'!$A$7:$R$7,0))","v":{"$error":"#N/A"}},{"$f":"$G37*INDEX('Unit of measures'!$A$7:$R$24,MATCH(K$3,'Unit of measures'!$A$7:$A$24,0),MATCH($F37,'Unit of measures'!$A$7:$R$7,0))","v":{"$error":"#N/A"}},{"$f":"$G37*INDEX('Unit of measures'!$A$7:$R$24,MATCH(L$3,'Unit of measures'!$A$7:$A$24,0),MATCH($F37,'Unit of measures'!$A$7:$R$7,0))","v":{"$error":"#N/A"}},{"$f":"$G37*INDEX('Unit of measures'!$A$7:$R$24,MATCH(M$3,'Unit of measures'!$A$7:$A$24,0),MATCH($F37,'Unit of measures'!$A$7:$R$7,0))","v":{"$error":"#N/A"}},{"$f":"$G37*INDEX('Unit of measures'!$A$7:$R$24,MATCH(N$3,'Unit of measures'!$A$7:$A$24,0),MATCH($F37,'Unit of measures'!$A$7:$R$7,0))","v":{"$error":"#N/A"}},{"$f":"$G37*INDEX('Unit of measures'!$A$7:$R$24,MATCH(O$3,'Unit of measures'!$A$7:$A$24,0),MATCH($F37,'Unit of measures'!$A$7:$R$7,0))","v":{"$error":"#N/A"}},{"$f":"$G37*INDEX('Unit of measures'!$A$7:$R$24,MATCH(P$3,'Unit of measures'!$A$7:$A$24,0),MATCH($F37,'Unit of measures'!$A$7:$R$7,0))","v":{"$error":"#N/A"}},"Kilogram (kg)",4.5,{"$f":"$R37*INDEX('Unit of measures'!$A$7:$R$24,MATCH(S$3,'Unit of measures'!$A$7:$A$24,0),MATCH($Q37,'Unit of measures'!$A$7:$R$7,0))","v":4500000},{"$f":"$R37*INDEX('Unit of measures'!$A$7:$R$24,MATCH(T$3,'Unit of measures'!$A$7:$A$24,0),MATCH($Q37,'Unit of measures'!$A$7:$R$7,0))","v":4500},{"$f":"$R37*INDEX('Unit of measures'!$A$7:$R$24,MATCH(U$3,'Unit of measures'!$A$7:$A$24,0),MATCH($Q37,'Unit of measures'!$A$7:$R$7,0))","v":4.5},{"$f":"$R37*INDEX('Unit of measures'!$A$7:$R$24,MATCH(V$3,'Unit of measures'!$A$7:$A$24,0),MATCH($Q37,'Unit of measures'!$A$7:$R$7,0))","v":158.733},{"$f":"$R37*INDEX('Unit of measures'!$A$7:$R$24,MATCH(W$3,'Unit of measures'!$A$7:$A$24,0),MATCH($Q37,'Unit of measures'!$A$7:$R$7,0))","v":9.9207000000000001},"Each",1]
[null,null,null,null,{"$f":"IFERROR(D38/B38,\"\")","v":""},null,null,{"$f":"$G38*INDEX('Unit of measures'!$A$7:$R$24,MATCH(H$4,'Unit of measures'!$A$7:$A$24,0),MATCH($F38,'Unit of measures'!$A$7:$R$7,0))","v":{"$error":"#N/A"}},{"$f":"$G38*INDEX('Unit of measures'!$A$7:$R$24,MATCH(I$4,'Unit of measures'!$A$7:$A$24,0),MATCH($F38,'Unit of measures'!$A$7:$R$7,0))","v":{"$error":"#N/A"}},{"$f":"$G38*INDEX('Unit of measures'!$A$7:$R$24,MATCH(J$4,'Unit of measures'!$A$7:$A$24,0),MATCH($F38,'Unit of measures'!$A$7:$R$7,0))","v":{"$error":"#N/A"}},{"$f":"$G38*INDEX('Unit of measures'!$A$7:$R$24,MATCH(K$4,'Unit of measures'!$A$7:$A$24,0),MATCH($F38,'Unit of measures'!$A$7:$R$7,0))","v":{"$error":"#N/A"}},{"$f":"$G38*INDEX('Unit of measures'!$A$7:$R$24,MATCH(L$4,'Unit of measures'!$A$7:$A$24,0),MATCH($F38,'Unit of measures'!$A$7:$R$7,0))","v":{"$error":"#N/A"}},{"$f":"$G38*INDEX('Unit of measures'!$A$7:$R$24,MATCH(M$4,'Unit of measures'!$A$7:$A$24,0),MATCH($F38,'Unit of measures'!$A$7:$R$7,0))","v":{"$error":"#N/A"}},{"$f":"$G38*INDEX('Unit of measures'!$A$7:$R$24,MATCH(N$4,'Unit of measures'!$A$7:$A$24,0),MATCH($F38,'Unit of measures'!$A$7:$R$7,0))","v":{"$error":"#N/A"}},{"$f":"$G38*INDEX('Unit of measures'!$A$7:$R$24,MATCH(O$4,'Unit of measures'!$A$7:$A$24,0),MATCH($F38,'Unit of measures'!$A$7:$R$7,0))","v":{"$error":"#N/A"}},{"$f":"$G38*INDEX('Unit of measures'!$A$7:$R$24,MATCH(P$4,'Unit of measures'!$A$7:$A$24,0),MATCH($F38,'Unit of measures'!$A$7:$R$7,0))","v":{"$error":"#N/A"}},null,null,{"$f":"$R38*INDEX('Unit of measures'!$A$7:$R$24,MATCH(S$4,'Unit of measures'!$A$7:$A$24,0),MATCH($Q38,'Unit of measures'!$A$7:$R$7,0))","v":{"$error":"#N/A"}},{"$f":"$R38*INDEX('Unit of measures'!$A$7:$R$24,MATCH(T$4,'Unit of measures'!$A$7:$A$24,0),MATCH($Q38,'Unit of measures'!$A$7:$R$7,0))","v":{"$error":"#N/A"}},{"$f":"$R38*INDEX('Unit of measures'!$A$7:$R$24,MATCH(U$4,'Unit of measures'!$A$7:$A$24,0),MATCH($Q38,'Unit of measures'!$A$7:$R$7,0))","v":{"$error":"#N/A"}},{"$f":"$R38*INDEX('Unit of measures'!$A$7:$R$24,MATCH(V$4,'Unit of measures'!$A$7:$A$24,0),MATCH($Q38,'Unit of measures'!$A$7:$R$7,0))","v":{"$error":"#N/A"}},{"$f":"$R38*INDEX('Unit of measures'!$A$7:$R$24,MATCH(W$4,'Unit of measures'!$A$7:$A$24,0),MATCH($Q38,'Unit of measures'!$A$7:$R$7,0))","v":{"$error":"#N/A"}},"Each"]
[null,null,null,null,"",null,null,{"$f":"$G39*INDEX('Unit of measures'!$A$7:$R$24,MATCH(H$4,'Unit of measures'!$A$7:$A$24,0),MATCH($F39,'Unit of measures'!$A$7:$R$7,0))","v":{"$error":"#N/A"}},{"$f":"$G39*INDEX('Unit of measures'!$A$7:$R$24,MATCH(I$4,'Unit of measures'!$A$7:$A$24,0),MATCH($F39,'Unit of measures'!$A$7:$R$7,0))","v":{"$error":"#N/A"}},{"$f":"$G39*INDEX('Unit of measures'!$A$7:$R$24,MATCH(J$4,'Unit of measures'!$A$7:$A$24,0),MATCH($F39,'Unit of measures'!$A$7:$R$7,0))","v":{"$error":"#N/A"}},{"$f":"$G39*INDEX('Unit of measures'!$A$7:$R$24,MATCH(K$4,'Unit of measures'!$A$7:$A$24,0),MATCH($F39,'Unit of measures'!$A$7:$R$7,0))","v":{"$error":"#N/A"}},{"$f":"$G39*INDEX('Unit of measures'!$A$7:$R$24,MATCH(L$4,'Unit of measures'!$A$7:$A$24,0),MATCH($F39,'Unit of measures'!$A$7:$R$7,0))","v":{"$error":"#N/A"}},{"$f":"$G39*INDEX('Unit of measures'!$A$7:$R$24,MATCH(M$4,'Unit of measures'!$A$7:$A$24,0),MATCH($F39,'Unit of measures'!$A$7:$R$7,0))","v":{"$error":"#N/A"}},{"$f":"$G39*INDEX('Unit of measures'!$A$7:$R$24,MATCH(N$4,'Unit of measures'!$A$7:$A$24,0),MATCH($F39,'Unit of measures'!$A$7:$R$7,0))","v":{"$error":"#N/A"}},{"$f":"$G39*INDEX('Unit of measures'!$A$7:$R$24,MATCH(O$4,'Unit of measures'!$A$7:$A$24,0),MATCH($F39,'Unit of measures'!$A$7:$R$7,0))","v":{"$error":"#N/A"}},{"$f":"$G39*INDEX('Unit of measures'!$A$7:$R$24,MATCH(P$4,'Unit of measures'!$A$7:$A$24,0),MATCH($F39,'Unit of measures'!$A$7:$R$7,0))","v":{"$error":"#N/A"}},null,null,{"$f":"$R39*INDEX('Unit of measures'!$A$7:$R$24,MATCH(S$4,'Unit of measures'!$A$7:$A$24,0),MATCH($Q39,'Unit of measures'!$A$7:$R$7,0))","v":{"$error":"#N/A"}},{"$f":"$R39*INDEX('Unit of measures'!$A$7:$R$24,MATCH(T$4,'Unit of measures'!$A$7:$A$24,0),MATCH($Q39,'Unit of measures'!$A$7:$R$7,0))","v":{"$error":"#N/A"}},{"$f":"$R39*INDEX('Unit of measures'!$A$7:$R$24,MATCH(U$4,'Unit of measures'!$A$7:$A$24,0),MATCH($Q39,'Unit of measures'!$A$7:$R$7,0))","v":{"$error":"#N/A"}},{"$f":"$R39*INDEX('Unit of measures'!$A$7:$R$24,MATCH(V$4,'Unit of measures'!$A$7:$A$24,0),MATCH($Q39,'Unit of measures'!$A$7:$R$7,0))","v":{"$error":"#N/A"}},{"$f":"$R39*INDEX('Unit of measures'!$A$7:$R$24,MATCH(W$4,'Unit of measures'!$A$7:$A$24,0),MATCH($Q39,'Unit of measures'!$A$7:$R$7,0))","v":{"$error":"#N/A"}},"Each"]
[null,null,null,null,"",null,null,{"$f":"$G40*INDEX('Unit of measures'!$A$7:$R$24,MATCH(H$4,'Unit of measures'!$A$7:$A$24,0),MATCH($F40,'Unit of measures'!$A$7:$R$7,0))","v":{"$error":"#N/A"}},{"$f":"$G40*INDEX('Unit of measures'!$A$7:$R$24,MATCH(I$4,'Unit of measures'!$A$7:$A$24,0),MATCH($F40,'Unit of measures'!$A$7:$R$7,0))","v":{"$error":"#N/A"}},{"$f":"$G40*INDEX('Unit of measures'!$A$7:$R$24,MATCH(J$4,'Unit of measures'!$A$7:$A$24,0),MATCH($F40,'Unit of measures'!$A$7:$R$7,0))","v":{"$error":"#N/A"}},{"$f":"$G40*INDEX('Unit of measures'!$A$7:$R$24,MATCH(K$4,'Unit of measures'!$A$7:$A$24,0),MATCH($F40,'Unit of measures'!$A$7:$R$7,0))","v":{"$error":"#N/A"}},{"$f":"$G40*INDEX('Unit of measures'!$A$7:$R$24,MATCH(L$4,'Unit of measures'!$A$7:$A$24,0),MATCH($F40,'Unit of measures'!$A$7:$R$7,0))","v":{"$error":"#N/A"}},{"$f":"$G40*INDEX('Unit of measures'!$A$7:$R$24,MATCH(M$4,'Unit of measures'!$A$7:$A$24,0),MATCH($F40,'Unit of measures'!$A$7:$R$7,0))","v":{"$error":"#N/A"}},{"$f":"$G40*INDEX('Unit of measures'!$A$7:$R$24,MATCH(N$4,'Unit of measures'!$A$7:$A$24,0),MATCH($F40,'Unit of measures'!$A$7:$R$7,0))","v":{"$error":"#N/A"}},{"$f":"$G40*INDEX('Unit of measures'!$A$7:$R$24,MATCH(O$4,'Unit of measures'!$A$7:$A$24,0),MATCH($F40,'Unit of measures'!$A$7:$R$7,0))","v":{"$error":"#N/A"}},{"$f":"$G40*INDEX('Unit of measures'!$A$7:$R$24,MATCH(P$4,'Unit of measures'!$A$7:$A$24,0),MATCH($F40,'Unit of measures'!$A$7:$R$7,0))","v":{"$error":"#N/A"}},null,null,{"$f":"$R40*INDEX('Unit of measures'!$A$7:$R$24,MATCH(S$4,'Unit of measures'!$A$7:$A$24,0),MATCH($Q40,'Unit of measures'!$A$7:$R$7,0))","v":{"$error":"#N/A"}},{"$f":"$R40*INDEX('Unit of measures'!$A$7:$R$24,MATCH(T$4,'Unit of measures'!$A$7:$A$24,0),MATCH($Q40,'Unit of measures'!$A$7:$R$7,0))","v":{"$error":"#N/A"}},{"$f":"$R40*INDEX('Unit of measures'!$A$7:$R$24,MATCH(U$4,'Unit of measures'!$A$7:$A$24,0),MATCH($Q40,'Unit of measures'!$A$7:$R$7,0))","v":{"$error":"#N/A"}},{"$f":"$R40*INDEX('Unit of measures'!$A$7:$R$24,MATCH(V$4,'Unit of measures'!$A$7:$A$24,0),MATCH($Q40,'Unit of measures'!$A$7:$R$7,0))","v":{"$error":"#N/A"}},{"$f":"$R40*INDEX('Unit of measures'!$A$7:$R$24,MATCH(W$4,'Unit of measures'!$A$7:$A$24,0),MATCH($Q40,'Unit of measures'!$A$7:$R$7,0))","v":{"$error":"#N/A"}},"Each"]
[null,null,null,null,"",null,null,{"$f":"$G41*INDEX('Unit of measures'!$A$7:$R$24,MATCH(H$4,'Unit of measures'!$A$7:$A$24,0),MATCH($F41,'Unit of measures'!$A$7:$R$7,0))","v":{"$error":"#N/A"}},{"$f":"$G41*INDEX('Unit of measures'!$A$7:$R$24,MATCH(I$4,'Unit of measures'!$A$7:$A$24,0),MATCH($F41,'Unit of measures'!$A$7:$R$7,0))","v":{"$error":"#N/A"}},{"$f":"$G41*INDEX('Unit of measures'!$A$7:$R$24,MATCH(J$4,'Unit of measures'!$A$7:$A$24,0),MATCH($F41,'Unit of measures'!$A$7:$R$7,0))","v":{"$error":"#N/A"}},{"$f":"$G41*INDEX('Unit of measures'!$A$7:$R$24,MATCH(K$4,'Unit of measures'!$A$7:$A$24,0),MATCH($F41,'Unit of measures'!$A$7:$R$7,0))","v":{"$error":"#N/A"}},{"$f":"$G41*INDEX('Unit of measures'!$A$7:$R$24,MATCH(L$4,'Unit of measures'!$A$7:$A$24,0),MATCH($F41,'Unit of measures'!$A$7:$R$7,0))","v":{"$error":"#N/A"}},{"$f":"$G41*INDEX('Unit of measures'!$A$7:$R$24,MATCH(M$4,'Unit of measures'!$A$7:$A$24,0),MATCH($F41,'Unit of measures'!$A$7:$R$7,0))","v":{"$error":"#N/A"}},{"$f":"$G41*INDEX('Unit of measures'!$A$7:$R$24,MATCH(N$4,'Unit of measures'!$A$7:$A$24,0),MATCH($F41,'Unit of measures'!$A$7:$R$7,0))","v":{"$error":"#N/A"}},{"$f":"$G41*INDEX('Unit of measures'!$A$7:$R$24,MATCH(O$4,'Unit of measures'!$A$7:$A$24,0),MATCH($F41,'Unit of measures'!$A$7:$R$7,0))","v":{"$error":"#N/A"}},{"$f":"$G41*INDEX('Unit of measures'!$A$7:$R$24,MATCH(P$4,'Unit of measures'!$A$7:$A$24,0),MATCH($F41,'Unit of measures'!$A$7:$R$7,0))","v":{"$error":"#N/A"}},null,null,{"$f":"$R41*INDEX('Unit of measures'!$A$7:$R$24,MATCH(S$4,'Unit of measures'!$A$7:$A$24,0),MATCH($Q41,'Unit of measures'!$A$7:$R$7,0))","v":{"$error":"#N/A"}},{"$f":"$R41*INDEX('Unit of measures'!$A$7:$R$24,MATCH(T$4,'Unit of measures'!$A$7:$A$24,0),MATCH($Q41,'Unit of measures'!$A$7:$R$7,0))","v":{"$error":"#N/A"}},{"$f":"$R41*INDEX('Unit of measures'!$A$7:$R$24,MATCH(U$4,'Unit of measures'!$A$7:$A$24,0),MATCH($Q41,'Unit of measures'!$A$7:$R$7,0))","v":{"$error":"#N/A"}},{"$f":"$R41*INDEX('Unit of measures'!$A$7:$R$24,MATCH(V$4,'Unit of measures'!$A$7:$A$24,0),MATCH($Q41,'Unit of measures'!$A$7:$R$7,0))","v":{"$error":"#N/A"}},{"$f":"$R41*INDEX('Unit of measures'!$A$7:$R$24,MATCH(W$4,'Unit of measures'!$A$7:$A$24,0),MATCH($Q41,'Unit of measures'!$A$7:$R$7,0))","v":{"$error":"#N/A"}},"Each"]
[null,null,null,null,"",null,null,{"$f":"$G42*INDEX('Unit of measures'!$A$7:$R$24,MATCH(H$4,'Unit of measures'!$A$7:$A$24,0),MATCH($F42,'Unit of measures'!$A$7:$R$7,0))","v":{"$error":"#N/A"}},{"$f":"$G42*INDEX('Unit of measures'!$A$7:$R$24,MATCH(I$4,'Unit of measures'!$A$7:$A$24,0),MATCH($F42,'Unit of measures'!$A$7:$R$7,0))","v":{"$error":"#N/A"}},{"$f":"$G42*INDEX('Unit of measures'!$A$7:$R$24,MATCH(J$4,'Unit of measures'!$A$7:$A$24,0),MATCH($F42,'Unit of measures'!$A$7:$R$7,0))","v":{"$error":"#N/A"}},{"$f":"$G42*INDEX('Unit of measures'!$A$7:$R$24,MATCH(K$4,'Unit of measures'!$A$7:$A$24,0),MATCH($F42,'Unit of measures'!$A$7:$R$7,0))","v":{"$error":"#N/A"}},{"$f":"$G42*INDEX('Unit of measures'!$A$7:$R$24,MATCH(L$4,'Unit of measures'!$A$7:$A$24,0),MATCH($F42,'Unit of measures'!$A$7:$R$7,0))","v":{"$error":"#N/A"}},{"$f":"$G42*INDEX('Unit of measures'!$A$7:$R$24,MATCH(M$4,'Unit of measures'!$A$7:$A$24,0),MATCH($F42,'Unit of measures'!$A$7:$R$7,0))","v":{"$error":"#N/A"}},{"$f":"$G42*INDEX('Unit of measures'!$A$7:$R$24,MATCH(N$4,'Unit of measures'!$A$7:$A$24,0),MATCH($F42,'Unit of measures'!$A$7:$R$7,0))","v":{"$error":"#N/A"}},{"$f":"$G42*INDEX('Unit of measures'!$A$7:$R$24,MATCH(O$4,'Unit of measures'!$A$7:$A$24,0),MATCH($F42,'Unit of measures'!$A$7:$R$7,0))","v":{"$error":"#N/A"}},{"$f":"$G42*INDEX('Unit of measures'!$A$7:$R$24,MATCH(P$4,'Unit of measures'!$A$7:$A$24,0),MATCH($F42,'Unit of measures'!$A$7:$R$7,0))","v":{"$error":"#N/A"}},null,null,{"$f":"$R42*INDEX('Unit of measures'!$A$7:$R$24,MATCH(S$4,'Unit of measures'!$A$7:$A$24,0),MATCH($Q42,'Unit of measures'!$A$7:$R$7,0))","v":{"$error":"#N/A"}},{"$f":"$R42*INDEX('Unit of measures'!$A$7:$R$24,MATCH(T$4,'Unit of measures'!$A$7:$A$24,0),MATCH($Q42,'Unit of measures'!$A$7:$R$7,0))","v":{"$error":"#N/A"}},{"$f":"$R42*INDEX('Unit of measures'!$A$7:$R$24,MATCH(U$4,'Unit of measures'!$A$7:$A$24,0),MATCH($Q42,'Unit of measures'!$A$7:$R$7,0))","v":{"$error":"#N/A"}},{"$f":"$R42*INDEX('Unit of measures'!$A$7:$R$24,MATCH(V$4,'Unit of measures'!$A$7:$A$24,0),MATCH($Q42,'Unit of measures'!$A$7:$R$7,0))","v":{"$error":"#N/A"}},{"$f":"$R42*INDEX('Unit of measures'!$A$7:$R$24,MATCH(W$4,'Unit of measures'!$A$7:$A$24,0),MATCH($Q42,'Unit of measures'!$A$7:$R$7,0))","v":{"$error":"#N/A"}},"Each"]
[null,null,null,null,"",null,null,{"$f":"$G43*INDEX('Unit of measures'!$A$7:$R$24,MATCH(H$4,'Unit of measures'!$A$7:$A$24,0),MATCH($F43,'Unit of measures'!$A$7:$R$7,0))","v":{"$error":"#N/A"}},{"$f":"$G43*INDEX('Unit of measures'!$A$7:$R$24,MATCH(I$4,'Unit of measures'!$A$7:$A$24,0),MATCH($F43,'Unit of measures'!$A$7:$R$7,0))","v":{"$error":"#N/A"}},{"$f":"$G43*INDEX('Unit of measures'!$A$7:$R$24,MATCH(J$4,'Unit of measures'!$A$7:$A$24,0),MATCH($F43,'Unit of measures'!$A$7:$R$7,0))","v":{"$error":"#N/A"}},{"$f":"$G43*INDEX('Unit of measures'!$A$7:$R$24,MATCH(K$4,'Unit of measures'!$A$7:$A$24,0),MATCH($F43,'Unit of measures'!$A$7:$R$7,0))","v":{"$error":"#N/A"}},{"$f":"$G43*INDEX('Unit of measures'!$A$7:$R$24,MATCH(L$4,'Unit of measures'!$A$7:$A$24,0),MATCH($F43,'Unit of measures'!$A$7:$R$7,0))","v":{"$error":"#N/A"}},{"$f":"$G43*INDEX('Unit of measures'!$A$7:$R$24,MATCH(M$4,'Unit of measures'!$A$7:$A$24,0),MATCH($F43,'Unit of measures'!$A$7:$R$7,0))","v":{"$error":"#N/A"}},{"$f":"$G43*INDEX('Unit of measures'!$A$7:$R$24,MATCH(N$4,'Unit of measures'!$A$7:$A$24,0),MATCH($F43,'Unit of measures'!$A$7:$R$7,0))","v":{"$error":"#N/A"}},{"$f":"$G43*INDEX('Unit of measures'!$A$7:$R$24,MATCH(O$4,'Unit of measures'!$A$7:$A$24,0),MATCH($F43,'Unit of measures'!$A$7:$R$7,0))","v":{"$error":"#N/A"}},{"$f":"$G43*INDEX('Unit of measures'!$A$7:$R$24,MATCH(P$4,'Unit of measures'!$A$7:$A$24,0),MATCH($F43,'Unit of measures'!$A$7:$R$7,0))","v":{"$error":"#N/A"}},null,null,{"$f":"$R43*INDEX('Unit of measures'!$A$7:$R$24,MATCH(S$4,'Unit of measures'!$A$7:$A$24,0),MATCH($Q43,'Unit of measures'!$A$7:$R$7,0))","v":{"$error":"#N/A"}},{"$f":"$R43*INDEX('Unit of measures'!$A$7:$R$24,MATCH(T$4,'Unit of measures'!$A$7:$A$24,0),MATCH($Q43,'Unit of measures'!$A$7:$R$7,0))","v":{"$error":"#N/A"}},{"$f":"$R43*INDEX('Unit of measures'!$A$7:$R$24,MATCH(U$4,'Unit of measures'!$A$7:$A$24,0),MATCH($Q43,'Unit of measures'!$A$7:$R$7,0))","v":{"$error":"#N/A"}},{"$f":"$R43*INDEX('Unit of measures'!$A$7:$R$24,MATCH(V$4,'Unit of measures'!$A$7:$A$24,0),MATCH($Q43,'Unit of measures'!$A$7:$R$7,0))","v":{"$error":"#N/A"}},{"$f":"$R43*INDEX('Unit of measures'!$A$7:$R$24,MATCH(W$4,'Unit of measures'!$A$7:$A$24,0),MATCH($Q43,'Unit of measures'!$A$7:$R$7,0))","v":{"$error":"#N/A"}},"Each"]
[null,null,null,null,"",null,null,{"$f":"$G44*INDEX('Unit of measures'!$A$7:$R$24,MATCH(H$4,'Unit of measures'!$A$7:$A$24,0),MATCH($F44,'Unit of measures'!$A$7:$R$7,0))","v":{"$error":"#N/A"}},{"$f":"$G44*INDEX('Unit of measures'!$A$7:$R$24,MATCH(I$4,'Unit of measures'!$A$7:$A$24,0),MATCH($F44,'Unit of measures'!$A$7:$R$7,0))","v":{"$error":"#N/A"}},{"$f":"$G44*INDEX('Unit of measures'!$A$7:$R$24,MATCH(J$4,'Unit of measures'!$A$7:$A$24,0),MATCH($F44,'Unit of measures'!$A$7:$R$7,0))","v":{"$error":"#N/A"}},{"$f":"$G44*INDEX('Unit of measures'!$A$7:$R$24,MATCH(K$4,'Unit of measures'!$A$7:$A$24,0),MATCH($F44,'Unit of measures'!$A$7:$R$7,0))","v":{"$error":"#N/A"}},{"$f":"$G44*INDEX('Unit of measures'!$A$7:$R$24,MATCH(L$4,'Unit of measures'!$A$7:$A$24,0),MATCH($F44,'Unit of measures'!$A$7:$R$7,0))","v":{"$error":"#N/A"}},{"$f":"$G44*INDEX('Unit of measures'!$A$7:$R$24,MATCH(M$4,'Unit of measures'!$A$7:$A$24,0),MATCH($F44,'Unit of measures'!$A$7:$R$7,0))","v":{"$error":"#N/A"}},{"$f":"$G44*INDEX('Unit of measures'!$A$7:$R$24,MATCH(N$4,'Unit of measures'!$A$7:$A$24,0),MATCH($F44,'Unit of measures'!$A$7:$R$7,0))","v":{"$error":"#N/A"}},{"$f":"$G44*INDEX('Unit of measures'!$A$7:$R$24,MATCH(O$4,'Unit of measures'!$A$7:$A$24,0),MATCH($F44,'Unit of measures'!$A$7:$R$7,0))","v":{"$error":"#N/A"}},{"$f":"$G44*INDEX('Unit of measures'!$A$7:$R$24,MATCH(P$4,'Unit of measures'!$A$7:$A$24,0),MATCH($F44,'Unit of measures'!$A$7:$R$7,0))","v":{"$error":"#N/A"}},null,null,{"$f":"$R44*INDEX('Unit of measures'!$A$7:$R$24,MATCH(S$4,'Unit of measures'!$A$7:$A$24,0),MATCH($Q44,'Unit of measures'!$A$7:$R$7,0))","v":{"$error":"#N/A"}},{"$f":"$R44*INDEX('Unit of measures'!$A$7:$R$24,MATCH(T$4,'Unit of measures'!$A$7:$A$24,0),MATCH($Q44,'Unit of measures'!$A$7:$R$7,0))","v":{"$error":"#N/A"}},{"$f":"$R44*INDEX('Unit of measures'!$A$7:$R$24,MATCH(U$4,'Unit of measures'!$A$7:$A$24,0),MATCH($Q44,'Unit of measures'!$A$7:$R$7,0))","v":{"$error":"#N/A"}},{"$f":"$R44*INDEX('Unit of measures'!$A$7:$R$24,MATCH(V$4,'Unit of measures'!$A$7:$A$24,0),MATCH($Q44,'Unit of measures'!$A$7:$R$7,0))","v":{"$error":"#N/A"}},{"$f":"$R44*INDEX('Unit of measures'!$A$7:$R$24,MATCH(W$4,'Unit of measures'!$A$7:$A$24,0),MATCH($Q44,'Unit of measures'!$A$7:$R$7,0))","v":{"$error":"#N/A"}},"Each"]
[null,null,null,null,"",null,null,{"$f":"$G45*INDEX('Unit of measures'!$A$7:$R$24,MATCH(H$4,'Unit of measures'!$A$7:$A$24,0),MATCH($F45,'Unit of measures'!$A$7:$R$7,0))","v":{"$error":"#N/A"}},{"$f":"$G45*INDEX('Unit of measures'!$A$7:$R$24,MATCH(I$4,'Unit of measures'!$A$7:$A$24,0),MATCH($F45,'Unit of measures'!$A$7:$R$7,0))","v":{"$error":"#N/A"}},{"$f":"$G45*INDEX('Unit of measures'!$A$7:$R$24,MATCH(J$4,'Unit of measures'!$A$7:$A$24,0),MATCH($F45,'Unit of measures'!$A$7:$R$7,0))","v":{"$error":"#N/A"}},{"$f":"$G45*INDEX('Unit of measures'!$A$7:$R$24,MATCH(K$4,'Unit of measures'!$A$7:$A$24,0),MATCH($F45,'Unit of measures'!$A$7:$R$7,0))","v":{"$error":"#N/A"}},{"$f":"$G45*INDEX('Unit of measures'!$A$7:$R$24,MATCH(L$4,'Unit of measures'!$A$7:$A$24,0),MATCH($F45,'Unit of measures'!$A$7:$R$7,0))","v":{"$error":"#N/A"}},{"$f":"$G45*INDEX('Unit of measures'!$A$7:$R$24,MATCH(M$4,'Unit of measures'!$A$7:$A$24,0),MATCH($F45,'Unit of measures'!$A$7:$R$7,0))","v":{"$error":"#N/A"}},{"$f":"$G45*INDEX('Unit of measures'!$A$7:$R$24,MATCH(N$4,'Unit of measures'!$A$7:$A$24,0),MATCH($F45,'Unit of measures'!$A$7:$R$7,0))","v":{"$error":"#N/A"}},{"$f":"$G45*INDEX('Unit of measures'!$A$7:$R$24,MATCH(O$4,'Unit of measures'!$A$7:$A$24,0),MATCH($F45,'Unit of measures'!$A$7:$R$7,0))","v":{"$error":"#N/A"}},{"$f":"$G45*INDEX('Unit of measures'!$A$7:$R$24,MATCH(P$4,'Unit of measures'!$A$7:$A$24,0),MATCH($F45,'Unit of measures'!$A$7:$R$7,0))","v":{"$error":"#N/A"}},null,null,{"$f":"$R45*INDEX('Unit of measures'!$A$7:$R$24,MATCH(S$4,'Unit of measures'!$A$7:$A$24,0),MATCH($Q45,'Unit of measures'!$A$7:$R$7,0))","v":{"$error":"#N/A"}},{"$f":"$R45*INDEX('Unit of measures'!$A$7:$R$24,MATCH(T$4,'Unit of measures'!$A$7:$A$24,0),MATCH($Q45,'Unit of measures'!$A$7:$R$7,0))","v":{"$error":"#N/A"}},{"$f":"$R45*INDEX('Unit of measures'!$A$7:$R$24,MATCH(U$4,'Unit of measures'!$A$7:$A$24,0),MATCH($Q45,'Unit of measures'!$A$7:$R$7,0))","v":{"$error":"#N/A"}},{"$f":"$R45*INDEX('Unit of measures'!$A$7:$R$24,MATCH(V$4,'Unit of measures'!$A$7:$A$24,0),MATCH($Q45,'Unit of measures'!$A$7:$R$7,0))","v":{"$error":"#N/A"}},{"$f":"$R45*INDEX('Unit of measures'!$A$7:$R$24,MATCH(W$4,'Unit of measures'!$A$7:$A$24,0),MATCH($Q45,'Unit of measures'!$A$7:$R$7,0))","v":{"$error":"#N/A"}},"Each"]
[null,null,null,null,"",null,null,{"$f":"$G46*INDEX('Unit of measures'!$A$7:$R$24,MATCH(H$4,'Unit of measures'!$A$7:$A$24,0),MATCH($F46,'Unit of measures'!$A$7:$R$7,0))","v":{"$error":"#N/A"}},{"$f":"$G46*INDEX('Unit of measures'!$A$7:$R$24,MATCH(I$4,'Unit of measures'!$A$7:$A$24,0),MATCH($F46,'Unit of measures'!$A$7:$R$7,0))","v":{"$error":"#N/A"}},{"$f":"$G46*INDEX('Unit of measures'!$A$7:$R$24,MATCH(J$4,'Unit of measures'!$A$7:$A$24,0),MATCH($F46,'Unit of measures'!$A$7:$R$7,0))","v":{"$error":"#N/A"}},{"$f":"$G46*INDEX('Unit of measures'!$A$7:$R$24,MATCH(K$4,'Unit of measures'!$A$7:$A$24,0),MATCH($F46,'Unit of measures'!$A$7:$R$7,0))","v":{"$error":"#N/A"}},{"$f":"$G46*INDEX('Unit of measures'!$A$7:$R$24,MATCH(L$4,'Unit of measures'!$A$7:$A$24,0),MATCH($F46,'Unit of measures'!$A$7:$R$7,0))","v":{"$error":"#N/A"}},{"$f":"$G46*INDEX('Unit of measures'!$A$7:$R$24,MATCH(M$4,'Unit of measures'!$A$7:$A$24,0),MATCH($F46,'Unit of measures'!$A$7:$R$7,0))","v":{"$error":"#N/A"}},{"$f":"$G46*INDEX('Unit of measures'!$A$7:$R$24,MATCH(N$4,'Unit of measures'!$A$7:$A$24,0),MATCH($F46,'Unit of measures'!$A$7:$R$7,0))","v":{"$error":"#N/A"}},{"$f":"$G46*INDEX('Unit of measures'!$A$7:$R$24,MATCH(O$4,'Unit of measures'!$A$7:$A$24,0),MATCH($F46,'Unit of measures'!$A$7:$R$7,0))","v":{"$error":"#N/A"}},{"$f":"$G46*INDEX('Unit of measures'!$A$7:$R$24,MATCH(P$4,'Unit of measures'!$A$7:$A$24,0),MATCH($F46,'Unit of measures'!$A$7:$R$7,0))","v":{"$error":"#N/A"}},null,null,{"$f":"$R46*INDEX('Unit of measures'!$A$7:$R$24,MATCH(S$4,'Unit of measures'!$A$7:$A$24,0),MATCH($Q46,'Unit of measures'!$A$7:$R$7,0))","v":{"$error":"#N/A"}},{"$f":"$R46*INDEX('Unit of measures'!$A$7:$R$24,MATCH(T$4,'Unit of measures'!$A$7:$A$24,0),MATCH($Q46,'Unit of measures'!$A$7:$R$7,0))","v":{"$error":"#N/A"}},{"$f":"$R46*INDEX('Unit of measures'!$A$7:$R$24,MATCH(U$4,'Unit of measures'!$A$7:$A$24,0),MATCH($Q46,'Unit of measures'!$A$7:$R$7,0))","v":{"$error":"#N/A"}},{"$f":"$R46*INDEX('Unit of measures'!$A$7:$R$24,MATCH(V$4,'Unit of measures'!$A$7:$A$24,0),MATCH($Q46,'Unit of measures'!$A$7:$R$7,0))","v":{"$error":"#N/A"}},{"$f":"$R46*INDEX('Unit of measures'!$A$7:$R$24,MATCH(W$4,'Unit of measures'!$A$7:$A$24,0),MATCH($Q46,'Unit of measures'!$A$7:$R$7,0))","v":{"$error":"#N/A"}},"Each"]
[null,null,null,null,"",null,null,{"$f":"$G47*INDEX('Unit of measures'!$A$7:$R$24,MATCH(H$4,'Unit of measures'!$A$7:$A$24,0),MATCH($F47,'Unit of measures'!$A$7:$R$7,0))","v":{"$error":"#N/A"}},{"$f":"$G47*INDEX('Unit of measures'!$A$7:$R$24,MATCH(I$4,'Unit of measures'!$A$7:$A$24,0),MATCH($F47,'Unit of measures'!$A$7:$R$7,0))","v":{"$error":"#N/A"}},{"$f":"$G47*INDEX('Unit of measures'!$A$7:$R$24,MATCH(J$4,'Unit of measures'!$A$7:$A$24,0),MATCH($F47,'Unit of measures'!$A$7:$R$7,0))","v":{"$error":"#N/A"}},{"$f":"$G47*INDEX('Unit of measures'!$A$7:$R$24,MATCH(K$4,'Unit of measures'!$A$7:$A$24,0),MATCH($F47,'Unit of measures'!$A$7:$R$7,0))","v":{"$error":"#N/A"}},{"$f":"$G47*INDEX('Unit of measures'!$A$7:$R$24,MATCH(L$4,'Unit of measures'!$A$7:$A$24,0),MATCH($F47,'Unit of measures'!$A$7:$R$7,0))","v":{"$error":"#N/A"}},{"$f":"$G47*INDEX('Unit of measures'!$A$7:$R$24,MATCH(M$4,'Unit of measures'!$A$7:$A$24,0),MATCH($F47,'Unit of measures'!$A$7:$R$7,0))","v":{"$error":"#N/A"}},{"$f":"$G47*INDEX('Unit of measures'!$A$7:$R$24,MATCH(N$4,'Unit of measures'!$A$7:$A$24,0),MATCH($F47,'Unit of measures'!$A$7:$R$7,0))","v":{"$error":"#N/A"}},{"$f":"$G47*INDEX('Unit of measures'!$A$7:$R$24,MATCH(O$4,'Unit of measures'!$A$7:$A$24,0),MATCH($F47,'Unit of measures'!$A$7:$R$7,0))","v":{"$error":"#N/A"}},{"$f":"$G47*INDEX('Unit of measures'!$A$7:$R$24,MATCH(P$4,'Unit of measures'!$A$7:$A$24,0),MATCH($F47,'Unit of measures'!$A$7:$R$7,0))","v":{"$error":"#N/A"}},null,null,{"$f":"$R47*INDEX('Unit of measures'!$A$7:$R$24,MATCH(S$4,'Unit of measures'!$A$7:$A$24,0),MATCH($Q47,'Unit of measures'!$A$7:$R$7,0))","v":{"$error":"#N/A"}},{"$f":"$R47*INDEX('Unit of measures'!$A$7:$R$24,MATCH(T$4,'Unit of measures'!$A$7:$A$24,0),MATCH($Q47,'Unit of measures'!$A$7:$R$7,0))","v":{"$error":"#N/A"}},{"$f":"$R47*INDEX('Unit of measures'!$A$7:$R$24,MATCH(U$4,'Unit of measures'!$A$7:$A$24,0),MATCH($Q47,'Unit of measures'!$A$7:$R$7,0))","v":{"$error":"#N/A"}},{"$f":"$R47*INDEX('Unit of measures'!$A$7:$R$24,MATCH(V$4,'Unit of measures'!$A$7:$A$24,0),MATCH($Q47,'Unit of measures'!$A$7:$R$7,0))","v":{"$error":"#N/A"}},{"$f":"$R47*INDEX('Unit of measures'!$A$7:$R$24,MATCH(W$4,'Unit of measures'!$A$7:$A$24,0),MATCH($Q47,'Unit of measures'!$A$7:$R$7,0))","v":{"$error":"#N/A"}},"Each"]
[null,null,null,null,"",null,null,{"$f":"$G48*INDEX('Unit of measures'!$A$7:$R$24,MATCH(H$4,'Unit of measures'!$A$7:$A$24,0),MATCH($F48,'Unit of measures'!$A$7:$R$7,0))","v":{"$error":"#N/A"}},{"$f":"$G48*INDEX('Unit of measures'!$A$7:$R$24,MATCH(I$4,'Unit of measures'!$A$7:$A$24,0),MATCH($F48,'Unit of measures'!$A$7:$R$7,0))","v":{"$error":"#N/A"}},{"$f":"$G48*INDEX('Unit of measures'!$A$7:$R$24,MATCH(J$4,'Unit of measures'!$A$7:$A$24,0),MATCH($F48,'Unit of measures'!$A$7:$R$7,0))","v":{"$error":"#N/A"}},{"$f":"$G48*INDEX('Unit of measures'!$A$7:$R$24,MATCH(K$4,'Unit of measures'!$A$7:$A$24,0),MATCH($F48,'Unit of measures'!$A$7:$R$7,0))","v":{"$error":"#N/A"}},{"$f":"$G48*INDEX('Unit of measures'!$A$7:$R$24,MATCH(L$4,'Unit of measures'!$A$7:$A$24,0),MATCH($F48,'Unit of measures'!$A$7:$R$7,0))","v":{"$error":"#N/A"}},{"$f":"$G48*INDEX('Unit of measures'!$A$7:$R$24,MATCH(M$4,'Unit of measures'!$A$7:$A$24,0),MATCH($F48,'Unit of measures'!$A$7:$R$7,0))","v":{"$error":"#N/A"}},{"$f":"$G48*INDEX('Unit of measures'!$A$7:$R$24,MATCH(N$4,'Unit of measures'!$A$7:$A$24,0),MATCH($F48,'Unit of measures'!$A$7:$R$7,0))","v":{"$error":"#N/A"}},{"$f":"$G48*INDEX('Unit of measures'!$A$7:$R$24,MATCH(O$4,'Unit of measures'!$A$7:$A$24,0),MATCH($F48,'Unit of measures'!$A$7:$R$7,0))","v":{"$error":"#N/A"}},{"$f":"$G48*INDEX('Unit of measures'!$A$7:$R$24,MATCH(P$4,'Unit of measures'!$A$7:$A$24,0),MATCH($F48,'Unit of measures'!$A$7:$R$7,0))","v":{"$error":"#N/A"}},null,null,{"$f":"$R48*INDEX('Unit of measures'!$A$7:$R$24,MATCH(S$4,'Unit of measures'!$A$7:$A$24,0),MATCH($Q48,'Unit of measures'!$A$7:$R$7,0))","v":{"$error":"#N/A"}},{"$f":"$R48*INDEX('Unit of measures'!$A$7:$R$24,MATCH(T$4,'Unit of measures'!$A$7:$A$24,0),MATCH($Q48,'Unit of measures'!$A$7:$R$7,0))","v":{"$error":"#N/A"}},{"$f":"$R48*INDEX('Unit of measures'!$A$7:$R$24,MATCH(U$4,'Unit of measures'!$A$7:$A$24,0),MATCH($Q48,'Unit of measures'!$A$7:$R$7,0))","v":{"$error":"#N/A"}},{"$f":"$R48*INDEX('Unit of measures'!$A$7:$R$24,MATCH(V$4,'Unit of measures'!$A$7:$A$24,0),MATCH($Q48,'Unit of measures'!$A$7:$R$7,0))","v":{"$error":"#N/A"}},{"$f":"$R48*INDEX('Unit of measures'!$A$7:$R$24,MATCH(W$4,'Unit of measures'!$A$7:$A$24,0),MATCH($Q48,'Unit of measures'!$A$7:$R$7,0))","v":{"$error":"#N/A"}},"Each"]
[null,null,null,null,"",null,null,{"$f":"$G49*INDEX('Unit of measures'!$A$7:$R$24,MATCH(H$4,'Unit of measures'!$A$7:$A$24,0),MATCH($F49,'Unit of measures'!$A$7:$R$7,0))","v":{"$error":"#N/A"}},{"$f":"$G49*INDEX('Unit of measures'!$A$7:$R$24,MATCH(I$4,'Unit of measures'!$A$7:$A$24,0),MATCH($F49,'Unit of measures'!$A$7:$R$7,0))","v":{"$error":"#N/A"}},{"$f":"$G49*INDEX('Unit of measures'!$A$7:$R$24,MATCH(J$4,'Unit of measures'!$A$7:$A$24,0),MATCH($F49,'Unit of measures'!$A$7:$R$7,0))","v":{"$error":"#N/A"}},{"$f":"$G49*INDEX('Unit of measures'!$A$7:$R$24,MATCH(K$4,'Unit of measures'!$A$7:$A$24,0),MATCH($F49,'Unit of measures'!$A$7:$R$7,0))","v":{"$error":"#N/A"}},{"$f":"$G49*INDEX('Unit of measures'!$A$7:$R$24,MATCH(L$4,'Unit of measures'!$A$7:$A$24,0),MATCH($F49,'Unit of measures'!$A$7:$R$7,0))","v":{"$error":"#N/A"}},{"$f":"$G49*INDEX('Unit of measures'!$A$7:$R$24,MATCH(M$4,'Unit of measures'!$A$7:$A$24,0),MATCH($F49,'Unit of measures'!$A$7:$R$7,0))","v":{"$error":"#N/A"}},{"$f":"$G49*INDEX('Unit of measures'!$A$7:$R$24,MATCH(N$4,'Unit of measures'!$A$7:$A$24,0),MATCH($F49,'Unit of measures'!$A$7:$R$7,0))","v":{"$error":"#N/A"}},{"$f":"$G49*INDEX('Unit of measures'!$A$7:$R$24,MATCH(O$4,'Unit of measures'!$A$7:$A$24,0),MATCH($F49,'Unit of measures'!$A$7:$R$7,0))","v":{"$error":"#N/A"}},{"$f":"$G49*INDEX('Unit of measures'!$A$7:$R$24,MATCH(P$4,'Unit of measures'!$A$7:$A$24,0),MATCH($F49,'Unit of measures'!$A$7:$R$7,0))","v":{"$error":"#N/A"}},null,null,{"$f":"$R49*INDEX('Unit of measures'!$A$7:$R$24,MATCH(S$4,'Unit of measures'!$A$7:$A$24,0),MATCH($Q49,'Unit of measures'!$A$7:$R$7,0))","v":{"$error":"#N/A"}},{"$f":"$R49*INDEX('Unit of measures'!$A$7:$R$24,MATCH(T$4,'Unit of measures'!$A$7:$A$24,0),MATCH($Q49,'Unit of measures'!$A$7:$R$7,0))","v":{"$error":"#N/A"}},{"$f":"$R49*INDEX('Unit of measures'!$A$7:$R$24,MATCH(U$4,'Unit of measures'!$A$7:$A$24,0),MATCH($Q49,'Unit of measures'!$A$7:$R$7,0))","v":{"$error":"#N/A"}},{"$f":"$R49*INDEX('Unit of measures'!$A$7:$R$24,MATCH(V$4,'Unit of measures'!$A$7:$A$24,0),MATCH($Q49,'Unit of measures'!$A$7:$R$7,0))","v":{"$error":"#N/A"}},{"$f":"$R49*INDEX('Unit of measures'!$A$7:$R$24,MATCH(W$4,'Unit of measures'!$A$7:$A$24,0),MATCH($Q49,'Unit of measures'!$A$7:$R$7,0))","v":{"$error":"#N/A"}},"Each"]
[null,null,null,null,"",null,null,{"$f":"$G50*INDEX('Unit of measures'!$A$7:$R$24,MATCH(H$4,'Unit of measures'!$A$7:$A$24,0),MATCH($F50,'Unit of measures'!$A$7:$R$7,0))","v":{"$error":"#N/A"}},{"$f":"$G50*INDEX('Unit of measures'!$A$7:$R$24,MATCH(I$4,'Unit of measures'!$A$7:$A$24,0),MATCH($F50,'Unit of measures'!$A$7:$R$7,0))","v":{"$error":"#N/A"}},{"$f":"$G50*INDEX('Unit of measures'!$A$7:$R$24,MATCH(J$4,'Unit of measures'!$A$7:$A$24,0),MATCH($F50,'Unit of measures'!$A$7:$R$7,0))","v":{"$error":"#N/A"}},{"$f":"$G50*INDEX('Unit of measures'!$A$7:$R$24,MATCH(K$4,'Unit of measures'!$A$7:$A$24,0),MATCH($F50,'Unit of measures'!$A$7:$R$7,0))","v":{"$error":"#N/A"}},{"$f":"$G50*INDEX('Unit of measures'!$A$7:$R$24,MATCH(L$4,'Unit of measures'!$A$7:$A$24,0),MATCH($F50,'Unit of measures'!$A$7:$R$7,0))","v":{"$error":"#N/A"}},{"$f":"$G50*INDEX('Unit of measures'!$A$7:$R$24,MATCH(M$4,'Unit of measures'!$A$7:$A$24,0),MATCH($F50,'Unit of measures'!$A$7:$R$7,0))","v":{"$error":"#N/A"}},{"$f":"$G50*INDEX('Unit of measures'!$A$7:$R$24,MATCH(N$4,'Unit of measures'!$A$7:$A$24,0),MATCH($F50,'Unit of measures'!$A$7:$R$7,0))","v":{"$error":"#N/A"}},{"$f":"$G50*INDEX('Unit of measures'!$A$7:$R$24,MATCH(O$4,'Unit of measures'!$A$7:$A$24,0),MATCH($F50,'Unit of measures'!$A$7:$R$7,0))","v":{"$error":"#N/A"}},{"$f":"$G50*INDEX('Unit of measures'!$A$7:$R$24,MATCH(P$4,'Unit of measures'!$A$7:$A$24,0),MATCH($F50,'Unit of measures'!$A$7:$R$7,0))","v":{"$error":"#N/A"}},null,null,{"$f":"$R50*INDEX('Unit of measures'!$A$7:$R$24,MATCH(S$4,'Unit of measures'!$A$7:$A$24,0),MATCH($Q50,'Unit of measures'!$A$7:$R$7,0))","v":{"$error":"#N/A"}},{"$f":"$R50*INDEX('Unit of measures'!$A$7:$R$24,MATCH(T$4,'Unit of measures'!$A$7:$A$24,0),MATCH($Q50,'Unit of measures'!$A$7:$R$7,0))","v":{"$error":"#N/A"}},{"$f":"$R50*INDEX('Unit of measures'!$A$7:$R$24,MATCH(U$4,'Unit of measures'!$A$7:$A$24,0),MATCH($Q50,'Unit of measures'!$A$7:$R$7,0))","v":{"$error":"#N/A"}},{"$f":"$R50*INDEX('Unit of measures'!$A$7:$R$24,MATCH(V$4,'Unit of measures'!$A$7:$A$24,0),MATCH($Q50,'Unit of measures'!$A$7:$R$7,0))","v":{"$error":"#N/A"}},{"$f":"$R50*INDEX('Unit of measures'!$A$7:$R$24,MATCH(W$4,'Unit of measures'!$A$7:$A$24,0),MATCH($Q50,'Unit of measures'!$A$7:$R$7,0))","v":{"$error":"#N/A"}},"Each"]
[null,null,null,null,"",null,null,{"$f":"$G51*INDEX('Unit of measures'!$A$7:$R$24,MATCH(H$4,'Unit of measures'!$A$7:$A$24,0),MATCH($F51,'Unit of measures'!$A$7:$R$7,0))","v":{"$error":"#N/A"}},{"$f":"$G51*INDEX('Unit of measures'!$A$7:$R$24,MATCH(I$4,'Unit of measures'!$A$7:$A$24,0),MATCH($F51,'Unit of measures'!$A$7:$R$7,0))","v":{"$error":"#N/A"}},{"$f":"$G51*INDEX('Unit of measures'!$A$7:$R$24,MATCH(J$4,'Unit of measures'!$A$7:$A$24,0),MATCH($F51,'Unit of measures'!$A$7:$R$7,0))","v":{"$error":"#N/A"}},{"$f":"$G51*INDEX('Unit of measures'!$A$7:$R$24,MATCH(K$4,'Unit of measures'!$A$7:$A$24,0),MATCH($F51,'Unit of measures'!$A$7:$R$7,0))","v":{"$error":"#N/A"}},{"$f":"$G51*INDEX('Unit of measures'!$A$7:$R$24,MATCH(L$4,'Unit of measures'!$A$7:$A$24,0),MATCH($F51,'Unit of measures'!$A$7:$R$7,0))","v":{"$error":"#N/A"}},{"$f":"$G51*INDEX('Unit of measures'!$A$7:$R$24,MATCH(M$4,'Unit of measures'!$A$7:$A$24,0),MATCH($F51,'Unit of measures'!$A$7:$R$7,0))","v":{"$error":"#N/A"}},{"$f":"$G51*INDEX('Unit of measures'!$A$7:$R$24,MATCH(N$4,'Unit of measures'!$A$7:$A$24,0),MATCH($F51,'Unit of measures'!$A$7:$R$7,0))","v":{"$error":"#N/A"}},{"$f":"$G51*INDEX('Unit of measures'!$A$7:$R$24,MATCH(O$4,'Unit of measures'!$A$7:$A$24,0),MATCH($F51,'Unit of measures'!$A$7:$R$7,0))","v":{"$error":"#N/A"}},{"$f":"$G51*INDEX('Unit of measures'!$A$7:$R$24,MATCH(P$4,'Unit of measures'!$A$7:$A$24,0),MATCH($F51,'Unit of measures'!$A$7:$R$7,0))","v":{"$error":"#N/A"}},null,null,{"$f":"$R51*INDEX('Unit of measures'!$A$7:$R$24,MATCH(S$4,'Unit of measures'!$A$7:$A$24,0),MATCH($Q51,'Unit of measures'!$A$7:$R$7,0))","v":{"$error":"#N/A"}},{"$f":"$R51*INDEX('Unit of measures'!$A$7:$R$24,MATCH(T$4,'Unit of measures'!$A$7:$A$24,0),MATCH($Q51,'Unit of measures'!$A$7:$R$7,0))","v":{"$error":"#N/A"}},{"$f":"$R51*INDEX('Unit of measures'!$A$7:$R$24,MATCH(U$4,'Unit of measures'!$A$7:$A$24,0),MATCH($Q51,'Unit of measures'!$A$7:$R$7,0))","v":{"$error":"#N/A"}},{"$f":"$R51*INDEX('Unit of measures'!$A$7:$R$24,MATCH(V$4,'Unit of measures'!$A$7:$A$24,0),MATCH($Q51,'Unit of measures'!$A$7:$R$7,0))","v":{"$error":"#N/A"}},{"$f":"$R51*INDEX('Unit of measures'!$A$7:$R$24,MATCH(W$4,'Unit of measures'!$A$7:$A$24,0),MATCH($Q51,'Unit of measures'!$A$7:$R$7,0))","v":{"$error":"#N/A"}},"Each"]
[null,null,null,null,"",null,null,{"$f":"$G52*INDEX('Unit of measures'!$A$7:$R$24,MATCH(H$4,'Unit of measures'!$A$7:$A$24,0),MATCH($F52,'Unit of measures'!$A$7:$R$7,0))","v":{"$error":"#N/A"}},{"$f":"$G52*INDEX('Unit of measures'!$A$7:$R$24,MATCH(I$4,'Unit of measures'!$A$7:$A$24,0),MATCH($F52,'Unit of measures'!$A$7:$R$7,0))","v":{"$error":"#N/A"}},{"$f":"$G52*INDEX('Unit of measures'!$A$7:$R$24,MATCH(J$4,'Unit of measures'!$A$7:$A$24,0),MATCH($F52,'Unit of measures'!$A$7:$R$7,0))","v":{"$error":"#N/A"}},{"$f":"$G52*INDEX('Unit of measures'!$A$7:$R$24,MATCH(K$4,'Unit of measures'!$A$7:$A$24,0),MATCH($F52,'Unit of measures'!$A$7:$R$7,0))","v":{"$error":"#N/A"}},{"$f":"$G52*INDEX('Unit of measures'!$A$7:$R$24,MATCH(L$4,'Unit of measures'!$A$7:$A$24,0),MATCH($F52,'Unit of measures'!$A$7:$R$7,0))","v":{"$error":"#N/A"}},{"$f":"$G52*INDEX('Unit of measures'!$A$7:$R$24,MATCH(M$4,'Unit of measures'!$A$7:$A$24,0),MATCH($F52,'Unit of measures'!$A$7:$R$7,0))","v":{"$error":"#N/A"}},{"$f":"$G52*INDEX('Unit of measures'!$A$7:$R$24,MATCH(N$4,'Unit of measures'!$A$7:$A$24,0),MATCH($F52,'Unit of measures'!$A$7:$R$7,0))","v":{"$error":"#N/A"}},{"$f":"$G52*INDEX('Unit of measures'!$A$7:$R$24,MATCH(O$4,'Unit of measures'!$A$7:$A$24,0),MATCH($F52,'Unit of measures'!$A$7:$R$7,0))","v":{"$error":"#N/A"}},{"$f":"$G52*INDEX('Unit of measures'!$A$7:$R$24,MATCH(P$4,'Unit of measures'!$A$7:$A$24,0),MATCH($F52,'Unit of measures'!$A$7:$R$7,0))","v":{"$error":"#N/A"}},null,null,{"$f":"$R52*INDEX('Unit of measures'!$A$7:$R$24,MATCH(S$4,'Unit of measures'!$A$7:$A$24,0),MATCH($Q52,'Unit of measures'!$A$7:$R$7,0))","v":{"$error":"#N/A"}},{"$f":"$R52*INDEX('Unit of measures'!$A$7:$R$24,MATCH(T$4,'Unit of measures'!$A$7:$A$24,0),MATCH($Q52,'Unit of measures'!$A$7:$R$7,0))","v":{"$error":"#N/A"}},{"$f":"$R52*INDEX('Unit of measures'!$A$7:$R$24,MATCH(U$4,'Unit of measures'!$A$7:$A$24,0),MATCH($Q52,'Unit of measures'!$A$7:$R$7,0))","v":{"$error":"#N/A"}},{"$f":"$R52*INDEX('Unit of measures'!$A$7:$R$24,MATCH(V$4,'Unit of measures'!$A$7:$A$24,0),MATCH($Q52,'Unit of measures'!$A$7:$R$7,0))","v":{"$error":"#N/A"}},{"$f":"$R52*INDEX('Unit of measures'!$A$7:$R$24,MATCH(W$4,'Unit of measures'!$A$7:$A$24,0),MATCH($Q52,'Unit of measures'!$A$7:$R$7,0))","v":{"$error":"#N/A"}},"Each"]
[null,null,null,null,"",null,null,{"$f":"$G53*INDEX('Unit of measures'!$A$7:$R$24,MATCH(H$4,'Unit of measures'!$A$7:$A$24,0),MATCH($F53,'Unit of measures'!$A$7:$R$7,0))","v":{"$error":"#N/A"}},{"$f":"$G53*INDEX('Unit of measures'!$A$7:$R$24,MATCH(I$4,'Unit of measures'!$A$7:$A$24,0),MATCH($F53,'Unit of measures'!$A$7:$R$7,0))","v":{"$error":"#N/A"}},{"$f":"$G53*INDEX('Unit of measures'!$A$7:$R$24,MATCH(J$4,'Unit of measures'!$A$7:$A$24,0),MATCH($F53,'Unit of measures'!$A$7:$R$7,0))","v":{"$error":"#N/A"}},{"$f":"$G53*INDEX('Unit of measures'!$A$7:$R$24,MATCH(K$4,'Unit of measures'!$A$7:$A$24,0),MATCH($F53,'Unit of measures'!$A$7:$R$7,0))","v":{"$error":"#N/A"}},{"$f":"$G53*INDEX('Unit of measures'!$A$7:$R$24,MATCH(L$4,'Unit of measures'!$A$7:$A$24,0),MATCH($F53,'Unit of measures'!$A$7:$R$7,0))","v":{"$error":"#N/A"}},{"$f":"$G53*INDEX('Unit of measures'!$A$7:$R$24,MATCH(M$4,'Unit of measures'!$A$7:$A$24,0),MATCH($F53,'Unit of measures'!$A$7:$R$7,0))","v":{"$error":"#N/A"}},{"$f":"$G53*INDEX('Unit of measures'!$A$7:$R$24,MATCH(N$4,'Unit of measures'!$A$7:$A$24,0),MATCH($F53,'Unit of measures'!$A$7:$R$7,0))","v":{"$error":"#N/A"}},{"$f":"$G53*INDEX('Unit of measures'!$A$7:$R$24,MATCH(O$4,'Unit of measures'!$A$7:$A$24,0),MATCH($F53,'Unit of measures'!$A$7:$R$7,0))","v":{"$error":"#N/A"}},{"$f":"$G53*INDEX('Unit of measures'!$A$7:$R$24,MATCH(P$4,'Unit of measures'!$A$7:$A$24,0),MATCH($F53,'Unit of measures'!$A$7:$R$7,0))","v":{"$error":"#N/A"}},null,null,{"$f":"$R53*INDEX('Unit of measures'!$A$7:$R$24,MATCH(S$4,'Unit of measures'!$A$7:$A$24,0),MATCH($Q53,'Unit of measures'!$A$7:$R$7,0))","v":{"$error":"#N/A"}},{"$f":"$R53*INDEX('Unit of measures'!$A$7:$R$24,MATCH(T$4,'Unit of measures'!$A$7:$A$24,0),MATCH($Q53,'Unit of measures'!$A$7:$R$7,0))","v":{"$error":"#N/A"}},{"$f":"$R53*INDEX('Unit of measures'!$A$7:$R$24,MATCH(U$4,'Unit of measures'!$A$7:$A$24,0),MATCH($Q53,'Unit of measures'!$A$7:$R$7,0))","v":{"$error":"#N/A"}},{"$f":"$R53*INDEX('Unit of measures'!$A$7:$R$24,MATCH(V$4,'Unit of measures'!$A$7:$A$24,0),MATCH($Q53,'Unit of measures'!$A$7:$R$7,0))","v":{"$error":"#N/A"}},{"$f":"$R53*INDEX('Unit of measures'!$A$7:$R$24,MATCH(W$4,'Unit of measures'!$A$7:$A$24,0),MATCH($Q53,'Unit of measures'!$A$7:$R$7,0))","v":{"$error":"#N/A"}},"Each"]
[null,null,null,null,"",null,null,{"$f":"$G54*INDEX('Unit of measures'!$A$7:$R$24,MATCH(H$4,'Unit of measures'!$A$7:$A$24,0),MATCH($F54,'Unit of measures'!$A$7:$R$7,0))","v":{"$error":"#N/A"}},{"$f":"$G54*INDEX('Unit of measures'!$A$7:$R$24,MATCH(I$4,'Unit of measures'!$A$7:$A$24,0),MATCH($F54,'Unit of measures'!$A$7:$R$7,0))","v":{"$error":"#N/A"}},{"$f":"$G54*INDEX('Unit of measures'!$A$7:$R$24,MATCH(J$4,'Unit of measures'!$A$7:$A$24,0),MATCH($F54,'Unit of measures'!$A$7:$R$7,0))","v":{"$error":"#N/A"}},{"$f":"$G54*INDEX('Unit of measures'!$A$7:$R$24,MATCH(K$4,'Unit of measures'!$A$7:$A$24,0),MATCH($F54,'Unit of measures'!$A$7:$R$7,0))","v":{"$error":"#N/A"}},{"$f":"$G54*INDEX('Unit of measures'!$A$7:$R$24,MATCH(L$4,'Unit of measures'!$A$7:$A$24,0),MATCH($F54,'Unit of measures'!$A$7:$R$7,0))","v":{"$error":"#N/A"}},{"$f":"$G54*INDEX('Unit of measures'!$A$7:$R$24,MATCH(M$4,'Unit of measures'!$A$7:$A$24,0),MATCH($F54,'Unit of measures'!$A$7:$R$7,0))","v":{"$error":"#N/A"}},{"$f":"$G54*INDEX('Unit of measures'!$A$7:$R$24,MATCH(N$4,'Unit of measures'!$A$7:$A$24,0),MATCH($F54,'Unit of measures'!$A$7:$R$7,0))","v":{"$error":"#N/A"}},{"$f":"$G54*INDEX('Unit of measures'!$A$7:$R$24,MATCH(O$4,'Unit of measures'!$A$7:$A$24,0),MATCH($F54,'Unit of measures'!$A$7:$R$7,0))","v":{"$error":"#N/A"}},{"$f":"$G54*INDEX('Unit of measures'!$A$7:$R$24,MATCH(P$4,'Unit of measures'!$A$7:$A$24,0),MATCH($F54,'Unit of measures'!$A$7:$R$7,0))","v":{"$error":"#N/A"}},null,null,{"$f":"$R54*INDEX('Unit of measures'!$A$7:$R$24,MATCH(S$4,'Unit of measures'!$A$7:$A$24,0),MATCH($Q54,'Unit of measures'!$A$7:$R$7,0))","v":{"$error":"#N/A"}},{"$f":"$R54*INDEX('Unit of measures'!$A$7:$R$24,MATCH(T$4,'Unit of measures'!$A$7:$A$24,0),MATCH($Q54,'Unit of measures'!$A$7:$R$7,0))","v":{"$error":"#N/A"}},{"$f":"$R54*INDEX('Unit of measures'!$A$7:$R$24,MATCH(U$4,'Unit of measures'!$A$7:$A$24,0),MATCH($Q54,'Unit of measures'!$A$7:$R$7,0))","v":{"$error":"#N/A"}},{"$f":"$R54*INDEX('Unit of measures'!$A$7:$R$24,MATCH(V$4,'Unit of measures'!$A$7:$A$24,0),MATCH($Q54,'Unit of measures'!$A$7:$R$7,0))","v":{"$error":"#N/A"}},{"$f":"$R54*INDEX('Unit of measures'!$A$7:$R$24,MATCH(W$4,'Unit of measures'!$A$7:$A$24,0),MATCH($Q54,'Unit of measures'!$A$7:$R$7,0))","v":{"$error":"#N/A"}},"Each"]
[null,null,null,null,"",null,null,{"$f":"$G55*INDEX('Unit of measures'!$A$7:$R$24,MATCH(H$4,'Unit of measures'!$A$7:$A$24,0),MATCH($F55,'Unit of measures'!$A$7:$R$7,0))","v":{"$error":"#N/A"}},{"$f":"$G55*INDEX('Unit of measures'!$A$7:$R$24,MATCH(I$4,'Unit of measures'!$A$7:$A$24,0),MATCH($F55,'Unit of measures'!$A$7:$R$7,0))","v":{"$error":"#N/A"}},{"$f":"$G55*INDEX('Unit of measures'!$A$7:$R$24,MATCH(J$4,'Unit of measures'!$A$7:$A$24,0),MATCH($F55,'Unit of measures'!$A$7:$R$7,0))","v":{"$error":"#N/A"}},{"$f":"$G55*INDEX('Unit of measures'!$A$7:$R$24,MATCH(K$4,'Unit of measures'!$A$7:$A$24,0),MATCH($F55,'Unit of measures'!$A$7:$R$7,0))","v":{"$error":"#N/A"}},{"$f":"$G55*INDEX('Unit of measures'!$A$7:$R$24,MATCH(L$4,'Unit of measures'!$A$7:$A$24,0),MATCH($F55,'Unit of measures'!$A$7:$R$7,0))","v":{"$error":"#N/A"}},{"$f":"$G55*INDEX('Unit of measures'!$A$7:$R$24,MATCH(M$4,'Unit of measures'!$A$7:$A$24,0),MATCH($F55,'Unit of measures'!$A$7:$R$7,0))","v":{"$error":"#N/A"}},{"$f":"$G55*INDEX('Unit of measures'!$A$7:$R$24,MATCH(N$4,'Unit of measures'!$A$7:$A$24,0),MATCH($F55,'Unit of measures'!$A$7:$R$7,0))","v":{"$error":"#N/A"}},{"$f":"$G55*INDEX('Unit of measures'!$A$7:$R$24,MATCH(O$4,'Unit of measures'!$A$7:$A$24,0),MATCH($F55,'Unit of measures'!$A$7:$R$7,0))","v":{"$error":"#N/A"}},{"$f":"$G55*INDEX('Unit of measures'!$A$7:$R$24,MATCH(P$4,'Unit of measures'!$A$7:$A$24,0),MATCH($F55,'Unit of measures'!$A$7:$R$7,0))","v":{"$error":"#N/A"}},null,null,{"$f":"$R55*INDEX('Unit of measures'!$A$7:$R$24,MATCH(S$4,'Unit of measures'!$A$7:$A$24,0),MATCH($Q55,'Unit of measures'!$A$7:$R$7,0))","v":{"$error":"#N/A"}},{"$f":"$R55*INDEX('Unit of measures'!$A$7:$R$24,MATCH(T$4,'Unit of measures'!$A$7:$A$24,0),MATCH($Q55,'Unit of measures'!$A$7:$R$7,0))","v":{"$error":"#N/A"}},{"$f":"$R55*INDEX('Unit of measures'!$A$7:$R$24,MATCH(U$4,'Unit of measures'!$A$7:$A$24,0),MATCH($Q55,'Unit of measures'!$A$7:$R$7,0))","v":{"$error":"#N/A"}},{"$f":"$R55*INDEX('Unit of measures'!$A$7:$R$24,MATCH(V$4,'Unit of measures'!$A$7:$A$24,0),MATCH($Q55,'Unit of measures'!$A$7:$R$7,0))","v":{"$error":"#N/A"}},{"$f":"$R55*INDEX('Unit of measures'!$A$7:$R$24,MATCH(W$4,'Unit of measures'!$A$7:$A$24,0),MATCH($Q55,'Unit of measures'!$A$7:$R$7,0))","v":{"$error":"#N/A"}},"Each"]
[null,null,null,null,"",null,null,{"$f":"$G56*INDEX('Unit of measures'!$A$7:$R$24,MATCH(H$4,'Unit of measures'!$A$7:$A$24,0),MATCH($F56,'Unit of measures'!$A$7:$R$7,0))","v":{"$error":"#N/A"}},{"$f":"$G56*INDEX('Unit of measures'!$A$7:$R$24,MATCH(I$4,'Unit of measures'!$A$7:$A$24,0),MATCH($F56,'Unit of measures'!$A$7:$R$7,0))","v":{"$error":"#N/A"}},{"$f":"$G56*INDEX('Unit of measures'!$A$7:$R$24,MATCH(J$4,'Unit of measures'!$A$7:$A$24,0),MATCH($F56,'Unit of measures'!$A$7:$R$7,0))","v":{"$error":"#N/A"}},{"$f":"$G56*INDEX('Unit of measures'!$A$7:$R$24,MATCH(K$4,'Unit of measures'!$A$7:$A$24,0),MATCH($F56,'Unit of measures'!$A$7:$R$7,0))","v":{"$error":"#N/A"}},{"$f":"$G56*INDEX('Unit of measures'!$A$7:$R$24,MATCH(L$4,'Unit of measures'!$A$7:$A$24,0),MATCH($F56,'Unit of measures'!$A$7:$R$7,0))","v":{"$error":"#N/A"}},{"$f":"$G56*INDEX('Unit of measures'!$A$7:$R$24,MATCH(M$4,'Unit of measures'!$A$7:$A$24,0),MATCH($F56,'Unit of measures'!$A$7:$R$7,0))","v":{"$error":"#N/A"}},{"$f":"$G56*INDEX('Unit of measures'!$A$7:$R$24,MATCH(N$4,'Unit of measures'!$A$7:$A$24,0),MATCH($F56,'Unit of measures'!$A$7:$R$7,0))","v":{"$error":"#N/A"}},{"$f":"$G56*INDEX('Unit of measures'!$A$7:$R$24,MATCH(O$4,'Unit of measures'!$A$7:$A$24,0),MATCH($F56,'Unit of measures'!$A$7:$R$7,0))","v":{"$error":"#N/A"}},{"$f":"$G56*INDEX('Unit of measures'!$A$7:$R$24,MATCH(P$4,'Unit of measures'!$A$7:$A$24,0),MATCH($F56,'Unit of measures'!$A$7:$R$7,0))","v":{"$error":"#N/A"}},null,null,{"$f":"$R56*INDEX('Unit of measures'!$A$7:$R$24,MATCH(S$4,'Unit of measures'!$A$7:$A$24,0),MATCH($Q56,'Unit of measures'!$A$7:$R$7,0))","v":{"$error":"#N/A"}},{"$f":"$R56*INDEX('Unit of measures'!$A$7:$R$24,MATCH(T$4,'Unit of measures'!$A$7:$A$24,0),MATCH($Q56,'Unit of measures'!$A$7:$R$7,0))","v":{"$error":"#N/A"}},{"$f":"$R56*INDEX('Unit of measures'!$A$7:$R$24,MATCH(U$4,'Unit of measures'!$A$7:$A$24,0),MATCH($Q56,'Unit of measures'!$A$7:$R$7,0))","v":{"$error":"#N/A"}},{"$f":"$R56*INDEX('Unit of measures'!$A$7:$R$24,MATCH(V$4,'Unit of measures'!$A$7:$A$24,0),MATCH($Q56,'Unit of measures'!$A$7:$R$7,0))","v":{"$error":"#N/A"}},{"$f":"$R56*INDEX('Unit of measures'!$A$7:$R$24,MATCH(W$4,'Unit of measures'!$A$7:$A$24,0),MATCH($Q56,'Unit of measures'!$A$7:$R$7,0))","v":{"$error":"#N/A"}},"Each"]
[null,null,null,null,"",null,null,{"$f":"$G57*INDEX('Unit of measures'!$A$7:$R$24,MATCH(H$4,'Unit of measures'!$A$7:$A$24,0),MATCH($F57,'Unit of measures'!$A$7:$R$7,0))","v":{"$error":"#N/A"}},{"$f":"$G57*INDEX('Unit of measures'!$A$7:$R$24,MATCH(I$4,'Unit of measures'!$A$7:$A$24,0),MATCH($F57,'Unit of measures'!$A$7:$R$7,0))","v":{"$error":"#N/A"}},{"$f":"$G57*INDEX('Unit of measures'!$A$7:$R$24,MATCH(J$4,'Unit of measures'!$A$7:$A$24,0),MATCH($F57,'Unit of measures'!$A$7:$R$7,0))","v":{"$error":"#N/A"}},{"$f":"$G57*INDEX('Unit of measures'!$A$7:$R$24,MATCH(K$4,'Unit of measures'!$A$7:$A$24,0),MATCH($F57,'Unit of measures'!$A$7:$R$7,0))","v":{"$error":"#N/A"}},{"$f":"$G57*INDEX('Unit of measures'!$A$7:$R$24,MATCH(L$4,'Unit of measures'!$A$7:$A$24,0),MATCH($F57,'Unit of measures'!$A$7:$R$7,0))","v":{"$error":"#N/A"}},{"$f":"$G57*INDEX('Unit of measures'!$A$7:$R$24,MATCH(M$4,'Unit of measures'!$A$7:$A$24,0),MATCH($F57,'Unit of measures'!$A$7:$R$7,0))","v":{"$error":"#N/A"}},{"$f":"$G57*INDEX('Unit of measures'!$A$7:$R$24,MATCH(N$4,'Unit of measures'!$A$7:$A$24,0),MATCH($F57,'Unit of measures'!$A$7:$R$7,0))","v":{"$error":"#N/A"}},{"$f":"$G57*INDEX('Unit of measures'!$A$7:$R$24,MATCH(O$4,'Unit of measures'!$A$7:$A$24,0),MATCH($F57,'Unit of measures'!$A$7:$R$7,0))","v":{"$error":"#N/A"}},{"$f":"$G57*INDEX('Unit of measures'!$A$7:$R$24,MATCH(P$4,'Unit of measures'!$A$7:$A$24,0),MATCH($F57,'Unit of measures'!$A$7:$R$7,0))","v":{"$error":"#N/A"}},null,null,{"$f":"$R57*INDEX('Unit of measures'!$A$7:$R$24,MATCH(S$4,'Unit of measures'!$A$7:$A$24,0),MATCH($Q57,'Unit of measures'!$A$7:$R$7,0))","v":{"$error":"#N/A"}},{"$f":"$R57*INDEX('Unit of measures'!$A$7:$R$24,MATCH(T$4,'Unit of measures'!$A$7:$A$24,0),MATCH($Q57,'Unit of measures'!$A$7:$R$7,0))","v":{"$error":"#N/A"}},{"$f":"$R57*INDEX('Unit of measures'!$A$7:$R$24,MATCH(U$4,'Unit of measures'!$A$7:$A$24,0),MATCH($Q57,'Unit of measures'!$A$7:$R$7,0))","v":{"$error":"#N/A"}},{"$f":"$R57*INDEX('Unit of measures'!$A$7:$R$24,MATCH(V$4,'Unit of measures'!$A$7:$A$24,0),MATCH($Q57,'Unit of measures'!$A$7:$R$7,0))","v":{"$error":"#N/A"}},{"$f":"$R57*INDEX('Unit of measures'!$A$7:$R$24,MATCH(W$4,'Unit of measures'!$A$7:$A$24,0),MATCH($Q57,'Unit of measures'!$A$7:$R$7,0))","v":{"$error":"#N/A"}},"Each"]
[null,null,null,null,"",null,null,{"$f":"$G58*INDEX('Unit of measures'!$A$7:$R$24,MATCH(H$4,'Unit of measures'!$A$7:$A$24,0),MATCH($F58,'Unit of measures'!$A$7:$R$7,0))","v":{"$error":"#N/A"}},{"$f":"$G58*INDEX('Unit of measures'!$A$7:$R$24,MATCH(I$4,'Unit of measures'!$A$7:$A$24,0),MATCH($F58,'Unit of measures'!$A$7:$R$7,0))","v":{"$error":"#N/A"}},{"$f":"$G58*INDEX('Unit of measures'!$A$7:$R$24,MATCH(J$4,'Unit of measures'!$A$7:$A$24,0),MATCH($F58,'Unit of measures'!$A$7:$R$7,0))","v":{"$error":"#N/A"}},{"$f":"$G58*INDEX('Unit of measures'!$A$7:$R$24,MATCH(K$4,'Unit of measures'!$A$7:$A$24,0),MATCH($F58,'Unit of measures'!$A$7:$R$7,0))","v":{"$error":"#N/A"}},{"$f":"$G58*INDEX('Unit of measures'!$A$7:$R$24,MATCH(L$4,'Unit of measures'!$A$7:$A$24,0),MATCH($F58,'Unit of measures'!$A$7:$R$7,0))","v":{"$error":"#N/A"}},{"$f":"$G58*INDEX('Unit of measures'!$A$7:$R$24,MATCH(M$4,'Unit of measures'!$A$7:$A$24,0),MATCH($F58,'Unit of measures'!$A$7:$R$7,0))","v":{"$error":"#N/A"}},{"$f":"$G58*INDEX('Unit of measures'!$A$7:$R$24,MATCH(N$4,'Unit of measures'!$A$7:$A$24,0),MATCH($F58,'Unit of measures'!$A$7:$R$7,0))","v":{"$error":"#N/A"}},{"$f":"$G58*INDEX('Unit of measures'!$A$7:$R$24,MATCH(O$4,'Unit of measures'!$A$7:$A$24,0),MATCH($F58,'Unit of measures'!$A$7:$R$7,0))","v":{"$error":"#N/A"}},{"$f":"$G58*INDEX('Unit of measures'!$A$7:$R$24,MATCH(P$4,'Unit of measures'!$A$7:$A$24,0),MATCH($F58,'Unit of measures'!$A$7:$R$7,0))","v":{"$error":"#N/A"}},null,null,{"$f":"$R58*INDEX('Unit of measures'!$A$7:$R$24,MATCH(S$4,'Unit of measures'!$A$7:$A$24,0),MATCH($Q58,'Unit of measures'!$A$7:$R$7,0))","v":{"$error":"#N/A"}},{"$f":"$R58*INDEX('Unit of measures'!$A$7:$R$24,MATCH(T$4,'Unit of measures'!$A$7:$A$24,0),MATCH($Q58,'Unit of measures'!$A$7:$R$7,0))","v":{"$error":"#N/A"}},{"$f":"$R58*INDEX('Unit of measures'!$A$7:$R$24,MATCH(U$4,'Unit of measures'!$A$7:$A$24,0),MATCH($Q58,'Unit of measures'!$A$7:$R$7,0))","v":{"$error":"#N/A"}},{"$f":"$R58*INDEX('Unit of measures'!$A$7:$R$24,MATCH(V$4,'Unit of measures'!$A$7:$A$24,0),MATCH($Q58,'Unit of measures'!$A$7:$R$7,0))","v":{"$error":"#N/A"}},{"$f":"$R58*INDEX('Unit of measures'!$A$7:$R$24,MATCH(W$4,'Unit of measures'!$A$7:$A$24,0),MATCH($Q58,'Unit of measures'!$A$7:$R$7,0))","v":{"$error":"#N/A"}},"Each"]
[null,null,null,null,"",null,null,{"$f":"$G59*INDEX('Unit of measures'!$A$7:$R$24,MATCH(H$4,'Unit of measures'!$A$7:$A$24,0),MATCH($F59,'Unit of measures'!$A$7:$R$7,0))","v":{"$error":"#N/A"}},{"$f":"$G59*INDEX('Unit of measures'!$A$7:$R$24,MATCH(I$4,'Unit of measures'!$A$7:$A$24,0),MATCH($F59,'Unit of measures'!$A$7:$R$7,0))","v":{"$error":"#N/A"}},{"$f":"$G59*INDEX('Unit of measures'!$A$7:$R$24,MATCH(J$4,'Unit of measures'!$A$7:$A$24,0),MATCH($F59,'Unit of measures'!$A$7:$R$7,0))","v":{"$error":"#N/A"}},{"$f":"$G59*INDEX('Unit of measures'!$A$7:$R$24,MATCH(K$4,'Unit of measures'!$A$7:$A$24,0),MATCH($F59,'Unit of measures'!$A$7:$R$7,0))","v":{"$error":"#N/A"}},{"$f":"$G59*INDEX('Unit of measures'!$A$7:$R$24,MATCH(L$4,'Unit of measures'!$A$7:$A$24,0),MATCH($F59,'Unit of measures'!$A$7:$R$7,0))","v":{"$error":"#N/A"}},{"$f":"$G59*INDEX('Unit of measures'!$A$7:$R$24,MATCH(M$4,'Unit of measures'!$A$7:$A$24,0),MATCH($F59,'Unit of measures'!$A$7:$R$7,0))","v":{"$error":"#N/A"}},{"$f":"$G59*INDEX('Unit of measures'!$A$7:$R$24,MATCH(N$4,'Unit of measures'!$A$7:$A$24,0),MATCH($F59,'Unit of measures'!$A$7:$R$7,0))","v":{"$error":"#N/A"}},{"$f":"$G59*INDEX('Unit of measures'!$A$7:$R$24,MATCH(O$4,'Unit of measures'!$A$7:$A$24,0),MATCH($F59,'Unit of measures'!$A$7:$R$7,0))","v":{"$error":"#N/A"}},{"$f":"$G59*INDEX('Unit of measures'!$A$7:$R$24,MATCH(P$4,'Unit of measures'!$A$7:$A$24,0),MATCH($F59,'Unit of measures'!$A$7:$R$7,0))","v":{"$error":"#N/A"}},null,null,{"$f":"$R59*INDEX('Unit of measures'!$A$7:$R$24,MATCH(S$4,'Unit of measures'!$A$7:$A$24,0),MATCH($Q59,'Unit of measures'!$A$7:$R$7,0))","v":{"$error":"#N/A"}},{"$f":"$R59*INDEX('Unit of measures'!$A$7:$R$24,MATCH(T$4,'Unit of measures'!$A$7:$A$24,0),MATCH($Q59,'Unit of measures'!$A$7:$R$7,0))","v":{"$error":"#N/A"}},{"$f":"$R59*INDEX('Unit of measures'!$A$7:$R$24,MATCH(U$4,'Unit of measures'!$A$7:$A$24,0),MATCH($Q59,'Unit of measures'!$A$7:$R$7,0))","v":{"$error":"#N/A"}},{"$f":"$R59*INDEX('Unit of measures'!$A$7:$R$24,MATCH(V$4,'Unit of measures'!$A$7:$A$24,0),MATCH($Q59,'Unit of measures'!$A$7:$R$7,0))","v":{"$error":"#N/A"}},{"$f":"$R59*INDEX('Unit of measures'!$A$7:$R$24,MATCH(W$4,'Unit of measures'!$A$7:$A$24,0),MATCH($Q59,'Unit of measures'!$A$7:$R$7,0))","v":{"$error":"#N/A"}},"Each"]
[null,null,null,null,"",null,null,{"$f":"$G60*INDEX('Unit of measures'!$A$7:$R$24,MATCH(H$4,'Unit of measures'!$A$7:$A$24,0),MATCH($F60,'Unit of measures'!$A$7:$R$7,0))","v":{"$error":"#N/A"}},{"$f":"$G60*INDEX('Unit of measures'!$A$7:$R$24,MATCH(I$4,'Unit of measures'!$A$7:$A$24,0),MATCH($F60,'Unit of measures'!$A$7:$R$7,0))","v":{"$error":"#N/A"}},{"$f":"$G60*INDEX('Unit of measures'!$A$7:$R$24,MATCH(J$4,'Unit of measures'!$A$7:$A$24,0),MATCH($F60,'Unit of measures'!$A$7:$R$7,0))","v":{"$error":"#N/A"}},{"$f":"$G60*INDEX('Unit of measures'!$A$7:$R$24,MATCH(K$4,'Unit of measures'!$A$7:$A$24,0),MATCH($F60,'Unit of measures'!$A$7:$R$7,0))","v":{"$error":"#N/A"}},{"$f":"$G60*INDEX('Unit of measures'!$A$7:$R$24,MATCH(L$4,'Unit of measures'!$A$7:$A$24,0),MATCH($F60,'Unit of measures'!$A$7:$R$7,0))","v":{"$error":"#N/A"}},{"$f":"$G60*INDEX('Unit of measures'!$A$7:$R$24,MATCH(M$4,'Unit of measures'!$A$7:$A$24,0),MATCH($F60,'Unit of measures'!$A$7:$R$7,0))","v":{"$error":"#N/A"}},{"$f":"$G60*INDEX('Unit of measures'!$A$7:$R$24,MATCH(N$4,'Unit of measures'!$A$7:$A$24,0),MATCH($F60,'Unit of measures'!$A$7:$R$7,0))","v":{"$error":"#N/A"}},{"$f":"$G60*INDEX('Unit of measures'!$A$7:$R$24,MATCH(O$4,'Unit of measures'!$A$7:$A$24,0),MATCH($F60,'Unit of measures'!$A$7:$R$7,0))","v":{"$error":"#N/A"}},{"$f":"$G60*INDEX('Unit of measures'!$A$7:$R$24,MATCH(P$4,'Unit of measures'!$A$7:$A$24,0),MATCH($F60,'Unit of measures'!$A$7:$R$7,0))","v":{"$error":"#N/A"}},null,null,{"$f":"$R60*INDEX('Unit of measures'!$A$7:$R$24,MATCH(S$4,'Unit of measures'!$A$7:$A$24,0),MATCH($Q60,'Unit of measures'!$A$7:$R$7,0))","v":{"$error":"#N/A"}},{"$f":"$R60*INDEX('Unit of measures'!$A$7:$R$24,MATCH(T$4,'Unit of measures'!$A$7:$A$24,0),MATCH($Q60,'Unit of measures'!$A$7:$R$7,0))","v":{"$error":"#N/A"}},{"$f":"$R60*INDEX('Unit of measures'!$A$7:$R$24,MATCH(U$4,'Unit of measures'!$A$7:$A$24,0),MATCH($Q60,'Unit of measures'!$A$7:$R$7,0))","v":{"$error":"#N/A"}},{"$f":"$R60*INDEX('Unit of measures'!$A$7:$R$24,MATCH(V$4,'Unit of measures'!$A$7:$A$24,0),MATCH($Q60,'Unit of measures'!$A$7:$R$7,0))","v":{"$error":"#N/A"}},{"$f":"$R60*INDEX('Unit of measures'!$A$7:$R$24,MATCH(W$4,'Unit of measures'!$A$7:$A$24,0),MATCH($Q60,'Unit of measures'!$A$7:$R$7,0))","v":{"$error":"#N/A"}},"Each"]
[null,null,null,null,"",null,null,{"$f":"$G61*INDEX('Unit of measures'!$A$7:$R$24,MATCH(H$4,'Unit of measures'!$A$7:$A$24,0),MATCH($F61,'Unit of measures'!$A$7:$R$7,0))","v":{"$error":"#N/A"}},{"$f":"$G61*INDEX('Unit of measures'!$A$7:$R$24,MATCH(I$4,'Unit of measures'!$A$7:$A$24,0),MATCH($F61,'Unit of measures'!$A$7:$R$7,0))","v":{"$error":"#N/A"}},{"$f":"$G61*INDEX('Unit of measures'!$A$7:$R$24,MATCH(J$4,'Unit of measures'!$A$7:$A$24,0),MATCH($F61,'Unit of measures'!$A$7:$R$7,0))","v":{"$error":"#N/A"}},{"$f":"$G61*INDEX('Unit of measures'!$A$7:$R$24,MATCH(K$4,'Unit of measures'!$A$7:$A$24,0),MATCH($F61,'Unit of measures'!$A$7:$R$7,0))","v":{"$error":"#N/A"}},{"$f":"$G61*INDEX('Unit of measures'!$A$7:$R$24,MATCH(L$4,'Unit of measures'!$A$7:$A$24,0),MATCH($F61,'Unit of measures'!$A$7:$R$7,0))","v":{"$error":"#N/A"}},{"$f":"$G61*INDEX('Unit of measures'!$A$7:$R$24,MATCH(M$4,'Unit of measures'!$A$7:$A$24,0),MATCH($F61,'Unit of measures'!$A$7:$R$7,0))","v":{"$error":"#N/A"}},{"$f":"$G61*INDEX('Unit of measures'!$A$7:$R$24,MATCH(N$4,'Unit of measures'!$A$7:$A$24,0),MATCH($F61,'Unit of measures'!$A$7:$R$7,0))","v":{"$error":"#N/A"}},{"$f":"$G61*INDEX('Unit of measures'!$A$7:$R$24,MATCH(O$4,'Unit of measures'!$A$7:$A$24,0),MATCH($F61,'Unit of measures'!$A$7:$R$7,0))","v":{"$error":"#N/A"}},{"$f":"$G61*INDEX('Unit of measures'!$A$7:$R$24,MATCH(P$4,'Unit of measures'!$A$7:$A$24,0),MATCH($F61,'Unit of measures'!$A$7:$R$7,0))","v":{"$error":"#N/A"}},null,null,{"$f":"$R61*INDEX('Unit of measures'!$A$7:$R$24,MATCH(S$4,'Unit of measures'!$A$7:$A$24,0),MATCH($Q61,'Unit of measures'!$A$7:$R$7,0))","v":{"$error":"#N/A"}},{"$f":"$R61*INDEX('Unit of measures'!$A$7:$R$24,MATCH(T$4,'Unit of measures'!$A$7:$A$24,0),MATCH($Q61,'Unit of measures'!$A$7:$R$7,0))","v":{"$error":"#N/A"}},{"$f":"$R61*INDEX('Unit of measures'!$A$7:$R$24,MATCH(U$4,'Unit of measures'!$A$7:$A$24,0),MATCH($Q61,'Unit of measures'!$A$7:$R$7,0))","v":{"$error":"#N/A"}},{"$f":"$R61*INDEX('Unit of measures'!$A$7:$R$24,MATCH(V$4,'Unit of measures'!$A$7:$A$24,0),MATCH($Q61,'Unit of measures'!$A$7:$R$7,0))","v":{"$error":"#N/A"}},{"$f":"$R61*INDEX('Unit of measures'!$A$7:$R$24,MATCH(W$4,'Unit of measures'!$A$7:$A$24,0),MATCH($Q61,'Unit of measures'!$A$7:$R$7,0))","v":{"$error":"#N/A"}},"Each"]
[null,null,null,null,"",null,null,{"$f":"$G62*INDEX('Unit of measures'!$A$7:$R$24,MATCH(H$4,'Unit of measures'!$A$7:$A$24,0),MATCH($F62,'Unit of measures'!$A$7:$R$7,0))","v":{"$error":"#N/A"}},{"$f":"$G62*INDEX('Unit of measures'!$A$7:$R$24,MATCH(I$4,'Unit of measures'!$A$7:$A$24,0),MATCH($F62,'Unit of measures'!$A$7:$R$7,0))","v":{"$error":"#N/A"}},{"$f":"$G62*INDEX('Unit of measures'!$A$7:$R$24,MATCH(J$4,'Unit of measures'!$A$7:$A$24,0),MATCH($F62,'Unit of measures'!$A$7:$R$7,0))","v":{"$error":"#N/A"}},{"$f":"$G62*INDEX('Unit of measures'!$A$7:$R$24,MATCH(K$4,'Unit of measures'!$A$7:$A$24,0),MATCH($F62,'Unit of measures'!$A$7:$R$7,0))","v":{"$error":"#N/A"}},{"$f":"$G62*INDEX('Unit of measures'!$A$7:$R$24,MATCH(L$4,'Unit of measures'!$A$7:$A$24,0),MATCH($F62,'Unit of measures'!$A$7:$R$7,0))","v":{"$error":"#N/A"}},{"$f":"$G62*INDEX('Unit of measures'!$A$7:$R$24,MATCH(M$4,'Unit of measures'!$A$7:$A$24,0),MATCH($F62,'Unit of measures'!$A$7:$R$7,0))","v":{"$error":"#N/A"}},{"$f":"$G62*INDEX('Unit of measures'!$A$7:$R$24,MATCH(N$4,'Unit of measures'!$A$7:$A$24,0),MATCH($F62,'Unit of measures'!$A$7:$R$7,0))","v":{"$error":"#N/A"}},{"$f":"$G62*INDEX('Unit of measures'!$A$7:$R$24,MATCH(O$4,'Unit of measures'!$A$7:$A$24,0),MATCH($F62,'Unit of measures'!$A$7:$R$7,0))","v":{"$error":"#N/A"}},{"$f":"$G62*INDEX('Unit of measures'!$A$7:$R$24,MATCH(P$4,'Unit of measures'!$A$7:$A$24,0),MATCH($F62,'Unit of measures'!$A$7:$R$7,0))","v":{"$error":"#N/A"}},null,null,{"$f":"$R62*INDEX('Unit of measures'!$A$7:$R$24,MATCH(S$4,'Unit of measures'!$A$7:$A$24,0),MATCH($Q62,'Unit of measures'!$A$7:$R$7,0))","v":{"$error":"#N/A"}},{"$f":"$R62*INDEX('Unit of measures'!$A$7:$R$24,MATCH(T$4,'Unit of measures'!$A$7:$A$24,0),MATCH($Q62,'Unit of measures'!$A$7:$R$7,0))","v":{"$error":"#N/A"}},{"$f":"$R62*INDEX('Unit of measures'!$A$7:$R$24,MATCH(U$4,'Unit of measures'!$A$7:$A$24,0),MATCH($Q62,'Unit of measures'!$A$7:$R$7,0))","v":{"$error":"#N/A"}},{"$f":"$R62*INDEX('Unit of measures'!$A$7:$R$24,MATCH(V$4,'Unit of measures'!$A$7:$A$24,0),MATCH($Q62,'Unit of measures'!$A$7:$R$7,0))","v":{"$error":"#N/A"}},{"$f":"$R62*INDEX('Unit of measures'!$A$7:$R$24,MATCH(W$4,'Unit of measures'!$A$7:$A$24,0),MATCH($Q62,'Unit of measures'!$A$7:$R$7,0))","v":{"$error":"#N/A"}},"Each"]
[null,null,null,null,"",null,null,{"$f":"$G63*INDEX('Unit of measures'!$A$7:$R$24,MATCH(H$4,'Unit of measures'!$A$7:$A$24,0),MATCH($F63,'Unit of measures'!$A$7:$R$7,0))","v":{"$error":"#N/A"}},{"$f":"$G63*INDEX('Unit of measures'!$A$7:$R$24,MATCH(I$4,'Unit of measures'!$A$7:$A$24,0),MATCH($F63,'Unit of measures'!$A$7:$R$7,0))","v":{"$error":"#N/A"}},{"$f":"$G63*INDEX('Unit of measures'!$A$7:$R$24,MATCH(J$4,'Unit of measures'!$A$7:$A$24,0),MATCH($F63,'Unit of measures'!$A$7:$R$7,0))","v":{"$error":"#N/A"}},{"$f":"$G63*INDEX('Unit of measures'!$A$7:$R$24,MATCH(K$4,'Unit of measures'!$A$7:$A$24,0),MATCH($F63,'Unit of measures'!$A$7:$R$7,0))","v":{"$error":"#N/A"}},{"$f":"$G63*INDEX('Unit of measures'!$A$7:$R$24,MATCH(L$4,'Unit of measures'!$A$7:$A$24,0),MATCH($F63,'Unit of measures'!$A$7:$R$7,0))","v":{"$error":"#N/A"}},{"$f":"$G63*INDEX('Unit of measures'!$A$7:$R$24,MATCH(M$4,'Unit of measures'!$A$7:$A$24,0),MATCH($F63,'Unit of measures'!$A$7:$R$7,0))","v":{"$error":"#N/A"}},{"$f":"$G63*INDEX('Unit of measures'!$A$7:$R$24,MATCH(N$4,'Unit of measures'!$A$7:$A$24,0),MATCH($F63,'Unit of measures'!$A$7:$R$7,0))","v":{"$error":"#N/A"}},{"$f":"$G63*INDEX('Unit of measures'!$A$7:$R$24,MATCH(O$4,'Unit of measures'!$A$7:$A$24,0),MATCH($F63,'Unit of measures'!$A$7:$R$7,0))","v":{"$error":"#N/A"}},{"$f":"$G63*INDEX('Unit of measures'!$A$7:$R$24,MATCH(P$4,'Unit of measures'!$A$7:$A$24,0),MATCH($F63,'Unit of measures'!$A$7:$R$7,0))","v":{"$error":"#N/A"}},null,null,{"$f":"$R63*INDEX('Unit of measures'!$A$7:$R$24,MATCH(S$4,'Unit of measures'!$A$7:$A$24,0),MATCH($Q63,'Unit of measures'!$A$7:$R$7,0))","v":{"$error":"#N/A"}},{"$f":"$R63*INDEX('Unit of measures'!$A$7:$R$24,MATCH(T$4,'Unit of measures'!$A$7:$A$24,0),MATCH($Q63,'Unit of measures'!$A$7:$R$7,0))","v":{"$error":"#N/A"}},{"$f":"$R63*INDEX('Unit of measures'!$A$7:$R$24,MATCH(U$4,'Unit of measures'!$A$7:$A$24,0),MATCH($Q63,'Unit of measures'!$A$7:$R$7,0))","v":{"$error":"#N/A"}},{"$f":"$R63*INDEX('Unit of measures'!$A$7:$R$24,MATCH(V$4,'Unit of measures'!$A$7:$A$24,0),MATCH($Q63,'Unit of measures'!$A$7:$R$7,0))","v":{"$error":"#N/A"}},{"$f":"$R63*INDEX('Unit of measures'!$A$7:$R$24,MATCH(W$4,'Unit of measures'!$A$7:$A$24,0),MATCH($Q63,'Unit of measures'!$A$7:$R$7,0))","v":{"$error":"#N/A"}},"Each"]
[null,null,null,null,"",null,null,{"$f":"$G64*INDEX('Unit of measures'!$A$7:$R$24,MATCH(H$4,'Unit of measures'!$A$7:$A$24,0),MATCH($F64,'Unit of measures'!$A$7:$R$7,0))","v":{"$error":"#N/A"}},{"$f":"$G64*INDEX('Unit of measures'!$A$7:$R$24,MATCH(I$4,'Unit of measures'!$A$7:$A$24,0),MATCH($F64,'Unit of measures'!$A$7:$R$7,0))","v":{"$error":"#N/A"}},{"$f":"$G64*INDEX('Unit of measures'!$A$7:$R$24,MATCH(J$4,'Unit of measures'!$A$7:$A$24,0),MATCH($F64,'Unit of measures'!$A$7:$R$7,0))","v":{"$error":"#N/A"}},{"$f":"$G64*INDEX('Unit of measures'!$A$7:$R$24,MATCH(K$4,'Unit of measures'!$A$7:$A$24,0),MATCH($F64,'Unit of measures'!$A$7:$R$7,0))","v":{"$error":"#N/A"}},{"$f":"$G64*INDEX('Unit of measures'!$A$7:$R$24,MATCH(L$4,'Unit of measures'!$A$7:$A$24,0),MATCH($F64,'Unit of measures'!$A$7:$R$7,0))","v":{"$error":"#N/A"}},{"$f":"$G64*INDEX('Unit of measures'!$A$7:$R$24,MATCH(M$4,'Unit of measures'!$A$7:$A$24,0),MATCH($F64,'Unit of measures'!$A$7:$R$7,0))","v":{"$error":"#N/A"}},{"$f":"$G64*INDEX('Unit of measures'!$A$7:$R$24,MATCH(N$4,'Unit of measures'!$A$7:$A$24,0),MATCH($F64,'Unit of measures'!$A$7:$R$7,0))","v":{"$error":"#N/A"}},{"$f":"$G64*INDEX('Unit of measures'!$A$7:$R$24,MATCH(O$4,'Unit of measures'!$A$7:$A$24,0),MATCH($F64,'Unit of measures'!$A$7:$R$7,0))","v":{"$error":"#N/A"}},{"$f":"$G64*INDEX('Unit of measures'!$A$7:$R$24,MATCH(P$4,'Unit of measures'!$A$7:$A$24,0),MATCH($F64,'Unit of measures'!$A$7:$R$7,0))","v":{"$error":"#N/A"}},null,null,{"$f":"$R64*INDEX('Unit of measures'!$A$7:$R$24,MATCH(S$4,'Unit of measures'!$A$7:$A$24,0),MATCH($Q64,'Unit of measures'!$A$7:$R$7,0))","v":{"$error":"#N/A"}},{"$f":"$R64*INDEX('Unit of measures'!$A$7:$R$24,MATCH(T$4,'Unit of measures'!$A$7:$A$24,0),MATCH($Q64,'Unit of measures'!$A$7:$R$7,0))","v":{"$error":"#N/A"}},{"$f":"$R64*INDEX('Unit of measures'!$A$7:$R$24,MATCH(U$4,'Unit of measures'!$A$7:$A$24,0),MATCH($Q64,'Unit of measures'!$A$7:$R$7,0))","v":{"$error":"#N/A"}},{"$f":"$R64*INDEX('Unit of measures'!$A$7:$R$24,MATCH(V$4,'Unit of measures'!$A$7:$A$24,0),MATCH($Q64,'Unit of measures'!$A$7:$R$7,0))","v":{"$error":"#N/A"}},{"$f":"$R64*INDEX('Unit of measures'!$A$7:$R$24,MATCH(W$4,'Unit of measures'!$A$7:$A$24,0),MATCH($Q64,'Unit of measures'!$A$7:$R$7,0))","v":{"$error":"#N/A"}},"Each"]
[null,null,null,null,"",null,null,{"$f":"$G65*INDEX('Unit of measures'!$A$7:$R$24,MATCH(H$4,'Unit of measures'!$A$7:$A$24,0),MATCH($F65,'Unit of measures'!$A$7:$R$7,0))","v":{"$error":"#N/A"}},{"$f":"$G65*INDEX('Unit of measures'!$A$7:$R$24,MATCH(I$4,'Unit of measures'!$A$7:$A$24,0),MATCH($F65,'Unit of measures'!$A$7:$R$7,0))","v":{"$error":"#N/A"}},{"$f":"$G65*INDEX('Unit of measures'!$A$7:$R$24,MATCH(J$4,'Unit of measures'!$A$7:$A$24,0),MATCH($F65,'Unit of measures'!$A$7:$R$7,0))","v":{"$error":"#N/A"}},{"$f":"$G65*INDEX('Unit of measures'!$A$7:$R$24,MATCH(K$4,'Unit of measures'!$A$7:$A$24,0),MATCH($F65,'Unit of measures'!$A$7:$R$7,0))","v":{"$error":"#N/A"}},{"$f":"$G65*INDEX('Unit of measures'!$A$7:$R$24,MATCH(L$4,'Unit of measures'!$A$7:$A$24,0),MATCH($F65,'Unit of measures'!$A$7:$R$7,0))","v":{"$error":"#N/A"}},{"$f":"$G65*INDEX('Unit of measures'!$A$7:$R$24,MATCH(M$4,'Unit of measures'!$A$7:$A$24,0),MATCH($F65,'Unit of measures'!$A$7:$R$7,0))","v":{"$error":"#N/A"}},{"$f":"$G65*INDEX('Unit of measures'!$A$7:$R$24,MATCH(N$4,'Unit of measures'!$A$7:$A$24,0),MATCH($F65,'Unit of measures'!$A$7:$R$7,0))","v":{"$error":"#N/A"}},{"$f":"$G65*INDEX('Unit of measures'!$A$7:$R$24,MATCH(O$4,'Unit of measures'!$A$7:$A$24,0),MATCH($F65,'Unit of measures'!$A$7:$R$7,0))","v":{"$error":"#N/A"}},{"$f":"$G65*INDEX('Unit of measures'!$A$7:$R$24,MATCH(P$4,'Unit of measures'!$A$7:$A$24,0),MATCH($F65,'Unit of measures'!$A$7:$R$7,0))","v":{"$error":"#N/A"}},null,null,{"$f":"$R65*INDEX('Unit of measures'!$A$7:$R$24,MATCH(S$4,'Unit of measures'!$A$7:$A$24,0),MATCH($Q65,'Unit of measures'!$A$7:$R$7,0))","v":{"$error":"#N/A"}},{"$f":"$R65*INDEX('Unit of measures'!$A$7:$R$24,MATCH(T$4,'Unit of measures'!$A$7:$A$24,0),MATCH($Q65,'Unit of measures'!$A$7:$R$7,0))","v":{"$error":"#N/A"}},{"$f":"$R65*INDEX('Unit of measures'!$A$7:$R$24,MATCH(U$4,'Unit of measures'!$A$7:$A$24,0),MATCH($Q65,'Unit of measures'!$A$7:$R$7,0))","v":{"$error":"#N/A"}},{"$f":"$R65*INDEX('Unit of measures'!$A$7:$R$24,MATCH(V$4,'Unit of measures'!$A$7:$A$24,0),MATCH($Q65,'Unit of measures'!$A$7:$R$7,0))","v":{"$error":"#N/A"}},{"$f":"$R65*INDEX('Unit of measures'!$A$7:$R$24,MATCH(W$4,'Unit of measures'!$A$7:$A$24,0),MATCH($Q65,'Unit of measures'!$A$7:$R$7,0))","v":{"$error":"#N/A"}},"Each"]
[null,null,null,null,"",null,null,{"$f":"$G66*INDEX('Unit of measures'!$A$7:$R$24,MATCH(H$4,'Unit of measures'!$A$7:$A$24,0),MATCH($F66,'Unit of measures'!$A$7:$R$7,0))","v":{"$error":"#N/A"}},{"$f":"$G66*INDEX('Unit of measures'!$A$7:$R$24,MATCH(I$4,'Unit of measures'!$A$7:$A$24,0),MATCH($F66,'Unit of measures'!$A$7:$R$7,0))","v":{"$error":"#N/A"}},{"$f":"$G66*INDEX('Unit of measures'!$A$7:$R$24,MATCH(J$4,'Unit of measures'!$A$7:$A$24,0),MATCH($F66,'Unit of measures'!$A$7:$R$7,0))","v":{"$error":"#N/A"}},{"$f":"$G66*INDEX('Unit of measures'!$A$7:$R$24,MATCH(K$4,'Unit of measures'!$A$7:$A$24,0),MATCH($F66,'Unit of measures'!$A$7:$R$7,0))","v":{"$error":"#N/A"}},{"$f":"$G66*INDEX('Unit of measures'!$A$7:$R$24,MATCH(L$4,'Unit of measures'!$A$7:$A$24,0),MATCH($F66,'Unit of measures'!$A$7:$R$7,0))","v":{"$error":"#N/A"}},{"$f":"$G66*INDEX('Unit of measures'!$A$7:$R$24,MATCH(M$4,'Unit of measures'!$A$7:$A$24,0),MATCH($F66,'Unit of measures'!$A$7:$R$7,0))","v":{"$error":"#N/A"}},{"$f":"$G66*INDEX('Unit of measures'!$A$7:$R$24,MATCH(N$4,'Unit of measures'!$A$7:$A$24,0),MATCH($F66,'Unit of measures'!$A$7:$R$7,0))","v":{"$error":"#N/A"}},{"$f":"$G66*INDEX('Unit of measures'!$A$7:$R$24,MATCH(O$4,'Unit of measures'!$A$7:$A$24,0),MATCH($F66,'Unit of measures'!$A$7:$R$7,0))","v":{"$error":"#N/A"}},{"$f":"$G66*INDEX('Unit of measures'!$A$7:$R$24,MATCH(P$4,'Unit of measures'!$A$7:$A$24,0),MATCH($F66,'Unit of measures'!$A$7:$R$7,0))","v":{"$error":"#N/A"}},null,null,{"$f":"$R66*INDEX('Unit of measures'!$A$7:$R$24,MATCH(S$4,'Unit of measures'!$A$7:$A$24,0),MATCH($Q66,'Unit of measures'!$A$7:$R$7,0))","v":{"$error":"#N/A"}},{"$f":"$R66*INDEX('Unit of measures'!$A$7:$R$24,MATCH(T$4,'Unit of measures'!$A$7:$A$24,0),MATCH($Q66,'Unit of measures'!$A$7:$R$7,0))","v":{"$error":"#N/A"}},{"$f":"$R66*INDEX('Unit of measures'!$A$7:$R$24,MATCH(U$4,'Unit of measures'!$A$7:$A$24,0),MATCH($Q66,'Unit of measures'!$A$7:$R$7,0))","v":{"$error":"#N/A"}},{"$f":"$R66*INDEX('Unit of measures'!$A$7:$R$24,MATCH(V$4,'Unit of measures'!$A$7:$A$24,0),MATCH($Q66,'Unit of measures'!$A$7:$R$7,0))","v":{"$error":"#N/A"}},{"$f":"$R66*INDEX('Unit of measures'!$A$7:$R$24,MATCH(W$4,'Unit of measures'!$A$7:$A$24,0),MATCH($Q66,'Unit of measures'!$A$7:$R$7,0))","v":{"$error":"#N/A"}},"Each"]
[null,null,null,null,"",null,null,{"$f":"$G67*INDEX('Unit of measures'!$A$7:$R$24,MATCH(H$4,'Unit of measures'!$A$7:$A$24,0),MATCH($F67,'Unit of measures'!$A$7:$R$7,0))","v":{"$error":"#N/A"}},{"$f":"$G67*INDEX('Unit of measures'!$A$7:$R$24,MATCH(I$4,'Unit of measures'!$A$7:$A$24,0),MATCH($F67,'Unit of measures'!$A$7:$R$7,0))","v":{"$error":"#N/A"}},{"$f":"$G67*INDEX('Unit of measures'!$A$7:$R$24,MATCH(J$4,'Unit of measures'!$A$7:$A$24,0),MATCH($F67,'Unit of measures'!$A$7:$R$7,0))","v":{"$error":"#N/A"}},{"$f":"$G67*INDEX('Unit of measures'!$A$7:$R$24,MATCH(K$4,'Unit of measures'!$A$7:$A$24,0),MATCH($F67,'Unit of measures'!$A$7:$R$7,0))","v":{"$error":"#N/A"}},{"$f":"$G67*INDEX('Unit of measures'!$A$7:$R$24,MATCH(L$4,'Unit of measures'!$A$7:$A$24,0),MATCH($F67,'Unit of measures'!$A$7:$R$7,0))","v":{"$error":"#N/A"}},{"$f":"$G67*INDEX('Unit of measures'!$A$7:$R$24,MATCH(M$4,'Unit of measures'!$A$7:$A$24,0),MATCH($F67,'Unit of measures'!$A$7:$R$7,0))","v":{"$error":"#N/A"}},{"$f":"$G67*INDEX('Unit of measures'!$A$7:$R$24,MATCH(N$4,'Unit of measures'!$A$7:$A$24,0),MATCH($F67,'Unit of measures'!$A$7:$R$7,0))","v":{"$error":"#N/A"}},{"$f":"$G67*INDEX('Unit of measures'!$A$7:$R$24,MATCH(O$4,'Unit of measures'!$A$7:$A$24,0),MATCH($F67,'Unit of measures'!$A$7:$R$7,0))","v":{"$error":"#N/A"}},{"$f":"$G67*INDEX('Unit of measures'!$A$7:$R$24,MATCH(P$4,'Unit of measures'!$A$7:$A$24,0),MATCH($F67,'Unit of measures'!$A$7:$R$7,0))","v":{"$error":"#N/A"}},null,null,{"$f":"$R67*INDEX('Unit of measures'!$A$7:$R$24,MATCH(S$4,'Unit of measures'!$A$7:$A$24,0),MATCH($Q67,'Unit of measures'!$A$7:$R$7,0))","v":{"$error":"#N/A"}},{"$f":"$R67*INDEX('Unit of measures'!$A$7:$R$24,MATCH(T$4,'Unit of measures'!$A$7:$A$24,0),MATCH($Q67,'Unit of measures'!$A$7:$R$7,0))","v":{"$error":"#N/A"}},{"$f":"$R67*INDEX('Unit of measures'!$A$7:$R$24,MATCH(U$4,'Unit of measures'!$A$7:$A$24,0),MATCH($Q67,'Unit of measures'!$A$7:$R$7,0))","v":{"$error":"#N/A"}},{"$f":"$R67*INDEX('Unit of measures'!$A$7:$R$24,MATCH(V$4,'Unit of measures'!$A$7:$A$24,0),MATCH($Q67,'Unit of measures'!$A$7:$R$7,0))","v":{"$error":"#N/A"}},{"$f":"$R67*INDEX('Unit of measures'!$A$7:$R$24,MATCH(W$4,'Unit of measures'!$A$7:$A$24,0),MATCH($Q67,'Unit of measures'!$A$7:$R$7,0))","v":{"$error":"#N/A"}},"Each"]
[null,null,null,null,"",null,null,{"$f":"$G68*INDEX('Unit of measures'!$A$7:$R$24,MATCH(H$4,'Unit of measures'!$A$7:$A$24,0),MATCH($F68,'Unit of measures'!$A$7:$R$7,0))","v":{"$error":"#N/A"}},{"$f":"$G68*INDEX('Unit of measures'!$A$7:$R$24,MATCH(I$4,'Unit of measures'!$A$7:$A$24,0),MATCH($F68,'Unit of measures'!$A$7:$R$7,0))","v":{"$error":"#N/A"}},{"$f":"$G68*INDEX('Unit of measures'!$A$7:$R$24,MATCH(J$4,'Unit of measures'!$A$7:$A$24,0),MATCH($F68,'Unit of measures'!$A$7:$R$7,0))","v":{"$error":"#N/A"}},{"$f":"$G68*INDEX('Unit of measures'!$A$7:$R$24,MATCH(K$4,'Unit of measures'!$A$7:$A$24,0),MATCH($F68,'Unit of measures'!$A$7:$R$7,0))","v":{"$error":"#N/A"}},{"$f":"$G68*INDEX('Unit of measures'!$A$7:$R$24,MATCH(L$4,'Unit of measures'!$A$7:$A$24,0),MATCH($F68,'Unit of measures'!$A$7:$R$7,0))","v":{"$error":"#N/A"}},{"$f":"$G68*INDEX('Unit of measures'!$A$7:$R$24,MATCH(M$4,'Unit of measures'!$A$7:$A$24,0),MATCH($F68,'Unit of measures'!$A$7:$R$7,0))","v":{"$error":"#N/A"}},{"$f":"$G68*INDEX('Unit of measures'!$A$7:$R$24,MATCH(N$4,'Unit of measures'!$A$7:$A$24,0),MATCH($F68,'Unit of measures'!$A$7:$R$7,0))","v":{"$error":"#N/A"}},{"$f":"$G68*INDEX('Unit of measures'!$A$7:$R$24,MATCH(O$4,'Unit of measures'!$A$7:$A$24,0),MATCH($F68,'Unit of measures'!$A$7:$R$7,0))","v":{"$error":"#N/A"}},{"$f":"$G68*INDEX('Unit of measures'!$A$7:$R$24,MATCH(P$4,'Unit of measures'!$A$7:$A$24,0),MATCH($F68,'Unit of measures'!$A$7:$R$7,0))","v":{"$error":"#N/A"}},null,null,{"$f":"$R68*INDEX('Unit of measures'!$A$7:$R$24,MATCH(S$4,'Unit of measures'!$A$7:$A$24,0),MATCH($Q68,'Unit of measures'!$A$7:$R$7,0))","v":{"$error":"#N/A"}},{"$f":"$R68*INDEX('Unit of measures'!$A$7:$R$24,MATCH(T$4,'Unit of measures'!$A$7:$A$24,0),MATCH($Q68,'Unit of measures'!$A$7:$R$7,0))","v":{"$error":"#N/A"}},{"$f":"$R68*INDEX('Unit of measures'!$A$7:$R$24,MATCH(U$4,'Unit of measures'!$A$7:$A$24,0),MATCH($Q68,'Unit of measures'!$A$7:$R$7,0))","v":{"$error":"#N/A"}},{"$f":"$R68*INDEX('Unit of measures'!$A$7:$R$24,MATCH(V$4,'Unit of measures'!$A$7:$A$24,0),MATCH($Q68,'Unit of measures'!$A$7:$R$7,0))","v":{"$error":"#N/A"}},{"$f":"$R68*INDEX('Unit of measures'!$A$7:$R$24,MATCH(W$4,'Unit of measures'!$A$7:$A$24,0),MATCH($Q68,'Unit of measures'!$A$7:$R$7,0))","v":{"$error":"#N/A"}},"Each"]
[null,null,null,null,{"$f":"IFERROR(D69/B69,\"\")","v":""},null,null,{"$f":"$G69*INDEX('Unit of measures'!$A$7:$R$24,MATCH(H$4,'Unit of measures'!$A$7:$A$24,0),MATCH($F69,'Unit of measures'!$A$7:$R$7,0))","v":{"$error":"#N/A"}},{"$f":"$G69*INDEX('Unit of measures'!$A$7:$R$24,MATCH(I$4,'Unit of measures'!$A$7:$A$24,0),MATCH($F69,'Unit of measures'!$A$7:$R$7,0))","v":{"$error":"#N/A"}},{"$f":"$G69*INDEX('Unit of measures'!$A$7:$R$24,MATCH(J$4,'Unit of measures'!$A$7:$A$24,0),MATCH($F69,'Unit of measures'!$A$7:$R$7,0))","v":{"$error":"#N/A"}},{"$f":"$G69*INDEX('Unit of measures'!$A$7:$R$24,MATCH(K$4,'Unit of measures'!$A$7:$A$24,0),MATCH($F69,'Unit of measures'!$A$7:$R$7,0))","v":{"$error":"#N/A"}},{"$f":"$G69*INDEX('Unit of measures'!$A$7:$R$24,MATCH(L$4,'Unit of measures'!$A$7:$A$24,0),MATCH($F69,'Unit of measures'!$A$7:$R$7,0))","v":{"$error":"#N/A"}},{"$f":"$G69*INDEX('Unit of measures'!$A$7:$R$24,MATCH(M$4,'Unit of measures'!$A$7:$A$24,0),MATCH($F69,'Unit of measures'!$A$7:$R$7,0))","v":{"$error":"#N/A"}},{"$f":"$G69*INDEX('Unit of measures'!$A$7:$R$24,MATCH(N$4,'Unit of measures'!$A$7:$A$24,0),MATCH($F69,'Unit of measures'!$A$7:$R$7,0))","v":{"$error":"#N/A"}},{"$f":"$G69*INDEX('Unit of measures'!$A$7:$R$24,MATCH(O$4,'Unit of measures'!$A$7:$A$24,0),MATCH($F69,'Unit of measures'!$A$7:$R$7,0))","v":{"$error":"#N/A"}},{"$f":"$G69*INDEX('Unit of measures'!$A$7:$R$24,MATCH(P$4,'Unit of measures'!$A$7:$A$24,0),MATCH($F69,'Unit of measures'!$A$7:$R$7,0))","v":{"$error":"#N/A"}},null,null,{"$f":"$R69*INDEX('Unit of measures'!$A$7:$R$24,MATCH(S$4,'Unit of measures'!$A$7:$A$24,0),MATCH($Q69,'Unit of measures'!$A$7:$R$7,0))","v":{"$error":"#N/A"}},{"$f":"$R69*INDEX('Unit of measures'!$A$7:$R$24,MATCH(T$4,'Unit of measures'!$A$7:$A$24,0),MATCH($Q69,'Unit of measures'!$A$7:$R$7,0))","v":{"$error":"#N/A"}},{"$f":"$R69*INDEX('Unit of measures'!$A$7:$R$24,MATCH(U$4,'Unit of measures'!$A$7:$A$24,0),MATCH($Q69,'Unit of measures'!$A$7:$R$7,0))","v":{"$error":"#N/A"}},{"$f":"$R69*INDEX('Unit of measures'!$A$7:$R$24,MATCH(V$4,'Unit of measures'!$A$7:$A$24,0),MATCH($Q69,'Unit of measures'!$A$7:$R$7,0))","v":{"$error":"#N/A"}},{"$f":"$R69*INDEX('Unit of measures'!$A$7:$R$24,MATCH(W$4,'Unit of measures'!$A$7:$A$24,0),MATCH($Q69,'Unit of measures'!$A$7:$R$7,0))","v":{"$error":"#N/A"}},"Each"]
[null,null,null,null,"",null,null,{"$f":"$G70*INDEX('Unit of measures'!$A$7:$R$24,MATCH(H$4,'Unit of measures'!$A$7:$A$24,0),MATCH($F70,'Unit of measures'!$A$7:$R$7,0))","v":{"$error":"#N/A"}},{"$f":"$G70*INDEX('Unit of measures'!$A$7:$R$24,MATCH(I$4,'Unit of measures'!$A$7:$A$24,0),MATCH($F70,'Unit of measures'!$A$7:$R$7,0))","v":{"$error":"#N/A"}},{"$f":"$G70*INDEX('Unit of measures'!$A$7:$R$24,MATCH(J$4,'Unit of measures'!$A$7:$A$24,0),MATCH($F70,'Unit of measures'!$A$7:$R$7,0))","v":{"$error":"#N/A"}},{"$f":"$G70*INDEX('Unit of measures'!$A$7:$R$24,MATCH(K$4,'Unit of measures'!$A$7:$A$24,0),MATCH($F70,'Unit of measures'!$A$7:$R$7,0))","v":{"$error":"#N/A"}},{"$f":"$G70*INDEX('Unit of measures'!$A$7:$R$24,MATCH(L$4,'Unit of measures'!$A$7:$A$24,0),MATCH($F70,'Unit of measures'!$A$7:$R$7,0))","v":{"$error":"#N/A"}},{"$f":"$G70*INDEX('Unit of measures'!$A$7:$R$24,MATCH(M$4,'Unit of measures'!$A$7:$A$24,0),MATCH($F70,'Unit of measures'!$A$7:$R$7,0))","v":{"$error":"#N/A"}},{"$f":"$G70*INDEX('Unit of measures'!$A$7:$R$24,MATCH(N$4,'Unit of measures'!$A$7:$A$24,0),MATCH($F70,'Unit of measures'!$A$7:$R$7,0))","v":{"$error":"#N/A"}},{"$f":"$G70*INDEX('Unit of measures'!$A$7:$R$24,MATCH(O$4,'Unit of measures'!$A$7:$A$24,0),MATCH($F70,'Unit of measures'!$A$7:$R$7,0))","v":{"$error":"#N/A"}},{"$f":"$G70*INDEX('Unit of measures'!$A$7:$R$24,MATCH(P$4,'Unit of measures'!$A$7:$A$24,0),MATCH($F70,'Unit of measures'!$A$7:$R$7,0))","v":{"$error":"#N/A"}},null,null,{"$f":"$R70*INDEX('Unit of measures'!$A$7:$R$24,MATCH(S$4,'Unit of measures'!$A$7:$A$24,0),MATCH($Q70,'Unit of measures'!$A$7:$R$7,0))","v":{"$error":"#N/A"}},{"$f":"$R70*INDEX('Unit of measures'!$A$7:$R$24,MATCH(T$4,'Unit of measures'!$A$7:$A$24,0),MATCH($Q70,'Unit of measures'!$A$7:$R$7,0))","v":{"$error":"#N/A"}},{"$f":"$R70*INDEX('Unit of measures'!$A$7:$R$24,MATCH(U$4,'Unit of measures'!$A$7:$A$24,0),MATCH($Q70,'Unit of measures'!$A$7:$R$7,0))","v":{"$error":"#N/A"}},{"$f":"$R70*INDEX('Unit of measures'!$A$7:$R$24,MATCH(V$4,'Unit of measures'!$A$7:$A$24,0),MATCH($Q70,'Unit of measures'!$A$7:$R$7,0))","v":{"$error":"#N/A"}},{"$f":"$R70*INDEX('Unit of measures'!$A$7:$R$24,MATCH(W$4,'Unit of measures'!$A$7:$A$24,0),MATCH($Q70,'Unit of measures'!$A$7:$R$7,0))","v":{"$error":"#N/A"}},"Each"]
[null,null,null,null,"",null,null,{"$f":"$G71*INDEX('Unit of measures'!$A$7:$R$24,MATCH(H$4,'Unit of measures'!$A$7:$A$24,0),MATCH($F71,'Unit of measures'!$A$7:$R$7,0))","v":{"$error":"#N/A"}},{"$f":"$G71*INDEX('Unit of measures'!$A$7:$R$24,MATCH(I$4,'Unit of measures'!$A$7:$A$24,0),MATCH($F71,'Unit of measures'!$A$7:$R$7,0))","v":{"$error":"#N/A"}},{"$f":"$G71*INDEX('Unit of measures'!$A$7:$R$24,MATCH(J$4,'Unit of measures'!$A$7:$A$24,0),MATCH($F71,'Unit of measures'!$A$7:$R$7,0))","v":{"$error":"#N/A"}},{"$f":"$G71*INDEX('Unit of measures'!$A$7:$R$24,MATCH(K$4,'Unit of measures'!$A$7:$A$24,0),MATCH($F71,'Unit of measures'!$A$7:$R$7,0))","v":{"$error":"#N/A"}},{"$f":"$G71*INDEX('Unit of measures'!$A$7:$R$24,MATCH(L$4,'Unit of measures'!$A$7:$A$24,0),MATCH($F71,'Unit of measures'!$A$7:$R$7,0))","v":{"$error":"#N/A"}},{"$f":"$G71*INDEX('Unit of measures'!$A$7:$R$24,MATCH(M$4,'Unit of measures'!$A$7:$A$24,0),MATCH($F71,'Unit of measures'!$A$7:$R$7,0))","v":{"$error":"#N/A"}},{"$f":"$G71*INDEX('Unit of measures'!$A$7:$R$24,MATCH(N$4,'Unit of measures'!$A$7:$A$24,0),MATCH($F71,'Unit of measures'!$A$7:$R$7,0))","v":{"$error":"#N/A"}},{"$f":"$G71*INDEX('Unit of measures'!$A$7:$R$24,MATCH(O$4,'Unit of measures'!$A$7:$A$24,0),MATCH($F71,'Unit of measures'!$A$7:$R$7,0))","v":{"$error":"#N/A"}},{"$f":"$G71*INDEX('Unit of measures'!$A$7:$R$24,MATCH(P$4,'Unit of measures'!$A$7:$A$24,0),MATCH($F71,'Unit of measures'!$A$7:$R$7,0))","v":{"$error":"#N/A"}},null,null,{"$f":"$R71*INDEX('Unit of measures'!$A$7:$R$24,MATCH(S$4,'Unit of measures'!$A$7:$A$24,0),MATCH($Q71,'Unit of measures'!$A$7:$R$7,0))","v":{"$error":"#N/A"}},{"$f":"$R71*INDEX('Unit of measures'!$A$7:$R$24,MATCH(T$4,'Unit of measures'!$A$7:$A$24,0),MATCH($Q71,'Unit of measures'!$A$7:$R$7,0))","v":{"$error":"#N/A"}},{"$f":"$R71*INDEX('Unit of measures'!$A$7:$R$24,MATCH(U$4,'Unit of measures'!$A$7:$A$24,0),MATCH($Q71,'Unit of measures'!$A$7:$R$7,0))","v":{"$error":"#N/A"}},{"$f":"$R71*INDEX('Unit of measures'!$A$7:$R$24,MATCH(V$4,'Unit of measures'!$A$7:$A$24,0),MATCH($Q71,'Unit of measures'!$A$7:$R$7,0))","v":{"$error":"#N/A"}},{"$f":"$R71*INDEX('Unit of measures'!$A$7:$R$24,MATCH(W$4,'Unit of measures'!$A$7:$A$24,0),MATCH($Q71,'Unit of measures'!$A$7:$R$7,0))","v":{"$error":"#N/A"}},"Each"]
[null,null,null,null,"",null,null,{"$f":"$G72*INDEX('Unit of measures'!$A$7:$R$24,MATCH(H$4,'Unit of measures'!$A$7:$A$24,0),MATCH($F72,'Unit of measures'!$A$7:$R$7,0))","v":{"$error":"#N/A"}},{"$f":"$G72*INDEX('Unit of measures'!$A$7:$R$24,MATCH(I$4,'Unit of measures'!$A$7:$A$24,0),MATCH($F72,'Unit of measures'!$A$7:$R$7,0))","v":{"$error":"#N/A"}},{"$f":"$G72*INDEX('Unit of measures'!$A$7:$R$24,MATCH(J$4,'Unit of measures'!$A$7:$A$24,0),MATCH($F72,'Unit of measures'!$A$7:$R$7,0))","v":{"$error":"#N/A"}},{"$f":"$G72*INDEX('Unit of measures'!$A$7:$R$24,MATCH(K$4,'Unit of measures'!$A$7:$A$24,0),MATCH($F72,'Unit of measures'!$A$7:$R$7,0))","v":{"$error":"#N/A"}},{"$f":"$G72*INDEX('Unit of measures'!$A$7:$R$24,MATCH(L$4,'Unit of measures'!$A$7:$A$24,0),MATCH($F72,'Unit of measures'!$A$7:$R$7,0))","v":{"$error":"#N/A"}},{"$f":"$G72*INDEX('Unit of measures'!$A$7:$R$24,MATCH(M$4,'Unit of measures'!$A$7:$A$24,0),MATCH($F72,'Unit of measures'!$A$7:$R$7,0))","v":{"$error":"#N/A"}},{"$f":"$G72*INDEX('Unit of measures'!$A$7:$R$24,MATCH(N$4,'Unit of measures'!$A$7:$A$24,0),MATCH($F72,'Unit of measures'!$A$7:$R$7,0))","v":{"$error":"#N/A"}},{"$f":"$G72*INDEX('Unit of measures'!$A$7:$R$24,MATCH(O$4,'Unit of measures'!$A$7:$A$24,0),MATCH($F72,'Unit of measures'!$A$7:$R$7,0))","v":{"$error":"#N/A"}},{"$f":"$G72*INDEX('Unit of measures'!$A$7:$R$24,MATCH(P$4,'Unit of measures'!$A$7:$A$24,0),MATCH($F72,'Unit of measures'!$A$7:$R$7,0))","v":{"$error":"#N/A"}},null,null,{"$f":"$R72*INDEX('Unit of measures'!$A$7:$R$24,MATCH(S$4,'Unit of measures'!$A$7:$A$24,0),MATCH($Q72,'Unit of measures'!$A$7:$R$7,0))","v":{"$error":"#N/A"}},{"$f":"$R72*INDEX('Unit of measures'!$A$7:$R$24,MATCH(T$4,'Unit of measures'!$A$7:$A$24,0),MATCH($Q72,'Unit of measures'!$A$7:$R$7,0))","v":{"$error":"#N/A"}},{"$f":"$R72*INDEX('Unit of measures'!$A$7:$R$24,MATCH(U$4,'Unit of measures'!$A$7:$A$24,0),MATCH($Q72,'Unit of measures'!$A$7:$R$7,0))","v":{"$error":"#N/A"}},{"$f":"$R72*INDEX('Unit of measures'!$A$7:$R$24,MATCH(V$4,'Unit of measures'!$A$7:$A$24,0),MATCH($Q72,'Unit of measures'!$A$7:$R$7,0))","v":{"$error":"#N/A"}},{"$f":"$R72*INDEX('Unit of measures'!$A$7:$R$24,MATCH(W$4,'Unit of measures'!$A$7:$A$24,0),MATCH($Q72,'Unit of measures'!$A$7:$R$7,0))","v":{"$error":"#N/A"}},"Each"]
[null,null,null,null,"",null,null,{"$f":"$G73*INDEX('Unit of measures'!$A$7:$R$24,MATCH(H$4,'Unit of measures'!$A$7:$A$24,0),MATCH($F73,'Unit of measures'!$A$7:$R$7,0))","v":{"$error":"#N/A"}},{"$f":"$G73*INDEX('Unit of measures'!$A$7:$R$24,MATCH(I$4,'Unit of measures'!$A$7:$A$24,0),MATCH($F73,'Unit of measures'!$A$7:$R$7,0))","v":{"$error":"#N/A"}},{"$f":"$G73*INDEX('Unit of measures'!$A$7:$R$24,MATCH(J$4,'Unit of measures'!$A$7:$A$24,0),MATCH($F73,'Unit of measures'!$A$7:$R$7,0))","v":{"$error":"#N/A"}},{"$f":"$G73*INDEX('Unit of measures'!$A$7:$R$24,MATCH(K$4,'Unit of measures'!$A$7:$A$24,0),MATCH($F73,'Unit of measures'!$A$7:$R$7,0))","v":{"$error":"#N/A"}},{"$f":"$G73*INDEX('Unit of measures'!$A$7:$R$24,MATCH(L$4,'Unit of measures'!$A$7:$A$24,0),MATCH($F73,'Unit of measures'!$A$7:$R$7,0))","v":{"$error":"#N/A"}},{"$f":"$G73*INDEX('Unit of measures'!$A$7:$R$24,MATCH(M$4,'Unit of measures'!$A$7:$A$24,0),MATCH($F73,'Unit of measures'!$A$7:$R$7,0))","v":{"$error":"#N/A"}},{"$f":"$G73*INDEX('Unit of measures'!$A$7:$R$24,MATCH(N$4,'Unit of measures'!$A$7:$A$24,0),MATCH($F73,'Unit of measures'!$A$7:$R$7,0))","v":{"$error":"#N/A"}},{"$f":"$G73*INDEX('Unit of measures'!$A$7:$R$24,MATCH(O$4,'Unit of measures'!$A$7:$A$24,0),MATCH($F73,'Unit of measures'!$A$7:$R$7,0))","v":{"$error":"#N/A"}},{"$f":"$G73*INDEX('Unit of measures'!$A$7:$R$24,MATCH(P$4,'Unit of measures'!$A$7:$A$24,0),MATCH($F73,'Unit of measures'!$A$7:$R$7,0))","v":{"$error":"#N/A"}},null,null,{"$f":"$R73*INDEX('Unit of measures'!$A$7:$R$24,MATCH(S$4,'Unit of measures'!$A$7:$A$24,0),MATCH($Q73,'Unit of measures'!$A$7:$R$7,0))","v":{"$error":"#N/A"}},{"$f":"$R73*INDEX('Unit of measures'!$A$7:$R$24,MATCH(T$4,'Unit of measures'!$A$7:$A$24,0),MATCH($Q73,'Unit of measures'!$A$7:$R$7,0))","v":{"$error":"#N/A"}},{"$f":"$R73*INDEX('Unit of measures'!$A$7:$R$24,MATCH(U$4,'Unit of measures'!$A$7:$A$24,0),MATCH($Q73,'Unit of measures'!$A$7:$R$7,0))","v":{"$error":"#N/A"}},{"$f":"$R73*INDEX('Unit of measures'!$A$7:$R$24,MATCH(V$4,'Unit of measures'!$A$7:$A$24,0),MATCH($Q73,'Unit of measures'!$A$7:$R$7,0))","v":{"$error":"#N/A"}},{"$f":"$R73*INDEX('Unit of measures'!$A$7:$R$24,MATCH(W$4,'Unit of measures'!$A$7:$A$24,0),MATCH($Q73,'Unit of measures'!$A$7:$R$7,0))","v":{"$error":"#N/A"}},"Each"]
[null,null,null,null,"",null,null,{"$f":"$G74*INDEX('Unit of measures'!$A$7:$R$24,MATCH(H$4,'Unit of measures'!$A$7:$A$24,0),MATCH($F74,'Unit of measures'!$A$7:$R$7,0))","v":{"$error":"#N/A"}},{"$f":"$G74*INDEX('Unit of measures'!$A$7:$R$24,MATCH(I$4,'Unit of measures'!$A$7:$A$24,0),MATCH($F74,'Unit of measures'!$A$7:$R$7,0))","v":{"$error":"#N/A"}},{"$f":"$G74*INDEX('Unit of measures'!$A$7:$R$24,MATCH(J$4,'Unit of measures'!$A$7:$A$24,0),MATCH($F74,'Unit of measures'!$A$7:$R$7,0))","v":{"$error":"#N/A"}},{"$f":"$G74*INDEX('Unit of measures'!$A$7:$R$24,MATCH(K$4,'Unit of measures'!$A$7:$A$24,0),MATCH($F74,'Unit of measures'!$A$7:$R$7,0))","v":{"$error":"#N/A"}},{"$f":"$G74*INDEX('Unit of measures'!$A$7:$R$24,MATCH(L$4,'Unit of measures'!$A$7:$A$24,0),MATCH($F74,'Unit of measures'!$A$7:$R$7,0))","v":{"$error":"#N/A"}},{"$f":"$G74*INDEX('Unit of measures'!$A$7:$R$24,MATCH(M$4,'Unit of measures'!$A$7:$A$24,0),MATCH($F74,'Unit of measures'!$A$7:$R$7,0))","v":{"$error":"#N/A"}},{"$f":"$G74*INDEX('Unit of measures'!$A$7:$R$24,MATCH(N$4,'Unit of measures'!$A$7:$A$24,0),MATCH($F74,'Unit of measures'!$A$7:$R$7,0))","v":{"$error":"#N/A"}},{"$f":"$G74*INDEX('Unit of measures'!$A$7:$R$24,MATCH(O$4,'Unit of measures'!$A$7:$A$24,0),MATCH($F74,'Unit of measures'!$A$7:$R$7,0))","v":{"$error":"#N/A"}},{"$f":"$G74*INDEX('Unit of measures'!$A$7:$R$24,MATCH(P$4,'Unit of measures'!$A$7:$A$24,0),MATCH($F74,'Unit of measures'!$A$7:$R$7,0))","v":{"$error":"#N/A"}},null,null,{"$f":"$R74*INDEX('Unit of measures'!$A$7:$R$24,MATCH(S$4,'Unit of measures'!$A$7:$A$24,0),MATCH($Q74,'Unit of measures'!$A$7:$R$7,0))","v":{"$error":"#N/A"}},{"$f":"$R74*INDEX('Unit of measures'!$A$7:$R$24,MATCH(T$4,'Unit of measures'!$A$7:$A$24,0),MATCH($Q74,'Unit of measures'!$A$7:$R$7,0))","v":{"$error":"#N/A"}},{"$f":"$R74*INDEX('Unit of measures'!$A$7:$R$24,MATCH(U$4,'Unit of measures'!$A$7:$A$24,0),MATCH($Q74,'Unit of measures'!$A$7:$R$7,0))","v":{"$error":"#N/A"}},{"$f":"$R74*INDEX('Unit of measures'!$A$7:$R$24,MATCH(V$4,'Unit of measures'!$A$7:$A$24,0),MATCH($Q74,'Unit of measures'!$A$7:$R$7,0))","v":{"$error":"#N/A"}},{"$f":"$R74*INDEX('Unit of measures'!$A$7:$R$24,MATCH(W$4,'Unit of measures'!$A$7:$A$24,0),MATCH($Q74,'Unit of measures'!$A$7:$R$7,0))","v":{"$error":"#N/A"}},"Each"]
[null,null,null,null,"",null,null,{"$f":"$G75*INDEX('Unit of measures'!$A$7:$R$24,MATCH(H$4,'Unit of measures'!$A$7:$A$24,0),MATCH($F75,'Unit of measures'!$A$7:$R$7,0))","v":{"$error":"#N/A"}},{"$f":"$G75*INDEX('Unit of measures'!$A$7:$R$24,MATCH(I$4,'Unit of measures'!$A$7:$A$24,0),MATCH($F75,'Unit of measures'!$A$7:$R$7,0))","v":{"$error":"#N/A"}},{"$f":"$G75*INDEX('Unit of measures'!$A$7:$R$24,MATCH(J$4,'Unit of measures'!$A$7:$A$24,0),MATCH($F75,'Unit of measures'!$A$7:$R$7,0))","v":{"$error":"#N/A"}},{"$f":"$G75*INDEX('Unit of measures'!$A$7:$R$24,MATCH(K$4,'Unit of measures'!$A$7:$A$24,0),MATCH($F75,'Unit of measures'!$A$7:$R$7,0))","v":{"$error":"#N/A"}},{"$f":"$G75*INDEX('Unit of measures'!$A$7:$R$24,MATCH(L$4,'Unit of measures'!$A$7:$A$24,0),MATCH($F75,'Unit of measures'!$A$7:$R$7,0))","v":{"$error":"#N/A"}},{"$f":"$G75*INDEX('Unit of measures'!$A$7:$R$24,MATCH(M$4,'Unit of measures'!$A$7:$A$24,0),MATCH($F75,'Unit of measures'!$A$7:$R$7,0))","v":{"$error":"#N/A"}},{"$f":"$G75*INDEX('Unit of measures'!$A$7:$R$24,MATCH(N$4,'Unit of measures'!$A$7:$A$24,0),MATCH($F75,'Unit of measures'!$A$7:$R$7,0))","v":{"$error":"#N/A"}},{"$f":"$G75*INDEX('Unit of measures'!$A$7:$R$24,MATCH(O$4,'Unit of measures'!$A$7:$A$24,0),MATCH($F75,'Unit of measures'!$A$7:$R$7,0))","v":{"$error":"#N/A"}},{"$f":"$G75*INDEX('Unit of measures'!$A$7:$R$24,MATCH(P$4,'Unit of measures'!$A$7:$A$24,0),MATCH($F75,'Unit of measures'!$A$7:$R$7,0))","v":{"$error":"#N/A"}},null,null,{"$f":"$R75*INDEX('Unit of measures'!$A$7:$R$24,MATCH(S$4,'Unit of measures'!$A$7:$A$24,0),MATCH($Q75,'Unit of measures'!$A$7:$R$7,0))","v":{"$error":"#N/A"}},{"$f":"$R75*INDEX('Unit of measures'!$A$7:$R$24,MATCH(T$4,'Unit of measures'!$A$7:$A$24,0),MATCH($Q75,'Unit of measures'!$A$7:$R$7,0))","v":{"$error":"#N/A"}},{"$f":"$R75*INDEX('Unit of measures'!$A$7:$R$24,MATCH(U$4,'Unit of measures'!$A$7:$A$24,0),MATCH($Q75,'Unit of measures'!$A$7:$R$7,0))","v":{"$error":"#N/A"}},{"$f":"$R75*INDEX('Unit of measures'!$A$7:$R$24,MATCH(V$4,'Unit of measures'!$A$7:$A$24,0),MATCH($Q75,'Unit of measures'!$A$7:$R$7,0))","v":{"$error":"#N/A"}},{"$f":"$R75*INDEX('Unit of measures'!$A$7:$R$24,MATCH(W$4,'Unit of measures'!$A$7:$A$24,0),MATCH($Q75,'Unit of measures'!$A$7:$R$7,0))","v":{"$error":"#N/A"}},"Each"]
[null,null,null,null,"",null,null,{"$f":"$G76*INDEX('Unit of measures'!$A$7:$R$24,MATCH(H$4,'Unit of measures'!$A$7:$A$24,0),MATCH($F76,'Unit of measures'!$A$7:$R$7,0))","v":{"$error":"#N/A"}},{"$f":"$G76*INDEX('Unit of measures'!$A$7:$R$24,MATCH(I$4,'Unit of measures'!$A$7:$A$24,0),MATCH($F76,'Unit of measures'!$A$7:$R$7,0))","v":{"$error":"#N/A"}},{"$f":"$G76*INDEX('Unit of measures'!$A$7:$R$24,MATCH(J$4,'Unit of measures'!$A$7:$A$24,0),MATCH($F76,'Unit of measures'!$A$7:$R$7,0))","v":{"$error":"#N/A"}},{"$f":"$G76*INDEX('Unit of measures'!$A$7:$R$24,MATCH(K$4,'Unit of measures'!$A$7:$A$24,0),MATCH($F76,'Unit of measures'!$A$7:$R$7,0))","v":{"$error":"#N/A"}},{"$f":"$G76*INDEX('Unit of measures'!$A$7:$R$24,MATCH(L$4,'Unit of measures'!$A$7:$A$24,0),MATCH($F76,'Unit of measures'!$A$7:$R$7,0))","v":{"$error":"#N/A"}},{"$f":"$G76*INDEX('Unit of measures'!$A$7:$R$24,MATCH(M$4,'Unit of measures'!$A$7:$A$24,0),MATCH($F76,'Unit of measures'!$A$7:$R$7,0))","v":{"$error":"#N/A"}},{"$f":"$G76*INDEX('Unit of measures'!$A$7:$R$24,MATCH(N$4,'Unit of measures'!$A$7:$A$24,0),MATCH($F76,'Unit of measures'!$A$7:$R$7,0))","v":{"$error":"#N/A"}},{"$f":"$G76*INDEX('Unit of measures'!$A$7:$R$24,MATCH(O$4,'Unit of measures'!$A$7:$A$24,0),MATCH($F76,'Unit of measures'!$A$7:$R$7,0))","v":{"$error":"#N/A"}},{"$f":"$G76*INDEX('Unit of measures'!$A$7:$R$24,MATCH(P$4,'Unit of measures'!$A$7:$A$24,0),MATCH($F76,'Unit of measures'!$A$7:$R$7,0))","v":{"$error":"#N/A"}},null,null,{"$f":"$R76*INDEX('Unit of measures'!$A$7:$R$24,MATCH(S$4,'Unit of measures'!$A$7:$A$24,0),MATCH($Q76,'Unit of measures'!$A$7:$R$7,0))","v":{"$error":"#N/A"}},{"$f":"$R76*INDEX('Unit of measures'!$A$7:$R$24,MATCH(T$4,'Unit of measures'!$A$7:$A$24,0),MATCH($Q76,'Unit of measures'!$A$7:$R$7,0))","v":{"$error":"#N/A"}},{"$f":"$R76*INDEX('Unit of measures'!$A$7:$R$24,MATCH(U$4,'Unit of measures'!$A$7:$A$24,0),MATCH($Q76,'Unit of measures'!$A$7:$R$7,0))","v":{"$error":"#N/A"}},{"$f":"$R76*INDEX('Unit of measures'!$A$7:$R$24,MATCH(V$4,'Unit of measures'!$A$7:$A$24,0),MATCH($Q76,'Unit of measures'!$A$7:$R$7,0))","v":{"$error":"#N/A"}},{"$f":"$R76*INDEX('Unit of measures'!$A$7:$R$24,MATCH(W$4,'Unit of measures'!$A$7:$A$24,0),MATCH($Q76,'Unit of measures'!$A$7:$R$7,0))","v":{"$error":"#N/A"}},"Each"]
[null,null,null,null,"",null,null,{"$f":"$G77*INDEX('Unit of measures'!$A$7:$R$24,MATCH(H$4,'Unit of measures'!$A$7:$A$24,0),MATCH($F77,'Unit of measures'!$A$7:$R$7,0))","v":{"$error":"#N/A"}},{"$f":"$G77*INDEX('Unit of measures'!$A$7:$R$24,MATCH(I$4,'Unit of measures'!$A$7:$A$24,0),MATCH($F77,'Unit of measures'!$A$7:$R$7,0))","v":{"$error":"#N/A"}},{"$f":"$G77*INDEX('Unit of measures'!$A$7:$R$24,MATCH(J$4,'Unit of measures'!$A$7:$A$24,0),MATCH($F77,'Unit of measures'!$A$7:$R$7,0))","v":{"$error":"#N/A"}},{"$f":"$G77*INDEX('Unit of measures'!$A$7:$R$24,MATCH(K$4,'Unit of measures'!$A$7:$A$24,0),MATCH($F77,'Unit of measures'!$A$7:$R$7,0))","v":{"$error":"#N/A"}},{"$f":"$G77*INDEX('Unit of measures'!$A$7:$R$24,MATCH(L$4,'Unit of measures'!$A$7:$A$24,0),MATCH($F77,'Unit of measures'!$A$7:$R$7,0))","v":{"$error":"#N/A"}},{"$f":"$G77*INDEX('Unit of measures'!$A$7:$R$24,MATCH(M$4,'Unit of measures'!$A$7:$A$24,0),MATCH($F77,'Unit of measures'!$A$7:$R$7,0))","v":{"$error":"#N/A"}},{"$f":"$G77*INDEX('Unit of measures'!$A$7:$R$24,MATCH(N$4,'Unit of measures'!$A$7:$A$24,0),MATCH($F77,'Unit of measures'!$A$7:$R$7,0))","v":{"$error":"#N/A"}},{"$f":"$G77*INDEX('Unit of measures'!$A$7:$R$24,MATCH(O$4,'Unit of measures'!$A$7:$A$24,0),MATCH($F77,'Unit of measures'!$A$7:$R$7,0))","v":{"$error":"#N/A"}},{"$f":"$G77*INDEX('Unit of measures'!$A$7:$R$24,MATCH(P$4,'Unit of measures'!$A$7:$A$24,0),MATCH($F77,'Unit of measures'!$A$7:$R$7,0))","v":{"$error":"#N/A"}},null,null,{"$f":"$R77*INDEX('Unit of measures'!$A$7:$R$24,MATCH(S$4,'Unit of measures'!$A$7:$A$24,0),MATCH($Q77,'Unit of measures'!$A$7:$R$7,0))","v":{"$error":"#N/A"}},{"$f":"$R77*INDEX('Unit of measures'!$A$7:$R$24,MATCH(T$4,'Unit of measures'!$A$7:$A$24,0),MATCH($Q77,'Unit of measures'!$A$7:$R$7,0))","v":{"$error":"#N/A"}},{"$f":"$R77*INDEX('Unit of measures'!$A$7:$R$24,MATCH(U$4,'Unit of measures'!$A$7:$A$24,0),MATCH($Q77,'Unit of measures'!$A$7:$R$7,0))","v":{"$error":"#N/A"}},{"$f":"$R77*INDEX('Unit of measures'!$A$7:$R$24,MATCH(V$4,'Unit of measures'!$A$7:$A$24,0),MATCH($Q77,'Unit of measures'!$A$7:$R$7,0))","v":{"$error":"#N/A"}},{"$f":"$R77*INDEX('Unit of measures'!$A$7:$R$24,MATCH(W$4,'Unit of measures'!$A$7:$A$24,0),MATCH($Q77,'Unit of measures'!$A$7:$R$7,0))","v":{"$error":"#N/A"}},"Each"]
[null,null,null,null,"",null,null,{"$f":"$G78*INDEX('Unit of measures'!$A$7:$R$24,MATCH(H$4,'Unit of measures'!$A$7:$A$24,0),MATCH($F78,'Unit of measures'!$A$7:$R$7,0))","v":{"$error":"#N/A"}},{"$f":"$G78*INDEX('Unit of measures'!$A$7:$R$24,MATCH(I$4,'Unit of measures'!$A$7:$A$24,0),MATCH($F78,'Unit of measures'!$A$7:$R$7,0))","v":{"$error":"#N/A"}},{"$f":"$G78*INDEX('Unit of measures'!$A$7:$R$24,MATCH(J$4,'Unit of measures'!$A$7:$A$24,0),MATCH($F78,'Unit of measures'!$A$7:$R$7,0))","v":{"$error":"#N/A"}},{"$f":"$G78*INDEX('Unit of measures'!$A$7:$R$24,MATCH(K$4,'Unit of measures'!$A$7:$A$24,0),MATCH($F78,'Unit of measures'!$A$7:$R$7,0))","v":{"$error":"#N/A"}},{"$f":"$G78*INDEX('Unit of measures'!$A$7:$R$24,MATCH(L$4,'Unit of measures'!$A$7:$A$24,0),MATCH($F78,'Unit of measures'!$A$7:$R$7,0))","v":{"$error":"#N/A"}},{"$f":"$G78*INDEX('Unit of measures'!$A$7:$R$24,MATCH(M$4,'Unit of measures'!$A$7:$A$24,0),MATCH($F78,'Unit of measures'!$A$7:$R$7,0))","v":{"$error":"#N/A"}},{"$f":"$G78*INDEX('Unit of measures'!$A$7:$R$24,MATCH(N$4,'Unit of measures'!$A$7:$A$24,0),MATCH($F78,'Unit of measures'!$A$7:$R$7,0))","v":{"$error":"#N/A"}},{"$f":"$G78*INDEX('Unit of measures'!$A$7:$R$24,MATCH(O$4,'Unit of measures'!$A$7:$A$24,0),MATCH($F78,'Unit of measures'!$A$7:$R$7,0))","v":{"$error":"#N/A"}},{"$f":"$G78*INDEX('Unit of measures'!$A$7:$R$24,MATCH(P$4,'Unit of measures'!$A$7:$A$24,0),MATCH($F78,'Unit of measures'!$A$7:$R$7,0))","v":{"$error":"#N/A"}},null,null,{"$f":"$R78*INDEX('Unit of measures'!$A$7:$R$24,MATCH(S$4,'Unit of measures'!$A$7:$A$24,0),MATCH($Q78,'Unit of measures'!$A$7:$R$7,0))","v":{"$error":"#N/A"}},{"$f":"$R78*INDEX('Unit of measures'!$A$7:$R$24,MATCH(T$4,'Unit of measures'!$A$7:$A$24,0),MATCH($Q78,'Unit of measures'!$A$7:$R$7,0))","v":{"$error":"#N/A"}},{"$f":"$R78*INDEX('Unit of measures'!$A$7:$R$24,MATCH(U$4,'Unit of measures'!$A$7:$A$24,0),MATCH($Q78,'Unit of measures'!$A$7:$R$7,0))","v":{"$error":"#N/A"}},{"$f":"$R78*INDEX('Unit of measures'!$A$7:$R$24,MATCH(V$4,'Unit of measures'!$A$7:$A$24,0),MATCH($Q78,'Unit of measures'!$A$7:$R$7,0))","v":{"$error":"#N/A"}},{"$f":"$R78*INDEX('Unit of measures'!$A$7:$R$24,MATCH(W$4,'Unit of measures'!$A$7:$A$24,0),MATCH($Q78,'Unit of measures'!$A$7:$R$7,0))","v":{"$error":"#N/A"}},"Each"]
[null,null,null,null,"",null,null,{"$f":"$G79*INDEX('Unit of measures'!$A$7:$R$24,MATCH(H$4,'Unit of measures'!$A$7:$A$24,0),MATCH($F79,'Unit of measures'!$A$7:$R$7,0))","v":{"$error":"#N/A"}},{"$f":"$G79*INDEX('Unit of measures'!$A$7:$R$24,MATCH(I$4,'Unit of measures'!$A$7:$A$24,0),MATCH($F79,'Unit of measures'!$A$7:$R$7,0))","v":{"$error":"#N/A"}},{"$f":"$G79*INDEX('Unit of measures'!$A$7:$R$24,MATCH(J$4,'Unit of measures'!$A$7:$A$24,0),MATCH($F79,'Unit of measures'!$A$7:$R$7,0))","v":{"$error":"#N/A"}},{"$f":"$G79*INDEX('Unit of measures'!$A$7:$R$24,MATCH(K$4,'Unit of measures'!$A$7:$A$24,0),MATCH($F79,'Unit of measures'!$A$7:$R$7,0))","v":{"$error":"#N/A"}},{"$f":"$G79*INDEX('Unit of measures'!$A$7:$R$24,MATCH(L$4,'Unit of measures'!$A$7:$A$24,0),MATCH($F79,'Unit of measures'!$A$7:$R$7,0))","v":{"$error":"#N/A"}},{"$f":"$G79*INDEX('Unit of measures'!$A$7:$R$24,MATCH(M$4,'Unit of measures'!$A$7:$A$24,0),MATCH($F79,'Unit of measures'!$A$7:$R$7,0))","v":{"$error":"#N/A"}},{"$f":"$G79*INDEX('Unit of measures'!$A$7:$R$24,MATCH(N$4,'Unit of measures'!$A$7:$A$24,0),MATCH($F79,'Unit of measures'!$A$7:$R$7,0))","v":{"$error":"#N/A"}},{"$f":"$G79*INDEX('Unit of measures'!$A$7:$R$24,MATCH(O$4,'Unit of measures'!$A$7:$A$24,0),MATCH($F79,'Unit of measures'!$A$7:$R$7,0))","v":{"$error":"#N/A"}},{"$f":"$G79*INDEX('Unit of measures'!$A$7:$R$24,MATCH(P$4,'Unit of measures'!$A$7:$A$24,0),MATCH($F79,'Unit of measures'!$A$7:$R$7,0))","v":{"$error":"#N/A"}},null,null,{"$f":"$R79*INDEX('Unit of measures'!$A$7:$R$24,MATCH(S$4,'Unit of measures'!$A$7:$A$24,0),MATCH($Q79,'Unit of measures'!$A$7:$R$7,0))","v":{"$error":"#N/A"}},{"$f":"$R79*INDEX('Unit of measures'!$A$7:$R$24,MATCH(T$4,'Unit of measures'!$A$7:$A$24,0),MATCH($Q79,'Unit of measures'!$A$7:$R$7,0))","v":{"$error":"#N/A"}},{"$f":"$R79*INDEX('Unit of measures'!$A$7:$R$24,MATCH(U$4,'Unit of measures'!$A$7:$A$24,0),MATCH($Q79,'Unit of measures'!$A$7:$R$7,0))","v":{"$error":"#N/A"}},{"$f":"$R79*INDEX('Unit of measures'!$A$7:$R$24,MATCH(V$4,'Unit of measures'!$A$7:$A$24,0),MATCH($Q79,'Unit of measures'!$A$7:$R$7,0))","v":{"$error":"#N/A"}},{"$f":"$R79*INDEX('Unit of measures'!$A$7:$R$24,MATCH(W$4,'Unit of measures'!$A$7:$A$24,0),MATCH($Q79,'Unit of measures'!$A$7:$R$7,0))","v":{"$error":"#N/A"}},"Each"]
[null,null,null,null,"",null,null,{"$f":"$G80*INDEX('Unit of measures'!$A$7:$R$24,MATCH(H$4,'Unit of measures'!$A$7:$A$24,0),MATCH($F80,'Unit of measures'!$A$7:$R$7,0))","v":{"$error":"#N/A"}},{"$f":"$G80*INDEX('Unit of measures'!$A$7:$R$24,MATCH(I$4,'Unit of measures'!$A$7:$A$24,0),MATCH($F80,'Unit of measures'!$A$7:$R$7,0))","v":{"$error":"#N/A"}},{"$f":"$G80*INDEX('Unit of measures'!$A$7:$R$24,MATCH(J$4,'Unit of measures'!$A$7:$A$24,0),MATCH($F80,'Unit of measures'!$A$7:$R$7,0))","v":{"$error":"#N/A"}},{"$f":"$G80*INDEX('Unit of measures'!$A$7:$R$24,MATCH(K$4,'Unit of measures'!$A$7:$A$24,0),MATCH($F80,'Unit of measures'!$A$7:$R$7,0))","v":{"$error":"#N/A"}},{"$f":"$G80*INDEX('Unit of measures'!$A$7:$R$24,MATCH(L$4,'Unit of measures'!$A$7:$A$24,0),MATCH($F80,'Unit of measures'!$A$7:$R$7,0))","v":{"$error":"#N/A"}},{"$f":"$G80*INDEX('Unit of measures'!$A$7:$R$24,MATCH(M$4,'Unit of measures'!$A$7:$A$24,0),MATCH($F80,'Unit of measures'!$A$7:$R$7,0))","v":{"$error":"#N/A"}},{"$f":"$G80*INDEX('Unit of measures'!$A$7:$R$24,MATCH(N$4,'Unit of measures'!$A$7:$A$24,0),MATCH($F80,'Unit of measures'!$A$7:$R$7,0))","v":{"$error":"#N/A"}},{"$f":"$G80*INDEX('Unit of measures'!$A$7:$R$24,MATCH(O$4,'Unit of measures'!$A$7:$A$24,0),MATCH($F80,'Unit of measures'!$A$7:$R$7,0))","v":{"$error":"#N/A"}},{"$f":"$G80*INDEX('Unit of measures'!$A$7:$R$24,MATCH(P$4,'Unit of measures'!$A$7:$A$24,0),MATCH($F80,'Unit of measures'!$A$7:$R$7,0))","v":{"$error":"#N/A"}},null,null,{"$f":"$R80*INDEX('Unit of measures'!$A$7:$R$24,MATCH(S$4,'Unit of measures'!$A$7:$A$24,0),MATCH($Q80,'Unit of measures'!$A$7:$R$7,0))","v":{"$error":"#N/A"}},{"$f":"$R80*INDEX('Unit of measures'!$A$7:$R$24,MATCH(T$4,'Unit of measures'!$A$7:$A$24,0),MATCH($Q80,'Unit of measures'!$A$7:$R$7,0))","v":{"$error":"#N/A"}},{"$f":"$R80*INDEX('Unit of measures'!$A$7:$R$24,MATCH(U$4,'Unit of measures'!$A$7:$A$24,0),MATCH($Q80,'Unit of measures'!$A$7:$R$7,0))","v":{"$error":"#N/A"}},{"$f":"$R80*INDEX('Unit of measures'!$A$7:$R$24,MATCH(V$4,'Unit of measures'!$A$7:$A$24,0),MATCH($Q80,'Unit of measures'!$A$7:$R$7,0))","v":{"$error":"#N/A"}},{"$f":"$R80*INDEX('Unit of measures'!$A$7:$R$24,MATCH(W$4,'Unit of measures'!$A$7:$A$24,0),MATCH($Q80,'Unit of measures'!$A$7:$R$7,0))","v":{"$error":"#N/A"}},"Each"]
[null,null,null,null,"",null,null,{"$f":"$G81*INDEX('Unit of measures'!$A$7:$R$24,MATCH(H$4,'Unit of measures'!$A$7:$A$24,0),MATCH($F81,'Unit of measures'!$A$7:$R$7,0))","v":{"$error":"#N/A"}},{"$f":"$G81*INDEX('Unit of measures'!$A$7:$R$24,MATCH(I$4,'Unit of measures'!$A$7:$A$24,0),MATCH($F81,'Unit of measures'!$A$7:$R$7,0))","v":{"$error":"#N/A"}},{"$f":"$G81*INDEX('Unit of measures'!$A$7:$R$24,MATCH(J$4,'Unit of measures'!$A$7:$A$24,0),MATCH($F81,'Unit of measures'!$A$7:$R$7,0))","v":{"$error":"#N/A"}},{"$f":"$G81*INDEX('Unit of measures'!$A$7:$R$24,MATCH(K$4,'Unit of measures'!$A$7:$A$24,0),MATCH($F81,'Unit of measures'!$A$7:$R$7,0))","v":{"$error":"#N/A"}},{"$f":"$G81*INDEX('Unit of measures'!$A$7:$R$24,MATCH(L$4,'Unit of measures'!$A$7:$A$24,0),MATCH($F81,'Unit of measures'!$A$7:$R$7,0))","v":{"$error":"#N/A"}},{"$f":"$G81*INDEX('Unit of measures'!$A$7:$R$24,MATCH(M$4,'Unit of measures'!$A$7:$A$24,0),MATCH($F81,'Unit of measures'!$A$7:$R$7,0))","v":{"$error":"#N/A"}},{"$f":"$G81*INDEX('Unit of measures'!$A$7:$R$24,MATCH(N$4,'Unit of measures'!$A$7:$A$24,0),MATCH($F81,'Unit of measures'!$A$7:$R$7,0))","v":{"$error":"#N/A"}},{"$f":"$G81*INDEX('Unit of measures'!$A$7:$R$24,MATCH(O$4,'Unit of measures'!$A$7:$A$24,0),MATCH($F81,'Unit of measures'!$A$7:$R$7,0))","v":{"$error":"#N/A"}},{"$f":"$G81*INDEX('Unit of measures'!$A$7:$R$24,MATCH(P$4,'Unit of measures'!$A$7:$A$24,0),MATCH($F81,'Unit of measures'!$A$7:$R$7,0))","v":{"$error":"#N/A"}},null,null,{"$f":"$R81*INDEX('Unit of measures'!$A$7:$R$24,MATCH(S$4,'Unit of measures'!$A$7:$A$24,0),MATCH($Q81,'Unit of measures'!$A$7:$R$7,0))","v":{"$error":"#N/A"}},{"$f":"$R81*INDEX('Unit of measures'!$A$7:$R$24,MATCH(T$4,'Unit of measures'!$A$7:$A$24,0),MATCH($Q81,'Unit of measures'!$A$7:$R$7,0))","v":{"$error":"#N/A"}},{"$f":"$R81*INDEX('Unit of measures'!$A$7:$R$24,MATCH(U$4,'Unit of measures'!$A$7:$A$24,0),MATCH($Q81,'Unit of measures'!$A$7:$R$7,0))","v":{"$error":"#N/A"}},{"$f":"$R81*INDEX('Unit of measures'!$A$7:$R$24,MATCH(V$4,'Unit of measures'!$A$7:$A$24,0),MATCH($Q81,'Unit of measures'!$A$7:$R$7,0))","v":{"$error":"#N/A"}},{"$f":"$R81*INDEX('Unit of measures'!$A$7:$R$24,MATCH(W$4,'Unit of measures'!$A$7:$A$24,0),MATCH($Q81,'Unit of measures'!$A$7:$R$7,0))","v":{"$error":"#N/A"}},"Each"]
[null,null,null,null,"",null,null,{"$f":"$G82*INDEX('Unit of measures'!$A$7:$R$24,MATCH(H$4,'Unit of measures'!$A$7:$A$24,0),MATCH($F82,'Unit of measures'!$A$7:$R$7,0))","v":{"$error":"#N/A"}},{"$f":"$G82*INDEX('Unit of measures'!$A$7:$R$24,MATCH(I$4,'Unit of measures'!$A$7:$A$24,0),MATCH($F82,'Unit of measures'!$A$7:$R$7,0))","v":{"$error":"#N/A"}},{"$f":"$G82*INDEX('Unit of measures'!$A$7:$R$24,MATCH(J$4,'Unit of measures'!$A$7:$A$24,0),MATCH($F82,'Unit of measures'!$A$7:$R$7,0))","v":{"$error":"#N/A"}},{"$f":"$G82*INDEX('Unit of measures'!$A$7:$R$24,MATCH(K$4,'Unit of measures'!$A$7:$A$24,0),MATCH($F82,'Unit of measures'!$A$7:$R$7,0))","v":{"$error":"#N/A"}},{"$f":"$G82*INDEX('Unit of measures'!$A$7:$R$24,MATCH(L$4,'Unit of measures'!$A$7:$A$24,0),MATCH($F82,'Unit of measures'!$A$7:$R$7,0))","v":{"$error":"#N/A"}},{"$f":"$G82*INDEX('Unit of measures'!$A$7:$R$24,MATCH(M$4,'Unit of measures'!$A$7:$A$24,0),MATCH($F82,'Unit of measures'!$A$7:$R$7,0))","v":{"$error":"#N/A"}},{"$f":"$G82*INDEX('Unit of measures'!$A$7:$R$24,MATCH(N$4,'Unit of measures'!$A$7:$A$24,0),MATCH($F82,'Unit of measures'!$A$7:$R$7,0))","v":{"$error":"#N/A"}},{"$f":"$G82*INDEX('Unit of measures'!$A$7:$R$24,MATCH(O$4,'Unit of measures'!$A$7:$A$24,0),MATCH($F82,'Unit of measures'!$A$7:$R$7,0))","v":{"$error":"#N/A"}},{"$f":"$G82*INDEX('Unit of measures'!$A$7:$R$24,MATCH(P$4,'Unit of measures'!$A$7:$A$24,0),MATCH($F82,'Unit of measures'!$A$7:$R$7,0))","v":{"$error":"#N/A"}},null,null,{"$f":"$R82*INDEX('Unit of measures'!$A$7:$R$24,MATCH(S$4,'Unit of measures'!$A$7:$A$24,0),MATCH($Q82,'Unit of measures'!$A$7:$R$7,0))","v":{"$error":"#N/A"}},{"$f":"$R82*INDEX('Unit of measures'!$A$7:$R$24,MATCH(T$4,'Unit of measures'!$A$7:$A$24,0),MATCH($Q82,'Unit of measures'!$A$7:$R$7,0))","v":{"$error":"#N/A"}},{"$f":"$R82*INDEX('Unit of measures'!$A$7:$R$24,MATCH(U$4,'Unit of measures'!$A$7:$A$24,0),MATCH($Q82,'Unit of measures'!$A$7:$R$7,0))","v":{"$error":"#N/A"}},{"$f":"$R82*INDEX('Unit of measures'!$A$7:$R$24,MATCH(V$4,'Unit of measures'!$A$7:$A$24,0),MATCH($Q82,'Unit of measures'!$A$7:$R$7,0))","v":{"$error":"#N/A"}},{"$f":"$R82*INDEX('Unit of measures'!$A$7:$R$24,MATCH(W$4,'Unit of measures'!$A$7:$A$24,0),MATCH($Q82,'Unit of measures'!$A$7:$R$7,0))","v":{"$error":"#N/A"}},"Each"]
[null,null,null,null,"",null,null,{"$f":"$G83*INDEX('Unit of measures'!$A$7:$R$24,MATCH(H$4,'Unit of measures'!$A$7:$A$24,0),MATCH($F83,'Unit of measures'!$A$7:$R$7,0))","v":{"$error":"#N/A"}},{"$f":"$G83*INDEX('Unit of measures'!$A$7:$R$24,MATCH(I$4,'Unit of measures'!$A$7:$A$24,0),MATCH($F83,'Unit of measures'!$A$7:$R$7,0))","v":{"$error":"#N/A"}},{"$f":"$G83*INDEX('Unit of measures'!$A$7:$R$24,MATCH(J$4,'Unit of measures'!$A$7:$A$24,0),MATCH($F83,'Unit of measures'!$A$7:$R$7,0))","v":{"$error":"#N/A"}},{"$f":"$G83*INDEX('Unit of measures'!$A$7:$R$24,MATCH(K$4,'Unit of measures'!$A$7:$A$24,0),MATCH($F83,'Unit of measures'!$A$7:$R$7,0))","v":{"$error":"#N/A"}},{"$f":"$G83*INDEX('Unit of measures'!$A$7:$R$24,MATCH(L$4,'Unit of measures'!$A$7:$A$24,0),MATCH($F83,'Unit of measures'!$A$7:$R$7,0))","v":{"$error":"#N/A"}},{"$f":"$G83*INDEX('Unit of measures'!$A$7:$R$24,MATCH(M$4,'Unit of measures'!$A$7:$A$24,0),MATCH($F83,'Unit of measures'!$A$7:$R$7,0))","v":{"$error":"#N/A"}},{"$f":"$G83*INDEX('Unit of measures'!$A$7:$R$24,MATCH(N$4,'Unit of measures'!$A$7:$A$24,0),MATCH($F83,'Unit of measures'!$A$7:$R$7,0))","v":{"$error":"#N/A"}},{"$f":"$G83*INDEX('Unit of measures'!$A$7:$R$24,MATCH(O$4,'Unit of measures'!$A$7:$A$24,0),MATCH($F83,'Unit of measures'!$A$7:$R$7,0))","v":{"$error":"#N/A"}},{"$f":"$G83*INDEX('Unit of measures'!$A$7:$R$24,MATCH(P$4,'Unit of measures'!$A$7:$A$24,0),MATCH($F83,'Unit of measures'!$A$7:$R$7,0))","v":{"$error":"#N/A"}},null,null,{"$f":"$R83*INDEX('Unit of measures'!$A$7:$R$24,MATCH(S$4,'Unit of measures'!$A$7:$A$24,0),MATCH($Q83,'Unit of measures'!$A$7:$R$7,0))","v":{"$error":"#N/A"}},{"$f":"$R83*INDEX('Unit of measures'!$A$7:$R$24,MATCH(T$4,'Unit of measures'!$A$7:$A$24,0),MATCH($Q83,'Unit of measures'!$A$7:$R$7,0))","v":{"$error":"#N/A"}},{"$f":"$R83*INDEX('Unit of measures'!$A$7:$R$24,MATCH(U$4,'Unit of measures'!$A$7:$A$24,0),MATCH($Q83,'Unit of measures'!$A$7:$R$7,0))","v":{"$error":"#N/A"}},{"$f":"$R83*INDEX('Unit of measures'!$A$7:$R$24,MATCH(V$4,'Unit of measures'!$A$7:$A$24,0),MATCH($Q83,'Unit of measures'!$A$7:$R$7,0))","v":{"$error":"#N/A"}},{"$f":"$R83*INDEX('Unit of measures'!$A$7:$R$24,MATCH(W$4,'Unit of measures'!$A$7:$A$24,0),MATCH($Q83,'Unit of measures'!$A$7:$R$7,0))","v":{"$error":"#N/A"}},"Each"]
[null,null,null,null,"",null,null,{"$f":"$G84*INDEX('Unit of measures'!$A$7:$R$24,MATCH(H$4,'Unit of measures'!$A$7:$A$24,0),MATCH($F84,'Unit of measures'!$A$7:$R$7,0))","v":{"$error":"#N/A"}},{"$f":"$G84*INDEX('Unit of measures'!$A$7:$R$24,MATCH(I$4,'Unit of measures'!$A$7:$A$24,0),MATCH($F84,'Unit of measures'!$A$7:$R$7,0))","v":{"$error":"#N/A"}},{"$f":"$G84*INDEX('Unit of measures'!$A$7:$R$24,MATCH(J$4,'Unit of measures'!$A$7:$A$24,0),MATCH($F84,'Unit of measures'!$A$7:$R$7,0))","v":{"$error":"#N/A"}},{"$f":"$G84*INDEX('Unit of measures'!$A$7:$R$24,MATCH(K$4,'Unit of measures'!$A$7:$A$24,0),MATCH($F84,'Unit of measures'!$A$7:$R$7,0))","v":{"$error":"#N/A"}},{"$f":"$G84*INDEX('Unit of measures'!$A$7:$R$24,MATCH(L$4,'Unit of measures'!$A$7:$A$24,0),MATCH($F84,'Unit of measures'!$A$7:$R$7,0))","v":{"$error":"#N/A"}},{"$f":"$G84*INDEX('Unit of measures'!$A$7:$R$24,MATCH(M$4,'Unit of measures'!$A$7:$A$24,0),MATCH($F84,'Unit of measures'!$A$7:$R$7,0))","v":{"$error":"#N/A"}},{"$f":"$G84*INDEX('Unit of measures'!$A$7:$R$24,MATCH(N$4,'Unit of measures'!$A$7:$A$24,0),MATCH($F84,'Unit of measures'!$A$7:$R$7,0))","v":{"$error":"#N/A"}},{"$f":"$G84*INDEX('Unit of measures'!$A$7:$R$24,MATCH(O$4,'Unit of measures'!$A$7:$A$24,0),MATCH($F84,'Unit of measures'!$A$7:$R$7,0))","v":{"$error":"#N/A"}},{"$f":"$G84*INDEX('Unit of measures'!$A$7:$R$24,MATCH(P$4,'Unit of measures'!$A$7:$A$24,0),MATCH($F84,'Unit of measures'!$A$7:$R$7,0))","v":{"$error":"#N/A"}},null,null,{"$f":"$R84*INDEX('Unit of measures'!$A$7:$R$24,MATCH(S$4,'Unit of measures'!$A$7:$A$24,0),MATCH($Q84,'Unit of measures'!$A$7:$R$7,0))","v":{"$error":"#N/A"}},{"$f":"$R84*INDEX('Unit of measures'!$A$7:$R$24,MATCH(T$4,'Unit of measures'!$A$7:$A$24,0),MATCH($Q84,'Unit of measures'!$A$7:$R$7,0))","v":{"$error":"#N/A"}},{"$f":"$R84*INDEX('Unit of measures'!$A$7:$R$24,MATCH(U$4,'Unit of measures'!$A$7:$A$24,0),MATCH($Q84,'Unit of measures'!$A$7:$R$7,0))","v":{"$error":"#N/A"}},{"$f":"$R84*INDEX('Unit of measures'!$A$7:$R$24,MATCH(V$4,'Unit of measures'!$A$7:$A$24,0),MATCH($Q84,'Unit of measures'!$A$7:$R$7,0))","v":{"$error":"#N/A"}},{"$f":"$R84*INDEX('Unit of measures'!$A$7:$R$24,MATCH(W$4,'Unit of measures'!$A$7:$A$24,0),MATCH($Q84,'Unit of measures'!$A$7:$R$7,0))","v":{"$error":"#N/A"}},"Each"]
[null,null,null,null,"",null,null,{"$f":"$G85*INDEX('Unit of measures'!$A$7:$R$24,MATCH(H$4,'Unit of measures'!$A$7:$A$24,0),MATCH($F85,'Unit of measures'!$A$7:$R$7,0))","v":{"$error":"#N/A"}},{"$f":"$G85*INDEX('Unit of measures'!$A$7:$R$24,MATCH(I$4,'Unit of measures'!$A$7:$A$24,0),MATCH($F85,'Unit of measures'!$A$7:$R$7,0))","v":{"$error":"#N/A"}},{"$f":"$G85*INDEX('Unit of measures'!$A$7:$R$24,MATCH(J$4,'Unit of measures'!$A$7:$A$24,0),MATCH($F85,'Unit of measures'!$A$7:$R$7,0))","v":{"$error":"#N/A"}},{"$f":"$G85*INDEX('Unit of measures'!$A$7:$R$24,MATCH(K$4,'Unit of measures'!$A$7:$A$24,0),MATCH($F85,'Unit of measures'!$A$7:$R$7,0))","v":{"$error":"#N/A"}},{"$f":"$G85*INDEX('Unit of measures'!$A$7:$R$24,MATCH(L$4,'Unit of measures'!$A$7:$A$24,0),MATCH($F85,'Unit of measures'!$A$7:$R$7,0))","v":{"$error":"#N/A"}},{"$f":"$G85*INDEX('Unit of measures'!$A$7:$R$24,MATCH(M$4,'Unit of measures'!$A$7:$A$24,0),MATCH($F85,'Unit of measures'!$A$7:$R$7,0))","v":{"$error":"#N/A"}},{"$f":"$G85*INDEX('Unit of measures'!$A$7:$R$24,MATCH(N$4,'Unit of measures'!$A$7:$A$24,0),MATCH($F85,'Unit of measures'!$A$7:$R$7,0))","v":{"$error":"#N/A"}},{"$f":"$G85*INDEX('Unit of measures'!$A$7:$R$24,MATCH(O$4,'Unit of measures'!$A$7:$A$24,0),MATCH($F85,'Unit of measures'!$A$7:$R$7,0))","v":{"$error":"#N/A"}},{"$f":"$G85*INDEX('Unit of measures'!$A$7:$R$24,MATCH(P$4,'Unit of measures'!$A$7:$A$24,0),MATCH($F85,'Unit of measures'!$A$7:$R$7,0))","v":{"$error":"#N/A"}},null,null,{"$f":"$R85*INDEX('Unit of measures'!$A$7:$R$24,MATCH(S$4,'Unit of measures'!$A$7:$A$24,0),MATCH($Q85,'Unit of measures'!$A$7:$R$7,0))","v":{"$error":"#N/A"}},{"$f":"$R85*INDEX('Unit of measures'!$A$7:$R$24,MATCH(T$4,'Unit of measures'!$A$7:$A$24,0),MATCH($Q85,'Unit of measures'!$A$7:$R$7,0))","v":{"$error":"#N/A"}},{"$f":"$R85*INDEX('Unit of measures'!$A$7:$R$24,MATCH(U$4,'Unit of measures'!$A$7:$A$24,0),MATCH($Q85,'Unit of measures'!$A$7:$R$7,0))","v":{"$error":"#N/A"}},{"$f":"$R85*INDEX('Unit of measures'!$A$7:$R$24,MATCH(V$4,'Unit of measures'!$A$7:$A$24,0),MATCH($Q85,'Unit of measures'!$A$7:$R$7,0))","v":{"$error":"#N/A"}},{"$f":"$R85*INDEX('Unit of measures'!$A$7:$R$24,MATCH(W$4,'Unit of measures'!$A$7:$A$24,0),MATCH($Q85,'Unit of measures'!$A$7:$R$7,0))","v":{"$error":"#N/A"}},"Each"]
[null,null,null,null,"",null,null,{"$f":"$G86*INDEX('Unit of measures'!$A$7:$R$24,MATCH(H$4,'Unit of measures'!$A$7:$A$24,0),MATCH($F86,'Unit of measures'!$A$7:$R$7,0))","v":{"$error":"#N/A"}},{"$f":"$G86*INDEX('Unit of measures'!$A$7:$R$24,MATCH(I$4,'Unit of measures'!$A$7:$A$24,0),MATCH($F86,'Unit of measures'!$A$7:$R$7,0))","v":{"$error":"#N/A"}},{"$f":"$G86*INDEX('Unit of measures'!$A$7:$R$24,MATCH(J$4,'Unit of measures'!$A$7:$A$24,0),MATCH($F86,'Unit of measures'!$A$7:$R$7,0))","v":{"$error":"#N/A"}},{"$f":"$G86*INDEX('Unit of measures'!$A$7:$R$24,MATCH(K$4,'Unit of measures'!$A$7:$A$24,0),MATCH($F86,'Unit of measures'!$A$7:$R$7,0))","v":{"$error":"#N/A"}},{"$f":"$G86*INDEX('Unit of measures'!$A$7:$R$24,MATCH(L$4,'Unit of measures'!$A$7:$A$24,0),MATCH($F86,'Unit of measures'!$A$7:$R$7,0))","v":{"$error":"#N/A"}},{"$f":"$G86*INDEX('Unit of measures'!$A$7:$R$24,MATCH(M$4,'Unit of measures'!$A$7:$A$24,0),MATCH($F86,'Unit of measures'!$A$7:$R$7,0))","v":{"$error":"#N/A"}},{"$f":"$G86*INDEX('Unit of measures'!$A$7:$R$24,MATCH(N$4,'Unit of measures'!$A$7:$A$24,0),MATCH($F86,'Unit of measures'!$A$7:$R$7,0))","v":{"$error":"#N/A"}},{"$f":"$G86*INDEX('Unit of measures'!$A$7:$R$24,MATCH(O$4,'Unit of measures'!$A$7:$A$24,0),MATCH($F86,'Unit of measures'!$A$7:$R$7,0))","v":{"$error":"#N/A"}},{"$f":"$G86*INDEX('Unit of measures'!$A$7:$R$24,MATCH(P$4,'Unit of measures'!$A$7:$A$24,0),MATCH($F86,'Unit of measures'!$A$7:$R$7,0))","v":{"$error":"#N/A"}},null,null,{"$f":"$R86*INDEX('Unit of measures'!$A$7:$R$24,MATCH(S$4,'Unit of measures'!$A$7:$A$24,0),MATCH($Q86,'Unit of measures'!$A$7:$R$7,0))","v":{"$error":"#N/A"}},{"$f":"$R86*INDEX('Unit of measures'!$A$7:$R$24,MATCH(T$4,'Unit of measures'!$A$7:$A$24,0),MATCH($Q86,'Unit of measures'!$A$7:$R$7,0))","v":{"$error":"#N/A"}},{"$f":"$R86*INDEX('Unit of measures'!$A$7:$R$24,MATCH(U$4,'Unit of measures'!$A$7:$A$24,0),MATCH($Q86,'Unit of measures'!$A$7:$R$7,0))","v":{"$error":"#N/A"}},{"$f":"$R86*INDEX('Unit of measures'!$A$7:$R$24,MATCH(V$4,'Unit of measures'!$A$7:$A$24,0),MATCH($Q86,'Unit of measures'!$A$7:$R$7,0))","v":{"$error":"#N/A"}},{"$f":"$R86*INDEX('Unit of measures'!$A$7:$R$24,MATCH(W$4,'Unit of measures'!$A$7:$A$24,0),MATCH($Q86,'Unit of measures'!$A$7:$R$7,0))","v":{"$error":"#N/A"}},"Each"]
[null,null,null,null,"",null,null,{"$f":"$G87*INDEX('Unit of measures'!$A$7:$R$24,MATCH(H$4,'Unit of measures'!$A$7:$A$24,0),MATCH($F87,'Unit of measures'!$A$7:$R$7,0))","v":{"$error":"#N/A"}},{"$f":"$G87*INDEX('Unit of measures'!$A$7:$R$24,MATCH(I$4,'Unit of measures'!$A$7:$A$24,0),MATCH($F87,'Unit of measures'!$A$7:$R$7,0))","v":{"$error":"#N/A"}},{"$f":"$G87*INDEX('Unit of measures'!$A$7:$R$24,MATCH(J$4,'Unit of measures'!$A$7:$A$24,0),MATCH($F87,'Unit of measures'!$A$7:$R$7,0))","v":{"$error":"#N/A"}},{"$f":"$G87*INDEX('Unit of measures'!$A$7:$R$24,MATCH(K$4,'Unit of measures'!$A$7:$A$24,0),MATCH($F87,'Unit of measures'!$A$7:$R$7,0))","v":{"$error":"#N/A"}},{"$f":"$G87*INDEX('Unit of measures'!$A$7:$R$24,MATCH(L$4,'Unit of measures'!$A$7:$A$24,0),MATCH($F87,'Unit of measures'!$A$7:$R$7,0))","v":{"$error":"#N/A"}},{"$f":"$G87*INDEX('Unit of measures'!$A$7:$R$24,MATCH(M$4,'Unit of measures'!$A$7:$A$24,0),MATCH($F87,'Unit of measures'!$A$7:$R$7,0))","v":{"$error":"#N/A"}},{"$f":"$G87*INDEX('Unit of measures'!$A$7:$R$24,MATCH(N$4,'Unit of measures'!$A$7:$A$24,0),MATCH($F87,'Unit of measures'!$A$7:$R$7,0))","v":{"$error":"#N/A"}},{"$f":"$G87*INDEX('Unit of measures'!$A$7:$R$24,MATCH(O$4,'Unit of measures'!$A$7:$A$24,0),MATCH($F87,'Unit of measures'!$A$7:$R$7,0))","v":{"$error":"#N/A"}},{"$f":"$G87*INDEX('Unit of measures'!$A$7:$R$24,MATCH(P$4,'Unit of measures'!$A$7:$A$24,0),MATCH($F87,'Unit of measures'!$A$7:$R$7,0))","v":{"$error":"#N/A"}},null,null,{"$f":"$R87*INDEX('Unit of measures'!$A$7:$R$24,MATCH(S$4,'Unit of measures'!$A$7:$A$24,0),MATCH($Q87,'Unit of measures'!$A$7:$R$7,0))","v":{"$error":"#N/A"}},{"$f":"$R87*INDEX('Unit of measures'!$A$7:$R$24,MATCH(T$4,'Unit of measures'!$A$7:$A$24,0),MATCH($Q87,'Unit of measures'!$A$7:$R$7,0))","v":{"$error":"#N/A"}},{"$f":"$R87*INDEX('Unit of measures'!$A$7:$R$24,MATCH(U$4,'Unit of measures'!$A$7:$A$24,0),MATCH($Q87,'Unit of measures'!$A$7:$R$7,0))","v":{"$error":"#N/A"}},{"$f":"$R87*INDEX('Unit of measures'!$A$7:$R$24,MATCH(V$4,'Unit of measures'!$A$7:$A$24,0),MATCH($Q87,'Unit of measures'!$A$7:$R$7,0))","v":{"$error":"#N/A"}},{"$f":"$R87*INDEX('Unit of measures'!$A$7:$R$24,MATCH(W$4,'Unit of measures'!$A$7:$A$24,0),MATCH($Q87,'Unit of measures'!$A$7:$R$7,0))","v":{"$error":"#N/A"}},"Each"]
[null,null,null,null,"",null,null,{"$f":"$G88*INDEX('Unit of measures'!$A$7:$R$24,MATCH(H$4,'Unit of measures'!$A$7:$A$24,0),MATCH($F88,'Unit of measures'!$A$7:$R$7,0))","v":{"$error":"#N/A"}},{"$f":"$G88*INDEX('Unit of measures'!$A$7:$R$24,MATCH(I$4,'Unit of measures'!$A$7:$A$24,0),MATCH($F88,'Unit of measures'!$A$7:$R$7,0))","v":{"$error":"#N/A"}},{"$f":"$G88*INDEX('Unit of measures'!$A$7:$R$24,MATCH(J$4,'Unit of measures'!$A$7:$A$24,0),MATCH($F88,'Unit of measures'!$A$7:$R$7,0))","v":{"$error":"#N/A"}},{"$f":"$G88*INDEX('Unit of measures'!$A$7:$R$24,MATCH(K$4,'Unit of measures'!$A$7:$A$24,0),MATCH($F88,'Unit of measures'!$A$7:$R$7,0))","v":{"$error":"#N/A"}},{"$f":"$G88*INDEX('Unit of measures'!$A$7:$R$24,MATCH(L$4,'Unit of measures'!$A$7:$A$24,0),MATCH($F88,'Unit of measures'!$A$7:$R$7,0))","v":{"$error":"#N/A"}},{"$f":"$G88*INDEX('Unit of measures'!$A$7:$R$24,MATCH(M$4,'Unit of measures'!$A$7:$A$24,0),MATCH($F88,'Unit of measures'!$A$7:$R$7,0))","v":{"$error":"#N/A"}},{"$f":"$G88*INDEX('Unit of measures'!$A$7:$R$24,MATCH(N$4,'Unit of measures'!$A$7:$A$24,0),MATCH($F88,'Unit of measures'!$A$7:$R$7,0))","v":{"$error":"#N/A"}},{"$f":"$G88*INDEX('Unit of measures'!$A$7:$R$24,MATCH(O$4,'Unit of measures'!$A$7:$A$24,0),MATCH($F88,'Unit of measures'!$A$7:$R$7,0))","v":{"$error":"#N/A"}},{"$f":"$G88*INDEX('Unit of measures'!$A$7:$R$24,MATCH(P$4,'Unit of measures'!$A$7:$A$24,0),MATCH($F88,'Unit of measures'!$A$7:$R$7,0))","v":{"$error":"#N/A"}},null,null,{"$f":"$R88*INDEX('Unit of measures'!$A$7:$R$24,MATCH(S$4,'Unit of measures'!$A$7:$A$24,0),MATCH($Q88,'Unit of measures'!$A$7:$R$7,0))","v":{"$error":"#N/A"}},{"$f":"$R88*INDEX('Unit of measures'!$A$7:$R$24,MATCH(T$4,'Unit of measures'!$A$7:$A$24,0),MATCH($Q88,'Unit of measures'!$A$7:$R$7,0))","v":{"$error":"#N/A"}},{"$f":"$R88*INDEX('Unit of measures'!$A$7:$R$24,MATCH(U$4,'Unit of measures'!$A$7:$A$24,0),MATCH($Q88,'Unit of measures'!$A$7:$R$7,0))","v":{"$error":"#N/A"}},{"$f":"$R88*INDEX('Unit of measures'!$A$7:$R$24,MATCH(V$4,'Unit of measures'!$A$7:$A$24,0),MATCH($Q88,'Unit of measures'!$A$7:$R$7,0))","v":{"$error":"#N/A"}},{"$f":"$R88*INDEX('Unit of measures'!$A$7:$R$24,MATCH(W$4,'Unit of measures'!$A$7:$A$24,0),MATCH($Q88,'Unit of measures'!$A$7:$R$7,0))","v":{"$error":"#N/A"}},"Each"]
[null,null,null,null,"",null,null,{"$f":"$G89*INDEX('Unit of measures'!$A$7:$R$24,MATCH(H$4,'Unit of measures'!$A$7:$A$24,0),MATCH($F89,'Unit of measures'!$A$7:$R$7,0))","v":{"$error":"#N/A"}},{"$f":"$G89*INDEX('Unit of measures'!$A$7:$R$24,MATCH(I$4,'Unit of measures'!$A$7:$A$24,0),MATCH($F89,'Unit of measures'!$A$7:$R$7,0))","v":{"$error":"#N/A"}},{"$f":"$G89*INDEX('Unit of measures'!$A$7:$R$24,MATCH(J$4,'Unit of measures'!$A$7:$A$24,0),MATCH($F89,'Unit of measures'!$A$7:$R$7,0))","v":{"$error":"#N/A"}},{"$f":"$G89*INDEX('Unit of measures'!$A$7:$R$24,MATCH(K$4,'Unit of measures'!$A$7:$A$24,0),MATCH($F89,'Unit of measures'!$A$7:$R$7,0))","v":{"$error":"#N/A"}},{"$f":"$G89*INDEX('Unit of measures'!$A$7:$R$24,MATCH(L$4,'Unit of measures'!$A$7:$A$24,0),MATCH($F89,'Unit of measures'!$A$7:$R$7,0))","v":{"$error":"#N/A"}},{"$f":"$G89*INDEX('Unit of measures'!$A$7:$R$24,MATCH(M$4,'Unit of measures'!$A$7:$A$24,0),MATCH($F89,'Unit of measures'!$A$7:$R$7,0))","v":{"$error":"#N/A"}},{"$f":"$G89*INDEX('Unit of measures'!$A$7:$R$24,MATCH(N$4,'Unit of measures'!$A$7:$A$24,0),MATCH($F89,'Unit of measures'!$A$7:$R$7,0))","v":{"$error":"#N/A"}},{"$f":"$G89*INDEX('Unit of measures'!$A$7:$R$24,MATCH(O$4,'Unit of measures'!$A$7:$A$24,0),MATCH($F89,'Unit of measures'!$A$7:$R$7,0))","v":{"$error":"#N/A"}},{"$f":"$G89*INDEX('Unit of measures'!$A$7:$R$24,MATCH(P$4,'Unit of measures'!$A$7:$A$24,0),MATCH($F89,'Unit of measures'!$A$7:$R$7,0))","v":{"$error":"#N/A"}},null,null,{"$f":"$R89*INDEX('Unit of measures'!$A$7:$R$24,MATCH(S$4,'Unit of measures'!$A$7:$A$24,0),MATCH($Q89,'Unit of measures'!$A$7:$R$7,0))","v":{"$error":"#N/A"}},{"$f":"$R89*INDEX('Unit of measures'!$A$7:$R$24,MATCH(T$4,'Unit of measures'!$A$7:$A$24,0),MATCH($Q89,'Unit of measures'!$A$7:$R$7,0))","v":{"$error":"#N/A"}},{"$f":"$R89*INDEX('Unit of measures'!$A$7:$R$24,MATCH(U$4,'Unit of measures'!$A$7:$A$24,0),MATCH($Q89,'Unit of measures'!$A$7:$R$7,0))","v":{"$error":"#N/A"}},{"$f":"$R89*INDEX('Unit of measures'!$A$7:$R$24,MATCH(V$4,'Unit of measures'!$A$7:$A$24,0),MATCH($Q89,'Unit of measures'!$A$7:$R$7,0))","v":{"$error":"#N/A"}},{"$f":"$R89*INDEX('Unit of measures'!$A$7:$R$24,MATCH(W$4,'Unit of measures'!$A$7:$A$24,0),MATCH($Q89,'Unit of measures'!$A$7:$R$7,0))","v":{"$error":"#N/A"}},"Each"]
[null,null,null,null,"",null,null,{"$f":"$G90*INDEX('Unit of measures'!$A$7:$R$24,MATCH(H$4,'Unit of measures'!$A$7:$A$24,0),MATCH($F90,'Unit of measures'!$A$7:$R$7,0))","v":{"$error":"#N/A"}},{"$f":"$G90*INDEX('Unit of measures'!$A$7:$R$24,MATCH(I$4,'Unit of measures'!$A$7:$A$24,0),MATCH($F90,'Unit of measures'!$A$7:$R$7,0))","v":{"$error":"#N/A"}},{"$f":"$G90*INDEX('Unit of measures'!$A$7:$R$24,MATCH(J$4,'Unit of measures'!$A$7:$A$24,0),MATCH($F90,'Unit of measures'!$A$7:$R$7,0))","v":{"$error":"#N/A"}},{"$f":"$G90*INDEX('Unit of measures'!$A$7:$R$24,MATCH(K$4,'Unit of measures'!$A$7:$A$24,0),MATCH($F90,'Unit of measures'!$A$7:$R$7,0))","v":{"$error":"#N/A"}},{"$f":"$G90*INDEX('Unit of measures'!$A$7:$R$24,MATCH(L$4,'Unit of measures'!$A$7:$A$24,0),MATCH($F90,'Unit of measures'!$A$7:$R$7,0))","v":{"$error":"#N/A"}},{"$f":"$G90*INDEX('Unit of measures'!$A$7:$R$24,MATCH(M$4,'Unit of measures'!$A$7:$A$24,0),MATCH($F90,'Unit of measures'!$A$7:$R$7,0))","v":{"$error":"#N/A"}},{"$f":"$G90*INDEX('Unit of measures'!$A$7:$R$24,MATCH(N$4,'Unit of measures'!$A$7:$A$24,0),MATCH($F90,'Unit of measures'!$A$7:$R$7,0))","v":{"$error":"#N/A"}},{"$f":"$G90*INDEX('Unit of measures'!$A$7:$R$24,MATCH(O$4,'Unit of measures'!$A$7:$A$24,0),MATCH($F90,'Unit of measures'!$A$7:$R$7,0))","v":{"$error":"#N/A"}},{"$f":"$G90*INDEX('Unit of measures'!$A$7:$R$24,MATCH(P$4,'Unit of measures'!$A$7:$A$24,0),MATCH($F90,'Unit of measures'!$A$7:$R$7,0))","v":{"$error":"#N/A"}},null,null,{"$f":"$R90*INDEX('Unit of measures'!$A$7:$R$24,MATCH(S$4,'Unit of measures'!$A$7:$A$24,0),MATCH($Q90,'Unit of measures'!$A$7:$R$7,0))","v":{"$error":"#N/A"}},{"$f":"$R90*INDEX('Unit of measures'!$A$7:$R$24,MATCH(T$4,'Unit of measures'!$A$7:$A$24,0),MATCH($Q90,'Unit of measures'!$A$7:$R$7,0))","v":{"$error":"#N/A"}},{"$f":"$R90*INDEX('Unit of measures'!$A$7:$R$24,MATCH(U$4,'Unit of measures'!$A$7:$A$24,0),MATCH($Q90,'Unit of measures'!$A$7:$R$7,0))","v":{"$error":"#N/A"}},{"$f":"$R90*INDEX('Unit of measures'!$A$7:$R$24,MATCH(V$4,'Unit of measures'!$A$7:$A$24,0),MATCH($Q90,'Unit of measures'!$A$7:$R$7,0))","v":{"$error":"#N/A"}},{"$f":"$R90*INDEX('Unit of measures'!$A$7:$R$24,MATCH(W$4,'Unit of measures'!$A$7:$A$24,0),MATCH($Q90,'Unit of measures'!$A$7:$R$7,0))","v":{"$error":"#N/A"}},"Each"]
[null,null,null,null,"",null,null,{"$f":"$G91*INDEX('Unit of measures'!$A$7:$R$24,MATCH(H$4,'Unit of measures'!$A$7:$A$24,0),MATCH($F91,'Unit of measures'!$A$7:$R$7,0))","v":{"$error":"#N/A"}},{"$f":"$G91*INDEX('Unit of measures'!$A$7:$R$24,MATCH(I$4,'Unit of measures'!$A$7:$A$24,0),MATCH($F91,'Unit of measures'!$A$7:$R$7,0))","v":{"$error":"#N/A"}},{"$f":"$G91*INDEX('Unit of measures'!$A$7:$R$24,MATCH(J$4,'Unit of measures'!$A$7:$A$24,0),MATCH($F91,'Unit of measures'!$A$7:$R$7,0))","v":{"$error":"#N/A"}},{"$f":"$G91*INDEX('Unit of measures'!$A$7:$R$24,MATCH(K$4,'Unit of measures'!$A$7:$A$24,0),MATCH($F91,'Unit of measures'!$A$7:$R$7,0))","v":{"$error":"#N/A"}},{"$f":"$G91*INDEX('Unit of measures'!$A$7:$R$24,MATCH(L$4,'Unit of measures'!$A$7:$A$24,0),MATCH($F91,'Unit of measures'!$A$7:$R$7,0))","v":{"$error":"#N/A"}},{"$f":"$G91*INDEX('Unit of measures'!$A$7:$R$24,MATCH(M$4,'Unit of measures'!$A$7:$A$24,0),MATCH($F91,'Unit of measures'!$A$7:$R$7,0))","v":{"$error":"#N/A"}},{"$f":"$G91*INDEX('Unit of measures'!$A$7:$R$24,MATCH(N$4,'Unit of measures'!$A$7:$A$24,0),MATCH($F91,'Unit of measures'!$A$7:$R$7,0))","v":{"$error":"#N/A"}},{"$f":"$G91*INDEX('Unit of measures'!$A$7:$R$24,MATCH(O$4,'Unit of measures'!$A$7:$A$24,0),MATCH($F91,'Unit of measures'!$A$7:$R$7,0))","v":{"$error":"#N/A"}},{"$f":"$G91*INDEX('Unit of measures'!$A$7:$R$24,MATCH(P$4,'Unit of measures'!$A$7:$A$24,0),MATCH($F91,'Unit of measures'!$A$7:$R$7,0))","v":{"$error":"#N/A"}},null,null,{"$f":"$R91*INDEX('Unit of measures'!$A$7:$R$24,MATCH(S$4,'Unit of measures'!$A$7:$A$24,0),MATCH($Q91,'Unit of measures'!$A$7:$R$7,0))","v":{"$error":"#N/A"}},{"$f":"$R91*INDEX('Unit of measures'!$A$7:$R$24,MATCH(T$4,'Unit of measures'!$A$7:$A$24,0),MATCH($Q91,'Unit of measures'!$A$7:$R$7,0))","v":{"$error":"#N/A"}},{"$f":"$R91*INDEX('Unit of measures'!$A$7:$R$24,MATCH(U$4,'Unit of measures'!$A$7:$A$24,0),MATCH($Q91,'Unit of measures'!$A$7:$R$7,0))","v":{"$error":"#N/A"}},{"$f":"$R91*INDEX('Unit of measures'!$A$7:$R$24,MATCH(V$4,'Unit of measures'!$A$7:$A$24,0),MATCH($Q91,'Unit of measures'!$A$7:$R$7,0))","v":{"$error":"#N/A"}},{"$f":"$R91*INDEX('Unit of measures'!$A$7:$R$24,MATCH(W$4,'Unit of measures'!$A$7:$A$24,0),MATCH($Q91,'Unit of measures'!$A$7:$R$7,0))","v":{"$error":"#N/A"}},"Each"]
[null,null,null,null,"",null,null,{"$f":"$G92*INDEX('Unit of measures'!$A$7:$R$24,MATCH(H$4,'Unit of measures'!$A$7:$A$24,0),MATCH($F92,'Unit of measures'!$A$7:$R$7,0))","v":{"$error":"#N/A"}},{"$f":"$G92*INDEX('Unit of measures'!$A$7:$R$24,MATCH(I$4,'Unit of measures'!$A$7:$A$24,0),MATCH($F92,'Unit of measures'!$A$7:$R$7,0))","v":{"$error":"#N/A"}},{"$f":"$G92*INDEX('Unit of measures'!$A$7:$R$24,MATCH(J$4,'Unit of measures'!$A$7:$A$24,0),MATCH($F92,'Unit of measures'!$A$7:$R$7,0))","v":{"$error":"#N/A"}},{"$f":"$G92*INDEX('Unit of measures'!$A$7:$R$24,MATCH(K$4,'Unit of measures'!$A$7:$A$24,0),MATCH($F92,'Unit of measures'!$A$7:$R$7,0))","v":{"$error":"#N/A"}},{"$f":"$G92*INDEX('Unit of measures'!$A$7:$R$24,MATCH(L$4,'Unit of measures'!$A$7:$A$24,0),MATCH($F92,'Unit of measures'!$A$7:$R$7,0))","v":{"$error":"#N/A"}},{"$f":"$G92*INDEX('Unit of measures'!$A$7:$R$24,MATCH(M$4,'Unit of measures'!$A$7:$A$24,0),MATCH($F92,'Unit of measures'!$A$7:$R$7,0))","v":{"$error":"#N/A"}},{"$f":"$G92*INDEX('Unit of measures'!$A$7:$R$24,MATCH(N$4,'Unit of measures'!$A$7:$A$24,0),MATCH($F92,'Unit of measures'!$A$7:$R$7,0))","v":{"$error":"#N/A"}},{"$f":"$G92*INDEX('Unit of measures'!$A$7:$R$24,MATCH(O$4,'Unit of measures'!$A$7:$A$24,0),MATCH($F92,'Unit of measures'!$A$7:$R$7,0))","v":{"$error":"#N/A"}},{"$f":"$G92*INDEX('Unit of measures'!$A$7:$R$24,MATCH(P$4,'Unit of measures'!$A$7:$A$24,0),MATCH($F92,'Unit of measures'!$A$7:$R$7,0))","v":{"$error":"#N/A"}},null,null,{"$f":"$R92*INDEX('Unit of measures'!$A$7:$R$24,MATCH(S$4,'Unit of measures'!$A$7:$A$24,0),MATCH($Q92,'Unit of measures'!$A$7:$R$7,0))","v":{"$error":"#N/A"}},{"$f":"$R92*INDEX('Unit of measures'!$A$7:$R$24,MATCH(T$4,'Unit of measures'!$A$7:$A$24,0),MATCH($Q92,'Unit of measures'!$A$7:$R$7,0))","v":{"$error":"#N/A"}},{"$f":"$R92*INDEX('Unit of measures'!$A$7:$R$24,MATCH(U$4,'Unit of measures'!$A$7:$A$24,0),MATCH($Q92,'Unit of measures'!$A$7:$R$7,0))","v":{"$error":"#N/A"}},{"$f":"$R92*INDEX('Unit of measures'!$A$7:$R$24,MATCH(V$4,'Unit of measures'!$A$7:$A$24,0),MATCH($Q92,'Unit of measures'!$A$7:$R$7,0))","v":{"$error":"#N/A"}},{"$f":"$R92*INDEX('Unit of measures'!$A$7:$R$24,MATCH(W$4,'Unit of measures'!$A$7:$A$24,0),MATCH($Q92,'Unit of measures'!$A$7:$R$7,0))","v":{"$error":"#N/A"}},"Each"]
[null,null,null,null,"",null,null,{"$f":"$G93*INDEX('Unit of measures'!$A$7:$R$24,MATCH(H$4,'Unit of measures'!$A$7:$A$24,0),MATCH($F93,'Unit of measures'!$A$7:$R$7,0))","v":{"$error":"#N/A"}},{"$f":"$G93*INDEX('Unit of measures'!$A$7:$R$24,MATCH(I$4,'Unit of measures'!$A$7:$A$24,0),MATCH($F93,'Unit of measures'!$A$7:$R$7,0))","v":{"$error":"#N/A"}},{"$f":"$G93*INDEX('Unit of measures'!$A$7:$R$24,MATCH(J$4,'Unit of measures'!$A$7:$A$24,0),MATCH($F93,'Unit of measures'!$A$7:$R$7,0))","v":{"$error":"#N/A"}},{"$f":"$G93*INDEX('Unit of measures'!$A$7:$R$24,MATCH(K$4,'Unit of measures'!$A$7:$A$24,0),MATCH($F93,'Unit of measures'!$A$7:$R$7,0))","v":{"$error":"#N/A"}},{"$f":"$G93*INDEX('Unit of measures'!$A$7:$R$24,MATCH(L$4,'Unit of measures'!$A$7:$A$24,0),MATCH($F93,'Unit of measures'!$A$7:$R$7,0))","v":{"$error":"#N/A"}},{"$f":"$G93*INDEX('Unit of measures'!$A$7:$R$24,MATCH(M$4,'Unit of measures'!$A$7:$A$24,0),MATCH($F93,'Unit of measures'!$A$7:$R$7,0))","v":{"$error":"#N/A"}},{"$f":"$G93*INDEX('Unit of measures'!$A$7:$R$24,MATCH(N$4,'Unit of measures'!$A$7:$A$24,0),MATCH($F93,'Unit of measures'!$A$7:$R$7,0))","v":{"$error":"#N/A"}},{"$f":"$G93*INDEX('Unit of measures'!$A$7:$R$24,MATCH(O$4,'Unit of measures'!$A$7:$A$24,0),MATCH($F93,'Unit of measures'!$A$7:$R$7,0))","v":{"$error":"#N/A"}},{"$f":"$G93*INDEX('Unit of measures'!$A$7:$R$24,MATCH(P$4,'Unit of measures'!$A$7:$A$24,0),MATCH($F93,'Unit of measures'!$A$7:$R$7,0))","v":{"$error":"#N/A"}},null,null,{"$f":"$R93*INDEX('Unit of measures'!$A$7:$R$24,MATCH(S$4,'Unit of measures'!$A$7:$A$24,0),MATCH($Q93,'Unit of measures'!$A$7:$R$7,0))","v":{"$error":"#N/A"}},{"$f":"$R93*INDEX('Unit of measures'!$A$7:$R$24,MATCH(T$4,'Unit of measures'!$A$7:$A$24,0),MATCH($Q93,'Unit of measures'!$A$7:$R$7,0))","v":{"$error":"#N/A"}},{"$f":"$R93*INDEX('Unit of measures'!$A$7:$R$24,MATCH(U$4,'Unit of measures'!$A$7:$A$24,0),MATCH($Q93,'Unit of measures'!$A$7:$R$7,0))","v":{"$error":"#N/A"}},{"$f":"$R93*INDEX('Unit of measures'!$A$7:$R$24,MATCH(V$4,'Unit of measures'!$A$7:$A$24,0),MATCH($Q93,'Unit of measures'!$A$7:$R$7,0))","v":{"$error":"#N/A"}},{"$f":"$R93*INDEX('Unit of measures'!$A$7:$R$24,MATCH(W$4,'Unit of measures'!$A$7:$A$24,0),MATCH($Q93,'Unit of measures'!$A$7:$R$7,0))","v":{"$error":"#N/A"}},"Each"]
[null,null,null,null,"",null,null,{"$f":"$G94*INDEX('Unit of measures'!$A$7:$R$24,MATCH(H$4,'Unit of measures'!$A$7:$A$24,0),MATCH($F94,'Unit of measures'!$A$7:$R$7,0))","v":{"$error":"#N/A"}},{"$f":"$G94*INDEX('Unit of measures'!$A$7:$R$24,MATCH(I$4,'Unit of measures'!$A$7:$A$24,0),MATCH($F94,'Unit of measures'!$A$7:$R$7,0))","v":{"$error":"#N/A"}},{"$f":"$G94*INDEX('Unit of measures'!$A$7:$R$24,MATCH(J$4,'Unit of measures'!$A$7:$A$24,0),MATCH($F94,'Unit of measures'!$A$7:$R$7,0))","v":{"$error":"#N/A"}},{"$f":"$G94*INDEX('Unit of measures'!$A$7:$R$24,MATCH(K$4,'Unit of measures'!$A$7:$A$24,0),MATCH($F94,'Unit of measures'!$A$7:$R$7,0))","v":{"$error":"#N/A"}},{"$f":"$G94*INDEX('Unit of measures'!$A$7:$R$24,MATCH(L$4,'Unit of measures'!$A$7:$A$24,0),MATCH($F94,'Unit of measures'!$A$7:$R$7,0))","v":{"$error":"#N/A"}},{"$f":"$G94*INDEX('Unit of measures'!$A$7:$R$24,MATCH(M$4,'Unit of measures'!$A$7:$A$24,0),MATCH($F94,'Unit of measures'!$A$7:$R$7,0))","v":{"$error":"#N/A"}},{"$f":"$G94*INDEX('Unit of measures'!$A$7:$R$24,MATCH(N$4,'Unit of measures'!$A$7:$A$24,0),MATCH($F94,'Unit of measures'!$A$7:$R$7,0))","v":{"$error":"#N/A"}},{"$f":"$G94*INDEX('Unit of measures'!$A$7:$R$24,MATCH(O$4,'Unit of measures'!$A$7:$A$24,0),MATCH($F94,'Unit of measures'!$A$7:$R$7,0))","v":{"$error":"#N/A"}},{"$f":"$G94*INDEX('Unit of measures'!$A$7:$R$24,MATCH(P$4,'Unit of measures'!$A$7:$A$24,0),MATCH($F94,'Unit of measures'!$A$7:$R$7,0))","v":{"$error":"#N/A"}},null,null,{"$f":"$R94*INDEX('Unit of measures'!$A$7:$R$24,MATCH(S$4,'Unit of measures'!$A$7:$A$24,0),MATCH($Q94,'Unit of measures'!$A$7:$R$7,0))","v":{"$error":"#N/A"}},{"$f":"$R94*INDEX('Unit of measures'!$A$7:$R$24,MATCH(T$4,'Unit of measures'!$A$7:$A$24,0),MATCH($Q94,'Unit of measures'!$A$7:$R$7,0))","v":{"$error":"#N/A"}},{"$f":"$R94*INDEX('Unit of measures'!$A$7:$R$24,MATCH(U$4,'Unit of measures'!$A$7:$A$24,0),MATCH($Q94,'Unit of measures'!$A$7:$R$7,0))","v":{"$error":"#N/A"}},{"$f":"$R94*INDEX('Unit of measures'!$A$7:$R$24,MATCH(V$4,'Unit of measures'!$A$7:$A$24,0),MATCH($Q94,'Unit of measures'!$A$7:$R$7,0))","v":{"$error":"#N/A"}},{"$f":"$R94*INDEX('Unit of measures'!$A$7:$R$24,MATCH(W$4,'Unit of measures'!$A$7:$A$24,0),MATCH($Q94,'Unit of measures'!$A$7:$R$7,0))","v":{"$error":"#N/A"}},"Each"]
[null,null,null,null,"",null,null,{"$f":"$G95*INDEX('Unit of measures'!$A$7:$R$24,MATCH(H$4,'Unit of measures'!$A$7:$A$24,0),MATCH($F95,'Unit of measures'!$A$7:$R$7,0))","v":{"$error":"#N/A"}},{"$f":"$G95*INDEX('Unit of measures'!$A$7:$R$24,MATCH(I$4,'Unit of measures'!$A$7:$A$24,0),MATCH($F95,'Unit of measures'!$A$7:$R$7,0))","v":{"$error":"#N/A"}},{"$f":"$G95*INDEX('Unit of measures'!$A$7:$R$24,MATCH(J$4,'Unit of measures'!$A$7:$A$24,0),MATCH($F95,'Unit of measures'!$A$7:$R$7,0))","v":{"$error":"#N/A"}},{"$f":"$G95*INDEX('Unit of measures'!$A$7:$R$24,MATCH(K$4,'Unit of measures'!$A$7:$A$24,0),MATCH($F95,'Unit of measures'!$A$7:$R$7,0))","v":{"$error":"#N/A"}},{"$f":"$G95*INDEX('Unit of measures'!$A$7:$R$24,MATCH(L$4,'Unit of measures'!$A$7:$A$24,0),MATCH($F95,'Unit of measures'!$A$7:$R$7,0))","v":{"$error":"#N/A"}},{"$f":"$G95*INDEX('Unit of measures'!$A$7:$R$24,MATCH(M$4,'Unit of measures'!$A$7:$A$24,0),MATCH($F95,'Unit of measures'!$A$7:$R$7,0))","v":{"$error":"#N/A"}},{"$f":"$G95*INDEX('Unit of measures'!$A$7:$R$24,MATCH(N$4,'Unit of measures'!$A$7:$A$24,0),MATCH($F95,'Unit of measures'!$A$7:$R$7,0))","v":{"$error":"#N/A"}},{"$f":"$G95*INDEX('Unit of measures'!$A$7:$R$24,MATCH(O$4,'Unit of measures'!$A$7:$A$24,0),MATCH($F95,'Unit of measures'!$A$7:$R$7,0))","v":{"$error":"#N/A"}},{"$f":"$G95*INDEX('Unit of measures'!$A$7:$R$24,MATCH(P$4,'Unit of measures'!$A$7:$A$24,0),MATCH($F95,'Unit of measures'!$A$7:$R$7,0))","v":{"$error":"#N/A"}},null,null,{"$f":"$R95*INDEX('Unit of measures'!$A$7:$R$24,MATCH(S$4,'Unit of measures'!$A$7:$A$24,0),MATCH($Q95,'Unit of measures'!$A$7:$R$7,0))","v":{"$error":"#N/A"}},{"$f":"$R95*INDEX('Unit of measures'!$A$7:$R$24,MATCH(T$4,'Unit of measures'!$A$7:$A$24,0),MATCH($Q95,'Unit of measures'!$A$7:$R$7,0))","v":{"$error":"#N/A"}},{"$f":"$R95*INDEX('Unit of measures'!$A$7:$R$24,MATCH(U$4,'Unit of measures'!$A$7:$A$24,0),MATCH($Q95,'Unit of measures'!$A$7:$R$7,0))","v":{"$error":"#N/A"}},{"$f":"$R95*INDEX('Unit of measures'!$A$7:$R$24,MATCH(V$4,'Unit of measures'!$A$7:$A$24,0),MATCH($Q95,'Unit of measures'!$A$7:$R$7,0))","v":{"$error":"#N/A"}},{"$f":"$R95*INDEX('Unit of measures'!$A$7:$R$24,MATCH(W$4,'Unit of measures'!$A$7:$A$24,0),MATCH($Q95,'Unit of measures'!$A$7:$R$7,0))","v":{"$error":"#N/A"}},"Each"]
[null,null,null,null,"",null,null,{"$f":"$G96*INDEX('Unit of measures'!$A$7:$R$24,MATCH(H$4,'Unit of measures'!$A$7:$A$24,0),MATCH($F96,'Unit of measures'!$A$7:$R$7,0))","v":{"$error":"#N/A"}},{"$f":"$G96*INDEX('Unit of measures'!$A$7:$R$24,MATCH(I$4,'Unit of measures'!$A$7:$A$24,0),MATCH($F96,'Unit of measures'!$A$7:$R$7,0))","v":{"$error":"#N/A"}},{"$f":"$G96*INDEX('Unit of measures'!$A$7:$R$24,MATCH(J$4,'Unit of measures'!$A$7:$A$24,0),MATCH($F96,'Unit of measures'!$A$7:$R$7,0))","v":{"$error":"#N/A"}},{"$f":"$G96*INDEX('Unit of measures'!$A$7:$R$24,MATCH(K$4,'Unit of measures'!$A$7:$A$24,0),MATCH($F96,'Unit of measures'!$A$7:$R$7,0))","v":{"$error":"#N/A"}},{"$f":"$G96*INDEX('Unit of measures'!$A$7:$R$24,MATCH(L$4,'Unit of measures'!$A$7:$A$24,0),MATCH($F96,'Unit of measures'!$A$7:$R$7,0))","v":{"$error":"#N/A"}},{"$f":"$G96*INDEX('Unit of measures'!$A$7:$R$24,MATCH(M$4,'Unit of measures'!$A$7:$A$24,0),MATCH($F96,'Unit of measures'!$A$7:$R$7,0))","v":{"$error":"#N/A"}},{"$f":"$G96*INDEX('Unit of measures'!$A$7:$R$24,MATCH(N$4,'Unit of measures'!$A$7:$A$24,0),MATCH($F96,'Unit of measures'!$A$7:$R$7,0))","v":{"$error":"#N/A"}},{"$f":"$G96*INDEX('Unit of measures'!$A$7:$R$24,MATCH(O$4,'Unit of measures'!$A$7:$A$24,0),MATCH($F96,'Unit of measures'!$A$7:$R$7,0))","v":{"$error":"#N/A"}},{"$f":"$G96*INDEX('Unit of measures'!$A$7:$R$24,MATCH(P$4,'Unit of measures'!$A$7:$A$24,0),MATCH($F96,'Unit of measures'!$A$7:$R$7,0))","v":{"$error":"#N/A"}},null,null,{"$f":"$R96*INDEX('Unit of measures'!$A$7:$R$24,MATCH(S$4,'Unit of measures'!$A$7:$A$24,0),MATCH($Q96,'Unit of measures'!$A$7:$R$7,0))","v":{"$error":"#N/A"}},{"$f":"$R96*INDEX('Unit of measures'!$A$7:$R$24,MATCH(T$4,'Unit of measures'!$A$7:$A$24,0),MATCH($Q96,'Unit of measures'!$A$7:$R$7,0))","v":{"$error":"#N/A"}},{"$f":"$R96*INDEX('Unit of measures'!$A$7:$R$24,MATCH(U$4,'Unit of measures'!$A$7:$A$24,0),MATCH($Q96,'Unit of measures'!$A$7:$R$7,0))","v":{"$error":"#N/A"}},{"$f":"$R96*INDEX('Unit of measures'!$A$7:$R$24,MATCH(V$4,'Unit of measures'!$A$7:$A$24,0),MATCH($Q96,'Unit of measures'!$A$7:$R$7,0))","v":{"$error":"#N/A"}},{"$f":"$R96*INDEX('Unit of measures'!$A$7:$R$24,MATCH(W$4,'Unit of measures'!$A$7:$A$24,0),MATCH($Q96,'Unit of measures'!$A$7:$R$7,0))","v":{"$error":"#N/A"}},"Each"]
[null,null,null,null,"",null,null,{"$f":"$G97*INDEX('Unit of measures'!$A$7:$R$24,MATCH(H$4,'Unit of measures'!$A$7:$A$24,0),MATCH($F97,'Unit of measures'!$A$7:$R$7,0))","v":{"$error":"#N/A"}},{"$f":"$G97*INDEX('Unit of measures'!$A$7:$R$24,MATCH(I$4,'Unit of measures'!$A$7:$A$24,0),MATCH($F97,'Unit of measures'!$A$7:$R$7,0))","v":{"$error":"#N/A"}},{"$f":"$G97*INDEX('Unit of measures'!$A$7:$R$24,MATCH(J$4,'Unit of measures'!$A$7:$A$24,0),MATCH($F97,'Unit of measures'!$A$7:$R$7,0))","v":{"$error":"#N/A"}},{"$f":"$G97*INDEX('Unit of measures'!$A$7:$R$24,MATCH(K$4,'Unit of measures'!$A$7:$A$24,0),MATCH($F97,'Unit of measures'!$A$7:$R$7,0))","v":{"$error":"#N/A"}},{"$f":"$G97*INDEX('Unit of measures'!$A$7:$R$24,MATCH(L$4,'Unit of measures'!$A$7:$A$24,0),MATCH($F97,'Unit of measures'!$A$7:$R$7,0))","v":{"$error":"#N/A"}},{"$f":"$G97*INDEX('Unit of measures'!$A$7:$R$24,MATCH(M$4,'Unit of measures'!$A$7:$A$24,0),MATCH($F97,'Unit of measures'!$A$7:$R$7,0))","v":{"$error":"#N/A"}},{"$f":"$G97*INDEX('Unit of measures'!$A$7:$R$24,MATCH(N$4,'Unit of measures'!$A$7:$A$24,0),MATCH($F97,'Unit of measures'!$A$7:$R$7,0))","v":{"$error":"#N/A"}},{"$f":"$G97*INDEX('Unit of measures'!$A$7:$R$24,MATCH(O$4,'Unit of measures'!$A$7:$A$24,0),MATCH($F97,'Unit of measures'!$A$7:$R$7,0))","v":{"$error":"#N/A"}},{"$f":"$G97*INDEX('Unit of measures'!$A$7:$R$24,MATCH(P$4,'Unit of measures'!$A$7:$A$24,0),MATCH($F97,'Unit of measures'!$A$7:$R$7,0))","v":{"$error":"#N/A"}},null,null,{"$f":"$R97*INDEX('Unit of measures'!$A$7:$R$24,MATCH(S$4,'Unit of measures'!$A$7:$A$24,0),MATCH($Q97,'Unit of measures'!$A$7:$R$7,0))","v":{"$error":"#N/A"}},{"$f":"$R97*INDEX('Unit of measures'!$A$7:$R$24,MATCH(T$4,'Unit of measures'!$A$7:$A$24,0),MATCH($Q97,'Unit of measures'!$A$7:$R$7,0))","v":{"$error":"#N/A"}},{"$f":"$R97*INDEX('Unit of measures'!$A$7:$R$24,MATCH(U$4,'Unit of measures'!$A$7:$A$24,0),MATCH($Q97,'Unit of measures'!$A$7:$R$7,0))","v":{"$error":"#N/A"}},{"$f":"$R97*INDEX('Unit of measures'!$A$7:$R$24,MATCH(V$4,'Unit of measures'!$A$7:$A$24,0),MATCH($Q97,'Unit of measures'!$A$7:$R$7,0))","v":{"$error":"#N/A"}},{"$f":"$R97*INDEX('Unit of measures'!$A$7:$R$24,MATCH(W$4,'Unit of measures'!$A$7:$A$24,0),MATCH($Q97,'Unit of measures'!$A$7:$R$7,0))","v":{"$error":"#N/A"}},"Each"]
[null,null,null,null,"",null,null,{"$f":"$G98*INDEX('Unit of measures'!$A$7:$R$24,MATCH(H$4,'Unit of measures'!$A$7:$A$24,0),MATCH($F98,'Unit of measures'!$A$7:$R$7,0))","v":{"$error":"#N/A"}},{"$f":"$G98*INDEX('Unit of measures'!$A$7:$R$24,MATCH(I$4,'Unit of measures'!$A$7:$A$24,0),MATCH($F98,'Unit of measures'!$A$7:$R$7,0))","v":{"$error":"#N/A"}},{"$f":"$G98*INDEX('Unit of measures'!$A$7:$R$24,MATCH(J$4,'Unit of measures'!$A$7:$A$24,0),MATCH($F98,'Unit of measures'!$A$7:$R$7,0))","v":{"$error":"#N/A"}},{"$f":"$G98*INDEX('Unit of measures'!$A$7:$R$24,MATCH(K$4,'Unit of measures'!$A$7:$A$24,0),MATCH($F98,'Unit of measures'!$A$7:$R$7,0))","v":{"$error":"#N/A"}},{"$f":"$G98*INDEX('Unit of measures'!$A$7:$R$24,MATCH(L$4,'Unit of measures'!$A$7:$A$24,0),MATCH($F98,'Unit of measures'!$A$7:$R$7,0))","v":{"$error":"#N/A"}},{"$f":"$G98*INDEX('Unit of measures'!$A$7:$R$24,MATCH(M$4,'Unit of measures'!$A$7:$A$24,0),MATCH($F98,'Unit of measures'!$A$7:$R$7,0))","v":{"$error":"#N/A"}},{"$f":"$G98*INDEX('Unit of measures'!$A$7:$R$24,MATCH(N$4,'Unit of measures'!$A$7:$A$24,0),MATCH($F98,'Unit of measures'!$A$7:$R$7,0))","v":{"$error":"#N/A"}},{"$f":"$G98*INDEX('Unit of measures'!$A$7:$R$24,MATCH(O$4,'Unit of measures'!$A$7:$A$24,0),MATCH($F98,'Unit of measures'!$A$7:$R$7,0))","v":{"$error":"#N/A"}},{"$f":"$G98*INDEX('Unit of measures'!$A$7:$R$24,MATCH(P$4,'Unit of measures'!$A$7:$A$24,0),MATCH($F98,'Unit of measures'!$A$7:$R$7,0))","v":{"$error":"#N/A"}},null,null,{"$f":"$R98*INDEX('Unit of measures'!$A$7:$R$24,MATCH(S$4,'Unit of measures'!$A$7:$A$24,0),MATCH($Q98,'Unit of measures'!$A$7:$R$7,0))","v":{"$error":"#N/A"}},{"$f":"$R98*INDEX('Unit of measures'!$A$7:$R$24,MATCH(T$4,'Unit of measures'!$A$7:$A$24,0),MATCH($Q98,'Unit of measures'!$A$7:$R$7,0))","v":{"$error":"#N/A"}},{"$f":"$R98*INDEX('Unit of measures'!$A$7:$R$24,MATCH(U$4,'Unit of measures'!$A$7:$A$24,0),MATCH($Q98,'Unit of measures'!$A$7:$R$7,0))","v":{"$error":"#N/A"}},{"$f":"$R98*INDEX('Unit of measures'!$A$7:$R$24,MATCH(V$4,'Unit of measures'!$A$7:$A$24,0),MATCH($Q98,'Unit of measures'!$A$7:$R$7,0))","v":{"$error":"#N/A"}},{"$f":"$R98*INDEX('Unit of measures'!$A$7:$R$24,MATCH(W$4,'Unit of measures'!$A$7:$A$24,0),MATCH($Q98,'Unit of measures'!$A$7:$R$7,0))","v":{"$error":"#N/A"}},"Each"]
[null,null,null,null,"",null,null,{"$f":"$G99*INDEX('Unit of measures'!$A$7:$R$24,MATCH(H$4,'Unit of measures'!$A$7:$A$24,0),MATCH($F99,'Unit of measures'!$A$7:$R$7,0))","v":{"$error":"#N/A"}},{"$f":"$G99*INDEX('Unit of measures'!$A$7:$R$24,MATCH(I$4,'Unit of measures'!$A$7:$A$24,0),MATCH($F99,'Unit of measures'!$A$7:$R$7,0))","v":{"$error":"#N/A"}},{"$f":"$G99*INDEX('Unit of measures'!$A$7:$R$24,MATCH(J$4,'Unit of measures'!$A$7:$A$24,0),MATCH($F99,'Unit of measures'!$A$7:$R$7,0))","v":{"$error":"#N/A"}},{"$f":"$G99*INDEX('Unit of measures'!$A$7:$R$24,MATCH(K$4,'Unit of measures'!$A$7:$A$24,0),MATCH($F99,'Unit of measures'!$A$7:$R$7,0))","v":{"$error":"#N/A"}},{"$f":"$G99*INDEX('Unit of measures'!$A$7:$R$24,MATCH(L$4,'Unit of measures'!$A$7:$A$24,0),MATCH($F99,'Unit of measures'!$A$7:$R$7,0))","v":{"$error":"#N/A"}},{"$f":"$G99*INDEX('Unit of measures'!$A$7:$R$24,MATCH(M$4,'Unit of measures'!$A$7:$A$24,0),MATCH($F99,'Unit of measures'!$A$7:$R$7,0))","v":{"$error":"#N/A"}},{"$f":"$G99*INDEX('Unit of measures'!$A$7:$R$24,MATCH(N$4,'Unit of measures'!$A$7:$A$24,0),MATCH($F99,'Unit of measures'!$A$7:$R$7,0))","v":{"$error":"#N/A"}},{"$f":"$G99*INDEX('Unit of measures'!$A$7:$R$24,MATCH(O$4,'Unit of measures'!$A$7:$A$24,0),MATCH($F99,'Unit of measures'!$A$7:$R$7,0))","v":{"$error":"#N/A"}},{"$f":"$G99*INDEX('Unit of measures'!$A$7:$R$24,MATCH(P$4,'Unit of measures'!$A$7:$A$24,0),MATCH($F99,'Unit of measures'!$A$7:$R$7,0))","v":{"$error":"#N/A"}},null,null,{"$f":"$R99*INDEX('Unit of measures'!$A$7:$R$24,MATCH(S$4,'Unit of measures'!$A$7:$A$24,0),MATCH($Q99,'Unit of measures'!$A$7:$R$7,0))","v":{"$error":"#N/A"}},{"$f":"$R99*INDEX('Unit of measures'!$A$7:$R$24,MATCH(T$4,'Unit of measures'!$A$7:$A$24,0),MATCH($Q99,'Unit of measures'!$A$7:$R$7,0))","v":{"$error":"#N/A"}},{"$f":"$R99*INDEX('Unit of measures'!$A$7:$R$24,MATCH(U$4,'Unit of measures'!$A$7:$A$24,0),MATCH($Q99,'Unit of measures'!$A$7:$R$7,0))","v":{"$error":"#N/A"}},{"$f":"$R99*INDEX('Unit of measures'!$A$7:$R$24,MATCH(V$4,'Unit of measures'!$A$7:$A$24,0),MATCH($Q99,'Unit of measures'!$A$7:$R$7,0))","v":{"$error":"#N/A"}},{"$f":"$R99*INDEX('Unit of measures'!$A$7:$R$24,MATCH(W$4,'Unit of measures'!$A$7:$A$24,0),MATCH($Q99,'Unit of measures'!$A$7:$R$7,0))","v":{"$error":"#N/A"}},"Each"]
[null,null,null,null,"",null,null,{"$f":"$G100*INDEX('Unit of measures'!$A$7:$R$24,MATCH(H$4,'Unit of measures'!$A$7:$A$24,0),MATCH($F100,'Unit of measures'!$A$7:$R$7,0))","v":{"$error":"#N/A"}},{"$f":"$G100*INDEX('Unit of measures'!$A$7:$R$24,MATCH(I$4,'Unit of measures'!$A$7:$A$24,0),MATCH($F100,'Unit of measures'!$A$7:$R$7,0))","v":{"$error":"#N/A"}},{"$f":"$G100*INDEX('Unit of measures'!$A$7:$R$24,MATCH(J$4,'Unit of measures'!$A$7:$A$24,0),MATCH($F100,'Unit of measures'!$A$7:$R$7,0))","v":{"$error":"#N/A"}},{"$f":"$G100*INDEX('Unit of measures'!$A$7:$R$24,MATCH(K$4,'Unit of measures'!$A$7:$A$24,0),MATCH($F100,'Unit of measures'!$A$7:$R$7,0))","v":{"$error":"#N/A"}},{"$f":"$G100*INDEX('Unit of measures'!$A$7:$R$24,MATCH(L$4,'Unit of measures'!$A$7:$A$24,0),MATCH($F100,'Unit of measures'!$A$7:$R$7,0))","v":{"$error":"#N/A"}},{"$f":"$G100*INDEX('Unit of measures'!$A$7:$R$24,MATCH(M$4,'Unit of measures'!$A$7:$A$24,0),MATCH($F100,'Unit of measures'!$A$7:$R$7,0))","v":{"$error":"#N/A"}},{"$f":"$G100*INDEX('Unit of measures'!$A$7:$R$24,MATCH(N$4,'Unit of measures'!$A$7:$A$24,0),MATCH($F100,'Unit of measures'!$A$7:$R$7,0))","v":{"$error":"#N/A"}},{"$f":"$G100*INDEX('Unit of measures'!$A$7:$R$24,MATCH(O$4,'Unit of measures'!$A$7:$A$24,0),MATCH($F100,'Unit of measures'!$A$7:$R$7,0))","v":{"$error":"#N/A"}},{"$f":"$G100*INDEX('Unit of measures'!$A$7:$R$24,MATCH(P$4,'Unit of measures'!$A$7:$A$24,0),MATCH($F100,'Unit of measures'!$A$7:$R$7,0))","v":{"$error":"#N/A"}},null,null,{"$f":"$R100*INDEX('Unit of measures'!$A$7:$R$24,MATCH(S$4,'Unit of measures'!$A$7:$A$24,0),MATCH($Q100,'Unit of measures'!$A$7:$R$7,0))","v":{"$error":"#N/A"}},{"$f":"$R100*INDEX('Unit of measures'!$A$7:$R$24,MATCH(T$4,'Unit of measures'!$A$7:$A$24,0),MATCH($Q100,'Unit of measures'!$A$7:$R$7,0))","v":{"$error":"#N/A"}},{"$f":"$R100*INDEX('Unit of measures'!$A$7:$R$24,MATCH(U$4,'Unit of measures'!$A$7:$A$24,0),MATCH($Q100,'Unit of measures'!$A$7:$R$7,0))","v":{"$error":"#N/A"}},{"$f":"$R100*INDEX('Unit of measures'!$A$7:$R$24,MATCH(V$4,'Unit of measures'!$A$7:$A$24,0),MATCH($Q100,'Unit of measures'!$A$7:$R$7,0))","v":{"$error":"#N/A"}},{"$f":"$R100*INDEX('Unit of measures'!$A$7:$R$24,MATCH(W$4,'Unit of measures'!$A$7:$A$24,0),MATCH($Q100,'Unit of measures'!$A$7:$R$7,0))","v":{"$error":"#N/A"}},"Each"]
[null,null,null,null,"",null,null,{"$f":"$G101*INDEX('Unit of measures'!$A$7:$R$24,MATCH(H$4,'Unit of measures'!$A$7:$A$24,0),MATCH($F101,'Unit of measures'!$A$7:$R$7,0))","v":{"$error":"#N/A"}},{"$f":"$G101*INDEX('Unit of measures'!$A$7:$R$24,MATCH(I$4,'Unit of measures'!$A$7:$A$24,0),MATCH($F101,'Unit of measures'!$A$7:$R$7,0))","v":{"$error":"#N/A"}},{"$f":"$G101*INDEX('Unit of measures'!$A$7:$R$24,MATCH(J$4,'Unit of measures'!$A$7:$A$24,0),MATCH($F101,'Unit of measures'!$A$7:$R$7,0))","v":{"$error":"#N/A"}},{"$f":"$G101*INDEX('Unit of measures'!$A$7:$R$24,MATCH(K$4,'Unit of measures'!$A$7:$A$24,0),MATCH($F101,'Unit of measures'!$A$7:$R$7,0))","v":{"$error":"#N/A"}},{"$f":"$G101*INDEX('Unit of measures'!$A$7:$R$24,MATCH(L$4,'Unit of measures'!$A$7:$A$24,0),MATCH($F101,'Unit of measures'!$A$7:$R$7,0))","v":{"$error":"#N/A"}},{"$f":"$G101*INDEX('Unit of measures'!$A$7:$R$24,MATCH(M$4,'Unit of measures'!$A$7:$A$24,0),MATCH($F101,'Unit of measures'!$A$7:$R$7,0))","v":{"$error":"#N/A"}},{"$f":"$G101*INDEX('Unit of measures'!$A$7:$R$24,MATCH(N$4,'Unit of measures'!$A$7:$A$24,0),MATCH($F101,'Unit of measures'!$A$7:$R$7,0))","v":{"$error":"#N/A"}},{"$f":"$G101*INDEX('Unit of measures'!$A$7:$R$24,MATCH(O$4,'Unit of measures'!$A$7:$A$24,0),MATCH($F101,'Unit of measures'!$A$7:$R$7,0))","v":{"$error":"#N/A"}},{"$f":"$G101*INDEX('Unit of measures'!$A$7:$R$24,MATCH(P$4,'Unit of measures'!$A$7:$A$24,0),MATCH($F101,'Unit of measures'!$A$7:$R$7,0))","v":{"$error":"#N/A"}},null,null,{"$f":"$R101*INDEX('Unit of measures'!$A$7:$R$24,MATCH(S$4,'Unit of measures'!$A$7:$A$24,0),MATCH($Q101,'Unit of measures'!$A$7:$R$7,0))","v":{"$error":"#N/A"}},{"$f":"$R101*INDEX('Unit of measures'!$A$7:$R$24,MATCH(T$4,'Unit of measures'!$A$7:$A$24,0),MATCH($Q101,'Unit of measures'!$A$7:$R$7,0))","v":{"$error":"#N/A"}},{"$f":"$R101*INDEX('Unit of measures'!$A$7:$R$24,MATCH(U$4,'Unit of measures'!$A$7:$A$24,0),MATCH($Q101,'Unit of measures'!$A$7:$R$7,0))","v":{"$error":"#N/A"}},{"$f":"$R101*INDEX('Unit of measures'!$A$7:$R$24,MATCH(V$4,'Unit of measures'!$A$7:$A$24,0),MATCH($Q101,'Unit of measures'!$A$7:$R$7,0))","v":{"$error":"#N/A"}},{"$f":"$R101*INDEX('Unit of measures'!$A$7:$R$24,MATCH(W$4,'Unit of measures'!$A$7:$A$24,0),MATCH($Q101,'Unit of measures'!$A$7:$R$7,0))","v":{"$error":"#N/A"}},"Each"]
[null,null,null,null,"",null,null,{"$f":"$G102*INDEX('Unit of measures'!$A$7:$R$24,MATCH(H$4,'Unit of measures'!$A$7:$A$24,0),MATCH($F102,'Unit of measures'!$A$7:$R$7,0))","v":{"$error":"#N/A"}},{"$f":"$G102*INDEX('Unit of measures'!$A$7:$R$24,MATCH(I$4,'Unit of measures'!$A$7:$A$24,0),MATCH($F102,'Unit of measures'!$A$7:$R$7,0))","v":{"$error":"#N/A"}},{"$f":"$G102*INDEX('Unit of measures'!$A$7:$R$24,MATCH(J$4,'Unit of measures'!$A$7:$A$24,0),MATCH($F102,'Unit of measures'!$A$7:$R$7,0))","v":{"$error":"#N/A"}},{"$f":"$G102*INDEX('Unit of measures'!$A$7:$R$24,MATCH(K$4,'Unit of measures'!$A$7:$A$24,0),MATCH($F102,'Unit of measures'!$A$7:$R$7,0))","v":{"$error":"#N/A"}},{"$f":"$G102*INDEX('Unit of measures'!$A$7:$R$24,MATCH(L$4,'Unit of measures'!$A$7:$A$24,0),MATCH($F102,'Unit of measures'!$A$7:$R$7,0))","v":{"$error":"#N/A"}},{"$f":"$G102*INDEX('Unit of measures'!$A$7:$R$24,MATCH(M$4,'Unit of measures'!$A$7:$A$24,0),MATCH($F102,'Unit of measures'!$A$7:$R$7,0))","v":{"$error":"#N/A"}},{"$f":"$G102*INDEX('Unit of measures'!$A$7:$R$24,MATCH(N$4,'Unit of measures'!$A$7:$A$24,0),MATCH($F102,'Unit of measures'!$A$7:$R$7,0))","v":{"$error":"#N/A"}},{"$f":"$G102*INDEX('Unit of measures'!$A$7:$R$24,MATCH(O$4,'Unit of measures'!$A$7:$A$24,0),MATCH($F102,'Unit of measures'!$A$7:$R$7,0))","v":{"$error":"#N/A"}},{"$f":"$G102*INDEX('Unit of measures'!$A$7:$R$24,MATCH(P$4,'Unit of measures'!$A$7:$A$24,0),MATCH($F102,'Unit of measures'!$A$7:$R$7,0))","v":{"$error":"#N/A"}},null,null,{"$f":"$R102*INDEX('Unit of measures'!$A$7:$R$24,MATCH(S$4,'Unit of measures'!$A$7:$A$24,0),MATCH($Q102,'Unit of measures'!$A$7:$R$7,0))","v":{"$error":"#N/A"}},{"$f":"$R102*INDEX('Unit of measures'!$A$7:$R$24,MATCH(T$4,'Unit of measures'!$A$7:$A$24,0),MATCH($Q102,'Unit of measures'!$A$7:$R$7,0))","v":{"$error":"#N/A"}},{"$f":"$R102*INDEX('Unit of measures'!$A$7:$R$24,MATCH(U$4,'Unit of measures'!$A$7:$A$24,0),MATCH($Q102,'Unit of measures'!$A$7:$R$7,0))","v":{"$error":"#N/A"}},{"$f":"$R102*INDEX('Unit of measures'!$A$7:$R$24,MATCH(V$4,'Unit of measures'!$A$7:$A$24,0),MATCH($Q102,'Unit of measures'!$A$7:$R$7,0))","v":{"$error":"#N/A"}},{"$f":"$R102*INDEX('Unit of measures'!$A$7:$R$24,MATCH(W$4,'Unit of measures'!$A$7:$A$24,0),MATCH($Q102,'Unit of measures'!$A$7:$R$7,0))","v":{"$error":"#N/A"}},"Each"]
[null,null,null,null,"",null,null,{"$f":"$G103*INDEX('Unit of measures'!$A$7:$R$24,MATCH(H$4,'Unit of measures'!$A$7:$A$24,0),MATCH($F103,'Unit of measures'!$A$7:$R$7,0))","v":{"$error":"#N/A"}},{"$f":"$G103*INDEX('Unit of measures'!$A$7:$R$24,MATCH(I$4,'Unit of measures'!$A$7:$A$24,0),MATCH($F103,'Unit of measures'!$A$7:$R$7,0))","v":{"$error":"#N/A"}},{"$f":"$G103*INDEX('Unit of measures'!$A$7:$R$24,MATCH(J$4,'Unit of measures'!$A$7:$A$24,0),MATCH($F103,'Unit of measures'!$A$7:$R$7,0))","v":{"$error":"#N/A"}},{"$f":"$G103*INDEX('Unit of measures'!$A$7:$R$24,MATCH(K$4,'Unit of measures'!$A$7:$A$24,0),MATCH($F103,'Unit of measures'!$A$7:$R$7,0))","v":{"$error":"#N/A"}},{"$f":"$G103*INDEX('Unit of measures'!$A$7:$R$24,MATCH(L$4,'Unit of measures'!$A$7:$A$24,0),MATCH($F103,'Unit of measures'!$A$7:$R$7,0))","v":{"$error":"#N/A"}},{"$f":"$G103*INDEX('Unit of measures'!$A$7:$R$24,MATCH(M$4,'Unit of measures'!$A$7:$A$24,0),MATCH($F103,'Unit of measures'!$A$7:$R$7,0))","v":{"$error":"#N/A"}},{"$f":"$G103*INDEX('Unit of measures'!$A$7:$R$24,MATCH(N$4,'Unit of measures'!$A$7:$A$24,0),MATCH($F103,'Unit of measures'!$A$7:$R$7,0))","v":{"$error":"#N/A"}},{"$f":"$G103*INDEX('Unit of measures'!$A$7:$R$24,MATCH(O$4,'Unit of measures'!$A$7:$A$24,0),MATCH($F103,'Unit of measures'!$A$7:$R$7,0))","v":{"$error":"#N/A"}},{"$f":"$G103*INDEX('Unit of measures'!$A$7:$R$24,MATCH(P$4,'Unit of measures'!$A$7:$A$24,0),MATCH($F103,'Unit of measures'!$A$7:$R$7,0))","v":{"$error":"#N/A"}},null,null,{"$f":"$R103*INDEX('Unit of measures'!$A$7:$R$24,MATCH(S$4,'Unit of measures'!$A$7:$A$24,0),MATCH($Q103,'Unit of measures'!$A$7:$R$7,0))","v":{"$error":"#N/A"}},{"$f":"$R103*INDEX('Unit of measures'!$A$7:$R$24,MATCH(T$4,'Unit of measures'!$A$7:$A$24,0),MATCH($Q103,'Unit of measures'!$A$7:$R$7,0))","v":{"$error":"#N/A"}},{"$f":"$R103*INDEX('Unit of measures'!$A$7:$R$24,MATCH(U$4,'Unit of measures'!$A$7:$A$24,0),MATCH($Q103,'Unit of measures'!$A$7:$R$7,0))","v":{"$error":"#N/A"}},{"$f":"$R103*INDEX('Unit of measures'!$A$7:$R$24,MATCH(V$4,'Unit of measures'!$A$7:$A$24,0),MATCH($Q103,'Unit of measures'!$A$7:$R$7,0))","v":{"$error":"#N/A"}},{"$f":"$R103*INDEX('Unit of measures'!$A$7:$R$24,MATCH(W$4,'Unit of measures'!$A$7:$A$24,0),MATCH($Q103,'Unit of measures'!$A$7:$R$7,0))","v":{"$error":"#N/A"}},"Each"]
[null,null,null,null,"",null,null,{"$f":"$G104*INDEX('Unit of measures'!$A$7:$R$24,MATCH(H$4,'Unit of measures'!$A$7:$A$24,0),MATCH($F104,'Unit of measures'!$A$7:$R$7,0))","v":{"$error":"#N/A"}},{"$f":"$G104*INDEX('Unit of measures'!$A$7:$R$24,MATCH(I$4,'Unit of measures'!$A$7:$A$24,0),MATCH($F104,'Unit of measures'!$A$7:$R$7,0))","v":{"$error":"#N/A"}},{"$f":"$G104*INDEX('Unit of measures'!$A$7:$R$24,MATCH(J$4,'Unit of measures'!$A$7:$A$24,0),MATCH($F104,'Unit of measures'!$A$7:$R$7,0))","v":{"$error":"#N/A"}},{"$f":"$G104*INDEX('Unit of measures'!$A$7:$R$24,MATCH(K$4,'Unit of measures'!$A$7:$A$24,0),MATCH($F104,'Unit of measures'!$A$7:$R$7,0))","v":{"$error":"#N/A"}},{"$f":"$G104*INDEX('Unit of measures'!$A$7:$R$24,MATCH(L$4,'Unit of measures'!$A$7:$A$24,0),MATCH($F104,'Unit of measures'!$A$7:$R$7,0))","v":{"$error":"#N/A"}},{"$f":"$G104*INDEX('Unit of measures'!$A$7:$R$24,MATCH(M$4,'Unit of measures'!$A$7:$A$24,0),MATCH($F104,'Unit of measures'!$A$7:$R$7,0))","v":{"$error":"#N/A"}},{"$f":"$G104*INDEX('Unit of measures'!$A$7:$R$24,MATCH(N$4,'Unit of measures'!$A$7:$A$24,0),MATCH($F104,'Unit of measures'!$A$7:$R$7,0))","v":{"$error":"#N/A"}},{"$f":"$G104*INDEX('Unit of measures'!$A$7:$R$24,MATCH(O$4,'Unit of measures'!$A$7:$A$24,0),MATCH($F104,'Unit of measures'!$A$7:$R$7,0))","v":{"$error":"#N/A"}},{"$f":"$G104*INDEX('Unit of measures'!$A$7:$R$24,MATCH(P$4,'Unit of measures'!$A$7:$A$24,0),MATCH($F104,'Unit of measures'!$A$7:$R$7,0))","v":{"$error":"#N/A"}},null,null,{"$f":"$R104*INDEX('Unit of measures'!$A$7:$R$24,MATCH(S$4,'Unit of measures'!$A$7:$A$24,0),MATCH($Q104,'Unit of measures'!$A$7:$R$7,0))","v":{"$error":"#N/A"}},{"$f":"$R104*INDEX('Unit of measures'!$A$7:$R$24,MATCH(T$4,'Unit of measures'!$A$7:$A$24,0),MATCH($Q104,'Unit of measures'!$A$7:$R$7,0))","v":{"$error":"#N/A"}},{"$f":"$R104*INDEX('Unit of measures'!$A$7:$R$24,MATCH(U$4,'Unit of measures'!$A$7:$A$24,0),MATCH($Q104,'Unit of measures'!$A$7:$R$7,0))","v":{"$error":"#N/A"}},{"$f":"$R104*INDEX('Unit of measures'!$A$7:$R$24,MATCH(V$4,'Unit of measures'!$A$7:$A$24,0),MATCH($Q104,'Unit of measures'!$A$7:$R$7,0))","v":{"$error":"#N/A"}},{"$f":"$R104*INDEX('Unit of measures'!$A$7:$R$24,MATCH(W$4,'Unit of measures'!$A$7:$A$24,0),MATCH($Q104,'Unit of measures'!$A$7:$R$7,0))","v":{"$error":"#N/A"}},"Each"]
[null,null,null,null,"",null,null,{"$f":"$G105*INDEX('Unit of measures'!$A$7:$R$24,MATCH(H$4,'Unit of measures'!$A$7:$A$24,0),MATCH($F105,'Unit of measures'!$A$7:$R$7,0))","v":{"$error":"#N/A"}},{"$f":"$G105*INDEX('Unit of measures'!$A$7:$R$24,MATCH(I$4,'Unit of measures'!$A$7:$A$24,0),MATCH($F105,'Unit of measures'!$A$7:$R$7,0))","v":{"$error":"#N/A"}},{"$f":"$G105*INDEX('Unit of measures'!$A$7:$R$24,MATCH(J$4,'Unit of measures'!$A$7:$A$24,0),MATCH($F105,'Unit of measures'!$A$7:$R$7,0))","v":{"$error":"#N/A"}},{"$f":"$G105*INDEX('Unit of measures'!$A$7:$R$24,MATCH(K$4,'Unit of measures'!$A$7:$A$24,0),MATCH($F105,'Unit of measures'!$A$7:$R$7,0))","v":{"$error":"#N/A"}},{"$f":"$G105*INDEX('Unit of measures'!$A$7:$R$24,MATCH(L$4,'Unit of measures'!$A$7:$A$24,0),MATCH($F105,'Unit of measures'!$A$7:$R$7,0))","v":{"$error":"#N/A"}},{"$f":"$G105*INDEX('Unit of measures'!$A$7:$R$24,MATCH(M$4,'Unit of measures'!$A$7:$A$24,0),MATCH($F105,'Unit of measures'!$A$7:$R$7,0))","v":{"$error":"#N/A"}},{"$f":"$G105*INDEX('Unit of measures'!$A$7:$R$24,MATCH(N$4,'Unit of measures'!$A$7:$A$24,0),MATCH($F105,'Unit of measures'!$A$7:$R$7,0))","v":{"$error":"#N/A"}},{"$f":"$G105*INDEX('Unit of measures'!$A$7:$R$24,MATCH(O$4,'Unit of measures'!$A$7:$A$24,0),MATCH($F105,'Unit of measures'!$A$7:$R$7,0))","v":{"$error":"#N/A"}},{"$f":"$G105*INDEX('Unit of measures'!$A$7:$R$24,MATCH(P$4,'Unit of measures'!$A$7:$A$24,0),MATCH($F105,'Unit of measures'!$A$7:$R$7,0))","v":{"$error":"#N/A"}},null,null,{"$f":"$R105*INDEX('Unit of measures'!$A$7:$R$24,MATCH(S$4,'Unit of measures'!$A$7:$A$24,0),MATCH($Q105,'Unit of measures'!$A$7:$R$7,0))","v":{"$error":"#N/A"}},{"$f":"$R105*INDEX('Unit of measures'!$A$7:$R$24,MATCH(T$4,'Unit of measures'!$A$7:$A$24,0),MATCH($Q105,'Unit of measures'!$A$7:$R$7,0))","v":{"$error":"#N/A"}},{"$f":"$R105*INDEX('Unit of measures'!$A$7:$R$24,MATCH(U$4,'Unit of measures'!$A$7:$A$24,0),MATCH($Q105,'Unit of measures'!$A$7:$R$7,0))","v":{"$error":"#N/A"}},{"$f":"$R105*INDEX('Unit of measures'!$A$7:$R$24,MATCH(V$4,'Unit of measures'!$A$7:$A$24,0),MATCH($Q105,'Unit of measures'!$A$7:$R$7,0))","v":{"$error":"#N/A"}},{"$f":"$R105*INDEX('Unit of measures'!$A$7:$R$24,MATCH(W$4,'Unit of measures'!$A$7:$A$24,0),MATCH($Q105,'Unit of measures'!$A$7:$R$7,0))","v":{"$error":"#N/A"}},"Each"]
[null,null,null,null,"",null,null,{"$f":"$G106*INDEX('Unit of measures'!$A$7:$R$24,MATCH(H$4,'Unit of measures'!$A$7:$A$24,0),MATCH($F106,'Unit of measures'!$A$7:$R$7,0))","v":{"$error":"#N/A"}},{"$f":"$G106*INDEX('Unit of measures'!$A$7:$R$24,MATCH(I$4,'Unit of measures'!$A$7:$A$24,0),MATCH($F106,'Unit of measures'!$A$7:$R$7,0))","v":{"$error":"#N/A"}},{"$f":"$G106*INDEX('Unit of measures'!$A$7:$R$24,MATCH(J$4,'Unit of measures'!$A$7:$A$24,0),MATCH($F106,'Unit of measures'!$A$7:$R$7,0))","v":{"$error":"#N/A"}},{"$f":"$G106*INDEX('Unit of measures'!$A$7:$R$24,MATCH(K$4,'Unit of measures'!$A$7:$A$24,0),MATCH($F106,'Unit of measures'!$A$7:$R$7,0))","v":{"$error":"#N/A"}},{"$f":"$G106*INDEX('Unit of measures'!$A$7:$R$24,MATCH(L$4,'Unit of measures'!$A$7:$A$24,0),MATCH($F106,'Unit of measures'!$A$7:$R$7,0))","v":{"$error":"#N/A"}},{"$f":"$G106*INDEX('Unit of measures'!$A$7:$R$24,MATCH(M$4,'Unit of measures'!$A$7:$A$24,0),MATCH($F106,'Unit of measures'!$A$7:$R$7,0))","v":{"$error":"#N/A"}},{"$f":"$G106*INDEX('Unit of measures'!$A$7:$R$24,MATCH(N$4,'Unit of measures'!$A$7:$A$24,0),MATCH($F106,'Unit of measures'!$A$7:$R$7,0))","v":{"$error":"#N/A"}},{"$f":"$G106*INDEX('Unit of measures'!$A$7:$R$24,MATCH(O$4,'Unit of measures'!$A$7:$A$24,0),MATCH($F106,'Unit of measures'!$A$7:$R$7,0))","v":{"$error":"#N/A"}},{"$f":"$G106*INDEX('Unit of measures'!$A$7:$R$24,MATCH(P$4,'Unit of measures'!$A$7:$A$24,0),MATCH($F106,'Unit of measures'!$A$7:$R$7,0))","v":{"$error":"#N/A"}},null,null,{"$f":"$R106*INDEX('Unit of measures'!$A$7:$R$24,MATCH(S$4,'Unit of measures'!$A$7:$A$24,0),MATCH($Q106,'Unit of measures'!$A$7:$R$7,0))","v":{"$error":"#N/A"}},{"$f":"$R106*INDEX('Unit of measures'!$A$7:$R$24,MATCH(T$4,'Unit of measures'!$A$7:$A$24,0),MATCH($Q106,'Unit of measures'!$A$7:$R$7,0))","v":{"$error":"#N/A"}},{"$f":"$R106*INDEX('Unit of measures'!$A$7:$R$24,MATCH(U$4,'Unit of measures'!$A$7:$A$24,0),MATCH($Q106,'Unit of measures'!$A$7:$R$7,0))","v":{"$error":"#N/A"}},{"$f":"$R106*INDEX('Unit of measures'!$A$7:$R$24,MATCH(V$4,'Unit of measures'!$A$7:$A$24,0),MATCH($Q106,'Unit of measures'!$A$7:$R$7,0))","v":{"$error":"#N/A"}},{"$f":"$R106*INDEX('Unit of measures'!$A$7:$R$24,MATCH(W$4,'Unit of measures'!$A$7:$A$24,0),MATCH($Q106,'Unit of measures'!$A$7:$R$7,0))","v":{"$error":"#N/A"}},"Each"]
[null,null,null,null,"",null,null,{"$f":"$G107*INDEX('Unit of measures'!$A$7:$R$24,MATCH(H$4,'Unit of measures'!$A$7:$A$24,0),MATCH($F107,'Unit of measures'!$A$7:$R$7,0))","v":{"$error":"#N/A"}},{"$f":"$G107*INDEX('Unit of measures'!$A$7:$R$24,MATCH(I$4,'Unit of measures'!$A$7:$A$24,0),MATCH($F107,'Unit of measures'!$A$7:$R$7,0))","v":{"$error":"#N/A"}},{"$f":"$G107*INDEX('Unit of measures'!$A$7:$R$24,MATCH(J$4,'Unit of measures'!$A$7:$A$24,0),MATCH($F107,'Unit of measures'!$A$7:$R$7,0))","v":{"$error":"#N/A"}},{"$f":"$G107*INDEX('Unit of measures'!$A$7:$R$24,MATCH(K$4,'Unit of measures'!$A$7:$A$24,0),MATCH($F107,'Unit of measures'!$A$7:$R$7,0))","v":{"$error":"#N/A"}},{"$f":"$G107*INDEX('Unit of measures'!$A$7:$R$24,MATCH(L$4,'Unit of measures'!$A$7:$A$24,0),MATCH($F107,'Unit of measures'!$A$7:$R$7,0))","v":{"$error":"#N/A"}},{"$f":"$G107*INDEX('Unit of measures'!$A$7:$R$24,MATCH(M$4,'Unit of measures'!$A$7:$A$24,0),MATCH($F107,'Unit of measures'!$A$7:$R$7,0))","v":{"$error":"#N/A"}},{"$f":"$G107*INDEX('Unit of measures'!$A$7:$R$24,MATCH(N$4,'Unit of measures'!$A$7:$A$24,0),MATCH($F107,'Unit of measures'!$A$7:$R$7,0))","v":{"$error":"#N/A"}},{"$f":"$G107*INDEX('Unit of measures'!$A$7:$R$24,MATCH(O$4,'Unit of measures'!$A$7:$A$24,0),MATCH($F107,'Unit of measures'!$A$7:$R$7,0))","v":{"$error":"#N/A"}},{"$f":"$G107*INDEX('Unit of measures'!$A$7:$R$24,MATCH(P$4,'Unit of measures'!$A$7:$A$24,0),MATCH($F107,'Unit of measures'!$A$7:$R$7,0))","v":{"$error":"#N/A"}},null,null,{"$f":"$R107*INDEX('Unit of measures'!$A$7:$R$24,MATCH(S$4,'Unit of measures'!$A$7:$A$24,0),MATCH($Q107,'Unit of measures'!$A$7:$R$7,0))","v":{"$error":"#N/A"}},{"$f":"$R107*INDEX('Unit of measures'!$A$7:$R$24,MATCH(T$4,'Unit of measures'!$A$7:$A$24,0),MATCH($Q107,'Unit of measures'!$A$7:$R$7,0))","v":{"$error":"#N/A"}},{"$f":"$R107*INDEX('Unit of measures'!$A$7:$R$24,MATCH(U$4,'Unit of measures'!$A$7:$A$24,0),MATCH($Q107,'Unit of measures'!$A$7:$R$7,0))","v":{"$error":"#N/A"}},{"$f":"$R107*INDEX('Unit of measures'!$A$7:$R$24,MATCH(V$4,'Unit of measures'!$A$7:$A$24,0),MATCH($Q107,'Unit of measures'!$A$7:$R$7,0))","v":{"$error":"#N/A"}},{"$f":"$R107*INDEX('Unit of measures'!$A$7:$R$24,MATCH(W$4,'Unit of measures'!$A$7:$A$24,0),MATCH($Q107,'Unit of measures'!$A$7:$R$7,0))","v":{"$error":"#N/A"}},"Each"]
[null,null,null,null,"",null,null,{"$f":"$G108*INDEX('Unit of measures'!$A$7:$R$24,MATCH(H$4,'Unit of measures'!$A$7:$A$24,0),MATCH($F108,'Unit of measures'!$A$7:$R$7,0))","v":{"$error":"#N/A"}},{"$f":"$G108*INDEX('Unit of measures'!$A$7:$R$24,MATCH(I$4,'Unit of measures'!$A$7:$A$24,0),MATCH($F108,'Unit of measures'!$A$7:$R$7,0))","v":{"$error":"#N/A"}},{"$f":"$G108*INDEX('Unit of measures'!$A$7:$R$24,MATCH(J$4,'Unit of measures'!$A$7:$A$24,0),MATCH($F108,'Unit of measures'!$A$7:$R$7,0))","v":{"$error":"#N/A"}},{"$f":"$G108*INDEX('Unit of measures'!$A$7:$R$24,MATCH(K$4,'Unit of measures'!$A$7:$A$24,0),MATCH($F108,'Unit of measures'!$A$7:$R$7,0))","v":{"$error":"#N/A"}},{"$f":"$G108*INDEX('Unit of measures'!$A$7:$R$24,MATCH(L$4,'Unit of measures'!$A$7:$A$24,0),MATCH($F108,'Unit of measures'!$A$7:$R$7,0))","v":{"$error":"#N/A"}},{"$f":"$G108*INDEX('Unit of measures'!$A$7:$R$24,MATCH(M$4,'Unit of measures'!$A$7:$A$24,0),MATCH($F108,'Unit of measures'!$A$7:$R$7,0))","v":{"$error":"#N/A"}},{"$f":"$G108*INDEX('Unit of measures'!$A$7:$R$24,MATCH(N$4,'Unit of measures'!$A$7:$A$24,0),MATCH($F108,'Unit of measures'!$A$7:$R$7,0))","v":{"$error":"#N/A"}},{"$f":"$G108*INDEX('Unit of measures'!$A$7:$R$24,MATCH(O$4,'Unit of measures'!$A$7:$A$24,0),MATCH($F108,'Unit of measures'!$A$7:$R$7,0))","v":{"$error":"#N/A"}},{"$f":"$G108*INDEX('Unit of measures'!$A$7:$R$24,MATCH(P$4,'Unit of measures'!$A$7:$A$24,0),MATCH($F108,'Unit of measures'!$A$7:$R$7,0))","v":{"$error":"#N/A"}},null,null,{"$f":"$R108*INDEX('Unit of measures'!$A$7:$R$24,MATCH(S$4,'Unit of measures'!$A$7:$A$24,0),MATCH($Q108,'Unit of measures'!$A$7:$R$7,0))","v":{"$error":"#N/A"}},{"$f":"$R108*INDEX('Unit of measures'!$A$7:$R$24,MATCH(T$4,'Unit of measures'!$A$7:$A$24,0),MATCH($Q108,'Unit of measures'!$A$7:$R$7,0))","v":{"$error":"#N/A"}},{"$f":"$R108*INDEX('Unit of measures'!$A$7:$R$24,MATCH(U$4,'Unit of measures'!$A$7:$A$24,0),MATCH($Q108,'Unit of measures'!$A$7:$R$7,0))","v":{"$error":"#N/A"}},{"$f":"$R108*INDEX('Unit of measures'!$A$7:$R$24,MATCH(V$4,'Unit of measures'!$A$7:$A$24,0),MATCH($Q108,'Unit of measures'!$A$7:$R$7,0))","v":{"$error":"#N/A"}},{"$f":"$R108*INDEX('Unit of measures'!$A$7:$R$24,MATCH(W$4,'Unit of measures'!$A$7:$A$24,0),MATCH($Q108,'Unit of measures'!$A$7:$R$7,0))","v":{"$error":"#N/A"}},"Each"]
[null,null,null,null,"",null,null,{"$f":"$G109*INDEX('Unit of measures'!$A$7:$R$24,MATCH(H$4,'Unit of measures'!$A$7:$A$24,0),MATCH($F109,'Unit of measures'!$A$7:$R$7,0))","v":{"$error":"#N/A"}},{"$f":"$G109*INDEX('Unit of measures'!$A$7:$R$24,MATCH(I$4,'Unit of measures'!$A$7:$A$24,0),MATCH($F109,'Unit of measures'!$A$7:$R$7,0))","v":{"$error":"#N/A"}},{"$f":"$G109*INDEX('Unit of measures'!$A$7:$R$24,MATCH(J$4,'Unit of measures'!$A$7:$A$24,0),MATCH($F109,'Unit of measures'!$A$7:$R$7,0))","v":{"$error":"#N/A"}},{"$f":"$G109*INDEX('Unit of measures'!$A$7:$R$24,MATCH(K$4,'Unit of measures'!$A$7:$A$24,0),MATCH($F109,'Unit of measures'!$A$7:$R$7,0))","v":{"$error":"#N/A"}},{"$f":"$G109*INDEX('Unit of measures'!$A$7:$R$24,MATCH(L$4,'Unit of measures'!$A$7:$A$24,0),MATCH($F109,'Unit of measures'!$A$7:$R$7,0))","v":{"$error":"#N/A"}},{"$f":"$G109*INDEX('Unit of measures'!$A$7:$R$24,MATCH(M$4,'Unit of measures'!$A$7:$A$24,0),MATCH($F109,'Unit of measures'!$A$7:$R$7,0))","v":{"$error":"#N/A"}},{"$f":"$G109*INDEX('Unit of measures'!$A$7:$R$24,MATCH(N$4,'Unit of measures'!$A$7:$A$24,0),MATCH($F109,'Unit of measures'!$A$7:$R$7,0))","v":{"$error":"#N/A"}},{"$f":"$G109*INDEX('Unit of measures'!$A$7:$R$24,MATCH(O$4,'Unit of measures'!$A$7:$A$24,0),MATCH($F109,'Unit of measures'!$A$7:$R$7,0))","v":{"$error":"#N/A"}},{"$f":"$G109*INDEX('Unit of measures'!$A$7:$R$24,MATCH(P$4,'Unit of measures'!$A$7:$A$24,0),MATCH($F109,'Unit of measures'!$A$7:$R$7,0))","v":{"$error":"#N/A"}},null,null,{"$f":"$R109*INDEX('Unit of measures'!$A$7:$R$24,MATCH(S$4,'Unit of measures'!$A$7:$A$24,0),MATCH($Q109,'Unit of measures'!$A$7:$R$7,0))","v":{"$error":"#N/A"}},{"$f":"$R109*INDEX('Unit of measures'!$A$7:$R$24,MATCH(T$4,'Unit of measures'!$A$7:$A$24,0),MATCH($Q109,'Unit of measures'!$A$7:$R$7,0))","v":{"$error":"#N/A"}},{"$f":"$R109*INDEX('Unit of measures'!$A$7:$R$24,MATCH(U$4,'Unit of measures'!$A$7:$A$24,0),MATCH($Q109,'Unit of measures'!$A$7:$R$7,0))","v":{"$error":"#N/A"}},{"$f":"$R109*INDEX('Unit of measures'!$A$7:$R$24,MATCH(V$4,'Unit of measures'!$A$7:$A$24,0),MATCH($Q109,'Unit of measures'!$A$7:$R$7,0))","v":{"$error":"#N/A"}},{"$f":"$R109*INDEX('Unit of measures'!$A$7:$R$24,MATCH(W$4,'Unit of measures'!$A$7:$A$24,0),MATCH($Q109,'Unit of measures'!$A$7:$R$7,0))","v":{"$error":"#N/A"}},"Each"]
[null,null,null,null,"",null,null,{"$f":"$G110*INDEX('Unit of measures'!$A$7:$R$24,MATCH(H$4,'Unit of measures'!$A$7:$A$24,0),MATCH($F110,'Unit of measures'!$A$7:$R$7,0))","v":{"$error":"#N/A"}},{"$f":"$G110*INDEX('Unit of measures'!$A$7:$R$24,MATCH(I$4,'Unit of measures'!$A$7:$A$24,0),MATCH($F110,'Unit of measures'!$A$7:$R$7,0))","v":{"$error":"#N/A"}},{"$f":"$G110*INDEX('Unit of measures'!$A$7:$R$24,MATCH(J$4,'Unit of measures'!$A$7:$A$24,0),MATCH($F110,'Unit of measures'!$A$7:$R$7,0))","v":{"$error":"#N/A"}},{"$f":"$G110*INDEX('Unit of measures'!$A$7:$R$24,MATCH(K$4,'Unit of measures'!$A$7:$A$24,0),MATCH($F110,'Unit of measures'!$A$7:$R$7,0))","v":{"$error":"#N/A"}},{"$f":"$G110*INDEX('Unit of measures'!$A$7:$R$24,MATCH(L$4,'Unit of measures'!$A$7:$A$24,0),MATCH($F110,'Unit of measures'!$A$7:$R$7,0))","v":{"$error":"#N/A"}},{"$f":"$G110*INDEX('Unit of measures'!$A$7:$R$24,MATCH(M$4,'Unit of measures'!$A$7:$A$24,0),MATCH($F110,'Unit of measures'!$A$7:$R$7,0))","v":{"$error":"#N/A"}},{"$f":"$G110*INDEX('Unit of measures'!$A$7:$R$24,MATCH(N$4,'Unit of measures'!$A$7:$A$24,0),MATCH($F110,'Unit of measures'!$A$7:$R$7,0))","v":{"$error":"#N/A"}},{"$f":"$G110*INDEX('Unit of measures'!$A$7:$R$24,MATCH(O$4,'Unit of measures'!$A$7:$A$24,0),MATCH($F110,'Unit of measures'!$A$7:$R$7,0))","v":{"$error":"#N/A"}},{"$f":"$G110*INDEX('Unit of measures'!$A$7:$R$24,MATCH(P$4,'Unit of measures'!$A$7:$A$24,0),MATCH($F110,'Unit of measures'!$A$7:$R$7,0))","v":{"$error":"#N/A"}},null,null,{"$f":"$R110*INDEX('Unit of measures'!$A$7:$R$24,MATCH(S$4,'Unit of measures'!$A$7:$A$24,0),MATCH($Q110,'Unit of measures'!$A$7:$R$7,0))","v":{"$error":"#N/A"}},{"$f":"$R110*INDEX('Unit of measures'!$A$7:$R$24,MATCH(T$4,'Unit of measures'!$A$7:$A$24,0),MATCH($Q110,'Unit of measures'!$A$7:$R$7,0))","v":{"$error":"#N/A"}},{"$f":"$R110*INDEX('Unit of measures'!$A$7:$R$24,MATCH(U$4,'Unit of measures'!$A$7:$A$24,0),MATCH($Q110,'Unit of measures'!$A$7:$R$7,0))","v":{"$error":"#N/A"}},{"$f":"$R110*INDEX('Unit of measures'!$A$7:$R$24,MATCH(V$4,'Unit of measures'!$A$7:$A$24,0),MATCH($Q110,'Unit of measures'!$A$7:$R$7,0))","v":{"$error":"#N/A"}},{"$f":"$R110*INDEX('Unit of measures'!$A$7:$R$24,MATCH(W$4,'Unit of measures'!$A$7:$A$24,0),MATCH($Q110,'Unit of measures'!$A$7:$R$7,0))","v":{"$error":"#N/A"}},"Each"]
[null,null,null,null,"",null,null,{"$f":"$G111*INDEX('Unit of measures'!$A$7:$R$24,MATCH(H$4,'Unit of measures'!$A$7:$A$24,0),MATCH($F111,'Unit of measures'!$A$7:$R$7,0))","v":{"$error":"#N/A"}},{"$f":"$G111*INDEX('Unit of measures'!$A$7:$R$24,MATCH(I$4,'Unit of measures'!$A$7:$A$24,0),MATCH($F111,'Unit of measures'!$A$7:$R$7,0))","v":{"$error":"#N/A"}},{"$f":"$G111*INDEX('Unit of measures'!$A$7:$R$24,MATCH(J$4,'Unit of measures'!$A$7:$A$24,0),MATCH($F111,'Unit of measures'!$A$7:$R$7,0))","v":{"$error":"#N/A"}},{"$f":"$G111*INDEX('Unit of measures'!$A$7:$R$24,MATCH(K$4,'Unit of measures'!$A$7:$A$24,0),MATCH($F111,'Unit of measures'!$A$7:$R$7,0))","v":{"$error":"#N/A"}},{"$f":"$G111*INDEX('Unit of measures'!$A$7:$R$24,MATCH(L$4,'Unit of measures'!$A$7:$A$24,0),MATCH($F111,'Unit of measures'!$A$7:$R$7,0))","v":{"$error":"#N/A"}},{"$f":"$G111*INDEX('Unit of measures'!$A$7:$R$24,MATCH(M$4,'Unit of measures'!$A$7:$A$24,0),MATCH($F111,'Unit of measures'!$A$7:$R$7,0))","v":{"$error":"#N/A"}},{"$f":"$G111*INDEX('Unit of measures'!$A$7:$R$24,MATCH(N$4,'Unit of measures'!$A$7:$A$24,0),MATCH($F111,'Unit of measures'!$A$7:$R$7,0))","v":{"$error":"#N/A"}},{"$f":"$G111*INDEX('Unit of measures'!$A$7:$R$24,MATCH(O$4,'Unit of measures'!$A$7:$A$24,0),MATCH($F111,'Unit of measures'!$A$7:$R$7,0))","v":{"$error":"#N/A"}},{"$f":"$G111*INDEX('Unit of measures'!$A$7:$R$24,MATCH(P$4,'Unit of measures'!$A$7:$A$24,0),MATCH($F111,'Unit of measures'!$A$7:$R$7,0))","v":{"$error":"#N/A"}},null,null,{"$f":"$R111*INDEX('Unit of measures'!$A$7:$R$24,MATCH(S$4,'Unit of measures'!$A$7:$A$24,0),MATCH($Q111,'Unit of measures'!$A$7:$R$7,0))","v":{"$error":"#N/A"}},{"$f":"$R111*INDEX('Unit of measures'!$A$7:$R$24,MATCH(T$4,'Unit of measures'!$A$7:$A$24,0),MATCH($Q111,'Unit of measures'!$A$7:$R$7,0))","v":{"$error":"#N/A"}},{"$f":"$R111*INDEX('Unit of measures'!$A$7:$R$24,MATCH(U$4,'Unit of measures'!$A$7:$A$24,0),MATCH($Q111,'Unit of measures'!$A$7:$R$7,0))","v":{"$error":"#N/A"}},{"$f":"$R111*INDEX('Unit of measures'!$A$7:$R$24,MATCH(V$4,'Unit of measures'!$A$7:$A$24,0),MATCH($Q111,'Unit of measures'!$A$7:$R$7,0))","v":{"$error":"#N/A"}},{"$f":"$R111*INDEX('Unit of measures'!$A$7:$R$24,MATCH(W$4,'Unit of measures'!$A$7:$A$24,0),MATCH($Q111,'Unit of measures'!$A$7:$R$7,0))","v":{"$error":"#N/A"}},"Each"]
[null,null,null,null,"",null,null,{"$f":"$G112*INDEX('Unit of measures'!$A$7:$R$24,MATCH(H$4,'Unit of measures'!$A$7:$A$24,0),MATCH($F112,'Unit of measures'!$A$7:$R$7,0))","v":{"$error":"#N/A"}},{"$f":"$G112*INDEX('Unit of measures'!$A$7:$R$24,MATCH(I$4,'Unit of measures'!$A$7:$A$24,0),MATCH($F112,'Unit of measures'!$A$7:$R$7,0))","v":{"$error":"#N/A"}},{"$f":"$G112*INDEX('Unit of measures'!$A$7:$R$24,MATCH(J$4,'Unit of measures'!$A$7:$A$24,0),MATCH($F112,'Unit of measures'!$A$7:$R$7,0))","v":{"$error":"#N/A"}},{"$f":"$G112*INDEX('Unit of measures'!$A$7:$R$24,MATCH(K$4,'Unit of measures'!$A$7:$A$24,0),MATCH($F112,'Unit of measures'!$A$7:$R$7,0))","v":{"$error":"#N/A"}},{"$f":"$G112*INDEX('Unit of measures'!$A$7:$R$24,MATCH(L$4,'Unit of measures'!$A$7:$A$24,0),MATCH($F112,'Unit of measures'!$A$7:$R$7,0))","v":{"$error":"#N/A"}},{"$f":"$G112*INDEX('Unit of measures'!$A$7:$R$24,MATCH(M$4,'Unit of measures'!$A$7:$A$24,0),MATCH($F112,'Unit of measures'!$A$7:$R$7,0))","v":{"$error":"#N/A"}},{"$f":"$G112*INDEX('Unit of measures'!$A$7:$R$24,MATCH(N$4,'Unit of measures'!$A$7:$A$24,0),MATCH($F112,'Unit of measures'!$A$7:$R$7,0))","v":{"$error":"#N/A"}},{"$f":"$G112*INDEX('Unit of measures'!$A$7:$R$24,MATCH(O$4,'Unit of measures'!$A$7:$A$24,0),MATCH($F112,'Unit of measures'!$A$7:$R$7,0))","v":{"$error":"#N/A"}},{"$f":"$G112*INDEX('Unit of measures'!$A$7:$R$24,MATCH(P$4,'Unit of measures'!$A$7:$A$24,0),MATCH($F112,'Unit of measures'!$A$7:$R$7,0))","v":{"$error":"#N/A"}},null,null,{"$f":"$R112*INDEX('Unit of measures'!$A$7:$R$24,MATCH(S$4,'Unit of measures'!$A$7:$A$24,0),MATCH($Q112,'Unit of measures'!$A$7:$R$7,0))","v":{"$error":"#N/A"}},{"$f":"$R112*INDEX('Unit of measures'!$A$7:$R$24,MATCH(T$4,'Unit of measures'!$A$7:$A$24,0),MATCH($Q112,'Unit of measures'!$A$7:$R$7,0))","v":{"$error":"#N/A"}},{"$f":"$R112*INDEX('Unit of measures'!$A$7:$R$24,MATCH(U$4,'Unit of measures'!$A$7:$A$24,0),MATCH($Q112,'Unit of measures'!$A$7:$R$7,0))","v":{"$error":"#N/A"}},{"$f":"$R112*INDEX('Unit of measures'!$A$7:$R$24,MATCH(V$4,'Unit of measures'!$A$7:$A$24,0),MATCH($Q112,'Unit of measures'!$A$7:$R$7,0))","v":{"$error":"#N/A"}},{"$f":"$R112*INDEX('Unit of measures'!$A$7:$R$24,MATCH(W$4,'Unit of measures'!$A$7:$A$24,0),MATCH($Q112,'Unit of measures'!$A$7:$R$7,0))","v":{"$error":"#N/A"}},"Each"]
[null,null,null,null,"",null,null,{"$f":"$G113*INDEX('Unit of measures'!$A$7:$R$24,MATCH(H$4,'Unit of measures'!$A$7:$A$24,0),MATCH($F113,'Unit of measures'!$A$7:$R$7,0))","v":{"$error":"#N/A"}},{"$f":"$G113*INDEX('Unit of measures'!$A$7:$R$24,MATCH(I$4,'Unit of measures'!$A$7:$A$24,0),MATCH($F113,'Unit of measures'!$A$7:$R$7,0))","v":{"$error":"#N/A"}},{"$f":"$G113*INDEX('Unit of measures'!$A$7:$R$24,MATCH(J$4,'Unit of measures'!$A$7:$A$24,0),MATCH($F113,'Unit of measures'!$A$7:$R$7,0))","v":{"$error":"#N/A"}},{"$f":"$G113*INDEX('Unit of measures'!$A$7:$R$24,MATCH(K$4,'Unit of measures'!$A$7:$A$24,0),MATCH($F113,'Unit of measures'!$A$7:$R$7,0))","v":{"$error":"#N/A"}},{"$f":"$G113*INDEX('Unit of measures'!$A$7:$R$24,MATCH(L$4,'Unit of measures'!$A$7:$A$24,0),MATCH($F113,'Unit of measures'!$A$7:$R$7,0))","v":{"$error":"#N/A"}},{"$f":"$G113*INDEX('Unit of measures'!$A$7:$R$24,MATCH(M$4,'Unit of measures'!$A$7:$A$24,0),MATCH($F113,'Unit of measures'!$A$7:$R$7,0))","v":{"$error":"#N/A"}},{"$f":"$G113*INDEX('Unit of measures'!$A$7:$R$24,MATCH(N$4,'Unit of measures'!$A$7:$A$24,0),MATCH($F113,'Unit of measures'!$A$7:$R$7,0))","v":{"$error":"#N/A"}},{"$f":"$G113*INDEX('Unit of measures'!$A$7:$R$24,MATCH(O$4,'Unit of measures'!$A$7:$A$24,0),MATCH($F113,'Unit of measures'!$A$7:$R$7,0))","v":{"$error":"#N/A"}},{"$f":"$G113*INDEX('Unit of measures'!$A$7:$R$24,MATCH(P$4,'Unit of measures'!$A$7:$A$24,0),MATCH($F113,'Unit of measures'!$A$7:$R$7,0))","v":{"$error":"#N/A"}},null,null,{"$f":"$R113*INDEX('Unit of measures'!$A$7:$R$24,MATCH(S$4,'Unit of measures'!$A$7:$A$24,0),MATCH($Q113,'Unit of measures'!$A$7:$R$7,0))","v":{"$error":"#N/A"}},{"$f":"$R113*INDEX('Unit of measures'!$A$7:$R$24,MATCH(T$4,'Unit of measures'!$A$7:$A$24,0),MATCH($Q113,'Unit of measures'!$A$7:$R$7,0))","v":{"$error":"#N/A"}},{"$f":"$R113*INDEX('Unit of measures'!$A$7:$R$24,MATCH(U$4,'Unit of measures'!$A$7:$A$24,0),MATCH($Q113,'Unit of measures'!$A$7:$R$7,0))","v":{"$error":"#N/A"}},{"$f":"$R113*INDEX('Unit of measures'!$A$7:$R$24,MATCH(V$4,'Unit of measures'!$A$7:$A$24,0),MATCH($Q113,'Unit of measures'!$A$7:$R$7,0))","v":{"$error":"#N/A"}},{"$f":"$R113*INDEX('Unit of measures'!$A$7:$R$24,MATCH(W$4,'Unit of measures'!$A$7:$A$24,0),MATCH($Q113,'Unit of measures'!$A$7:$R$7,0))","v":{"$error":"#N/A"}},"Each"]
[null,null,null,null,"",null,null,{"$f":"$G114*INDEX('Unit of measures'!$A$7:$R$24,MATCH(H$4,'Unit of measures'!$A$7:$A$24,0),MATCH($F114,'Unit of measures'!$A$7:$R$7,0))","v":{"$error":"#N/A"}},{"$f":"$G114*INDEX('Unit of measures'!$A$7:$R$24,MATCH(I$4,'Unit of measures'!$A$7:$A$24,0),MATCH($F114,'Unit of measures'!$A$7:$R$7,0))","v":{"$error":"#N/A"}},{"$f":"$G114*INDEX('Unit of measures'!$A$7:$R$24,MATCH(J$4,'Unit of measures'!$A$7:$A$24,0),MATCH($F114,'Unit of measures'!$A$7:$R$7,0))","v":{"$error":"#N/A"}},{"$f":"$G114*INDEX('Unit of measures'!$A$7:$R$24,MATCH(K$4,'Unit of measures'!$A$7:$A$24,0),MATCH($F114,'Unit of measures'!$A$7:$R$7,0))","v":{"$error":"#N/A"}},{"$f":"$G114*INDEX('Unit of measures'!$A$7:$R$24,MATCH(L$4,'Unit of measures'!$A$7:$A$24,0),MATCH($F114,'Unit of measures'!$A$7:$R$7,0))","v":{"$error":"#N/A"}},{"$f":"$G114*INDEX('Unit of measures'!$A$7:$R$24,MATCH(M$4,'Unit of measures'!$A$7:$A$24,0),MATCH($F114,'Unit of measures'!$A$7:$R$7,0))","v":{"$error":"#N/A"}},{"$f":"$G114*INDEX('Unit of measures'!$A$7:$R$24,MATCH(N$4,'Unit of measures'!$A$7:$A$24,0),MATCH($F114,'Unit of measures'!$A$7:$R$7,0))","v":{"$error":"#N/A"}},{"$f":"$G114*INDEX('Unit of measures'!$A$7:$R$24,MATCH(O$4,'Unit of measures'!$A$7:$A$24,0),MATCH($F114,'Unit of measures'!$A$7:$R$7,0))","v":{"$error":"#N/A"}},{"$f":"$G114*INDEX('Unit of measures'!$A$7:$R$24,MATCH(P$4,'Unit of measures'!$A$7:$A$24,0),MATCH($F114,'Unit of measures'!$A$7:$R$7,0))","v":{"$error":"#N/A"}},null,null,{"$f":"$R114*INDEX('Unit of measures'!$A$7:$R$24,MATCH(S$4,'Unit of measures'!$A$7:$A$24,0),MATCH($Q114,'Unit of measures'!$A$7:$R$7,0))","v":{"$error":"#N/A"}},{"$f":"$R114*INDEX('Unit of measures'!$A$7:$R$24,MATCH(T$4,'Unit of measures'!$A$7:$A$24,0),MATCH($Q114,'Unit of measures'!$A$7:$R$7,0))","v":{"$error":"#N/A"}},{"$f":"$R114*INDEX('Unit of measures'!$A$7:$R$24,MATCH(U$4,'Unit of measures'!$A$7:$A$24,0),MATCH($Q114,'Unit of measures'!$A$7:$R$7,0))","v":{"$error":"#N/A"}},{"$f":"$R114*INDEX('Unit of measures'!$A$7:$R$24,MATCH(V$4,'Unit of measures'!$A$7:$A$24,0),MATCH($Q114,'Unit of measures'!$A$7:$R$7,0))","v":{"$error":"#N/A"}},{"$f":"$R114*INDEX('Unit of measures'!$A$7:$R$24,MATCH(W$4,'Unit of measures'!$A$7:$A$24,0),MATCH($Q114,'Unit of measures'!$A$7:$R$7,0))","v":{"$error":"#N/A"}},"Each"]
[null,null,null,null,"",null,null,{"$f":"$G115*INDEX('Unit of measures'!$A$7:$R$24,MATCH(H$4,'Unit of measures'!$A$7:$A$24,0),MATCH($F115,'Unit of measures'!$A$7:$R$7,0))","v":{"$error":"#N/A"}},{"$f":"$G115*INDEX('Unit of measures'!$A$7:$R$24,MATCH(I$4,'Unit of measures'!$A$7:$A$24,0),MATCH($F115,'Unit of measures'!$A$7:$R$7,0))","v":{"$error":"#N/A"}},{"$f":"$G115*INDEX('Unit of measures'!$A$7:$R$24,MATCH(J$4,'Unit of measures'!$A$7:$A$24,0),MATCH($F115,'Unit of measures'!$A$7:$R$7,0))","v":{"$error":"#N/A"}},{"$f":"$G115*INDEX('Unit of measures'!$A$7:$R$24,MATCH(K$4,'Unit of measures'!$A$7:$A$24,0),MATCH($F115,'Unit of measures'!$A$7:$R$7,0))","v":{"$error":"#N/A"}},{"$f":"$G115*INDEX('Unit of measures'!$A$7:$R$24,MATCH(L$4,'Unit of measures'!$A$7:$A$24,0),MATCH($F115,'Unit of measures'!$A$7:$R$7,0))","v":{"$error":"#N/A"}},{"$f":"$G115*INDEX('Unit of measures'!$A$7:$R$24,MATCH(M$4,'Unit of measures'!$A$7:$A$24,0),MATCH($F115,'Unit of measures'!$A$7:$R$7,0))","v":{"$error":"#N/A"}},{"$f":"$G115*INDEX('Unit of measures'!$A$7:$R$24,MATCH(N$4,'Unit of measures'!$A$7:$A$24,0),MATCH($F115,'Unit of measures'!$A$7:$R$7,0))","v":{"$error":"#N/A"}},{"$f":"$G115*INDEX('Unit of measures'!$A$7:$R$24,MATCH(O$4,'Unit of measures'!$A$7:$A$24,0),MATCH($F115,'Unit of measures'!$A$7:$R$7,0))","v":{"$error":"#N/A"}},{"$f":"$G115*INDEX('Unit of measures'!$A$7:$R$24,MATCH(P$4,'Unit of measures'!$A$7:$A$24,0),MATCH($F115,'Unit of measures'!$A$7:$R$7,0))","v":{"$error":"#N/A"}},null,null,{"$f":"$R115*INDEX('Unit of measures'!$A$7:$R$24,MATCH(S$4,'Unit of measures'!$A$7:$A$24,0),MATCH($Q115,'Unit of measures'!$A$7:$R$7,0))","v":{"$error":"#N/A"}},{"$f":"$R115*INDEX('Unit of measures'!$A$7:$R$24,MATCH(T$4,'Unit of measures'!$A$7:$A$24,0),MATCH($Q115,'Unit of measures'!$A$7:$R$7,0))","v":{"$error":"#N/A"}},{"$f":"$R115*INDEX('Unit of measures'!$A$7:$R$24,MATCH(U$4,'Unit of measures'!$A$7:$A$24,0),MATCH($Q115,'Unit of measures'!$A$7:$R$7,0))","v":{"$error":"#N/A"}},{"$f":"$R115*INDEX('Unit of measures'!$A$7:$R$24,MATCH(V$4,'Unit of measures'!$A$7:$A$24,0),MATCH($Q115,'Unit of measures'!$A$7:$R$7,0))","v":{"$error":"#N/A"}},{"$f":"$R115*INDEX('Unit of measures'!$A$7:$R$24,MATCH(W$4,'Unit of measures'!$A$7:$A$24,0),MATCH($Q115,'Unit of measures'!$A$7:$R$7,0))","v":{"$error":"#N/A"}},"Each"]
[null,null,null,null,"",null,null,{"$f":"$G116*INDEX('Unit of measures'!$A$7:$R$24,MATCH(H$4,'Unit of measures'!$A$7:$A$24,0),MATCH($F116,'Unit of measures'!$A$7:$R$7,0))","v":{"$error":"#N/A"}},{"$f":"$G116*INDEX('Unit of measures'!$A$7:$R$24,MATCH(I$4,'Unit of measures'!$A$7:$A$24,0),MATCH($F116,'Unit of measures'!$A$7:$R$7,0))","v":{"$error":"#N/A"}},{"$f":"$G116*INDEX('Unit of measures'!$A$7:$R$24,MATCH(J$4,'Unit of measures'!$A$7:$A$24,0),MATCH($F116,'Unit of measures'!$A$7:$R$7,0))","v":{"$error":"#N/A"}},{"$f":"$G116*INDEX('Unit of measures'!$A$7:$R$24,MATCH(K$4,'Unit of measures'!$A$7:$A$24,0),MATCH($F116,'Unit of measures'!$A$7:$R$7,0))","v":{"$error":"#N/A"}},{"$f":"$G116*INDEX('Unit of measures'!$A$7:$R$24,MATCH(L$4,'Unit of measures'!$A$7:$A$24,0),MATCH($F116,'Unit of measures'!$A$7:$R$7,0))","v":{"$error":"#N/A"}},{"$f":"$G116*INDEX('Unit of measures'!$A$7:$R$24,MATCH(M$4,'Unit of measures'!$A$7:$A$24,0),MATCH($F116,'Unit of measures'!$A$7:$R$7,0))","v":{"$error":"#N/A"}},{"$f":"$G116*INDEX('Unit of measures'!$A$7:$R$24,MATCH(N$4,'Unit of measures'!$A$7:$A$24,0),MATCH($F116,'Unit of measures'!$A$7:$R$7,0))","v":{"$error":"#N/A"}},{"$f":"$G116*INDEX('Unit of measures'!$A$7:$R$24,MATCH(O$4,'Unit of measures'!$A$7:$A$24,0),MATCH($F116,'Unit of measures'!$A$7:$R$7,0))","v":{"$error":"#N/A"}},{"$f":"$G116*INDEX('Unit of measures'!$A$7:$R$24,MATCH(P$4,'Unit of measures'!$A$7:$A$24,0),MATCH($F116,'Unit of measures'!$A$7:$R$7,0))","v":{"$error":"#N/A"}},null,null,{"$f":"$R116*INDEX('Unit of measures'!$A$7:$R$24,MATCH(S$4,'Unit of measures'!$A$7:$A$24,0),MATCH($Q116,'Unit of measures'!$A$7:$R$7,0))","v":{"$error":"#N/A"}},{"$f":"$R116*INDEX('Unit of measures'!$A$7:$R$24,MATCH(T$4,'Unit of measures'!$A$7:$A$24,0),MATCH($Q116,'Unit of measures'!$A$7:$R$7,0))","v":{"$error":"#N/A"}},{"$f":"$R116*INDEX('Unit of measures'!$A$7:$R$24,MATCH(U$4,'Unit of measures'!$A$7:$A$24,0),MATCH($Q116,'Unit of measures'!$A$7:$R$7,0))","v":{"$error":"#N/A"}},{"$f":"$R116*INDEX('Unit of measures'!$A$7:$R$24,MATCH(V$4,'Unit of measures'!$A$7:$A$24,0),MATCH($Q116,'Unit of measures'!$A$7:$R$7,0))","v":{"$error":"#N/A"}},{"$f":"$R116*INDEX('Unit of measures'!$A$7:$R$24,MATCH(W$4,'Unit of measures'!$A$7:$A$24,0),MATCH($Q116,'Unit of measures'!$A$7:$R$7,0))","v":{"$error":"#N/A"}},"Each"]
[null,null,null,null,"",null,null,{"$f":"$G117*INDEX('Unit of measures'!$A$7:$R$24,MATCH(H$4,'Unit of measures'!$A$7:$A$24,0),MATCH($F117,'Unit of measures'!$A$7:$R$7,0))","v":{"$error":"#N/A"}},{"$f":"$G117*INDEX('Unit of measures'!$A$7:$R$24,MATCH(I$4,'Unit of measures'!$A$7:$A$24,0),MATCH($F117,'Unit of measures'!$A$7:$R$7,0))","v":{"$error":"#N/A"}},{"$f":"$G117*INDEX('Unit of measures'!$A$7:$R$24,MATCH(J$4,'Unit of measures'!$A$7:$A$24,0),MATCH($F117,'Unit of measures'!$A$7:$R$7,0))","v":{"$error":"#N/A"}},{"$f":"$G117*INDEX('Unit of measures'!$A$7:$R$24,MATCH(K$4,'Unit of measures'!$A$7:$A$24,0),MATCH($F117,'Unit of measures'!$A$7:$R$7,0))","v":{"$error":"#N/A"}},{"$f":"$G117*INDEX('Unit of measures'!$A$7:$R$24,MATCH(L$4,'Unit of measures'!$A$7:$A$24,0),MATCH($F117,'Unit of measures'!$A$7:$R$7,0))","v":{"$error":"#N/A"}},{"$f":"$G117*INDEX('Unit of measures'!$A$7:$R$24,MATCH(M$4,'Unit of measures'!$A$7:$A$24,0),MATCH($F117,'Unit of measures'!$A$7:$R$7,0))","v":{"$error":"#N/A"}},{"$f":"$G117*INDEX('Unit of measures'!$A$7:$R$24,MATCH(N$4,'Unit of measures'!$A$7:$A$24,0),MATCH($F117,'Unit of measures'!$A$7:$R$7,0))","v":{"$error":"#N/A"}},{"$f":"$G117*INDEX('Unit of measures'!$A$7:$R$24,MATCH(O$4,'Unit of measures'!$A$7:$A$24,0),MATCH($F117,'Unit of measures'!$A$7:$R$7,0))","v":{"$error":"#N/A"}},{"$f":"$G117*INDEX('Unit of measures'!$A$7:$R$24,MATCH(P$4,'Unit of measures'!$A$7:$A$24,0),MATCH($F117,'Unit of measures'!$A$7:$R$7,0))","v":{"$error":"#N/A"}},null,null,{"$f":"$R117*INDEX('Unit of measures'!$A$7:$R$24,MATCH(S$4,'Unit of measures'!$A$7:$A$24,0),MATCH($Q117,'Unit of measures'!$A$7:$R$7,0))","v":{"$error":"#N/A"}},{"$f":"$R117*INDEX('Unit of measures'!$A$7:$R$24,MATCH(T$4,'Unit of measures'!$A$7:$A$24,0),MATCH($Q117,'Unit of measures'!$A$7:$R$7,0))","v":{"$error":"#N/A"}},{"$f":"$R117*INDEX('Unit of measures'!$A$7:$R$24,MATCH(U$4,'Unit of measures'!$A$7:$A$24,0),MATCH($Q117,'Unit of measures'!$A$7:$R$7,0))","v":{"$error":"#N/A"}},{"$f":"$R117*INDEX('Unit of measures'!$A$7:$R$24,MATCH(V$4,'Unit of measures'!$A$7:$A$24,0),MATCH($Q117,'Unit of measures'!$A$7:$R$7,0))","v":{"$error":"#N/A"}},{"$f":"$R117*INDEX('Unit of measures'!$A$7:$R$24,MATCH(W$4,'Unit of measures'!$A$7:$A$24,0),MATCH($Q117,'Unit of measures'!$A$7:$R$7,0))","v":{"$error":"#N/A"}},"Each"]
[null,null,null,null,"",null,null,{"$f":"$G118*INDEX('Unit of measures'!$A$7:$R$24,MATCH(H$4,'Unit of measures'!$A$7:$A$24,0),MATCH($F118,'Unit of measures'!$A$7:$R$7,0))","v":{"$error":"#N/A"}},{"$f":"$G118*INDEX('Unit of measures'!$A$7:$R$24,MATCH(I$4,'Unit of measures'!$A$7:$A$24,0),MATCH($F118,'Unit of measures'!$A$7:$R$7,0))","v":{"$error":"#N/A"}},{"$f":"$G118*INDEX('Unit of measures'!$A$7:$R$24,MATCH(J$4,'Unit of measures'!$A$7:$A$24,0),MATCH($F118,'Unit of measures'!$A$7:$R$7,0))","v":{"$error":"#N/A"}},{"$f":"$G118*INDEX('Unit of measures'!$A$7:$R$24,MATCH(K$4,'Unit of measures'!$A$7:$A$24,0),MATCH($F118,'Unit of measures'!$A$7:$R$7,0))","v":{"$error":"#N/A"}},{"$f":"$G118*INDEX('Unit of measures'!$A$7:$R$24,MATCH(L$4,'Unit of measures'!$A$7:$A$24,0),MATCH($F118,'Unit of measures'!$A$7:$R$7,0))","v":{"$error":"#N/A"}},{"$f":"$G118*INDEX('Unit of measures'!$A$7:$R$24,MATCH(M$4,'Unit of measures'!$A$7:$A$24,0),MATCH($F118,'Unit of measures'!$A$7:$R$7,0))","v":{"$error":"#N/A"}},{"$f":"$G118*INDEX('Unit of measures'!$A$7:$R$24,MATCH(N$4,'Unit of measures'!$A$7:$A$24,0),MATCH($F118,'Unit of measures'!$A$7:$R$7,0))","v":{"$error":"#N/A"}},{"$f":"$G118*INDEX('Unit of measures'!$A$7:$R$24,MATCH(O$4,'Unit of measures'!$A$7:$A$24,0),MATCH($F118,'Unit of measures'!$A$7:$R$7,0))","v":{"$error":"#N/A"}},{"$f":"$G118*INDEX('Unit of measures'!$A$7:$R$24,MATCH(P$4,'Unit of measures'!$A$7:$A$24,0),MATCH($F118,'Unit of measures'!$A$7:$R$7,0))","v":{"$error":"#N/A"}},null,null,{"$f":"$R118*INDEX('Unit of measures'!$A$7:$R$24,MATCH(S$4,'Unit of measures'!$A$7:$A$24,0),MATCH($Q118,'Unit of measures'!$A$7:$R$7,0))","v":{"$error":"#N/A"}},{"$f":"$R118*INDEX('Unit of measures'!$A$7:$R$24,MATCH(T$4,'Unit of measures'!$A$7:$A$24,0),MATCH($Q118,'Unit of measures'!$A$7:$R$7,0))","v":{"$error":"#N/A"}},{"$f":"$R118*INDEX('Unit of measures'!$A$7:$R$24,MATCH(U$4,'Unit of measures'!$A$7:$A$24,0),MATCH($Q118,'Unit of measures'!$A$7:$R$7,0))","v":{"$error":"#N/A"}},{"$f":"$R118*INDEX('Unit of measures'!$A$7:$R$24,MATCH(V$4,'Unit of measures'!$A$7:$A$24,0),MATCH($Q118,'Unit of measures'!$A$7:$R$7,0))","v":{"$error":"#N/A"}},{"$f":"$R118*INDEX('Unit of measures'!$A$7:$R$24,MATCH(W$4,'Unit of measures'!$A$7:$A$24,0),MATCH($Q118,'Unit of measures'!$A$7:$R$7,0))","v":{"$error":"#N/A"}},"Each"]
[null,null,null,null,"",null,null,{"$f":"$G119*INDEX('Unit of measures'!$A$7:$R$24,MATCH(H$4,'Unit of measures'!$A$7:$A$24,0),MATCH($F119,'Unit of measures'!$A$7:$R$7,0))","v":{"$error":"#N/A"}},{"$f":"$G119*INDEX('Unit of measures'!$A$7:$R$24,MATCH(I$4,'Unit of measures'!$A$7:$A$24,0),MATCH($F119,'Unit of measures'!$A$7:$R$7,0))","v":{"$error":"#N/A"}},{"$f":"$G119*INDEX('Unit of measures'!$A$7:$R$24,MATCH(J$4,'Unit of measures'!$A$7:$A$24,0),MATCH($F119,'Unit of measures'!$A$7:$R$7,0))","v":{"$error":"#N/A"}},{"$f":"$G119*INDEX('Unit of measures'!$A$7:$R$24,MATCH(K$4,'Unit of measures'!$A$7:$A$24,0),MATCH($F119,'Unit of measures'!$A$7:$R$7,0))","v":{"$error":"#N/A"}},{"$f":"$G119*INDEX('Unit of measures'!$A$7:$R$24,MATCH(L$4,'Unit of measures'!$A$7:$A$24,0),MATCH($F119,'Unit of measures'!$A$7:$R$7,0))","v":{"$error":"#N/A"}},{"$f":"$G119*INDEX('Unit of measures'!$A$7:$R$24,MATCH(M$4,'Unit of measures'!$A$7:$A$24,0),MATCH($F119,'Unit of measures'!$A$7:$R$7,0))","v":{"$error":"#N/A"}},{"$f":"$G119*INDEX('Unit of measures'!$A$7:$R$24,MATCH(N$4,'Unit of measures'!$A$7:$A$24,0),MATCH($F119,'Unit of measures'!$A$7:$R$7,0))","v":{"$error":"#N/A"}},{"$f":"$G119*INDEX('Unit of measures'!$A$7:$R$24,MATCH(O$4,'Unit of measures'!$A$7:$A$24,0),MATCH($F119,'Unit of measures'!$A$7:$R$7,0))","v":{"$error":"#N/A"}},{"$f":"$G119*INDEX('Unit of measures'!$A$7:$R$24,MATCH(P$4,'Unit of measures'!$A$7:$A$24,0),MATCH($F119,'Unit of measures'!$A$7:$R$7,0))","v":{"$error":"#N/A"}},null,null,{"$f":"$R119*INDEX('Unit of measures'!$A$7:$R$24,MATCH(S$4,'Unit of measures'!$A$7:$A$24,0),MATCH($Q119,'Unit of measures'!$A$7:$R$7,0))","v":{"$error":"#N/A"}},{"$f":"$R119*INDEX('Unit of measures'!$A$7:$R$24,MATCH(T$4,'Unit of measures'!$A$7:$A$24,0),MATCH($Q119,'Unit of measures'!$A$7:$R$7,0))","v":{"$error":"#N/A"}},{"$f":"$R119*INDEX('Unit of measures'!$A$7:$R$24,MATCH(U$4,'Unit of measures'!$A$7:$A$24,0),MATCH($Q119,'Unit of measures'!$A$7:$R$7,0))","v":{"$error":"#N/A"}},{"$f":"$R119*INDEX('Unit of measures'!$A$7:$R$24,MATCH(V$4,'Unit of measures'!$A$7:$A$24,0),MATCH($Q119,'Unit of measures'!$A$7:$R$7,0))","v":{"$error":"#N/A"}},{"$f":"$R119*INDEX('Unit of measures'!$A$7:$R$24,MATCH(W$4,'Unit of measures'!$A$7:$A$24,0),MATCH($Q119,'Unit of measures'!$A$7:$R$7,0))","v":{"$error":"#N/A"}},"Each"]
[null,null,null,null,"",null,null,{"$f":"$G120*INDEX('Unit of measures'!$A$7:$R$24,MATCH(H$4,'Unit of measures'!$A$7:$A$24,0),MATCH($F120,'Unit of measures'!$A$7:$R$7,0))","v":{"$error":"#N/A"}},{"$f":"$G120*INDEX('Unit of measures'!$A$7:$R$24,MATCH(I$4,'Unit of measures'!$A$7:$A$24,0),MATCH($F120,'Unit of measures'!$A$7:$R$7,0))","v":{"$error":"#N/A"}},{"$f":"$G120*INDEX('Unit of measures'!$A$7:$R$24,MATCH(J$4,'Unit of measures'!$A$7:$A$24,0),MATCH($F120,'Unit of measures'!$A$7:$R$7,0))","v":{"$error":"#N/A"}},{"$f":"$G120*INDEX('Unit of measures'!$A$7:$R$24,MATCH(K$4,'Unit of measures'!$A$7:$A$24,0),MATCH($F120,'Unit of measures'!$A$7:$R$7,0))","v":{"$error":"#N/A"}},{"$f":"$G120*INDEX('Unit of measures'!$A$7:$R$24,MATCH(L$4,'Unit of measures'!$A$7:$A$24,0),MATCH($F120,'Unit of measures'!$A$7:$R$7,0))","v":{"$error":"#N/A"}},{"$f":"$G120*INDEX('Unit of measures'!$A$7:$R$24,MATCH(M$4,'Unit of measures'!$A$7:$A$24,0),MATCH($F120,'Unit of measures'!$A$7:$R$7,0))","v":{"$error":"#N/A"}},{"$f":"$G120*INDEX('Unit of measures'!$A$7:$R$24,MATCH(N$4,'Unit of measures'!$A$7:$A$24,0),MATCH($F120,'Unit of measures'!$A$7:$R$7,0))","v":{"$error":"#N/A"}},{"$f":"$G120*INDEX('Unit of measures'!$A$7:$R$24,MATCH(O$4,'Unit of measures'!$A$7:$A$24,0),MATCH($F120,'Unit of measures'!$A$7:$R$7,0))","v":{"$error":"#N/A"}},{"$f":"$G120*INDEX('Unit of measures'!$A$7:$R$24,MATCH(P$4,'Unit of measures'!$A$7:$A$24,0),MATCH($F120,'Unit of measures'!$A$7:$R$7,0))","v":{"$error":"#N/A"}},null,null,{"$f":"$R120*INDEX('Unit of measures'!$A$7:$R$24,MATCH(S$4,'Unit of measures'!$A$7:$A$24,0),MATCH($Q120,'Unit of measures'!$A$7:$R$7,0))","v":{"$error":"#N/A"}},{"$f":"$R120*INDEX('Unit of measures'!$A$7:$R$24,MATCH(T$4,'Unit of measures'!$A$7:$A$24,0),MATCH($Q120,'Unit of measures'!$A$7:$R$7,0))","v":{"$error":"#N/A"}},{"$f":"$R120*INDEX('Unit of measures'!$A$7:$R$24,MATCH(U$4,'Unit of measures'!$A$7:$A$24,0),MATCH($Q120,'Unit of measures'!$A$7:$R$7,0))","v":{"$error":"#N/A"}},{"$f":"$R120*INDEX('Unit of measures'!$A$7:$R$24,MATCH(V$4,'Unit of measures'!$A$7:$A$24,0),MATCH($Q120,'Unit of measures'!$A$7:$R$7,0))","v":{"$error":"#N/A"}},{"$f":"$R120*INDEX('Unit of measures'!$A$7:$R$24,MATCH(W$4,'Unit of measures'!$A$7:$A$24,0),MATCH($Q120,'Unit of measures'!$A$7:$R$7,0))","v":{"$error":"#N/A"}},"Each"]
[null,null,null,null,"",null,null,{"$f":"$G121*INDEX('Unit of measures'!$A$7:$R$24,MATCH(H$4,'Unit of measures'!$A$7:$A$24,0),MATCH($F121,'Unit of measures'!$A$7:$R$7,0))","v":{"$error":"#N/A"}},{"$f":"$G121*INDEX('Unit of measures'!$A$7:$R$24,MATCH(I$4,'Unit of measures'!$A$7:$A$24,0),MATCH($F121,'Unit of measures'!$A$7:$R$7,0))","v":{"$error":"#N/A"}},{"$f":"$G121*INDEX('Unit of measures'!$A$7:$R$24,MATCH(J$4,'Unit of measures'!$A$7:$A$24,0),MATCH($F121,'Unit of measures'!$A$7:$R$7,0))","v":{"$error":"#N/A"}},{"$f":"$G121*INDEX('Unit of measures'!$A$7:$R$24,MATCH(K$4,'Unit of measures'!$A$7:$A$24,0),MATCH($F121,'Unit of measures'!$A$7:$R$7,0))","v":{"$error":"#N/A"}},{"$f":"$G121*INDEX('Unit of measures'!$A$7:$R$24,MATCH(L$4,'Unit of measures'!$A$7:$A$24,0),MATCH($F121,'Unit of measures'!$A$7:$R$7,0))","v":{"$error":"#N/A"}},{"$f":"$G121*INDEX('Unit of measures'!$A$7:$R$24,MATCH(M$4,'Unit of measures'!$A$7:$A$24,0),MATCH($F121,'Unit of measures'!$A$7:$R$7,0))","v":{"$error":"#N/A"}},{"$f":"$G121*INDEX('Unit of measures'!$A$7:$R$24,MATCH(N$4,'Unit of measures'!$A$7:$A$24,0),MATCH($F121,'Unit of measures'!$A$7:$R$7,0))","v":{"$error":"#N/A"}},{"$f":"$G121*INDEX('Unit of measures'!$A$7:$R$24,MATCH(O$4,'Unit of measures'!$A$7:$A$24,0),MATCH($F121,'Unit of measures'!$A$7:$R$7,0))","v":{"$error":"#N/A"}},{"$f":"$G121*INDEX('Unit of measures'!$A$7:$R$24,MATCH(P$4,'Unit of measures'!$A$7:$A$24,0),MATCH($F121,'Unit of measures'!$A$7:$R$7,0))","v":{"$error":"#N/A"}},null,null,{"$f":"$R121*INDEX('Unit of measures'!$A$7:$R$24,MATCH(S$4,'Unit of measures'!$A$7:$A$24,0),MATCH($Q121,'Unit of measures'!$A$7:$R$7,0))","v":{"$error":"#N/A"}},{"$f":"$R121*INDEX('Unit of measures'!$A$7:$R$24,MATCH(T$4,'Unit of measures'!$A$7:$A$24,0),MATCH($Q121,'Unit of measures'!$A$7:$R$7,0))","v":{"$error":"#N/A"}},{"$f":"$R121*INDEX('Unit of measures'!$A$7:$R$24,MATCH(U$4,'Unit of measures'!$A$7:$A$24,0),MATCH($Q121,'Unit of measures'!$A$7:$R$7,0))","v":{"$error":"#N/A"}},{"$f":"$R121*INDEX('Unit of measures'!$A$7:$R$24,MATCH(V$4,'Unit of measures'!$A$7:$A$24,0),MATCH($Q121,'Unit of measures'!$A$7:$R$7,0))","v":{"$error":"#N/A"}},{"$f":"$R121*INDEX('Unit of measures'!$A$7:$R$24,MATCH(W$4,'Unit of measures'!$A$7:$A$24,0),MATCH($Q121,'Unit of measures'!$A$7:$R$7,0))","v":{"$error":"#N/A"}},"Each"]
[null,null,null,null,"",null,null,{"$f":"$G122*INDEX('Unit of measures'!$A$7:$R$24,MATCH(H$4,'Unit of measures'!$A$7:$A$24,0),MATCH($F122,'Unit of measures'!$A$7:$R$7,0))","v":{"$error":"#N/A"}},{"$f":"$G122*INDEX('Unit of measures'!$A$7:$R$24,MATCH(I$4,'Unit of measures'!$A$7:$A$24,0),MATCH($F122,'Unit of measures'!$A$7:$R$7,0))","v":{"$error":"#N/A"}},{"$f":"$G122*INDEX('Unit of measures'!$A$7:$R$24,MATCH(J$4,'Unit of measures'!$A$7:$A$24,0),MATCH($F122,'Unit of measures'!$A$7:$R$7,0))","v":{"$error":"#N/A"}},{"$f":"$G122*INDEX('Unit of measures'!$A$7:$R$24,MATCH(K$4,'Unit of measures'!$A$7:$A$24,0),MATCH($F122,'Unit of measures'!$A$7:$R$7,0))","v":{"$error":"#N/A"}},{"$f":"$G122*INDEX('Unit of measures'!$A$7:$R$24,MATCH(L$4,'Unit of measures'!$A$7:$A$24,0),MATCH($F122,'Unit of measures'!$A$7:$R$7,0))","v":{"$error":"#N/A"}},{"$f":"$G122*INDEX('Unit of measures'!$A$7:$R$24,MATCH(M$4,'Unit of measures'!$A$7:$A$24,0),MATCH($F122,'Unit of measures'!$A$7:$R$7,0))","v":{"$error":"#N/A"}},{"$f":"$G122*INDEX('Unit of measures'!$A$7:$R$24,MATCH(N$4,'Unit of measures'!$A$7:$A$24,0),MATCH($F122,'Unit of measures'!$A$7:$R$7,0))","v":{"$error":"#N/A"}},{"$f":"$G122*INDEX('Unit of measures'!$A$7:$R$24,MATCH(O$4,'Unit of measures'!$A$7:$A$24,0),MATCH($F122,'Unit of measures'!$A$7:$R$7,0))","v":{"$error":"#N/A"}},{"$f":"$G122*INDEX('Unit of measures'!$A$7:$R$24,MATCH(P$4,'Unit of measures'!$A$7:$A$24,0),MATCH($F122,'Unit of measures'!$A$7:$R$7,0))","v":{"$error":"#N/A"}},null,null,{"$f":"$R122*INDEX('Unit of measures'!$A$7:$R$24,MATCH(S$4,'Unit of measures'!$A$7:$A$24,0),MATCH($Q122,'Unit of measures'!$A$7:$R$7,0))","v":{"$error":"#N/A"}},{"$f":"$R122*INDEX('Unit of measures'!$A$7:$R$24,MATCH(T$4,'Unit of measures'!$A$7:$A$24,0),MATCH($Q122,'Unit of measures'!$A$7:$R$7,0))","v":{"$error":"#N/A"}},{"$f":"$R122*INDEX('Unit of measures'!$A$7:$R$24,MATCH(U$4,'Unit of measures'!$A$7:$A$24,0),MATCH($Q122,'Unit of measures'!$A$7:$R$7,0))","v":{"$error":"#N/A"}},{"$f":"$R122*INDEX('Unit of measures'!$A$7:$R$24,MATCH(V$4,'Unit of measures'!$A$7:$A$24,0),MATCH($Q122,'Unit of measures'!$A$7:$R$7,0))","v":{"$error":"#N/A"}},{"$f":"$R122*INDEX('Unit of measures'!$A$7:$R$24,MATCH(W$4,'Unit of measures'!$A$7:$A$24,0),MATCH($Q122,'Unit of measures'!$A$7:$R$7,0))","v":{"$error":"#N/A"}},"Each"]
[null,null,null,null,"",null,null,{"$f":"$G123*INDEX('Unit of measures'!$A$7:$R$24,MATCH(H$4,'Unit of measures'!$A$7:$A$24,0),MATCH($F123,'Unit of measures'!$A$7:$R$7,0))","v":{"$error":"#N/A"}},{"$f":"$G123*INDEX('Unit of measures'!$A$7:$R$24,MATCH(I$4,'Unit of measures'!$A$7:$A$24,0),MATCH($F123,'Unit of measures'!$A$7:$R$7,0))","v":{"$error":"#N/A"}},{"$f":"$G123*INDEX('Unit of measures'!$A$7:$R$24,MATCH(J$4,'Unit of measures'!$A$7:$A$24,0),MATCH($F123,'Unit of measures'!$A$7:$R$7,0))","v":{"$error":"#N/A"}},{"$f":"$G123*INDEX('Unit of measures'!$A$7:$R$24,MATCH(K$4,'Unit of measures'!$A$7:$A$24,0),MATCH($F123,'Unit of measures'!$A$7:$R$7,0))","v":{"$error":"#N/A"}},{"$f":"$G123*INDEX('Unit of measures'!$A$7:$R$24,MATCH(L$4,'Unit of measures'!$A$7:$A$24,0),MATCH($F123,'Unit of measures'!$A$7:$R$7,0))","v":{"$error":"#N/A"}},{"$f":"$G123*INDEX('Unit of measures'!$A$7:$R$24,MATCH(M$4,'Unit of measures'!$A$7:$A$24,0),MATCH($F123,'Unit of measures'!$A$7:$R$7,0))","v":{"$error":"#N/A"}},{"$f":"$G123*INDEX('Unit of measures'!$A$7:$R$24,MATCH(N$4,'Unit of measures'!$A$7:$A$24,0),MATCH($F123,'Unit of measures'!$A$7:$R$7,0))","v":{"$error":"#N/A"}},{"$f":"$G123*INDEX('Unit of measures'!$A$7:$R$24,MATCH(O$4,'Unit of measures'!$A$7:$A$24,0),MATCH($F123,'Unit of measures'!$A$7:$R$7,0))","v":{"$error":"#N/A"}},{"$f":"$G123*INDEX('Unit of measures'!$A$7:$R$24,MATCH(P$4,'Unit of measures'!$A$7:$A$24,0),MATCH($F123,'Unit of measures'!$A$7:$R$7,0))","v":{"$error":"#N/A"}},null,null,{"$f":"$R123*INDEX('Unit of measures'!$A$7:$R$24,MATCH(S$4,'Unit of measures'!$A$7:$A$24,0),MATCH($Q123,'Unit of measures'!$A$7:$R$7,0))","v":{"$error":"#N/A"}},{"$f":"$R123*INDEX('Unit of measures'!$A$7:$R$24,MATCH(T$4,'Unit of measures'!$A$7:$A$24,0),MATCH($Q123,'Unit of measures'!$A$7:$R$7,0))","v":{"$error":"#N/A"}},{"$f":"$R123*INDEX('Unit of measures'!$A$7:$R$24,MATCH(U$4,'Unit of measures'!$A$7:$A$24,0),MATCH($Q123,'Unit of measures'!$A$7:$R$7,0))","v":{"$error":"#N/A"}},{"$f":"$R123*INDEX('Unit of measures'!$A$7:$R$24,MATCH(V$4,'Unit of measures'!$A$7:$A$24,0),MATCH($Q123,'Unit of measures'!$A$7:$R$7,0))","v":{"$error":"#N/A"}},{"$f":"$R123*INDEX('Unit of measures'!$A$7:$R$24,MATCH(W$4,'Unit of measures'!$A$7:$A$24,0),MATCH($Q123,'Unit of measures'!$A$7:$R$7,0))","v":{"$error":"#N/A"}},"Each"]
[null,null,null,null,"",null,null,{"$f":"$G124*INDEX('Unit of measures'!$A$7:$R$24,MATCH(H$4,'Unit of measures'!$A$7:$A$24,0),MATCH($F124,'Unit of measures'!$A$7:$R$7,0))","v":{"$error":"#N/A"}},{"$f":"$G124*INDEX('Unit of measures'!$A$7:$R$24,MATCH(I$4,'Unit of measures'!$A$7:$A$24,0),MATCH($F124,'Unit of measures'!$A$7:$R$7,0))","v":{"$error":"#N/A"}},{"$f":"$G124*INDEX('Unit of measures'!$A$7:$R$24,MATCH(J$4,'Unit of measures'!$A$7:$A$24,0),MATCH($F124,'Unit of measures'!$A$7:$R$7,0))","v":{"$error":"#N/A"}},{"$f":"$G124*INDEX('Unit of measures'!$A$7:$R$24,MATCH(K$4,'Unit of measures'!$A$7:$A$24,0),MATCH($F124,'Unit of measures'!$A$7:$R$7,0))","v":{"$error":"#N/A"}},{"$f":"$G124*INDEX('Unit of measures'!$A$7:$R$24,MATCH(L$4,'Unit of measures'!$A$7:$A$24,0),MATCH($F124,'Unit of measures'!$A$7:$R$7,0))","v":{"$error":"#N/A"}},{"$f":"$G124*INDEX('Unit of measures'!$A$7:$R$24,MATCH(M$4,'Unit of measures'!$A$7:$A$24,0),MATCH($F124,'Unit of measures'!$A$7:$R$7,0))","v":{"$error":"#N/A"}},{"$f":"$G124*INDEX('Unit of measures'!$A$7:$R$24,MATCH(N$4,'Unit of measures'!$A$7:$A$24,0),MATCH($F124,'Unit of measures'!$A$7:$R$7,0))","v":{"$error":"#N/A"}},{"$f":"$G124*INDEX('Unit of measures'!$A$7:$R$24,MATCH(O$4,'Unit of measures'!$A$7:$A$24,0),MATCH($F124,'Unit of measures'!$A$7:$R$7,0))","v":{"$error":"#N/A"}},{"$f":"$G124*INDEX('Unit of measures'!$A$7:$R$24,MATCH(P$4,'Unit of measures'!$A$7:$A$24,0),MATCH($F124,'Unit of measures'!$A$7:$R$7,0))","v":{"$error":"#N/A"}},null,null,{"$f":"$R124*INDEX('Unit of measures'!$A$7:$R$24,MATCH(S$4,'Unit of measures'!$A$7:$A$24,0),MATCH($Q124,'Unit of measures'!$A$7:$R$7,0))","v":{"$error":"#N/A"}},{"$f":"$R124*INDEX('Unit of measures'!$A$7:$R$24,MATCH(T$4,'Unit of measures'!$A$7:$A$24,0),MATCH($Q124,'Unit of measures'!$A$7:$R$7,0))","v":{"$error":"#N/A"}},{"$f":"$R124*INDEX('Unit of measures'!$A$7:$R$24,MATCH(U$4,'Unit of measures'!$A$7:$A$24,0),MATCH($Q124,'Unit of measures'!$A$7:$R$7,0))","v":{"$error":"#N/A"}},{"$f":"$R124*INDEX('Unit of measures'!$A$7:$R$24,MATCH(V$4,'Unit of measures'!$A$7:$A$24,0),MATCH($Q124,'Unit of measures'!$A$7:$R$7,0))","v":{"$error":"#N/A"}},{"$f":"$R124*INDEX('Unit of measures'!$A$7:$R$24,MATCH(W$4,'Unit of measures'!$A$7:$A$24,0),MATCH($Q124,'Unit of measures'!$A$7:$R$7,0))","v":{"$error":"#N/A"}},"Each"]
[null,null,null,null,"",null,null,{"$f":"$G125*INDEX('Unit of measures'!$A$7:$R$24,MATCH(H$4,'Unit of measures'!$A$7:$A$24,0),MATCH($F125,'Unit of measures'!$A$7:$R$7,0))","v":{"$error":"#N/A"}},{"$f":"$G125*INDEX('Unit of measures'!$A$7:$R$24,MATCH(I$4,'Unit of measures'!$A$7:$A$24,0),MATCH($F125,'Unit of measures'!$A$7:$R$7,0))","v":{"$error":"#N/A"}},{"$f":"$G125*INDEX('Unit of measures'!$A$7:$R$24,MATCH(J$4,'Unit of measures'!$A$7:$A$24,0),MATCH($F125,'Unit of measures'!$A$7:$R$7,0))","v":{"$error":"#N/A"}},{"$f":"$G125*INDEX('Unit of measures'!$A$7:$R$24,MATCH(K$4,'Unit of measures'!$A$7:$A$24,0),MATCH($F125,'Unit of measures'!$A$7:$R$7,0))","v":{"$error":"#N/A"}},{"$f":"$G125*INDEX('Unit of measures'!$A$7:$R$24,MATCH(L$4,'Unit of measures'!$A$7:$A$24,0),MATCH($F125,'Unit of measures'!$A$7:$R$7,0))","v":{"$error":"#N/A"}},{"$f":"$G125*INDEX('Unit of measures'!$A$7:$R$24,MATCH(M$4,'Unit of measures'!$A$7:$A$24,0),MATCH($F125,'Unit of measures'!$A$7:$R$7,0))","v":{"$error":"#N/A"}},{"$f":"$G125*INDEX('Unit of measures'!$A$7:$R$24,MATCH(N$4,'Unit of measures'!$A$7:$A$24,0),MATCH($F125,'Unit of measures'!$A$7:$R$7,0))","v":{"$error":"#N/A"}},{"$f":"$G125*INDEX('Unit of measures'!$A$7:$R$24,MATCH(O$4,'Unit of measures'!$A$7:$A$24,0),MATCH($F125,'Unit of measures'!$A$7:$R$7,0))","v":{"$error":"#N/A"}},{"$f":"$G125*INDEX('Unit of measures'!$A$7:$R$24,MATCH(P$4,'Unit of measures'!$A$7:$A$24,0),MATCH($F125,'Unit of measures'!$A$7:$R$7,0))","v":{"$error":"#N/A"}},null,null,{"$f":"$R125*INDEX('Unit of measures'!$A$7:$R$24,MATCH(S$4,'Unit of measures'!$A$7:$A$24,0),MATCH($Q125,'Unit of measures'!$A$7:$R$7,0))","v":{"$error":"#N/A"}},{"$f":"$R125*INDEX('Unit of measures'!$A$7:$R$24,MATCH(T$4,'Unit of measures'!$A$7:$A$24,0),MATCH($Q125,'Unit of measures'!$A$7:$R$7,0))","v":{"$error":"#N/A"}},{"$f":"$R125*INDEX('Unit of measures'!$A$7:$R$24,MATCH(U$4,'Unit of measures'!$A$7:$A$24,0),MATCH($Q125,'Unit of measures'!$A$7:$R$7,0))","v":{"$error":"#N/A"}},{"$f":"$R125*INDEX('Unit of measures'!$A$7:$R$24,MATCH(V$4,'Unit of measures'!$A$7:$A$24,0),MATCH($Q125,'Unit of measures'!$A$7:$R$7,0))","v":{"$error":"#N/A"}},{"$f":"$R125*INDEX('Unit of measures'!$A$7:$R$24,MATCH(W$4,'Unit of measures'!$A$7:$A$24,0),MATCH($Q125,'Unit of measures'!$A$7:$R$7,0))","v":{"$error":"#N/A"}},"Each"]
[null,null,null,null,"",null,null,{"$f":"$G126*INDEX('Unit of measures'!$A$7:$R$24,MATCH(H$4,'Unit of measures'!$A$7:$A$24,0),MATCH($F126,'Unit of measures'!$A$7:$R$7,0))","v":{"$error":"#N/A"}},{"$f":"$G126*INDEX('Unit of measures'!$A$7:$R$24,MATCH(I$4,'Unit of measures'!$A$7:$A$24,0),MATCH($F126,'Unit of measures'!$A$7:$R$7,0))","v":{"$error":"#N/A"}},{"$f":"$G126*INDEX('Unit of measures'!$A$7:$R$24,MATCH(J$4,'Unit of measures'!$A$7:$A$24,0),MATCH($F126,'Unit of measures'!$A$7:$R$7,0))","v":{"$error":"#N/A"}},{"$f":"$G126*INDEX('Unit of measures'!$A$7:$R$24,MATCH(K$4,'Unit of measures'!$A$7:$A$24,0),MATCH($F126,'Unit of measures'!$A$7:$R$7,0))","v":{"$error":"#N/A"}},{"$f":"$G126*INDEX('Unit of measures'!$A$7:$R$24,MATCH(L$4,'Unit of measures'!$A$7:$A$24,0),MATCH($F126,'Unit of measures'!$A$7:$R$7,0))","v":{"$error":"#N/A"}},{"$f":"$G126*INDEX('Unit of measures'!$A$7:$R$24,MATCH(M$4,'Unit of measures'!$A$7:$A$24,0),MATCH($F126,'Unit of measures'!$A$7:$R$7,0))","v":{"$error":"#N/A"}},{"$f":"$G126*INDEX('Unit of measures'!$A$7:$R$24,MATCH(N$4,'Unit of measures'!$A$7:$A$24,0),MATCH($F126,'Unit of measures'!$A$7:$R$7,0))","v":{"$error":"#N/A"}},{"$f":"$G126*INDEX('Unit of measures'!$A$7:$R$24,MATCH(O$4,'Unit of measures'!$A$7:$A$24,0),MATCH($F126,'Unit of measures'!$A$7:$R$7,0))","v":{"$error":"#N/A"}},{"$f":"$G126*INDEX('Unit of measures'!$A$7:$R$24,MATCH(P$4,'Unit of measures'!$A$7:$A$24,0),MATCH($F126,'Unit of measures'!$A$7:$R$7,0))","v":{"$error":"#N/A"}},null,null,{"$f":"$R126*INDEX('Unit of measures'!$A$7:$R$24,MATCH(S$4,'Unit of measures'!$A$7:$A$24,0),MATCH($Q126,'Unit of measures'!$A$7:$R$7,0))","v":{"$error":"#N/A"}},{"$f":"$R126*INDEX('Unit of measures'!$A$7:$R$24,MATCH(T$4,'Unit of measures'!$A$7:$A$24,0),MATCH($Q126,'Unit of measures'!$A$7:$R$7,0))","v":{"$error":"#N/A"}},{"$f":"$R126*INDEX('Unit of measures'!$A$7:$R$24,MATCH(U$4,'Unit of measures'!$A$7:$A$24,0),MATCH($Q126,'Unit of measures'!$A$7:$R$7,0))","v":{"$error":"#N/A"}},{"$f":"$R126*INDEX('Unit of measures'!$A$7:$R$24,MATCH(V$4,'Unit of measures'!$A$7:$A$24,0),MATCH($Q126,'Unit of measures'!$A$7:$R$7,0))","v":{"$error":"#N/A"}},{"$f":"$R126*INDEX('Unit of measures'!$A$7:$R$24,MATCH(W$4,'Unit of measures'!$A$7:$A$24,0),MATCH($Q126,'Unit of measures'!$A$7:$R$7,0))","v":{"$error":"#N/A"}},"Each"]
[null,null,null,null,"",null,null,{"$f":"$G127*INDEX('Unit of measures'!$A$7:$R$24,MATCH(H$4,'Unit of measures'!$A$7:$A$24,0),MATCH($F127,'Unit of measures'!$A$7:$R$7,0))","v":{"$error":"#N/A"}},{"$f":"$G127*INDEX('Unit of measures'!$A$7:$R$24,MATCH(I$4,'Unit of measures'!$A$7:$A$24,0),MATCH($F127,'Unit of measures'!$A$7:$R$7,0))","v":{"$error":"#N/A"}},{"$f":"$G127*INDEX('Unit of measures'!$A$7:$R$24,MATCH(J$4,'Unit of measures'!$A$7:$A$24,0),MATCH($F127,'Unit of measures'!$A$7:$R$7,0))","v":{"$error":"#N/A"}},{"$f":"$G127*INDEX('Unit of measures'!$A$7:$R$24,MATCH(K$4,'Unit of measures'!$A$7:$A$24,0),MATCH($F127,'Unit of measures'!$A$7:$R$7,0))","v":{"$error":"#N/A"}},{"$f":"$G127*INDEX('Unit of measures'!$A$7:$R$24,MATCH(L$4,'Unit of measures'!$A$7:$A$24,0),MATCH($F127,'Unit of measures'!$A$7:$R$7,0))","v":{"$error":"#N/A"}},{"$f":"$G127*INDEX('Unit of measures'!$A$7:$R$24,MATCH(M$4,'Unit of measures'!$A$7:$A$24,0),MATCH($F127,'Unit of measures'!$A$7:$R$7,0))","v":{"$error":"#N/A"}},{"$f":"$G127*INDEX('Unit of measures'!$A$7:$R$24,MATCH(N$4,'Unit of measures'!$A$7:$A$24,0),MATCH($F127,'Unit of measures'!$A$7:$R$7,0))","v":{"$error":"#N/A"}},{"$f":"$G127*INDEX('Unit of measures'!$A$7:$R$24,MATCH(O$4,'Unit of measures'!$A$7:$A$24,0),MATCH($F127,'Unit of measures'!$A$7:$R$7,0))","v":{"$error":"#N/A"}},{"$f":"$G127*INDEX('Unit of measures'!$A$7:$R$24,MATCH(P$4,'Unit of measures'!$A$7:$A$24,0),MATCH($F127,'Unit of measures'!$A$7:$R$7,0))","v":{"$error":"#N/A"}},null,null,{"$f":"$R127*INDEX('Unit of measures'!$A$7:$R$24,MATCH(S$4,'Unit of measures'!$A$7:$A$24,0),MATCH($Q127,'Unit of measures'!$A$7:$R$7,0))","v":{"$error":"#N/A"}},{"$f":"$R127*INDEX('Unit of measures'!$A$7:$R$24,MATCH(T$4,'Unit of measures'!$A$7:$A$24,0),MATCH($Q127,'Unit of measures'!$A$7:$R$7,0))","v":{"$error":"#N/A"}},{"$f":"$R127*INDEX('Unit of measures'!$A$7:$R$24,MATCH(U$4,'Unit of measures'!$A$7:$A$24,0),MATCH($Q127,'Unit of measures'!$A$7:$R$7,0))","v":{"$error":"#N/A"}},{"$f":"$R127*INDEX('Unit of measures'!$A$7:$R$24,MATCH(V$4,'Unit of measures'!$A$7:$A$24,0),MATCH($Q127,'Unit of measures'!$A$7:$R$7,0))","v":{"$error":"#N/A"}},{"$f":"$R127*INDEX('Unit of measures'!$A$7:$R$24,MATCH(W$4,'Unit of measures'!$A$7:$A$24,0),MATCH($Q127,'Unit of measures'!$A$7:$R$7,0))","v":{"$error":"#N/A"}},"Each"]
[null,null,null,null,"",null,null,{"$f":"$G128*INDEX('Unit of measures'!$A$7:$R$24,MATCH(H$4,'Unit of measures'!$A$7:$A$24,0),MATCH($F128,'Unit of measures'!$A$7:$R$7,0))","v":{"$error":"#N/A"}},{"$f":"$G128*INDEX('Unit of measures'!$A$7:$R$24,MATCH(I$4,'Unit of measures'!$A$7:$A$24,0),MATCH($F128,'Unit of measures'!$A$7:$R$7,0))","v":{"$error":"#N/A"}},{"$f":"$G128*INDEX('Unit of measures'!$A$7:$R$24,MATCH(J$4,'Unit of measures'!$A$7:$A$24,0),MATCH($F128,'Unit of measures'!$A$7:$R$7,0))","v":{"$error":"#N/A"}},{"$f":"$G128*INDEX('Unit of measures'!$A$7:$R$24,MATCH(K$4,'Unit of measures'!$A$7:$A$24,0),MATCH($F128,'Unit of measures'!$A$7:$R$7,0))","v":{"$error":"#N/A"}},{"$f":"$G128*INDEX('Unit of measures'!$A$7:$R$24,MATCH(L$4,'Unit of measures'!$A$7:$A$24,0),MATCH($F128,'Unit of measures'!$A$7:$R$7,0))","v":{"$error":"#N/A"}},{"$f":"$G128*INDEX('Unit of measures'!$A$7:$R$24,MATCH(M$4,'Unit of measures'!$A$7:$A$24,0),MATCH($F128,'Unit of measures'!$A$7:$R$7,0))","v":{"$error":"#N/A"}},{"$f":"$G128*INDEX('Unit of measures'!$A$7:$R$24,MATCH(N$4,'Unit of measures'!$A$7:$A$24,0),MATCH($F128,'Unit of measures'!$A$7:$R$7,0))","v":{"$error":"#N/A"}},{"$f":"$G128*INDEX('Unit of measures'!$A$7:$R$24,MATCH(O$4,'Unit of measures'!$A$7:$A$24,0),MATCH($F128,'Unit of measures'!$A$7:$R$7,0))","v":{"$error":"#N/A"}},{"$f":"$G128*INDEX('Unit of measures'!$A$7:$R$24,MATCH(P$4,'Unit of measures'!$A$7:$A$24,0),MATCH($F128,'Unit of measures'!$A$7:$R$7,0))","v":{"$error":"#N/A"}},null,null,{"$f":"$R128*INDEX('Unit of measures'!$A$7:$R$24,MATCH(S$4,'Unit of measures'!$A$7:$A$24,0),MATCH($Q128,'Unit of measures'!$A$7:$R$7,0))","v":{"$error":"#N/A"}},{"$f":"$R128*INDEX('Unit of measures'!$A$7:$R$24,MATCH(T$4,'Unit of measures'!$A$7:$A$24,0),MATCH($Q128,'Unit of measures'!$A$7:$R$7,0))","v":{"$error":"#N/A"}},{"$f":"$R128*INDEX('Unit of measures'!$A$7:$R$24,MATCH(U$4,'Unit of measures'!$A$7:$A$24,0),MATCH($Q128,'Unit of measures'!$A$7:$R$7,0))","v":{"$error":"#N/A"}},{"$f":"$R128*INDEX('Unit of measures'!$A$7:$R$24,MATCH(V$4,'Unit of measures'!$A$7:$A$24,0),MATCH($Q128,'Unit of measures'!$A$7:$R$7,0))","v":{"$error":"#N/A"}},{"$f":"$R128*INDEX('Unit of measures'!$A$7:$R$24,MATCH(W$4,'Unit of measures'!$A$7:$A$24,0),MATCH($Q128,'Unit of measures'!$A$7:$R$7,0))","v":{"$error":"#N/A"}},"Each"]
[null,null,null,null,"",null,null,{"$f":"$G129*INDEX('Unit of measures'!$A$7:$R$24,MATCH(H$4,'Unit of measures'!$A$7:$A$24,0),MATCH($F129,'Unit of measures'!$A$7:$R$7,0))","v":{"$error":"#N/A"}},{"$f":"$G129*INDEX('Unit of measures'!$A$7:$R$24,MATCH(I$4,'Unit of measures'!$A$7:$A$24,0),MATCH($F129,'Unit of measures'!$A$7:$R$7,0))","v":{"$error":"#N/A"}},{"$f":"$G129*INDEX('Unit of measures'!$A$7:$R$24,MATCH(J$4,'Unit of measures'!$A$7:$A$24,0),MATCH($F129,'Unit of measures'!$A$7:$R$7,0))","v":{"$error":"#N/A"}},{"$f":"$G129*INDEX('Unit of measures'!$A$7:$R$24,MATCH(K$4,'Unit of measures'!$A$7:$A$24,0),MATCH($F129,'Unit of measures'!$A$7:$R$7,0))","v":{"$error":"#N/A"}},{"$f":"$G129*INDEX('Unit of measures'!$A$7:$R$24,MATCH(L$4,'Unit of measures'!$A$7:$A$24,0),MATCH($F129,'Unit of measures'!$A$7:$R$7,0))","v":{"$error":"#N/A"}},{"$f":"$G129*INDEX('Unit of measures'!$A$7:$R$24,MATCH(M$4,'Unit of measures'!$A$7:$A$24,0),MATCH($F129,'Unit of measures'!$A$7:$R$7,0))","v":{"$error":"#N/A"}},{"$f":"$G129*INDEX('Unit of measures'!$A$7:$R$24,MATCH(N$4,'Unit of measures'!$A$7:$A$24,0),MATCH($F129,'Unit of measures'!$A$7:$R$7,0))","v":{"$error":"#N/A"}},{"$f":"$G129*INDEX('Unit of measures'!$A$7:$R$24,MATCH(O$4,'Unit of measures'!$A$7:$A$24,0),MATCH($F129,'Unit of measures'!$A$7:$R$7,0))","v":{"$error":"#N/A"}},{"$f":"$G129*INDEX('Unit of measures'!$A$7:$R$24,MATCH(P$4,'Unit of measures'!$A$7:$A$24,0),MATCH($F129,'Unit of measures'!$A$7:$R$7,0))","v":{"$error":"#N/A"}},null,null,{"$f":"$R129*INDEX('Unit of measures'!$A$7:$R$24,MATCH(S$4,'Unit of measures'!$A$7:$A$24,0),MATCH($Q129,'Unit of measures'!$A$7:$R$7,0))","v":{"$error":"#N/A"}},{"$f":"$R129*INDEX('Unit of measures'!$A$7:$R$24,MATCH(T$4,'Unit of measures'!$A$7:$A$24,0),MATCH($Q129,'Unit of measures'!$A$7:$R$7,0))","v":{"$error":"#N/A"}},{"$f":"$R129*INDEX('Unit of measures'!$A$7:$R$24,MATCH(U$4,'Unit of measures'!$A$7:$A$24,0),MATCH($Q129,'Unit of measures'!$A$7:$R$7,0))","v":{"$error":"#N/A"}},{"$f":"$R129*INDEX('Unit of measures'!$A$7:$R$24,MATCH(V$4,'Unit of measures'!$A$7:$A$24,0),MATCH($Q129,'Unit of measures'!$A$7:$R$7,0))","v":{"$error":"#N/A"}},{"$f":"$R129*INDEX('Unit of measures'!$A$7:$R$24,MATCH(W$4,'Unit of measures'!$A$7:$A$24,0),MATCH($Q129,'Unit of measures'!$A$7:$R$7,0))","v":{"$error":"#N/A"}},"Each"]
[null,null,null,null,"",null,null,{"$f":"$G130*INDEX('Unit of measures'!$A$7:$R$24,MATCH(H$4,'Unit of measures'!$A$7:$A$24,0),MATCH($F130,'Unit of measures'!$A$7:$R$7,0))","v":{"$error":"#N/A"}},{"$f":"$G130*INDEX('Unit of measures'!$A$7:$R$24,MATCH(I$4,'Unit of measures'!$A$7:$A$24,0),MATCH($F130,'Unit of measures'!$A$7:$R$7,0))","v":{"$error":"#N/A"}},{"$f":"$G130*INDEX('Unit of measures'!$A$7:$R$24,MATCH(J$4,'Unit of measures'!$A$7:$A$24,0),MATCH($F130,'Unit of measures'!$A$7:$R$7,0))","v":{"$error":"#N/A"}},{"$f":"$G130*INDEX('Unit of measures'!$A$7:$R$24,MATCH(K$4,'Unit of measures'!$A$7:$A$24,0),MATCH($F130,'Unit of measures'!$A$7:$R$7,0))","v":{"$error":"#N/A"}},{"$f":"$G130*INDEX('Unit of measures'!$A$7:$R$24,MATCH(L$4,'Unit of measures'!$A$7:$A$24,0),MATCH($F130,'Unit of measures'!$A$7:$R$7,0))","v":{"$error":"#N/A"}},{"$f":"$G130*INDEX('Unit of measures'!$A$7:$R$24,MATCH(M$4,'Unit of measures'!$A$7:$A$24,0),MATCH($F130,'Unit of measures'!$A$7:$R$7,0))","v":{"$error":"#N/A"}},{"$f":"$G130*INDEX('Unit of measures'!$A$7:$R$24,MATCH(N$4,'Unit of measures'!$A$7:$A$24,0),MATCH($F130,'Unit of measures'!$A$7:$R$7,0))","v":{"$error":"#N/A"}},{"$f":"$G130*INDEX('Unit of measures'!$A$7:$R$24,MATCH(O$4,'Unit of measures'!$A$7:$A$24,0),MATCH($F130,'Unit of measures'!$A$7:$R$7,0))","v":{"$error":"#N/A"}},{"$f":"$G130*INDEX('Unit of measures'!$A$7:$R$24,MATCH(P$4,'Unit of measures'!$A$7:$A$24,0),MATCH($F130,'Unit of measures'!$A$7:$R$7,0))","v":{"$error":"#N/A"}},null,null,{"$f":"$R130*INDEX('Unit of measures'!$A$7:$R$24,MATCH(S$4,'Unit of measures'!$A$7:$A$24,0),MATCH($Q130,'Unit of measures'!$A$7:$R$7,0))","v":{"$error":"#N/A"}},{"$f":"$R130*INDEX('Unit of measures'!$A$7:$R$24,MATCH(T$4,'Unit of measures'!$A$7:$A$24,0),MATCH($Q130,'Unit of measures'!$A$7:$R$7,0))","v":{"$error":"#N/A"}},{"$f":"$R130*INDEX('Unit of measures'!$A$7:$R$24,MATCH(U$4,'Unit of measures'!$A$7:$A$24,0),MATCH($Q130,'Unit of measures'!$A$7:$R$7,0))","v":{"$error":"#N/A"}},{"$f":"$R130*INDEX('Unit of measures'!$A$7:$R$24,MATCH(V$4,'Unit of measures'!$A$7:$A$24,0),MATCH($Q130,'Unit of measures'!$A$7:$R$7,0))","v":{"$error":"#N/A"}},{"$f":"$R130*INDEX('Unit of measures'!$A$7:$R$24,MATCH(W$4,'Unit of measures'!$A$7:$A$24,0),MATCH($Q130,'Unit of measures'!$A$7:$R$7,0))","v":{"$error":"#N/A"}},"Each"]
[null,null,null,null,"",null,null,{"$f":"$G131*INDEX('Unit of measures'!$A$7:$R$24,MATCH(H$4,'Unit of measures'!$A$7:$A$24,0),MATCH($F131,'Unit of measures'!$A$7:$R$7,0))","v":{"$error":"#N/A"}},{"$f":"$G131*INDEX('Unit of measures'!$A$7:$R$24,MATCH(I$4,'Unit of measures'!$A$7:$A$24,0),MATCH($F131,'Unit of measures'!$A$7:$R$7,0))","v":{"$error":"#N/A"}},{"$f":"$G131*INDEX('Unit of measures'!$A$7:$R$24,MATCH(J$4,'Unit of measures'!$A$7:$A$24,0),MATCH($F131,'Unit of measures'!$A$7:$R$7,0))","v":{"$error":"#N/A"}},{"$f":"$G131*INDEX('Unit of measures'!$A$7:$R$24,MATCH(K$4,'Unit of measures'!$A$7:$A$24,0),MATCH($F131,'Unit of measures'!$A$7:$R$7,0))","v":{"$error":"#N/A"}},{"$f":"$G131*INDEX('Unit of measures'!$A$7:$R$24,MATCH(L$4,'Unit of measures'!$A$7:$A$24,0),MATCH($F131,'Unit of measures'!$A$7:$R$7,0))","v":{"$error":"#N/A"}},{"$f":"$G131*INDEX('Unit of measures'!$A$7:$R$24,MATCH(M$4,'Unit of measures'!$A$7:$A$24,0),MATCH($F131,'Unit of measures'!$A$7:$R$7,0))","v":{"$error":"#N/A"}},{"$f":"$G131*INDEX('Unit of measures'!$A$7:$R$24,MATCH(N$4,'Unit of measures'!$A$7:$A$24,0),MATCH($F131,'Unit of measures'!$A$7:$R$7,0))","v":{"$error":"#N/A"}},{"$f":"$G131*INDEX('Unit of measures'!$A$7:$R$24,MATCH(O$4,'Unit of measures'!$A$7:$A$24,0),MATCH($F131,'Unit of measures'!$A$7:$R$7,0))","v":{"$error":"#N/A"}},{"$f":"$G131*INDEX('Unit of measures'!$A$7:$R$24,MATCH(P$4,'Unit of measures'!$A$7:$A$24,0),MATCH($F131,'Unit of measures'!$A$7:$R$7,0))","v":{"$error":"#N/A"}},null,null,{"$f":"$R131*INDEX('Unit of measures'!$A$7:$R$24,MATCH(S$4,'Unit of measures'!$A$7:$A$24,0),MATCH($Q131,'Unit of measures'!$A$7:$R$7,0))","v":{"$error":"#N/A"}},{"$f":"$R131*INDEX('Unit of measures'!$A$7:$R$24,MATCH(T$4,'Unit of measures'!$A$7:$A$24,0),MATCH($Q131,'Unit of measures'!$A$7:$R$7,0))","v":{"$error":"#N/A"}},{"$f":"$R131*INDEX('Unit of measures'!$A$7:$R$24,MATCH(U$4,'Unit of measures'!$A$7:$A$24,0),MATCH($Q131,'Unit of measures'!$A$7:$R$7,0))","v":{"$error":"#N/A"}},{"$f":"$R131*INDEX('Unit of measures'!$A$7:$R$24,MATCH(V$4,'Unit of measures'!$A$7:$A$24,0),MATCH($Q131,'Unit of measures'!$A$7:$R$7,0))","v":{"$error":"#N/A"}},{"$f":"$R131*INDEX('Unit of measures'!$A$7:$R$24,MATCH(W$4,'Unit of measures'!$A$7:$A$24,0),MATCH($Q131,'Unit of measures'!$A$7:$R$7,0))","v":{"$error":"#N/A"}},"Each"]
[null,null,null,null,"",null,null,{"$f":"$G132*INDEX('Unit of measures'!$A$7:$R$24,MATCH(H$4,'Unit of measures'!$A$7:$A$24,0),MATCH($F132,'Unit of measures'!$A$7:$R$7,0))","v":{"$error":"#N/A"}},{"$f":"$G132*INDEX('Unit of measures'!$A$7:$R$24,MATCH(I$4,'Unit of measures'!$A$7:$A$24,0),MATCH($F132,'Unit of measures'!$A$7:$R$7,0))","v":{"$error":"#N/A"}},{"$f":"$G132*INDEX('Unit of measures'!$A$7:$R$24,MATCH(J$4,'Unit of measures'!$A$7:$A$24,0),MATCH($F132,'Unit of measures'!$A$7:$R$7,0))","v":{"$error":"#N/A"}},{"$f":"$G132*INDEX('Unit of measures'!$A$7:$R$24,MATCH(K$4,'Unit of measures'!$A$7:$A$24,0),MATCH($F132,'Unit of measures'!$A$7:$R$7,0))","v":{"$error":"#N/A"}},{"$f":"$G132*INDEX('Unit of measures'!$A$7:$R$24,MATCH(L$4,'Unit of measures'!$A$7:$A$24,0),MATCH($F132,'Unit of measures'!$A$7:$R$7,0))","v":{"$error":"#N/A"}},{"$f":"$G132*INDEX('Unit of measures'!$A$7:$R$24,MATCH(M$4,'Unit of measures'!$A$7:$A$24,0),MATCH($F132,'Unit of measures'!$A$7:$R$7,0))","v":{"$error":"#N/A"}},{"$f":"$G132*INDEX('Unit of measures'!$A$7:$R$24,MATCH(N$4,'Unit of measures'!$A$7:$A$24,0),MATCH($F132,'Unit of measures'!$A$7:$R$7,0))","v":{"$error":"#N/A"}},{"$f":"$G132*INDEX('Unit of measures'!$A$7:$R$24,MATCH(O$4,'Unit of measures'!$A$7:$A$24,0),MATCH($F132,'Unit of measures'!$A$7:$R$7,0))","v":{"$error":"#N/A"}},{"$f":"$G132*INDEX('Unit of measures'!$A$7:$R$24,MATCH(P$4,'Unit of measures'!$A$7:$A$24,0),MATCH($F132,'Unit of measures'!$A$7:$R$7,0))","v":{"$error":"#N/A"}},null,null,{"$f":"$R132*INDEX('Unit of measures'!$A$7:$R$24,MATCH(S$4,'Unit of measures'!$A$7:$A$24,0),MATCH($Q132,'Unit of measures'!$A$7:$R$7,0))","v":{"$error":"#N/A"}},{"$f":"$R132*INDEX('Unit of measures'!$A$7:$R$24,MATCH(T$4,'Unit of measures'!$A$7:$A$24,0),MATCH($Q132,'Unit of measures'!$A$7:$R$7,0))","v":{"$error":"#N/A"}},{"$f":"$R132*INDEX('Unit of measures'!$A$7:$R$24,MATCH(U$4,'Unit of measures'!$A$7:$A$24,0),MATCH($Q132,'Unit of measures'!$A$7:$R$7,0))","v":{"$error":"#N/A"}},{"$f":"$R132*INDEX('Unit of measures'!$A$7:$R$24,MATCH(V$4,'Unit of measures'!$A$7:$A$24,0),MATCH($Q132,'Unit of measures'!$A$7:$R$7,0))","v":{"$error":"#N/A"}},{"$f":"$R132*INDEX('Unit of measures'!$A$7:$R$24,MATCH(W$4,'Unit of measures'!$A$7:$A$24,0),MATCH($Q132,'Unit of measures'!$A$7:$R$7,0))","v":{"$error":"#N/A"}},"Each"]
[null,null,null,null,{"$f":"IFERROR(D133/B133,\"\")","v":""},null,null,{"$f":"$G133*INDEX('Unit of measures'!$A$7:$R$24,MATCH(H$4,'Unit of measures'!$A$7:$A$24,0),MATCH($F133,'Unit of measures'!$A$7:$R$7,0))","v":{"$error":"#N/A"}},{"$f":"$G133*INDEX('Unit of measures'!$A$7:$R$24,MATCH(I$4,'Unit of measures'!$A$7:$A$24,0),MATCH($F133,'Unit of measures'!$A$7:$R$7,0))","v":{"$error":"#N/A"}},{"$f":"$G133*INDEX('Unit of measures'!$A$7:$R$24,MATCH(J$4,'Unit of measures'!$A$7:$A$24,0),MATCH($F133,'Unit of measures'!$A$7:$R$7,0))","v":{"$error":"#N/A"}},{"$f":"$G133*INDEX('Unit of measures'!$A$7:$R$24,MATCH(K$4,'Unit of measures'!$A$7:$A$24,0),MATCH($F133,'Unit of measures'!$A$7:$R$7,0))","v":{"$error":"#N/A"}},{"$f":"$G133*INDEX('Unit of measures'!$A$7:$R$24,MATCH(L$4,'Unit of measures'!$A$7:$A$24,0),MATCH($F133,'Unit of measures'!$A$7:$R$7,0))","v":{"$error":"#N/A"}},{"$f":"$G133*INDEX('Unit of measures'!$A$7:$R$24,MATCH(M$4,'Unit of measures'!$A$7:$A$24,0),MATCH($F133,'Unit of measures'!$A$7:$R$7,0))","v":{"$error":"#N/A"}},{"$f":"$G133*INDEX('Unit of measures'!$A$7:$R$24,MATCH(N$4,'Unit of measures'!$A$7:$A$24,0),MATCH($F133,'Unit of measures'!$A$7:$R$7,0))","v":{"$error":"#N/A"}},{"$f":"$G133*INDEX('Unit of measures'!$A$7:$R$24,MATCH(O$4,'Unit of measures'!$A$7:$A$24,0),MATCH($F133,'Unit of measures'!$A$7:$R$7,0))","v":{"$error":"#N/A"}},{"$f":"$G133*INDEX('Unit of measures'!$A$7:$R$24,MATCH(P$4,'Unit of measures'!$A$7:$A$24,0),MATCH($F133,'Unit of measures'!$A$7:$R$7,0))","v":{"$error":"#N/A"}},null,null,{"$f":"$R133*INDEX('Unit of measures'!$A$7:$R$24,MATCH(S$4,'Unit of measures'!$A$7:$A$24,0),MATCH($Q133,'Unit of measures'!$A$7:$R$7,0))","v":{"$error":"#N/A"}},{"$f":"$R133*INDEX('Unit of measures'!$A$7:$R$24,MATCH(T$4,'Unit of measures'!$A$7:$A$24,0),MATCH($Q133,'Unit of measures'!$A$7:$R$7,0))","v":{"$error":"#N/A"}},{"$f":"$R133*INDEX('Unit of measures'!$A$7:$R$24,MATCH(U$4,'Unit of measures'!$A$7:$A$24,0),MATCH($Q133,'Unit of measures'!$A$7:$R$7,0))","v":{"$error":"#N/A"}},{"$f":"$R133*INDEX('Unit of measures'!$A$7:$R$24,MATCH(V$4,'Unit of measures'!$A$7:$A$24,0),MATCH($Q133,'Unit of measures'!$A$7:$R$7,0))","v":{"$error":"#N/A"}},{"$f":"$R133*INDEX('Unit of measures'!$A$7:$R$24,MATCH(W$4,'Unit of measures'!$A$7:$A$24,0),MATCH($Q133,'Unit of measures'!$A$7:$R$7,0))","v":{"$error":"#N/A"}},"Each"]
[null,null,null,null,"",null,null,{"$f":"$G134*INDEX('Unit of measures'!$A$7:$R$24,MATCH(H$4,'Unit of measures'!$A$7:$A$24,0),MATCH($F134,'Unit of measures'!$A$7:$R$7,0))","v":{"$error":"#N/A"}},{"$f":"$G134*INDEX('Unit of measures'!$A$7:$R$24,MATCH(I$4,'Unit of measures'!$A$7:$A$24,0),MATCH($F134,'Unit of measures'!$A$7:$R$7,0))","v":{"$error":"#N/A"}},{"$f":"$G134*INDEX('Unit of measures'!$A$7:$R$24,MATCH(J$4,'Unit of measures'!$A$7:$A$24,0),MATCH($F134,'Unit of measures'!$A$7:$R$7,0))","v":{"$error":"#N/A"}},{"$f":"$G134*INDEX('Unit of measures'!$A$7:$R$24,MATCH(K$4,'Unit of measures'!$A$7:$A$24,0),MATCH($F134,'Unit of measures'!$A$7:$R$7,0))","v":{"$error":"#N/A"}},{"$f":"$G134*INDEX('Unit of measures'!$A$7:$R$24,MATCH(L$4,'Unit of measures'!$A$7:$A$24,0),MATCH($F134,'Unit of measures'!$A$7:$R$7,0))","v":{"$error":"#N/A"}},{"$f":"$G134*INDEX('Unit of measures'!$A$7:$R$24,MATCH(M$4,'Unit of measures'!$A$7:$A$24,0),MATCH($F134,'Unit of measures'!$A$7:$R$7,0))","v":{"$error":"#N/A"}},{"$f":"$G134*INDEX('Unit of measures'!$A$7:$R$24,MATCH(N$4,'Unit of measures'!$A$7:$A$24,0),MATCH($F134,'Unit of measures'!$A$7:$R$7,0))","v":{"$error":"#N/A"}},{"$f":"$G134*INDEX('Unit of measures'!$A$7:$R$24,MATCH(O$4,'Unit of measures'!$A$7:$A$24,0),MATCH($F134,'Unit of measures'!$A$7:$R$7,0))","v":{"$error":"#N/A"}},{"$f":"$G134*INDEX('Unit of measures'!$A$7:$R$24,MATCH(P$4,'Unit of measures'!$A$7:$A$24,0),MATCH($F134,'Unit of measures'!$A$7:$R$7,0))","v":{"$error":"#N/A"}},null,null,{"$f":"$R134*INDEX('Unit of measures'!$A$7:$R$24,MATCH(S$4,'Unit of measures'!$A$7:$A$24,0),MATCH($Q134,'Unit of measures'!$A$7:$R$7,0))","v":{"$error":"#N/A"}},{"$f":"$R134*INDEX('Unit of measures'!$A$7:$R$24,MATCH(T$4,'Unit of measures'!$A$7:$A$24,0),MATCH($Q134,'Unit of measures'!$A$7:$R$7,0))","v":{"$error":"#N/A"}},{"$f":"$R134*INDEX('Unit of measures'!$A$7:$R$24,MATCH(U$4,'Unit of measures'!$A$7:$A$24,0),MATCH($Q134,'Unit of measures'!$A$7:$R$7,0))","v":{"$error":"#N/A"}},{"$f":"$R134*INDEX('Unit of measures'!$A$7:$R$24,MATCH(V$4,'Unit of measures'!$A$7:$A$24,0),MATCH($Q134,'Unit of measures'!$A$7:$R$7,0))","v":{"$error":"#N/A"}},{"$f":"$R134*INDEX('Unit of measures'!$A$7:$R$24,MATCH(W$4,'Unit of measures'!$A$7:$A$24,0),MATCH($Q134,'Unit of measures'!$A$7:$R$7,0))","v":{"$error":"#N/A"}},"Each"]
[null,null,null,null,"",null,null,{"$f":"$G135*INDEX('Unit of measures'!$A$7:$R$24,MATCH(H$4,'Unit of measures'!$A$7:$A$24,0),MATCH($F135,'Unit of measures'!$A$7:$R$7,0))","v":{"$error":"#N/A"}},{"$f":"$G135*INDEX('Unit of measures'!$A$7:$R$24,MATCH(I$4,'Unit of measures'!$A$7:$A$24,0),MATCH($F135,'Unit of measures'!$A$7:$R$7,0))","v":{"$error":"#N/A"}},{"$f":"$G135*INDEX('Unit of measures'!$A$7:$R$24,MATCH(J$4,'Unit of measures'!$A$7:$A$24,0),MATCH($F135,'Unit of measures'!$A$7:$R$7,0))","v":{"$error":"#N/A"}},{"$f":"$G135*INDEX('Unit of measures'!$A$7:$R$24,MATCH(K$4,'Unit of measures'!$A$7:$A$24,0),MATCH($F135,'Unit of measures'!$A$7:$R$7,0))","v":{"$error":"#N/A"}},{"$f":"$G135*INDEX('Unit of measures'!$A$7:$R$24,MATCH(L$4,'Unit of measures'!$A$7:$A$24,0),MATCH($F135,'Unit of measures'!$A$7:$R$7,0))","v":{"$error":"#N/A"}},{"$f":"$G135*INDEX('Unit of measures'!$A$7:$R$24,MATCH(M$4,'Unit of measures'!$A$7:$A$24,0),MATCH($F135,'Unit of measures'!$A$7:$R$7,0))","v":{"$error":"#N/A"}},{"$f":"$G135*INDEX('Unit of measures'!$A$7:$R$24,MATCH(N$4,'Unit of measures'!$A$7:$A$24,0),MATCH($F135,'Unit of measures'!$A$7:$R$7,0))","v":{"$error":"#N/A"}},{"$f":"$G135*INDEX('Unit of measures'!$A$7:$R$24,MATCH(O$4,'Unit of measures'!$A$7:$A$24,0),MATCH($F135,'Unit of measures'!$A$7:$R$7,0))","v":{"$error":"#N/A"}},{"$f":"$G135*INDEX('Unit of measures'!$A$7:$R$24,MATCH(P$4,'Unit of measures'!$A$7:$A$24,0),MATCH($F135,'Unit of measures'!$A$7:$R$7,0))","v":{"$error":"#N/A"}},null,null,{"$f":"$R135*INDEX('Unit of measures'!$A$7:$R$24,MATCH(S$4,'Unit of measures'!$A$7:$A$24,0),MATCH($Q135,'Unit of measures'!$A$7:$R$7,0))","v":{"$error":"#N/A"}},{"$f":"$R135*INDEX('Unit of measures'!$A$7:$R$24,MATCH(T$4,'Unit of measures'!$A$7:$A$24,0),MATCH($Q135,'Unit of measures'!$A$7:$R$7,0))","v":{"$error":"#N/A"}},{"$f":"$R135*INDEX('Unit of measures'!$A$7:$R$24,MATCH(U$4,'Unit of measures'!$A$7:$A$24,0),MATCH($Q135,'Unit of measures'!$A$7:$R$7,0))","v":{"$error":"#N/A"}},{"$f":"$R135*INDEX('Unit of measures'!$A$7:$R$24,MATCH(V$4,'Unit of measures'!$A$7:$A$24,0),MATCH($Q135,'Unit of measures'!$A$7:$R$7,0))","v":{"$error":"#N/A"}},{"$f":"$R135*INDEX('Unit of measures'!$A$7:$R$24,MATCH(W$4,'Unit of measures'!$A$7:$A$24,0),MATCH($Q135,'Unit of measures'!$A$7:$R$7,0))","v":{"$error":"#N/A"}},"Each"]
[null,null,null,null,"",null,null,{"$f":"$G136*INDEX('Unit of measures'!$A$7:$R$24,MATCH(H$4,'Unit of measures'!$A$7:$A$24,0),MATCH($F136,'Unit of measures'!$A$7:$R$7,0))","v":{"$error":"#N/A"}},{"$f":"$G136*INDEX('Unit of measures'!$A$7:$R$24,MATCH(I$4,'Unit of measures'!$A$7:$A$24,0),MATCH($F136,'Unit of measures'!$A$7:$R$7,0))","v":{"$error":"#N/A"}},{"$f":"$G136*INDEX('Unit of measures'!$A$7:$R$24,MATCH(J$4,'Unit of measures'!$A$7:$A$24,0),MATCH($F136,'Unit of measures'!$A$7:$R$7,0))","v":{"$error":"#N/A"}},{"$f":"$G136*INDEX('Unit of measures'!$A$7:$R$24,MATCH(K$4,'Unit of measures'!$A$7:$A$24,0),MATCH($F136,'Unit of measures'!$A$7:$R$7,0))","v":{"$error":"#N/A"}},{"$f":"$G136*INDEX('Unit of measures'!$A$7:$R$24,MATCH(L$4,'Unit of measures'!$A$7:$A$24,0),MATCH($F136,'Unit of measures'!$A$7:$R$7,0))","v":{"$error":"#N/A"}},{"$f":"$G136*INDEX('Unit of measures'!$A$7:$R$24,MATCH(M$4,'Unit of measures'!$A$7:$A$24,0),MATCH($F136,'Unit of measures'!$A$7:$R$7,0))","v":{"$error":"#N/A"}},{"$f":"$G136*INDEX('Unit of measures'!$A$7:$R$24,MATCH(N$4,'Unit of measures'!$A$7:$A$24,0),MATCH($F136,'Unit of measures'!$A$7:$R$7,0))","v":{"$error":"#N/A"}},{"$f":"$G136*INDEX('Unit of measures'!$A$7:$R$24,MATCH(O$4,'Unit of measures'!$A$7:$A$24,0),MATCH($F136,'Unit of measures'!$A$7:$R$7,0))","v":{"$error":"#N/A"}},{"$f":"$G136*INDEX('Unit of measures'!$A$7:$R$24,MATCH(P$4,'Unit of measures'!$A$7:$A$24,0),MATCH($F136,'Unit of measures'!$A$7:$R$7,0))","v":{"$error":"#N/A"}},null,null,{"$f":"$R136*INDEX('Unit of measures'!$A$7:$R$24,MATCH(S$4,'Unit of measures'!$A$7:$A$24,0),MATCH($Q136,'Unit of measures'!$A$7:$R$7,0))","v":{"$error":"#N/A"}},{"$f":"$R136*INDEX('Unit of measures'!$A$7:$R$24,MATCH(T$4,'Unit of measures'!$A$7:$A$24,0),MATCH($Q136,'Unit of measures'!$A$7:$R$7,0))","v":{"$error":"#N/A"}},{"$f":"$R136*INDEX('Unit of measures'!$A$7:$R$24,MATCH(U$4,'Unit of measures'!$A$7:$A$24,0),MATCH($Q136,'Unit of measures'!$A$7:$R$7,0))","v":{"$error":"#N/A"}},{"$f":"$R136*INDEX('Unit of measures'!$A$7:$R$24,MATCH(V$4,'Unit of measures'!$A$7:$A$24,0),MATCH($Q136,'Unit of measures'!$A$7:$R$7,0))","v":{"$error":"#N/A"}},{"$f":"$R136*INDEX('Unit of measures'!$A$7:$R$24,MATCH(W$4,'Unit of measures'!$A$7:$A$24,0),MATCH($Q136,'Unit of measures'!$A$7:$R$7,0))","v":{"$error":"#N/A"}},"Each"]
[null,null,null,null,"",null,null,{"$f":"$G137*INDEX('Unit of measures'!$A$7:$R$24,MATCH(H$4,'Unit of measures'!$A$7:$A$24,0),MATCH($F137,'Unit of measures'!$A$7:$R$7,0))","v":{"$error":"#N/A"}},{"$f":"$G137*INDEX('Unit of measures'!$A$7:$R$24,MATCH(I$4,'Unit of measures'!$A$7:$A$24,0),MATCH($F137,'Unit of measures'!$A$7:$R$7,0))","v":{"$error":"#N/A"}},{"$f":"$G137*INDEX('Unit of measures'!$A$7:$R$24,MATCH(J$4,'Unit of measures'!$A$7:$A$24,0),MATCH($F137,'Unit of measures'!$A$7:$R$7,0))","v":{"$error":"#N/A"}},{"$f":"$G137*INDEX('Unit of measures'!$A$7:$R$24,MATCH(K$4,'Unit of measures'!$A$7:$A$24,0),MATCH($F137,'Unit of measures'!$A$7:$R$7,0))","v":{"$error":"#N/A"}},{"$f":"$G137*INDEX('Unit of measures'!$A$7:$R$24,MATCH(L$4,'Unit of measures'!$A$7:$A$24,0),MATCH($F137,'Unit of measures'!$A$7:$R$7,0))","v":{"$error":"#N/A"}},{"$f":"$G137*INDEX('Unit of measures'!$A$7:$R$24,MATCH(M$4,'Unit of measures'!$A$7:$A$24,0),MATCH($F137,'Unit of measures'!$A$7:$R$7,0))","v":{"$error":"#N/A"}},{"$f":"$G137*INDEX('Unit of measures'!$A$7:$R$24,MATCH(N$4,'Unit of measures'!$A$7:$A$24,0),MATCH($F137,'Unit of measures'!$A$7:$R$7,0))","v":{"$error":"#N/A"}},{"$f":"$G137*INDEX('Unit of measures'!$A$7:$R$24,MATCH(O$4,'Unit of measures'!$A$7:$A$24,0),MATCH($F137,'Unit of measures'!$A$7:$R$7,0))","v":{"$error":"#N/A"}},{"$f":"$G137*INDEX('Unit of measures'!$A$7:$R$24,MATCH(P$4,'Unit of measures'!$A$7:$A$24,0),MATCH($F137,'Unit of measures'!$A$7:$R$7,0))","v":{"$error":"#N/A"}},null,null,{"$f":"$R137*INDEX('Unit of measures'!$A$7:$R$24,MATCH(S$4,'Unit of measures'!$A$7:$A$24,0),MATCH($Q137,'Unit of measures'!$A$7:$R$7,0))","v":{"$error":"#N/A"}},{"$f":"$R137*INDEX('Unit of measures'!$A$7:$R$24,MATCH(T$4,'Unit of measures'!$A$7:$A$24,0),MATCH($Q137,'Unit of measures'!$A$7:$R$7,0))","v":{"$error":"#N/A"}},{"$f":"$R137*INDEX('Unit of measures'!$A$7:$R$24,MATCH(U$4,'Unit of measures'!$A$7:$A$24,0),MATCH($Q137,'Unit of measures'!$A$7:$R$7,0))","v":{"$error":"#N/A"}},{"$f":"$R137*INDEX('Unit of measures'!$A$7:$R$24,MATCH(V$4,'Unit of measures'!$A$7:$A$24,0),MATCH($Q137,'Unit of measures'!$A$7:$R$7,0))","v":{"$error":"#N/A"}},{"$f":"$R137*INDEX('Unit of measures'!$A$7:$R$24,MATCH(W$4,'Unit of measures'!$A$7:$A$24,0),MATCH($Q137,'Unit of measures'!$A$7:$R$7,0))","v":{"$error":"#N/A"}},"Each"]
[null,null,null,null,"",null,null,{"$f":"$G138*INDEX('Unit of measures'!$A$7:$R$24,MATCH(H$4,'Unit of measures'!$A$7:$A$24,0),MATCH($F138,'Unit of measures'!$A$7:$R$7,0))","v":{"$error":"#N/A"}},{"$f":"$G138*INDEX('Unit of measures'!$A$7:$R$24,MATCH(I$4,'Unit of measures'!$A$7:$A$24,0),MATCH($F138,'Unit of measures'!$A$7:$R$7,0))","v":{"$error":"#N/A"}},{"$f":"$G138*INDEX('Unit of measures'!$A$7:$R$24,MATCH(J$4,'Unit of measures'!$A$7:$A$24,0),MATCH($F138,'Unit of measures'!$A$7:$R$7,0))","v":{"$error":"#N/A"}},{"$f":"$G138*INDEX('Unit of measures'!$A$7:$R$24,MATCH(K$4,'Unit of measures'!$A$7:$A$24,0),MATCH($F138,'Unit of measures'!$A$7:$R$7,0))","v":{"$error":"#N/A"}},{"$f":"$G138*INDEX('Unit of measures'!$A$7:$R$24,MATCH(L$4,'Unit of measures'!$A$7:$A$24,0),MATCH($F138,'Unit of measures'!$A$7:$R$7,0))","v":{"$error":"#N/A"}},{"$f":"$G138*INDEX('Unit of measures'!$A$7:$R$24,MATCH(M$4,'Unit of measures'!$A$7:$A$24,0),MATCH($F138,'Unit of measures'!$A$7:$R$7,0))","v":{"$error":"#N/A"}},{"$f":"$G138*INDEX('Unit of measures'!$A$7:$R$24,MATCH(N$4,'Unit of measures'!$A$7:$A$24,0),MATCH($F138,'Unit of measures'!$A$7:$R$7,0))","v":{"$error":"#N/A"}},{"$f":"$G138*INDEX('Unit of measures'!$A$7:$R$24,MATCH(O$4,'Unit of measures'!$A$7:$A$24,0),MATCH($F138,'Unit of measures'!$A$7:$R$7,0))","v":{"$error":"#N/A"}},{"$f":"$G138*INDEX('Unit of measures'!$A$7:$R$24,MATCH(P$4,'Unit of measures'!$A$7:$A$24,0),MATCH($F138,'Unit of measures'!$A$7:$R$7,0))","v":{"$error":"#N/A"}},null,null,{"$f":"$R138*INDEX('Unit of measures'!$A$7:$R$24,MATCH(S$4,'Unit of measures'!$A$7:$A$24,0),MATCH($Q138,'Unit of measures'!$A$7:$R$7,0))","v":{"$error":"#N/A"}},{"$f":"$R138*INDEX('Unit of measures'!$A$7:$R$24,MATCH(T$4,'Unit of measures'!$A$7:$A$24,0),MATCH($Q138,'Unit of measures'!$A$7:$R$7,0))","v":{"$error":"#N/A"}},{"$f":"$R138*INDEX('Unit of measures'!$A$7:$R$24,MATCH(U$4,'Unit of measures'!$A$7:$A$24,0),MATCH($Q138,'Unit of measures'!$A$7:$R$7,0))","v":{"$error":"#N/A"}},{"$f":"$R138*INDEX('Unit of measures'!$A$7:$R$24,MATCH(V$4,'Unit of measures'!$A$7:$A$24,0),MATCH($Q138,'Unit of measures'!$A$7:$R$7,0))","v":{"$error":"#N/A"}},{"$f":"$R138*INDEX('Unit of measures'!$A$7:$R$24,MATCH(W$4,'Unit of measures'!$A$7:$A$24,0),MATCH($Q138,'Unit of measures'!$A$7:$R$7,0))","v":{"$error":"#N/A"}},"Each"]
[null,null,null,null,"",null,null,{"$f":"$G139*INDEX('Unit of measures'!$A$7:$R$24,MATCH(H$4,'Unit of measures'!$A$7:$A$24,0),MATCH($F139,'Unit of measures'!$A$7:$R$7,0))","v":{"$error":"#N/A"}},{"$f":"$G139*INDEX('Unit of measures'!$A$7:$R$24,MATCH(I$4,'Unit of measures'!$A$7:$A$24,0),MATCH($F139,'Unit of measures'!$A$7:$R$7,0))","v":{"$error":"#N/A"}},{"$f":"$G139*INDEX('Unit of measures'!$A$7:$R$24,MATCH(J$4,'Unit of measures'!$A$7:$A$24,0),MATCH($F139,'Unit of measures'!$A$7:$R$7,0))","v":{"$error":"#N/A"}},{"$f":"$G139*INDEX('Unit of measures'!$A$7:$R$24,MATCH(K$4,'Unit of measures'!$A$7:$A$24,0),MATCH($F139,'Unit of measures'!$A$7:$R$7,0))","v":{"$error":"#N/A"}},{"$f":"$G139*INDEX('Unit of measures'!$A$7:$R$24,MATCH(L$4,'Unit of measures'!$A$7:$A$24,0),MATCH($F139,'Unit of measures'!$A$7:$R$7,0))","v":{"$error":"#N/A"}},{"$f":"$G139*INDEX('Unit of measures'!$A$7:$R$24,MATCH(M$4,'Unit of measures'!$A$7:$A$24,0),MATCH($F139,'Unit of measures'!$A$7:$R$7,0))","v":{"$error":"#N/A"}},{"$f":"$G139*INDEX('Unit of measures'!$A$7:$R$24,MATCH(N$4,'Unit of measures'!$A$7:$A$24,0),MATCH($F139,'Unit of measures'!$A$7:$R$7,0))","v":{"$error":"#N/A"}},{"$f":"$G139*INDEX('Unit of measures'!$A$7:$R$24,MATCH(O$4,'Unit of measures'!$A$7:$A$24,0),MATCH($F139,'Unit of measures'!$A$7:$R$7,0))","v":{"$error":"#N/A"}},{"$f":"$G139*INDEX('Unit of measures'!$A$7:$R$24,MATCH(P$4,'Unit of measures'!$A$7:$A$24,0),MATCH($F139,'Unit of measures'!$A$7:$R$7,0))","v":{"$error":"#N/A"}},null,null,{"$f":"$R139*INDEX('Unit of measures'!$A$7:$R$24,MATCH(S$4,'Unit of measures'!$A$7:$A$24,0),MATCH($Q139,'Unit of measures'!$A$7:$R$7,0))","v":{"$error":"#N/A"}},{"$f":"$R139*INDEX('Unit of measures'!$A$7:$R$24,MATCH(T$4,'Unit of measures'!$A$7:$A$24,0),MATCH($Q139,'Unit of measures'!$A$7:$R$7,0))","v":{"$error":"#N/A"}},{"$f":"$R139*INDEX('Unit of measures'!$A$7:$R$24,MATCH(U$4,'Unit of measures'!$A$7:$A$24,0),MATCH($Q139,'Unit of measures'!$A$7:$R$7,0))","v":{"$error":"#N/A"}},{"$f":"$R139*INDEX('Unit of measures'!$A$7:$R$24,MATCH(V$4,'Unit of measures'!$A$7:$A$24,0),MATCH($Q139,'Unit of measures'!$A$7:$R$7,0))","v":{"$error":"#N/A"}},{"$f":"$R139*INDEX('Unit of measures'!$A$7:$R$24,MATCH(W$4,'Unit of measures'!$A$7:$A$24,0),MATCH($Q139,'Unit of measures'!$A$7:$R$7,0))","v":{"$error":"#N/A"}},"Each"]
[null,null,null,null,"",null,null,{"$f":"$G140*INDEX('Unit of measures'!$A$7:$R$24,MATCH(H$4,'Unit of measures'!$A$7:$A$24,0),MATCH($F140,'Unit of measures'!$A$7:$R$7,0))","v":{"$error":"#N/A"}},{"$f":"$G140*INDEX('Unit of measures'!$A$7:$R$24,MATCH(I$4,'Unit of measures'!$A$7:$A$24,0),MATCH($F140,'Unit of measures'!$A$7:$R$7,0))","v":{"$error":"#N/A"}},{"$f":"$G140*INDEX('Unit of measures'!$A$7:$R$24,MATCH(J$4,'Unit of measures'!$A$7:$A$24,0),MATCH($F140,'Unit of measures'!$A$7:$R$7,0))","v":{"$error":"#N/A"}},{"$f":"$G140*INDEX('Unit of measures'!$A$7:$R$24,MATCH(K$4,'Unit of measures'!$A$7:$A$24,0),MATCH($F140,'Unit of measures'!$A$7:$R$7,0))","v":{"$error":"#N/A"}},{"$f":"$G140*INDEX('Unit of measures'!$A$7:$R$24,MATCH(L$4,'Unit of measures'!$A$7:$A$24,0),MATCH($F140,'Unit of measures'!$A$7:$R$7,0))","v":{"$error":"#N/A"}},{"$f":"$G140*INDEX('Unit of measures'!$A$7:$R$24,MATCH(M$4,'Unit of measures'!$A$7:$A$24,0),MATCH($F140,'Unit of measures'!$A$7:$R$7,0))","v":{"$error":"#N/A"}},{"$f":"$G140*INDEX('Unit of measures'!$A$7:$R$24,MATCH(N$4,'Unit of measures'!$A$7:$A$24,0),MATCH($F140,'Unit of measures'!$A$7:$R$7,0))","v":{"$error":"#N/A"}},{"$f":"$G140*INDEX('Unit of measures'!$A$7:$R$24,MATCH(O$4,'Unit of measures'!$A$7:$A$24,0),MATCH($F140,'Unit of measures'!$A$7:$R$7,0))","v":{"$error":"#N/A"}},{"$f":"$G140*INDEX('Unit of measures'!$A$7:$R$24,MATCH(P$4,'Unit of measures'!$A$7:$A$24,0),MATCH($F140,'Unit of measures'!$A$7:$R$7,0))","v":{"$error":"#N/A"}},null,null,{"$f":"$R140*INDEX('Unit of measures'!$A$7:$R$24,MATCH(S$4,'Unit of measures'!$A$7:$A$24,0),MATCH($Q140,'Unit of measures'!$A$7:$R$7,0))","v":{"$error":"#N/A"}},{"$f":"$R140*INDEX('Unit of measures'!$A$7:$R$24,MATCH(T$4,'Unit of measures'!$A$7:$A$24,0),MATCH($Q140,'Unit of measures'!$A$7:$R$7,0))","v":{"$error":"#N/A"}},{"$f":"$R140*INDEX('Unit of measures'!$A$7:$R$24,MATCH(U$4,'Unit of measures'!$A$7:$A$24,0),MATCH($Q140,'Unit of measures'!$A$7:$R$7,0))","v":{"$error":"#N/A"}},{"$f":"$R140*INDEX('Unit of measures'!$A$7:$R$24,MATCH(V$4,'Unit of measures'!$A$7:$A$24,0),MATCH($Q140,'Unit of measures'!$A$7:$R$7,0))","v":{"$error":"#N/A"}},{"$f":"$R140*INDEX('Unit of measures'!$A$7:$R$24,MATCH(W$4,'Unit of measures'!$A$7:$A$24,0),MATCH($Q140,'Unit of measures'!$A$7:$R$7,0))","v":{"$error":"#N/A"}},"Each"]
[null,null,null,null,"",null,null,{"$f":"$G141*INDEX('Unit of measures'!$A$7:$R$24,MATCH(H$4,'Unit of measures'!$A$7:$A$24,0),MATCH($F141,'Unit of measures'!$A$7:$R$7,0))","v":{"$error":"#N/A"}},{"$f":"$G141*INDEX('Unit of measures'!$A$7:$R$24,MATCH(I$4,'Unit of measures'!$A$7:$A$24,0),MATCH($F141,'Unit of measures'!$A$7:$R$7,0))","v":{"$error":"#N/A"}},{"$f":"$G141*INDEX('Unit of measures'!$A$7:$R$24,MATCH(J$4,'Unit of measures'!$A$7:$A$24,0),MATCH($F141,'Unit of measures'!$A$7:$R$7,0))","v":{"$error":"#N/A"}},{"$f":"$G141*INDEX('Unit of measures'!$A$7:$R$24,MATCH(K$4,'Unit of measures'!$A$7:$A$24,0),MATCH($F141,'Unit of measures'!$A$7:$R$7,0))","v":{"$error":"#N/A"}},{"$f":"$G141*INDEX('Unit of measures'!$A$7:$R$24,MATCH(L$4,'Unit of measures'!$A$7:$A$24,0),MATCH($F141,'Unit of measures'!$A$7:$R$7,0))","v":{"$error":"#N/A"}},{"$f":"$G141*INDEX('Unit of measures'!$A$7:$R$24,MATCH(M$4,'Unit of measures'!$A$7:$A$24,0),MATCH($F141,'Unit of measures'!$A$7:$R$7,0))","v":{"$error":"#N/A"}},{"$f":"$G141*INDEX('Unit of measures'!$A$7:$R$24,MATCH(N$4,'Unit of measures'!$A$7:$A$24,0),MATCH($F141,'Unit of measures'!$A$7:$R$7,0))","v":{"$error":"#N/A"}},{"$f":"$G141*INDEX('Unit of measures'!$A$7:$R$24,MATCH(O$4,'Unit of measures'!$A$7:$A$24,0),MATCH($F141,'Unit of measures'!$A$7:$R$7,0))","v":{"$error":"#N/A"}},{"$f":"$G141*INDEX('Unit of measures'!$A$7:$R$24,MATCH(P$4,'Unit of measures'!$A$7:$A$24,0),MATCH($F141,'Unit of measures'!$A$7:$R$7,0))","v":{"$error":"#N/A"}},null,null,{"$f":"$R141*INDEX('Unit of measures'!$A$7:$R$24,MATCH(S$4,'Unit of measures'!$A$7:$A$24,0),MATCH($Q141,'Unit of measures'!$A$7:$R$7,0))","v":{"$error":"#N/A"}},{"$f":"$R141*INDEX('Unit of measures'!$A$7:$R$24,MATCH(T$4,'Unit of measures'!$A$7:$A$24,0),MATCH($Q141,'Unit of measures'!$A$7:$R$7,0))","v":{"$error":"#N/A"}},{"$f":"$R141*INDEX('Unit of measures'!$A$7:$R$24,MATCH(U$4,'Unit of measures'!$A$7:$A$24,0),MATCH($Q141,'Unit of measures'!$A$7:$R$7,0))","v":{"$error":"#N/A"}},{"$f":"$R141*INDEX('Unit of measures'!$A$7:$R$24,MATCH(V$4,'Unit of measures'!$A$7:$A$24,0),MATCH($Q141,'Unit of measures'!$A$7:$R$7,0))","v":{"$error":"#N/A"}},{"$f":"$R141*INDEX('Unit of measures'!$A$7:$R$24,MATCH(W$4,'Unit of measures'!$A$7:$A$24,0),MATCH($Q141,'Unit of measures'!$A$7:$R$7,0))","v":{"$error":"#N/A"}},"Each"]
[null,null,null,null,"",null,null,{"$f":"$G142*INDEX('Unit of measures'!$A$7:$R$24,MATCH(H$4,'Unit of measures'!$A$7:$A$24,0),MATCH($F142,'Unit of measures'!$A$7:$R$7,0))","v":{"$error":"#N/A"}},{"$f":"$G142*INDEX('Unit of measures'!$A$7:$R$24,MATCH(I$4,'Unit of measures'!$A$7:$A$24,0),MATCH($F142,'Unit of measures'!$A$7:$R$7,0))","v":{"$error":"#N/A"}},{"$f":"$G142*INDEX('Unit of measures'!$A$7:$R$24,MATCH(J$4,'Unit of measures'!$A$7:$A$24,0),MATCH($F142,'Unit of measures'!$A$7:$R$7,0))","v":{"$error":"#N/A"}},{"$f":"$G142*INDEX('Unit of measures'!$A$7:$R$24,MATCH(K$4,'Unit of measures'!$A$7:$A$24,0),MATCH($F142,'Unit of measures'!$A$7:$R$7,0))","v":{"$error":"#N/A"}},{"$f":"$G142*INDEX('Unit of measures'!$A$7:$R$24,MATCH(L$4,'Unit of measures'!$A$7:$A$24,0),MATCH($F142,'Unit of measures'!$A$7:$R$7,0))","v":{"$error":"#N/A"}},{"$f":"$G142*INDEX('Unit of measures'!$A$7:$R$24,MATCH(M$4,'Unit of measures'!$A$7:$A$24,0),MATCH($F142,'Unit of measures'!$A$7:$R$7,0))","v":{"$error":"#N/A"}},{"$f":"$G142*INDEX('Unit of measures'!$A$7:$R$24,MATCH(N$4,'Unit of measures'!$A$7:$A$24,0),MATCH($F142,'Unit of measures'!$A$7:$R$7,0))","v":{"$error":"#N/A"}},{"$f":"$G142*INDEX('Unit of measures'!$A$7:$R$24,MATCH(O$4,'Unit of measures'!$A$7:$A$24,0),MATCH($F142,'Unit of measures'!$A$7:$R$7,0))","v":{"$error":"#N/A"}},{"$f":"$G142*INDEX('Unit of measures'!$A$7:$R$24,MATCH(P$4,'Unit of measures'!$A$7:$A$24,0),MATCH($F142,'Unit of measures'!$A$7:$R$7,0))","v":{"$error":"#N/A"}},null,null,{"$f":"$R142*INDEX('Unit of measures'!$A$7:$R$24,MATCH(S$4,'Unit of measures'!$A$7:$A$24,0),MATCH($Q142,'Unit of measures'!$A$7:$R$7,0))","v":{"$error":"#N/A"}},{"$f":"$R142*INDEX('Unit of measures'!$A$7:$R$24,MATCH(T$4,'Unit of measures'!$A$7:$A$24,0),MATCH($Q142,'Unit of measures'!$A$7:$R$7,0))","v":{"$error":"#N/A"}},{"$f":"$R142*INDEX('Unit of measures'!$A$7:$R$24,MATCH(U$4,'Unit of measures'!$A$7:$A$24,0),MATCH($Q142,'Unit of measures'!$A$7:$R$7,0))","v":{"$error":"#N/A"}},{"$f":"$R142*INDEX('Unit of measures'!$A$7:$R$24,MATCH(V$4,'Unit of measures'!$A$7:$A$24,0),MATCH($Q142,'Unit of measures'!$A$7:$R$7,0))","v":{"$error":"#N/A"}},{"$f":"$R142*INDEX('Unit of measures'!$A$7:$R$24,MATCH(W$4,'Unit of measures'!$A$7:$A$24,0),MATCH($Q142,'Unit of measures'!$A$7:$R$7,0))","v":{"$error":"#N/A"}},"Each"]
[null,null,null,null,"",null,null,{"$f":"$G143*INDEX('Unit of measures'!$A$7:$R$24,MATCH(H$4,'Unit of measures'!$A$7:$A$24,0),MATCH($F143,'Unit of measures'!$A$7:$R$7,0))","v":{"$error":"#N/A"}},{"$f":"$G143*INDEX('Unit of measures'!$A$7:$R$24,MATCH(I$4,'Unit of measures'!$A$7:$A$24,0),MATCH($F143,'Unit of measures'!$A$7:$R$7,0))","v":{"$error":"#N/A"}},{"$f":"$G143*INDEX('Unit of measures'!$A$7:$R$24,MATCH(J$4,'Unit of measures'!$A$7:$A$24,0),MATCH($F143,'Unit of measures'!$A$7:$R$7,0))","v":{"$error":"#N/A"}},{"$f":"$G143*INDEX('Unit of measures'!$A$7:$R$24,MATCH(K$4,'Unit of measures'!$A$7:$A$24,0),MATCH($F143,'Unit of measures'!$A$7:$R$7,0))","v":{"$error":"#N/A"}},{"$f":"$G143*INDEX('Unit of measures'!$A$7:$R$24,MATCH(L$4,'Unit of measures'!$A$7:$A$24,0),MATCH($F143,'Unit of measures'!$A$7:$R$7,0))","v":{"$error":"#N/A"}},{"$f":"$G143*INDEX('Unit of measures'!$A$7:$R$24,MATCH(M$4,'Unit of measures'!$A$7:$A$24,0),MATCH($F143,'Unit of measures'!$A$7:$R$7,0))","v":{"$error":"#N/A"}},{"$f":"$G143*INDEX('Unit of measures'!$A$7:$R$24,MATCH(N$4,'Unit of measures'!$A$7:$A$24,0),MATCH($F143,'Unit of measures'!$A$7:$R$7,0))","v":{"$error":"#N/A"}},{"$f":"$G143*INDEX('Unit of measures'!$A$7:$R$24,MATCH(O$4,'Unit of measures'!$A$7:$A$24,0),MATCH($F143,'Unit of measures'!$A$7:$R$7,0))","v":{"$error":"#N/A"}},{"$f":"$G143*INDEX('Unit of measures'!$A$7:$R$24,MATCH(P$4,'Unit of measures'!$A$7:$A$24,0),MATCH($F143,'Unit of measures'!$A$7:$R$7,0))","v":{"$error":"#N/A"}},null,null,{"$f":"$R143*INDEX('Unit of measures'!$A$7:$R$24,MATCH(S$4,'Unit of measures'!$A$7:$A$24,0),MATCH($Q143,'Unit of measures'!$A$7:$R$7,0))","v":{"$error":"#N/A"}},{"$f":"$R143*INDEX('Unit of measures'!$A$7:$R$24,MATCH(T$4,'Unit of measures'!$A$7:$A$24,0),MATCH($Q143,'Unit of measures'!$A$7:$R$7,0))","v":{"$error":"#N/A"}},{"$f":"$R143*INDEX('Unit of measures'!$A$7:$R$24,MATCH(U$4,'Unit of measures'!$A$7:$A$24,0),MATCH($Q143,'Unit of measures'!$A$7:$R$7,0))","v":{"$error":"#N/A"}},{"$f":"$R143*INDEX('Unit of measures'!$A$7:$R$24,MATCH(V$4,'Unit of measures'!$A$7:$A$24,0),MATCH($Q143,'Unit of measures'!$A$7:$R$7,0))","v":{"$error":"#N/A"}},{"$f":"$R143*INDEX('Unit of measures'!$A$7:$R$24,MATCH(W$4,'Unit of measures'!$A$7:$A$24,0),MATCH($Q143,'Unit of measures'!$A$7:$R$7,0))","v":{"$error":"#N/A"}},"Each"]
[null,null,null,null,"",null,null,{"$f":"$G144*INDEX('Unit of measures'!$A$7:$R$24,MATCH(H$4,'Unit of measures'!$A$7:$A$24,0),MATCH($F144,'Unit of measures'!$A$7:$R$7,0))","v":{"$error":"#N/A"}},{"$f":"$G144*INDEX('Unit of measures'!$A$7:$R$24,MATCH(I$4,'Unit of measures'!$A$7:$A$24,0),MATCH($F144,'Unit of measures'!$A$7:$R$7,0))","v":{"$error":"#N/A"}},{"$f":"$G144*INDEX('Unit of measures'!$A$7:$R$24,MATCH(J$4,'Unit of measures'!$A$7:$A$24,0),MATCH($F144,'Unit of measures'!$A$7:$R$7,0))","v":{"$error":"#N/A"}},{"$f":"$G144*INDEX('Unit of measures'!$A$7:$R$24,MATCH(K$4,'Unit of measures'!$A$7:$A$24,0),MATCH($F144,'Unit of measures'!$A$7:$R$7,0))","v":{"$error":"#N/A"}},{"$f":"$G144*INDEX('Unit of measures'!$A$7:$R$24,MATCH(L$4,'Unit of measures'!$A$7:$A$24,0),MATCH($F144,'Unit of measures'!$A$7:$R$7,0))","v":{"$error":"#N/A"}},{"$f":"$G144*INDEX('Unit of measures'!$A$7:$R$24,MATCH(M$4,'Unit of measures'!$A$7:$A$24,0),MATCH($F144,'Unit of measures'!$A$7:$R$7,0))","v":{"$error":"#N/A"}},{"$f":"$G144*INDEX('Unit of measures'!$A$7:$R$24,MATCH(N$4,'Unit of measures'!$A$7:$A$24,0),MATCH($F144,'Unit of measures'!$A$7:$R$7,0))","v":{"$error":"#N/A"}},{"$f":"$G144*INDEX('Unit of measures'!$A$7:$R$24,MATCH(O$4,'Unit of measures'!$A$7:$A$24,0),MATCH($F144,'Unit of measures'!$A$7:$R$7,0))","v":{"$error":"#N/A"}},{"$f":"$G144*INDEX('Unit of measures'!$A$7:$R$24,MATCH(P$4,'Unit of measures'!$A$7:$A$24,0),MATCH($F144,'Unit of measures'!$A$7:$R$7,0))","v":{"$error":"#N/A"}},null,null,{"$f":"$R144*INDEX('Unit of measures'!$A$7:$R$24,MATCH(S$4,'Unit of measures'!$A$7:$A$24,0),MATCH($Q144,'Unit of measures'!$A$7:$R$7,0))","v":{"$error":"#N/A"}},{"$f":"$R144*INDEX('Unit of measures'!$A$7:$R$24,MATCH(T$4,'Unit of measures'!$A$7:$A$24,0),MATCH($Q144,'Unit of measures'!$A$7:$R$7,0))","v":{"$error":"#N/A"}},{"$f":"$R144*INDEX('Unit of measures'!$A$7:$R$24,MATCH(U$4,'Unit of measures'!$A$7:$A$24,0),MATCH($Q144,'Unit of measures'!$A$7:$R$7,0))","v":{"$error":"#N/A"}},{"$f":"$R144*INDEX('Unit of measures'!$A$7:$R$24,MATCH(V$4,'Unit of measures'!$A$7:$A$24,0),MATCH($Q144,'Unit of measures'!$A$7:$R$7,0))","v":{"$error":"#N/A"}},{"$f":"$R144*INDEX('Unit of measures'!$A$7:$R$24,MATCH(W$4,'Unit of measures'!$A$7:$A$24,0),MATCH($Q144,'Unit of measures'!$A$7:$R$7,0))","v":{"$error":"#N/A"}},"Each"]
[null,null,null,null,"",null,null,{"$f":"$G145*INDEX('Unit of measures'!$A$7:$R$24,MATCH(H$4,'Unit of measures'!$A$7:$A$24,0),MATCH($F145,'Unit of measures'!$A$7:$R$7,0))","v":{"$error":"#N/A"}},{"$f":"$G145*INDEX('Unit of measures'!$A$7:$R$24,MATCH(I$4,'Unit of measures'!$A$7:$A$24,0),MATCH($F145,'Unit of measures'!$A$7:$R$7,0))","v":{"$error":"#N/A"}},{"$f":"$G145*INDEX('Unit of measures'!$A$7:$R$24,MATCH(J$4,'Unit of measures'!$A$7:$A$24,0),MATCH($F145,'Unit of measures'!$A$7:$R$7,0))","v":{"$error":"#N/A"}},{"$f":"$G145*INDEX('Unit of measures'!$A$7:$R$24,MATCH(K$4,'Unit of measures'!$A$7:$A$24,0),MATCH($F145,'Unit of measures'!$A$7:$R$7,0))","v":{"$error":"#N/A"}},{"$f":"$G145*INDEX('Unit of measures'!$A$7:$R$24,MATCH(L$4,'Unit of measures'!$A$7:$A$24,0),MATCH($F145,'Unit of measures'!$A$7:$R$7,0))","v":{"$error":"#N/A"}},{"$f":"$G145*INDEX('Unit of measures'!$A$7:$R$24,MATCH(M$4,'Unit of measures'!$A$7:$A$24,0),MATCH($F145,'Unit of measures'!$A$7:$R$7,0))","v":{"$error":"#N/A"}},{"$f":"$G145*INDEX('Unit of measures'!$A$7:$R$24,MATCH(N$4,'Unit of measures'!$A$7:$A$24,0),MATCH($F145,'Unit of measures'!$A$7:$R$7,0))","v":{"$error":"#N/A"}},{"$f":"$G145*INDEX('Unit of measures'!$A$7:$R$24,MATCH(O$4,'Unit of measures'!$A$7:$A$24,0),MATCH($F145,'Unit of measures'!$A$7:$R$7,0))","v":{"$error":"#N/A"}},{"$f":"$G145*INDEX('Unit of measures'!$A$7:$R$24,MATCH(P$4,'Unit of measures'!$A$7:$A$24,0),MATCH($F145,'Unit of measures'!$A$7:$R$7,0))","v":{"$error":"#N/A"}},null,null,{"$f":"$R145*INDEX('Unit of measures'!$A$7:$R$24,MATCH(S$4,'Unit of measures'!$A$7:$A$24,0),MATCH($Q145,'Unit of measures'!$A$7:$R$7,0))","v":{"$error":"#N/A"}},{"$f":"$R145*INDEX('Unit of measures'!$A$7:$R$24,MATCH(T$4,'Unit of measures'!$A$7:$A$24,0),MATCH($Q145,'Unit of measures'!$A$7:$R$7,0))","v":{"$error":"#N/A"}},{"$f":"$R145*INDEX('Unit of measures'!$A$7:$R$24,MATCH(U$4,'Unit of measures'!$A$7:$A$24,0),MATCH($Q145,'Unit of measures'!$A$7:$R$7,0))","v":{"$error":"#N/A"}},{"$f":"$R145*INDEX('Unit of measures'!$A$7:$R$24,MATCH(V$4,'Unit of measures'!$A$7:$A$24,0),MATCH($Q145,'Unit of measures'!$A$7:$R$7,0))","v":{"$error":"#N/A"}},{"$f":"$R145*INDEX('Unit of measures'!$A$7:$R$24,MATCH(W$4,'Unit of measures'!$A$7:$A$24,0),MATCH($Q145,'Unit of measures'!$A$7:$R$7,0))","v":{"$error":"#N/A"}},"Each"]
[null,null,null,null,"",null,null,{"$f":"$G146*INDEX('Unit of measures'!$A$7:$R$24,MATCH(H$4,'Unit of measures'!$A$7:$A$24,0),MATCH($F146,'Unit of measures'!$A$7:$R$7,0))","v":{"$error":"#N/A"}},{"$f":"$G146*INDEX('Unit of measures'!$A$7:$R$24,MATCH(I$4,'Unit of measures'!$A$7:$A$24,0),MATCH($F146,'Unit of measures'!$A$7:$R$7,0))","v":{"$error":"#N/A"}},{"$f":"$G146*INDEX('Unit of measures'!$A$7:$R$24,MATCH(J$4,'Unit of measures'!$A$7:$A$24,0),MATCH($F146,'Unit of measures'!$A$7:$R$7,0))","v":{"$error":"#N/A"}},{"$f":"$G146*INDEX('Unit of measures'!$A$7:$R$24,MATCH(K$4,'Unit of measures'!$A$7:$A$24,0),MATCH($F146,'Unit of measures'!$A$7:$R$7,0))","v":{"$error":"#N/A"}},{"$f":"$G146*INDEX('Unit of measures'!$A$7:$R$24,MATCH(L$4,'Unit of measures'!$A$7:$A$24,0),MATCH($F146,'Unit of measures'!$A$7:$R$7,0))","v":{"$error":"#N/A"}},{"$f":"$G146*INDEX('Unit of measures'!$A$7:$R$24,MATCH(M$4,'Unit of measures'!$A$7:$A$24,0),MATCH($F146,'Unit of measures'!$A$7:$R$7,0))","v":{"$error":"#N/A"}},{"$f":"$G146*INDEX('Unit of measures'!$A$7:$R$24,MATCH(N$4,'Unit of measures'!$A$7:$A$24,0),MATCH($F146,'Unit of measures'!$A$7:$R$7,0))","v":{"$error":"#N/A"}},{"$f":"$G146*INDEX('Unit of measures'!$A$7:$R$24,MATCH(O$4,'Unit of measures'!$A$7:$A$24,0),MATCH($F146,'Unit of measures'!$A$7:$R$7,0))","v":{"$error":"#N/A"}},{"$f":"$G146*INDEX('Unit of measures'!$A$7:$R$24,MATCH(P$4,'Unit of measures'!$A$7:$A$24,0),MATCH($F146,'Unit of measures'!$A$7:$R$7,0))","v":{"$error":"#N/A"}},null,null,{"$f":"$R146*INDEX('Unit of measures'!$A$7:$R$24,MATCH(S$4,'Unit of measures'!$A$7:$A$24,0),MATCH($Q146,'Unit of measures'!$A$7:$R$7,0))","v":{"$error":"#N/A"}},{"$f":"$R146*INDEX('Unit of measures'!$A$7:$R$24,MATCH(T$4,'Unit of measures'!$A$7:$A$24,0),MATCH($Q146,'Unit of measures'!$A$7:$R$7,0))","v":{"$error":"#N/A"}},{"$f":"$R146*INDEX('Unit of measures'!$A$7:$R$24,MATCH(U$4,'Unit of measures'!$A$7:$A$24,0),MATCH($Q146,'Unit of measures'!$A$7:$R$7,0))","v":{"$error":"#N/A"}},{"$f":"$R146*INDEX('Unit of measures'!$A$7:$R$24,MATCH(V$4,'Unit of measures'!$A$7:$A$24,0),MATCH($Q146,'Unit of measures'!$A$7:$R$7,0))","v":{"$error":"#N/A"}},{"$f":"$R146*INDEX('Unit of measures'!$A$7:$R$24,MATCH(W$4,'Unit of measures'!$A$7:$A$24,0),MATCH($Q146,'Unit of measures'!$A$7:$R$7,0))","v":{"$error":"#N/A"}},"Each"]
[null,null,null,null,"",null,null,{"$f":"$G147*INDEX('Unit of measures'!$A$7:$R$24,MATCH(H$4,'Unit of measures'!$A$7:$A$24,0),MATCH($F147,'Unit of measures'!$A$7:$R$7,0))","v":{"$error":"#N/A"}},{"$f":"$G147*INDEX('Unit of measures'!$A$7:$R$24,MATCH(I$4,'Unit of measures'!$A$7:$A$24,0),MATCH($F147,'Unit of measures'!$A$7:$R$7,0))","v":{"$error":"#N/A"}},{"$f":"$G147*INDEX('Unit of measures'!$A$7:$R$24,MATCH(J$4,'Unit of measures'!$A$7:$A$24,0),MATCH($F147,'Unit of measures'!$A$7:$R$7,0))","v":{"$error":"#N/A"}},{"$f":"$G147*INDEX('Unit of measures'!$A$7:$R$24,MATCH(K$4,'Unit of measures'!$A$7:$A$24,0),MATCH($F147,'Unit of measures'!$A$7:$R$7,0))","v":{"$error":"#N/A"}},{"$f":"$G147*INDEX('Unit of measures'!$A$7:$R$24,MATCH(L$4,'Unit of measures'!$A$7:$A$24,0),MATCH($F147,'Unit of measures'!$A$7:$R$7,0))","v":{"$error":"#N/A"}},{"$f":"$G147*INDEX('Unit of measures'!$A$7:$R$24,MATCH(M$4,'Unit of measures'!$A$7:$A$24,0),MATCH($F147,'Unit of measures'!$A$7:$R$7,0))","v":{"$error":"#N/A"}},{"$f":"$G147*INDEX('Unit of measures'!$A$7:$R$24,MATCH(N$4,'Unit of measures'!$A$7:$A$24,0),MATCH($F147,'Unit of measures'!$A$7:$R$7,0))","v":{"$error":"#N/A"}},{"$f":"$G147*INDEX('Unit of measures'!$A$7:$R$24,MATCH(O$4,'Unit of measures'!$A$7:$A$24,0),MATCH($F147,'Unit of measures'!$A$7:$R$7,0))","v":{"$error":"#N/A"}},{"$f":"$G147*INDEX('Unit of measures'!$A$7:$R$24,MATCH(P$4,'Unit of measures'!$A$7:$A$24,0),MATCH($F147,'Unit of measures'!$A$7:$R$7,0))","v":{"$error":"#N/A"}},null,null,{"$f":"$R147*INDEX('Unit of measures'!$A$7:$R$24,MATCH(S$4,'Unit of measures'!$A$7:$A$24,0),MATCH($Q147,'Unit of measures'!$A$7:$R$7,0))","v":{"$error":"#N/A"}},{"$f":"$R147*INDEX('Unit of measures'!$A$7:$R$24,MATCH(T$4,'Unit of measures'!$A$7:$A$24,0),MATCH($Q147,'Unit of measures'!$A$7:$R$7,0))","v":{"$error":"#N/A"}},{"$f":"$R147*INDEX('Unit of measures'!$A$7:$R$24,MATCH(U$4,'Unit of measures'!$A$7:$A$24,0),MATCH($Q147,'Unit of measures'!$A$7:$R$7,0))","v":{"$error":"#N/A"}},{"$f":"$R147*INDEX('Unit of measures'!$A$7:$R$24,MATCH(V$4,'Unit of measures'!$A$7:$A$24,0),MATCH($Q147,'Unit of measures'!$A$7:$R$7,0))","v":{"$error":"#N/A"}},{"$f":"$R147*INDEX('Unit of measures'!$A$7:$R$24,MATCH(W$4,'Unit of measures'!$A$7:$A$24,0),MATCH($Q147,'Unit of measures'!$A$7:$R$7,0))","v":{"$error":"#N/A"}},"Each"]
[null,null,null,null,"",null,null,{"$f":"$G148*INDEX('Unit of measures'!$A$7:$R$24,MATCH(H$4,'Unit of measures'!$A$7:$A$24,0),MATCH($F148,'Unit of measures'!$A$7:$R$7,0))","v":{"$error":"#N/A"}},{"$f":"$G148*INDEX('Unit of measures'!$A$7:$R$24,MATCH(I$4,'Unit of measures'!$A$7:$A$24,0),MATCH($F148,'Unit of measures'!$A$7:$R$7,0))","v":{"$error":"#N/A"}},{"$f":"$G148*INDEX('Unit of measures'!$A$7:$R$24,MATCH(J$4,'Unit of measures'!$A$7:$A$24,0),MATCH($F148,'Unit of measures'!$A$7:$R$7,0))","v":{"$error":"#N/A"}},{"$f":"$G148*INDEX('Unit of measures'!$A$7:$R$24,MATCH(K$4,'Unit of measures'!$A$7:$A$24,0),MATCH($F148,'Unit of measures'!$A$7:$R$7,0))","v":{"$error":"#N/A"}},{"$f":"$G148*INDEX('Unit of measures'!$A$7:$R$24,MATCH(L$4,'Unit of measures'!$A$7:$A$24,0),MATCH($F148,'Unit of measures'!$A$7:$R$7,0))","v":{"$error":"#N/A"}},{"$f":"$G148*INDEX('Unit of measures'!$A$7:$R$24,MATCH(M$4,'Unit of measures'!$A$7:$A$24,0),MATCH($F148,'Unit of measures'!$A$7:$R$7,0))","v":{"$error":"#N/A"}},{"$f":"$G148*INDEX('Unit of measures'!$A$7:$R$24,MATCH(N$4,'Unit of measures'!$A$7:$A$24,0),MATCH($F148,'Unit of measures'!$A$7:$R$7,0))","v":{"$error":"#N/A"}},{"$f":"$G148*INDEX('Unit of measures'!$A$7:$R$24,MATCH(O$4,'Unit of measures'!$A$7:$A$24,0),MATCH($F148,'Unit of measures'!$A$7:$R$7,0))","v":{"$error":"#N/A"}},{"$f":"$G148*INDEX('Unit of measures'!$A$7:$R$24,MATCH(P$4,'Unit of measures'!$A$7:$A$24,0),MATCH($F148,'Unit of measures'!$A$7:$R$7,0))","v":{"$error":"#N/A"}},null,null,{"$f":"$R148*INDEX('Unit of measures'!$A$7:$R$24,MATCH(S$4,'Unit of measures'!$A$7:$A$24,0),MATCH($Q148,'Unit of measures'!$A$7:$R$7,0))","v":{"$error":"#N/A"}},{"$f":"$R148*INDEX('Unit of measures'!$A$7:$R$24,MATCH(T$4,'Unit of measures'!$A$7:$A$24,0),MATCH($Q148,'Unit of measures'!$A$7:$R$7,0))","v":{"$error":"#N/A"}},{"$f":"$R148*INDEX('Unit of measures'!$A$7:$R$24,MATCH(U$4,'Unit of measures'!$A$7:$A$24,0),MATCH($Q148,'Unit of measures'!$A$7:$R$7,0))","v":{"$error":"#N/A"}},{"$f":"$R148*INDEX('Unit of measures'!$A$7:$R$24,MATCH(V$4,'Unit of measures'!$A$7:$A$24,0),MATCH($Q148,'Unit of measures'!$A$7:$R$7,0))","v":{"$error":"#N/A"}},{"$f":"$R148*INDEX('Unit of measures'!$A$7:$R$24,MATCH(W$4,'Unit of measures'!$A$7:$A$24,0),MATCH($Q148,'Unit of measures'!$A$7:$R$7,0))","v":{"$error":"#N/A"}},"Each"]
[null,null,null,null,"",null,null,{"$f":"$G149*INDEX('Unit of measures'!$A$7:$R$24,MATCH(H$4,'Unit of measures'!$A$7:$A$24,0),MATCH($F149,'Unit of measures'!$A$7:$R$7,0))","v":{"$error":"#N/A"}},{"$f":"$G149*INDEX('Unit of measures'!$A$7:$R$24,MATCH(I$4,'Unit of measures'!$A$7:$A$24,0),MATCH($F149,'Unit of measures'!$A$7:$R$7,0))","v":{"$error":"#N/A"}},{"$f":"$G149*INDEX('Unit of measures'!$A$7:$R$24,MATCH(J$4,'Unit of measures'!$A$7:$A$24,0),MATCH($F149,'Unit of measures'!$A$7:$R$7,0))","v":{"$error":"#N/A"}},{"$f":"$G149*INDEX('Unit of measures'!$A$7:$R$24,MATCH(K$4,'Unit of measures'!$A$7:$A$24,0),MATCH($F149,'Unit of measures'!$A$7:$R$7,0))","v":{"$error":"#N/A"}},{"$f":"$G149*INDEX('Unit of measures'!$A$7:$R$24,MATCH(L$4,'Unit of measures'!$A$7:$A$24,0),MATCH($F149,'Unit of measures'!$A$7:$R$7,0))","v":{"$error":"#N/A"}},{"$f":"$G149*INDEX('Unit of measures'!$A$7:$R$24,MATCH(M$4,'Unit of measures'!$A$7:$A$24,0),MATCH($F149,'Unit of measures'!$A$7:$R$7,0))","v":{"$error":"#N/A"}},{"$f":"$G149*INDEX('Unit of measures'!$A$7:$R$24,MATCH(N$4,'Unit of measures'!$A$7:$A$24,0),MATCH($F149,'Unit of measures'!$A$7:$R$7,0))","v":{"$error":"#N/A"}},{"$f":"$G149*INDEX('Unit of measures'!$A$7:$R$24,MATCH(O$4,'Unit of measures'!$A$7:$A$24,0),MATCH($F149,'Unit of measures'!$A$7:$R$7,0))","v":{"$error":"#N/A"}},{"$f":"$G149*INDEX('Unit of measures'!$A$7:$R$24,MATCH(P$4,'Unit of measures'!$A$7:$A$24,0),MATCH($F149,'Unit of measures'!$A$7:$R$7,0))","v":{"$error":"#N/A"}},null,null,{"$f":"$R149*INDEX('Unit of measures'!$A$7:$R$24,MATCH(S$4,'Unit of measures'!$A$7:$A$24,0),MATCH($Q149,'Unit of measures'!$A$7:$R$7,0))","v":{"$error":"#N/A"}},{"$f":"$R149*INDEX('Unit of measures'!$A$7:$R$24,MATCH(T$4,'Unit of measures'!$A$7:$A$24,0),MATCH($Q149,'Unit of measures'!$A$7:$R$7,0))","v":{"$error":"#N/A"}},{"$f":"$R149*INDEX('Unit of measures'!$A$7:$R$24,MATCH(U$4,'Unit of measures'!$A$7:$A$24,0),MATCH($Q149,'Unit of measures'!$A$7:$R$7,0))","v":{"$error":"#N/A"}},{"$f":"$R149*INDEX('Unit of measures'!$A$7:$R$24,MATCH(V$4,'Unit of measures'!$A$7:$A$24,0),MATCH($Q149,'Unit of measures'!$A$7:$R$7,0))","v":{"$error":"#N/A"}},{"$f":"$R149*INDEX('Unit of measures'!$A$7:$R$24,MATCH(W$4,'Unit of measures'!$A$7:$A$24,0),MATCH($Q149,'Unit of measures'!$A$7:$R$7,0))","v":{"$error":"#N/A"}},"Each"]
[null,null,null,null,"",null,null,{"$f":"$G150*INDEX('Unit of measures'!$A$7:$R$24,MATCH(H$4,'Unit of measures'!$A$7:$A$24,0),MATCH($F150,'Unit of measures'!$A$7:$R$7,0))","v":{"$error":"#N/A"}},{"$f":"$G150*INDEX('Unit of measures'!$A$7:$R$24,MATCH(I$4,'Unit of measures'!$A$7:$A$24,0),MATCH($F150,'Unit of measures'!$A$7:$R$7,0))","v":{"$error":"#N/A"}},{"$f":"$G150*INDEX('Unit of measures'!$A$7:$R$24,MATCH(J$4,'Unit of measures'!$A$7:$A$24,0),MATCH($F150,'Unit of measures'!$A$7:$R$7,0))","v":{"$error":"#N/A"}},{"$f":"$G150*INDEX('Unit of measures'!$A$7:$R$24,MATCH(K$4,'Unit of measures'!$A$7:$A$24,0),MATCH($F150,'Unit of measures'!$A$7:$R$7,0))","v":{"$error":"#N/A"}},{"$f":"$G150*INDEX('Unit of measures'!$A$7:$R$24,MATCH(L$4,'Unit of measures'!$A$7:$A$24,0),MATCH($F150,'Unit of measures'!$A$7:$R$7,0))","v":{"$error":"#N/A"}},{"$f":"$G150*INDEX('Unit of measures'!$A$7:$R$24,MATCH(M$4,'Unit of measures'!$A$7:$A$24,0),MATCH($F150,'Unit of measures'!$A$7:$R$7,0))","v":{"$error":"#N/A"}},{"$f":"$G150*INDEX('Unit of measures'!$A$7:$R$24,MATCH(N$4,'Unit of measures'!$A$7:$A$24,0),MATCH($F150,'Unit of measures'!$A$7:$R$7,0))","v":{"$error":"#N/A"}},{"$f":"$G150*INDEX('Unit of measures'!$A$7:$R$24,MATCH(O$4,'Unit of measures'!$A$7:$A$24,0),MATCH($F150,'Unit of measures'!$A$7:$R$7,0))","v":{"$error":"#N/A"}},{"$f":"$G150*INDEX('Unit of measures'!$A$7:$R$24,MATCH(P$4,'Unit of measures'!$A$7:$A$24,0),MATCH($F150,'Unit of measures'!$A$7:$R$7,0))","v":{"$error":"#N/A"}},null,null,{"$f":"$R150*INDEX('Unit of measures'!$A$7:$R$24,MATCH(S$4,'Unit of measures'!$A$7:$A$24,0),MATCH($Q150,'Unit of measures'!$A$7:$R$7,0))","v":{"$error":"#N/A"}},{"$f":"$R150*INDEX('Unit of measures'!$A$7:$R$24,MATCH(T$4,'Unit of measures'!$A$7:$A$24,0),MATCH($Q150,'Unit of measures'!$A$7:$R$7,0))","v":{"$error":"#N/A"}},{"$f":"$R150*INDEX('Unit of measures'!$A$7:$R$24,MATCH(U$4,'Unit of measures'!$A$7:$A$24,0),MATCH($Q150,'Unit of measures'!$A$7:$R$7,0))","v":{"$error":"#N/A"}},{"$f":"$R150*INDEX('Unit of measures'!$A$7:$R$24,MATCH(V$4,'Unit of measures'!$A$7:$A$24,0),MATCH($Q150,'Unit of measures'!$A$7:$R$7,0))","v":{"$error":"#N/A"}},{"$f":"$R150*INDEX('Unit of measures'!$A$7:$R$24,MATCH(W$4,'Unit of measures'!$A$7:$A$24,0),MATCH($Q150,'Unit of measures'!$A$7:$R$7,0))","v":{"$error":"#N/A"}},"Each"]
[null,null,null,null,"",null,null,{"$f":"$G151*INDEX('Unit of measures'!$A$7:$R$24,MATCH(H$4,'Unit of measures'!$A$7:$A$24,0),MATCH($F151,'Unit of measures'!$A$7:$R$7,0))","v":{"$error":"#N/A"}},{"$f":"$G151*INDEX('Unit of measures'!$A$7:$R$24,MATCH(I$4,'Unit of measures'!$A$7:$A$24,0),MATCH($F151,'Unit of measures'!$A$7:$R$7,0))","v":{"$error":"#N/A"}},{"$f":"$G151*INDEX('Unit of measures'!$A$7:$R$24,MATCH(J$4,'Unit of measures'!$A$7:$A$24,0),MATCH($F151,'Unit of measures'!$A$7:$R$7,0))","v":{"$error":"#N/A"}},{"$f":"$G151*INDEX('Unit of measures'!$A$7:$R$24,MATCH(K$4,'Unit of measures'!$A$7:$A$24,0),MATCH($F151,'Unit of measures'!$A$7:$R$7,0))","v":{"$error":"#N/A"}},{"$f":"$G151*INDEX('Unit of measures'!$A$7:$R$24,MATCH(L$4,'Unit of measures'!$A$7:$A$24,0),MATCH($F151,'Unit of measures'!$A$7:$R$7,0))","v":{"$error":"#N/A"}},{"$f":"$G151*INDEX('Unit of measures'!$A$7:$R$24,MATCH(M$4,'Unit of measures'!$A$7:$A$24,0),MATCH($F151,'Unit of measures'!$A$7:$R$7,0))","v":{"$error":"#N/A"}},{"$f":"$G151*INDEX('Unit of measures'!$A$7:$R$24,MATCH(N$4,'Unit of measures'!$A$7:$A$24,0),MATCH($F151,'Unit of measures'!$A$7:$R$7,0))","v":{"$error":"#N/A"}},{"$f":"$G151*INDEX('Unit of measures'!$A$7:$R$24,MATCH(O$4,'Unit of measures'!$A$7:$A$24,0),MATCH($F151,'Unit of measures'!$A$7:$R$7,0))","v":{"$error":"#N/A"}},{"$f":"$G151*INDEX('Unit of measures'!$A$7:$R$24,MATCH(P$4,'Unit of measures'!$A$7:$A$24,0),MATCH($F151,'Unit of measures'!$A$7:$R$7,0))","v":{"$error":"#N/A"}},null,null,{"$f":"$R151*INDEX('Unit of measures'!$A$7:$R$24,MATCH(S$4,'Unit of measures'!$A$7:$A$24,0),MATCH($Q151,'Unit of measures'!$A$7:$R$7,0))","v":{"$error":"#N/A"}},{"$f":"$R151*INDEX('Unit of measures'!$A$7:$R$24,MATCH(T$4,'Unit of measures'!$A$7:$A$24,0),MATCH($Q151,'Unit of measures'!$A$7:$R$7,0))","v":{"$error":"#N/A"}},{"$f":"$R151*INDEX('Unit of measures'!$A$7:$R$24,MATCH(U$4,'Unit of measures'!$A$7:$A$24,0),MATCH($Q151,'Unit of measures'!$A$7:$R$7,0))","v":{"$error":"#N/A"}},{"$f":"$R151*INDEX('Unit of measures'!$A$7:$R$24,MATCH(V$4,'Unit of measures'!$A$7:$A$24,0),MATCH($Q151,'Unit of measures'!$A$7:$R$7,0))","v":{"$error":"#N/A"}},{"$f":"$R151*INDEX('Unit of measures'!$A$7:$R$24,MATCH(W$4,'Unit of measures'!$A$7:$A$24,0),MATCH($Q151,'Unit of measures'!$A$7:$R$7,0))","v":{"$error":"#N/A"}},"Each"]
[null,null,null,null,"",null,null,{"$f":"$G152*INDEX('Unit of measures'!$A$7:$R$24,MATCH(H$4,'Unit of measures'!$A$7:$A$24,0),MATCH($F152,'Unit of measures'!$A$7:$R$7,0))","v":{"$error":"#N/A"}},{"$f":"$G152*INDEX('Unit of measures'!$A$7:$R$24,MATCH(I$4,'Unit of measures'!$A$7:$A$24,0),MATCH($F152,'Unit of measures'!$A$7:$R$7,0))","v":{"$error":"#N/A"}},{"$f":"$G152*INDEX('Unit of measures'!$A$7:$R$24,MATCH(J$4,'Unit of measures'!$A$7:$A$24,0),MATCH($F152,'Unit of measures'!$A$7:$R$7,0))","v":{"$error":"#N/A"}},{"$f":"$G152*INDEX('Unit of measures'!$A$7:$R$24,MATCH(K$4,'Unit of measures'!$A$7:$A$24,0),MATCH($F152,'Unit of measures'!$A$7:$R$7,0))","v":{"$error":"#N/A"}},{"$f":"$G152*INDEX('Unit of measures'!$A$7:$R$24,MATCH(L$4,'Unit of measures'!$A$7:$A$24,0),MATCH($F152,'Unit of measures'!$A$7:$R$7,0))","v":{"$error":"#N/A"}},{"$f":"$G152*INDEX('Unit of measures'!$A$7:$R$24,MATCH(M$4,'Unit of measures'!$A$7:$A$24,0),MATCH($F152,'Unit of measures'!$A$7:$R$7,0))","v":{"$error":"#N/A"}},{"$f":"$G152*INDEX('Unit of measures'!$A$7:$R$24,MATCH(N$4,'Unit of measures'!$A$7:$A$24,0),MATCH($F152,'Unit of measures'!$A$7:$R$7,0))","v":{"$error":"#N/A"}},{"$f":"$G152*INDEX('Unit of measures'!$A$7:$R$24,MATCH(O$4,'Unit of measures'!$A$7:$A$24,0),MATCH($F152,'Unit of measures'!$A$7:$R$7,0))","v":{"$error":"#N/A"}},{"$f":"$G152*INDEX('Unit of measures'!$A$7:$R$24,MATCH(P$4,'Unit of measures'!$A$7:$A$24,0),MATCH($F152,'Unit of measures'!$A$7:$R$7,0))","v":{"$error":"#N/A"}},null,null,{"$f":"$R152*INDEX('Unit of measures'!$A$7:$R$24,MATCH(S$4,'Unit of measures'!$A$7:$A$24,0),MATCH($Q152,'Unit of measures'!$A$7:$R$7,0))","v":{"$error":"#N/A"}},{"$f":"$R152*INDEX('Unit of measures'!$A$7:$R$24,MATCH(T$4,'Unit of measures'!$A$7:$A$24,0),MATCH($Q152,'Unit of measures'!$A$7:$R$7,0))","v":{"$error":"#N/A"}},{"$f":"$R152*INDEX('Unit of measures'!$A$7:$R$24,MATCH(U$4,'Unit of measures'!$A$7:$A$24,0),MATCH($Q152,'Unit of measures'!$A$7:$R$7,0))","v":{"$error":"#N/A"}},{"$f":"$R152*INDEX('Unit of measures'!$A$7:$R$24,MATCH(V$4,'Unit of measures'!$A$7:$A$24,0),MATCH($Q152,'Unit of measures'!$A$7:$R$7,0))","v":{"$error":"#N/A"}},{"$f":"$R152*INDEX('Unit of measures'!$A$7:$R$24,MATCH(W$4,'Unit of measures'!$A$7:$A$24,0),MATCH($Q152,'Unit of measures'!$A$7:$R$7,0))","v":{"$error":"#N/A"}},"Each"]
[null,null,null,null,"",null,null,{"$f":"$G153*INDEX('Unit of measures'!$A$7:$R$24,MATCH(H$4,'Unit of measures'!$A$7:$A$24,0),MATCH($F153,'Unit of measures'!$A$7:$R$7,0))","v":{"$error":"#N/A"}},{"$f":"$G153*INDEX('Unit of measures'!$A$7:$R$24,MATCH(I$4,'Unit of measures'!$A$7:$A$24,0),MATCH($F153,'Unit of measures'!$A$7:$R$7,0))","v":{"$error":"#N/A"}},{"$f":"$G153*INDEX('Unit of measures'!$A$7:$R$24,MATCH(J$4,'Unit of measures'!$A$7:$A$24,0),MATCH($F153,'Unit of measures'!$A$7:$R$7,0))","v":{"$error":"#N/A"}},{"$f":"$G153*INDEX('Unit of measures'!$A$7:$R$24,MATCH(K$4,'Unit of measures'!$A$7:$A$24,0),MATCH($F153,'Unit of measures'!$A$7:$R$7,0))","v":{"$error":"#N/A"}},{"$f":"$G153*INDEX('Unit of measures'!$A$7:$R$24,MATCH(L$4,'Unit of measures'!$A$7:$A$24,0),MATCH($F153,'Unit of measures'!$A$7:$R$7,0))","v":{"$error":"#N/A"}},{"$f":"$G153*INDEX('Unit of measures'!$A$7:$R$24,MATCH(M$4,'Unit of measures'!$A$7:$A$24,0),MATCH($F153,'Unit of measures'!$A$7:$R$7,0))","v":{"$error":"#N/A"}},{"$f":"$G153*INDEX('Unit of measures'!$A$7:$R$24,MATCH(N$4,'Unit of measures'!$A$7:$A$24,0),MATCH($F153,'Unit of measures'!$A$7:$R$7,0))","v":{"$error":"#N/A"}},{"$f":"$G153*INDEX('Unit of measures'!$A$7:$R$24,MATCH(O$4,'Unit of measures'!$A$7:$A$24,0),MATCH($F153,'Unit of measures'!$A$7:$R$7,0))","v":{"$error":"#N/A"}},{"$f":"$G153*INDEX('Unit of measures'!$A$7:$R$24,MATCH(P$4,'Unit of measures'!$A$7:$A$24,0),MATCH($F153,'Unit of measures'!$A$7:$R$7,0))","v":{"$error":"#N/A"}},null,null,{"$f":"$R153*INDEX('Unit of measures'!$A$7:$R$24,MATCH(S$4,'Unit of measures'!$A$7:$A$24,0),MATCH($Q153,'Unit of measures'!$A$7:$R$7,0))","v":{"$error":"#N/A"}},{"$f":"$R153*INDEX('Unit of measures'!$A$7:$R$24,MATCH(T$4,'Unit of measures'!$A$7:$A$24,0),MATCH($Q153,'Unit of measures'!$A$7:$R$7,0))","v":{"$error":"#N/A"}},{"$f":"$R153*INDEX('Unit of measures'!$A$7:$R$24,MATCH(U$4,'Unit of measures'!$A$7:$A$24,0),MATCH($Q153,'Unit of measures'!$A$7:$R$7,0))","v":{"$error":"#N/A"}},{"$f":"$R153*INDEX('Unit of measures'!$A$7:$R$24,MATCH(V$4,'Unit of measures'!$A$7:$A$24,0),MATCH($Q153,'Unit of measures'!$A$7:$R$7,0))","v":{"$error":"#N/A"}},{"$f":"$R153*INDEX('Unit of measures'!$A$7:$R$24,MATCH(W$4,'Unit of measures'!$A$7:$A$24,0),MATCH($Q153,'Unit of measures'!$A$7:$R$7,0))","v":{"$error":"#N/A"}},"Each"]
[null,null,null,null,"",null,null,{"$f":"$G154*INDEX('Unit of measures'!$A$7:$R$24,MATCH(H$4,'Unit of measures'!$A$7:$A$24,0),MATCH($F154,'Unit of measures'!$A$7:$R$7,0))","v":{"$error":"#N/A"}},{"$f":"$G154*INDEX('Unit of measures'!$A$7:$R$24,MATCH(I$4,'Unit of measures'!$A$7:$A$24,0),MATCH($F154,'Unit of measures'!$A$7:$R$7,0))","v":{"$error":"#N/A"}},{"$f":"$G154*INDEX('Unit of measures'!$A$7:$R$24,MATCH(J$4,'Unit of measures'!$A$7:$A$24,0),MATCH($F154,'Unit of measures'!$A$7:$R$7,0))","v":{"$error":"#N/A"}},{"$f":"$G154*INDEX('Unit of measures'!$A$7:$R$24,MATCH(K$4,'Unit of measures'!$A$7:$A$24,0),MATCH($F154,'Unit of measures'!$A$7:$R$7,0))","v":{"$error":"#N/A"}},{"$f":"$G154*INDEX('Unit of measures'!$A$7:$R$24,MATCH(L$4,'Unit of measures'!$A$7:$A$24,0),MATCH($F154,'Unit of measures'!$A$7:$R$7,0))","v":{"$error":"#N/A"}},{"$f":"$G154*INDEX('Unit of measures'!$A$7:$R$24,MATCH(M$4,'Unit of measures'!$A$7:$A$24,0),MATCH($F154,'Unit of measures'!$A$7:$R$7,0))","v":{"$error":"#N/A"}},{"$f":"$G154*INDEX('Unit of measures'!$A$7:$R$24,MATCH(N$4,'Unit of measures'!$A$7:$A$24,0),MATCH($F154,'Unit of measures'!$A$7:$R$7,0))","v":{"$error":"#N/A"}},{"$f":"$G154*INDEX('Unit of measures'!$A$7:$R$24,MATCH(O$4,'Unit of measures'!$A$7:$A$24,0),MATCH($F154,'Unit of measures'!$A$7:$R$7,0))","v":{"$error":"#N/A"}},{"$f":"$G154*INDEX('Unit of measures'!$A$7:$R$24,MATCH(P$4,'Unit of measures'!$A$7:$A$24,0),MATCH($F154,'Unit of measures'!$A$7:$R$7,0))","v":{"$error":"#N/A"}},null,null,{"$f":"$R154*INDEX('Unit of measures'!$A$7:$R$24,MATCH(S$4,'Unit of measures'!$A$7:$A$24,0),MATCH($Q154,'Unit of measures'!$A$7:$R$7,0))","v":{"$error":"#N/A"}},{"$f":"$R154*INDEX('Unit of measures'!$A$7:$R$24,MATCH(T$4,'Unit of measures'!$A$7:$A$24,0),MATCH($Q154,'Unit of measures'!$A$7:$R$7,0))","v":{"$error":"#N/A"}},{"$f":"$R154*INDEX('Unit of measures'!$A$7:$R$24,MATCH(U$4,'Unit of measures'!$A$7:$A$24,0),MATCH($Q154,'Unit of measures'!$A$7:$R$7,0))","v":{"$error":"#N/A"}},{"$f":"$R154*INDEX('Unit of measures'!$A$7:$R$24,MATCH(V$4,'Unit of measures'!$A$7:$A$24,0),MATCH($Q154,'Unit of measures'!$A$7:$R$7,0))","v":{"$error":"#N/A"}},{"$f":"$R154*INDEX('Unit of measures'!$A$7:$R$24,MATCH(W$4,'Unit of measures'!$A$7:$A$24,0),MATCH($Q154,'Unit of measures'!$A$7:$R$7,0))","v":{"$error":"#N/A"}},"Each"]
[null,null,null,null,"",null,null,{"$f":"$G155*INDEX('Unit of measures'!$A$7:$R$24,MATCH(H$4,'Unit of measures'!$A$7:$A$24,0),MATCH($F155,'Unit of measures'!$A$7:$R$7,0))","v":{"$error":"#N/A"}},{"$f":"$G155*INDEX('Unit of measures'!$A$7:$R$24,MATCH(I$4,'Unit of measures'!$A$7:$A$24,0),MATCH($F155,'Unit of measures'!$A$7:$R$7,0))","v":{"$error":"#N/A"}},{"$f":"$G155*INDEX('Unit of measures'!$A$7:$R$24,MATCH(J$4,'Unit of measures'!$A$7:$A$24,0),MATCH($F155,'Unit of measures'!$A$7:$R$7,0))","v":{"$error":"#N/A"}},{"$f":"$G155*INDEX('Unit of measures'!$A$7:$R$24,MATCH(K$4,'Unit of measures'!$A$7:$A$24,0),MATCH($F155,'Unit of measures'!$A$7:$R$7,0))","v":{"$error":"#N/A"}},{"$f":"$G155*INDEX('Unit of measures'!$A$7:$R$24,MATCH(L$4,'Unit of measures'!$A$7:$A$24,0),MATCH($F155,'Unit of measures'!$A$7:$R$7,0))","v":{"$error":"#N/A"}},{"$f":"$G155*INDEX('Unit of measures'!$A$7:$R$24,MATCH(M$4,'Unit of measures'!$A$7:$A$24,0),MATCH($F155,'Unit of measures'!$A$7:$R$7,0))","v":{"$error":"#N/A"}},{"$f":"$G155*INDEX('Unit of measures'!$A$7:$R$24,MATCH(N$4,'Unit of measures'!$A$7:$A$24,0),MATCH($F155,'Unit of measures'!$A$7:$R$7,0))","v":{"$error":"#N/A"}},{"$f":"$G155*INDEX('Unit of measures'!$A$7:$R$24,MATCH(O$4,'Unit of measures'!$A$7:$A$24,0),MATCH($F155,'Unit of measures'!$A$7:$R$7,0))","v":{"$error":"#N/A"}},{"$f":"$G155*INDEX('Unit of measures'!$A$7:$R$24,MATCH(P$4,'Unit of measures'!$A$7:$A$24,0),MATCH($F155,'Unit of measures'!$A$7:$R$7,0))","v":{"$error":"#N/A"}},null,null,{"$f":"$R155*INDEX('Unit of measures'!$A$7:$R$24,MATCH(S$4,'Unit of measures'!$A$7:$A$24,0),MATCH($Q155,'Unit of measures'!$A$7:$R$7,0))","v":{"$error":"#N/A"}},{"$f":"$R155*INDEX('Unit of measures'!$A$7:$R$24,MATCH(T$4,'Unit of measures'!$A$7:$A$24,0),MATCH($Q155,'Unit of measures'!$A$7:$R$7,0))","v":{"$error":"#N/A"}},{"$f":"$R155*INDEX('Unit of measures'!$A$7:$R$24,MATCH(U$4,'Unit of measures'!$A$7:$A$24,0),MATCH($Q155,'Unit of measures'!$A$7:$R$7,0))","v":{"$error":"#N/A"}},{"$f":"$R155*INDEX('Unit of measures'!$A$7:$R$24,MATCH(V$4,'Unit of measures'!$A$7:$A$24,0),MATCH($Q155,'Unit of measures'!$A$7:$R$7,0))","v":{"$error":"#N/A"}},{"$f":"$R155*INDEX('Unit of measures'!$A$7:$R$24,MATCH(W$4,'Unit of measures'!$A$7:$A$24,0),MATCH($Q155,'Unit of measures'!$A$7:$R$7,0))","v":{"$error":"#N/A"}},"Each"]
[null,null,null,null,"",null,null,{"$f":"$G156*INDEX('Unit of measures'!$A$7:$R$24,MATCH(H$4,'Unit of measures'!$A$7:$A$24,0),MATCH($F156,'Unit of measures'!$A$7:$R$7,0))","v":{"$error":"#N/A"}},{"$f":"$G156*INDEX('Unit of measures'!$A$7:$R$24,MATCH(I$4,'Unit of measures'!$A$7:$A$24,0),MATCH($F156,'Unit of measures'!$A$7:$R$7,0))","v":{"$error":"#N/A"}},{"$f":"$G156*INDEX('Unit of measures'!$A$7:$R$24,MATCH(J$4,'Unit of measures'!$A$7:$A$24,0),MATCH($F156,'Unit of measures'!$A$7:$R$7,0))","v":{"$error":"#N/A"}},{"$f":"$G156*INDEX('Unit of measures'!$A$7:$R$24,MATCH(K$4,'Unit of measures'!$A$7:$A$24,0),MATCH($F156,'Unit of measures'!$A$7:$R$7,0))","v":{"$error":"#N/A"}},{"$f":"$G156*INDEX('Unit of measures'!$A$7:$R$24,MATCH(L$4,'Unit of measures'!$A$7:$A$24,0),MATCH($F156,'Unit of measures'!$A$7:$R$7,0))","v":{"$error":"#N/A"}},{"$f":"$G156*INDEX('Unit of measures'!$A$7:$R$24,MATCH(M$4,'Unit of measures'!$A$7:$A$24,0),MATCH($F156,'Unit of measures'!$A$7:$R$7,0))","v":{"$error":"#N/A"}},{"$f":"$G156*INDEX('Unit of measures'!$A$7:$R$24,MATCH(N$4,'Unit of measures'!$A$7:$A$24,0),MATCH($F156,'Unit of measures'!$A$7:$R$7,0))","v":{"$error":"#N/A"}},{"$f":"$G156*INDEX('Unit of measures'!$A$7:$R$24,MATCH(O$4,'Unit of measures'!$A$7:$A$24,0),MATCH($F156,'Unit of measures'!$A$7:$R$7,0))","v":{"$error":"#N/A"}},{"$f":"$G156*INDEX('Unit of measures'!$A$7:$R$24,MATCH(P$4,'Unit of measures'!$A$7:$A$24,0),MATCH($F156,'Unit of measures'!$A$7:$R$7,0))","v":{"$error":"#N/A"}},null,null,{"$f":"$R156*INDEX('Unit of measures'!$A$7:$R$24,MATCH(S$4,'Unit of measures'!$A$7:$A$24,0),MATCH($Q156,'Unit of measures'!$A$7:$R$7,0))","v":{"$error":"#N/A"}},{"$f":"$R156*INDEX('Unit of measures'!$A$7:$R$24,MATCH(T$4,'Unit of measures'!$A$7:$A$24,0),MATCH($Q156,'Unit of measures'!$A$7:$R$7,0))","v":{"$error":"#N/A"}},{"$f":"$R156*INDEX('Unit of measures'!$A$7:$R$24,MATCH(U$4,'Unit of measures'!$A$7:$A$24,0),MATCH($Q156,'Unit of measures'!$A$7:$R$7,0))","v":{"$error":"#N/A"}},{"$f":"$R156*INDEX('Unit of measures'!$A$7:$R$24,MATCH(V$4,'Unit of measures'!$A$7:$A$24,0),MATCH($Q156,'Unit of measures'!$A$7:$R$7,0))","v":{"$error":"#N/A"}},{"$f":"$R156*INDEX('Unit of measures'!$A$7:$R$24,MATCH(W$4,'Unit of measures'!$A$7:$A$24,0),MATCH($Q156,'Unit of measures'!$A$7:$R$7,0))","v":{"$error":"#N/A"}},"Each"]
[null,null,null,null,"",null,null,{"$f":"$G157*INDEX('Unit of measures'!$A$7:$R$24,MATCH(H$4,'Unit of measures'!$A$7:$A$24,0),MATCH($F157,'Unit of measures'!$A$7:$R$7,0))","v":{"$error":"#N/A"}},{"$f":"$G157*INDEX('Unit of measures'!$A$7:$R$24,MATCH(I$4,'Unit of measures'!$A$7:$A$24,0),MATCH($F157,'Unit of measures'!$A$7:$R$7,0))","v":{"$error":"#N/A"}},{"$f":"$G157*INDEX('Unit of measures'!$A$7:$R$24,MATCH(J$4,'Unit of measures'!$A$7:$A$24,0),MATCH($F157,'Unit of measures'!$A$7:$R$7,0))","v":{"$error":"#N/A"}},{"$f":"$G157*INDEX('Unit of measures'!$A$7:$R$24,MATCH(K$4,'Unit of measures'!$A$7:$A$24,0),MATCH($F157,'Unit of measures'!$A$7:$R$7,0))","v":{"$error":"#N/A"}},{"$f":"$G157*INDEX('Unit of measures'!$A$7:$R$24,MATCH(L$4,'Unit of measures'!$A$7:$A$24,0),MATCH($F157,'Unit of measures'!$A$7:$R$7,0))","v":{"$error":"#N/A"}},{"$f":"$G157*INDEX('Unit of measures'!$A$7:$R$24,MATCH(M$4,'Unit of measures'!$A$7:$A$24,0),MATCH($F157,'Unit of measures'!$A$7:$R$7,0))","v":{"$error":"#N/A"}},{"$f":"$G157*INDEX('Unit of measures'!$A$7:$R$24,MATCH(N$4,'Unit of measures'!$A$7:$A$24,0),MATCH($F157,'Unit of measures'!$A$7:$R$7,0))","v":{"$error":"#N/A"}},{"$f":"$G157*INDEX('Unit of measures'!$A$7:$R$24,MATCH(O$4,'Unit of measures'!$A$7:$A$24,0),MATCH($F157,'Unit of measures'!$A$7:$R$7,0))","v":{"$error":"#N/A"}},{"$f":"$G157*INDEX('Unit of measures'!$A$7:$R$24,MATCH(P$4,'Unit of measures'!$A$7:$A$24,0),MATCH($F157,'Unit of measures'!$A$7:$R$7,0))","v":{"$error":"#N/A"}},null,null,{"$f":"$R157*INDEX('Unit of measures'!$A$7:$R$24,MATCH(S$4,'Unit of measures'!$A$7:$A$24,0),MATCH($Q157,'Unit of measures'!$A$7:$R$7,0))","v":{"$error":"#N/A"}},{"$f":"$R157*INDEX('Unit of measures'!$A$7:$R$24,MATCH(T$4,'Unit of measures'!$A$7:$A$24,0),MATCH($Q157,'Unit of measures'!$A$7:$R$7,0))","v":{"$error":"#N/A"}},{"$f":"$R157*INDEX('Unit of measures'!$A$7:$R$24,MATCH(U$4,'Unit of measures'!$A$7:$A$24,0),MATCH($Q157,'Unit of measures'!$A$7:$R$7,0))","v":{"$error":"#N/A"}},{"$f":"$R157*INDEX('Unit of measures'!$A$7:$R$24,MATCH(V$4,'Unit of measures'!$A$7:$A$24,0),MATCH($Q157,'Unit of measures'!$A$7:$R$7,0))","v":{"$error":"#N/A"}},{"$f":"$R157*INDEX('Unit of measures'!$A$7:$R$24,MATCH(W$4,'Unit of measures'!$A$7:$A$24,0),MATCH($Q157,'Unit of measures'!$A$7:$R$7,0))","v":{"$error":"#N/A"}},"Each"]
[null,null,null,null,"",null,null,{"$f":"$G158*INDEX('Unit of measures'!$A$7:$R$24,MATCH(H$4,'Unit of measures'!$A$7:$A$24,0),MATCH($F158,'Unit of measures'!$A$7:$R$7,0))","v":{"$error":"#N/A"}},{"$f":"$G158*INDEX('Unit of measures'!$A$7:$R$24,MATCH(I$4,'Unit of measures'!$A$7:$A$24,0),MATCH($F158,'Unit of measures'!$A$7:$R$7,0))","v":{"$error":"#N/A"}},{"$f":"$G158*INDEX('Unit of measures'!$A$7:$R$24,MATCH(J$4,'Unit of measures'!$A$7:$A$24,0),MATCH($F158,'Unit of measures'!$A$7:$R$7,0))","v":{"$error":"#N/A"}},{"$f":"$G158*INDEX('Unit of measures'!$A$7:$R$24,MATCH(K$4,'Unit of measures'!$A$7:$A$24,0),MATCH($F158,'Unit of measures'!$A$7:$R$7,0))","v":{"$error":"#N/A"}},{"$f":"$G158*INDEX('Unit of measures'!$A$7:$R$24,MATCH(L$4,'Unit of measures'!$A$7:$A$24,0),MATCH($F158,'Unit of measures'!$A$7:$R$7,0))","v":{"$error":"#N/A"}},{"$f":"$G158*INDEX('Unit of measures'!$A$7:$R$24,MATCH(M$4,'Unit of measures'!$A$7:$A$24,0),MATCH($F158,'Unit of measures'!$A$7:$R$7,0))","v":{"$error":"#N/A"}},{"$f":"$G158*INDEX('Unit of measures'!$A$7:$R$24,MATCH(N$4,'Unit of measures'!$A$7:$A$24,0),MATCH($F158,'Unit of measures'!$A$7:$R$7,0))","v":{"$error":"#N/A"}},{"$f":"$G158*INDEX('Unit of measures'!$A$7:$R$24,MATCH(O$4,'Unit of measures'!$A$7:$A$24,0),MATCH($F158,'Unit of measures'!$A$7:$R$7,0))","v":{"$error":"#N/A"}},{"$f":"$G158*INDEX('Unit of measures'!$A$7:$R$24,MATCH(P$4,'Unit of measures'!$A$7:$A$24,0),MATCH($F158,'Unit of measures'!$A$7:$R$7,0))","v":{"$error":"#N/A"}},null,null,{"$f":"$R158*INDEX('Unit of measures'!$A$7:$R$24,MATCH(S$4,'Unit of measures'!$A$7:$A$24,0),MATCH($Q158,'Unit of measures'!$A$7:$R$7,0))","v":{"$error":"#N/A"}},{"$f":"$R158*INDEX('Unit of measures'!$A$7:$R$24,MATCH(T$4,'Unit of measures'!$A$7:$A$24,0),MATCH($Q158,'Unit of measures'!$A$7:$R$7,0))","v":{"$error":"#N/A"}},{"$f":"$R158*INDEX('Unit of measures'!$A$7:$R$24,MATCH(U$4,'Unit of measures'!$A$7:$A$24,0),MATCH($Q158,'Unit of measures'!$A$7:$R$7,0))","v":{"$error":"#N/A"}},{"$f":"$R158*INDEX('Unit of measures'!$A$7:$R$24,MATCH(V$4,'Unit of measures'!$A$7:$A$24,0),MATCH($Q158,'Unit of measures'!$A$7:$R$7,0))","v":{"$error":"#N/A"}},{"$f":"$R158*INDEX('Unit of measures'!$A$7:$R$24,MATCH(W$4,'Unit of measures'!$A$7:$A$24,0),MATCH($Q158,'Unit of measures'!$A$7:$R$7,0))","v":{"$error":"#N/A"}},"Each"]
[null,null,null,null,"",null,null,{"$f":"$G159*INDEX('Unit of measures'!$A$7:$R$24,MATCH(H$4,'Unit of measures'!$A$7:$A$24,0),MATCH($F159,'Unit of measures'!$A$7:$R$7,0))","v":{"$error":"#N/A"}},{"$f":"$G159*INDEX('Unit of measures'!$A$7:$R$24,MATCH(I$4,'Unit of measures'!$A$7:$A$24,0),MATCH($F159,'Unit of measures'!$A$7:$R$7,0))","v":{"$error":"#N/A"}},{"$f":"$G159*INDEX('Unit of measures'!$A$7:$R$24,MATCH(J$4,'Unit of measures'!$A$7:$A$24,0),MATCH($F159,'Unit of measures'!$A$7:$R$7,0))","v":{"$error":"#N/A"}},{"$f":"$G159*INDEX('Unit of measures'!$A$7:$R$24,MATCH(K$4,'Unit of measures'!$A$7:$A$24,0),MATCH($F159,'Unit of measures'!$A$7:$R$7,0))","v":{"$error":"#N/A"}},{"$f":"$G159*INDEX('Unit of measures'!$A$7:$R$24,MATCH(L$4,'Unit of measures'!$A$7:$A$24,0),MATCH($F159,'Unit of measures'!$A$7:$R$7,0))","v":{"$error":"#N/A"}},{"$f":"$G159*INDEX('Unit of measures'!$A$7:$R$24,MATCH(M$4,'Unit of measures'!$A$7:$A$24,0),MATCH($F159,'Unit of measures'!$A$7:$R$7,0))","v":{"$error":"#N/A"}},{"$f":"$G159*INDEX('Unit of measures'!$A$7:$R$24,MATCH(N$4,'Unit of measures'!$A$7:$A$24,0),MATCH($F159,'Unit of measures'!$A$7:$R$7,0))","v":{"$error":"#N/A"}},{"$f":"$G159*INDEX('Unit of measures'!$A$7:$R$24,MATCH(O$4,'Unit of measures'!$A$7:$A$24,0),MATCH($F159,'Unit of measures'!$A$7:$R$7,0))","v":{"$error":"#N/A"}},{"$f":"$G159*INDEX('Unit of measures'!$A$7:$R$24,MATCH(P$4,'Unit of measures'!$A$7:$A$24,0),MATCH($F159,'Unit of measures'!$A$7:$R$7,0))","v":{"$error":"#N/A"}},null,null,{"$f":"$R159*INDEX('Unit of measures'!$A$7:$R$24,MATCH(S$4,'Unit of measures'!$A$7:$A$24,0),MATCH($Q159,'Unit of measures'!$A$7:$R$7,0))","v":{"$error":"#N/A"}},{"$f":"$R159*INDEX('Unit of measures'!$A$7:$R$24,MATCH(T$4,'Unit of measures'!$A$7:$A$24,0),MATCH($Q159,'Unit of measures'!$A$7:$R$7,0))","v":{"$error":"#N/A"}},{"$f":"$R159*INDEX('Unit of measures'!$A$7:$R$24,MATCH(U$4,'Unit of measures'!$A$7:$A$24,0),MATCH($Q159,'Unit of measures'!$A$7:$R$7,0))","v":{"$error":"#N/A"}},{"$f":"$R159*INDEX('Unit of measures'!$A$7:$R$24,MATCH(V$4,'Unit of measures'!$A$7:$A$24,0),MATCH($Q159,'Unit of measures'!$A$7:$R$7,0))","v":{"$error":"#N/A"}},{"$f":"$R159*INDEX('Unit of measures'!$A$7:$R$24,MATCH(W$4,'Unit of measures'!$A$7:$A$24,0),MATCH($Q159,'Unit of measures'!$A$7:$R$7,0))","v":{"$error":"#N/A"}},"Each"]
[null,null,null,null,"",null,null,{"$f":"$G160*INDEX('Unit of measures'!$A$7:$R$24,MATCH(H$4,'Unit of measures'!$A$7:$A$24,0),MATCH($F160,'Unit of measures'!$A$7:$R$7,0))","v":{"$error":"#N/A"}},{"$f":"$G160*INDEX('Unit of measures'!$A$7:$R$24,MATCH(I$4,'Unit of measures'!$A$7:$A$24,0),MATCH($F160,'Unit of measures'!$A$7:$R$7,0))","v":{"$error":"#N/A"}},{"$f":"$G160*INDEX('Unit of measures'!$A$7:$R$24,MATCH(J$4,'Unit of measures'!$A$7:$A$24,0),MATCH($F160,'Unit of measures'!$A$7:$R$7,0))","v":{"$error":"#N/A"}},{"$f":"$G160*INDEX('Unit of measures'!$A$7:$R$24,MATCH(K$4,'Unit of measures'!$A$7:$A$24,0),MATCH($F160,'Unit of measures'!$A$7:$R$7,0))","v":{"$error":"#N/A"}},{"$f":"$G160*INDEX('Unit of measures'!$A$7:$R$24,MATCH(L$4,'Unit of measures'!$A$7:$A$24,0),MATCH($F160,'Unit of measures'!$A$7:$R$7,0))","v":{"$error":"#N/A"}},{"$f":"$G160*INDEX('Unit of measures'!$A$7:$R$24,MATCH(M$4,'Unit of measures'!$A$7:$A$24,0),MATCH($F160,'Unit of measures'!$A$7:$R$7,0))","v":{"$error":"#N/A"}},{"$f":"$G160*INDEX('Unit of measures'!$A$7:$R$24,MATCH(N$4,'Unit of measures'!$A$7:$A$24,0),MATCH($F160,'Unit of measures'!$A$7:$R$7,0))","v":{"$error":"#N/A"}},{"$f":"$G160*INDEX('Unit of measures'!$A$7:$R$24,MATCH(O$4,'Unit of measures'!$A$7:$A$24,0),MATCH($F160,'Unit of measures'!$A$7:$R$7,0))","v":{"$error":"#N/A"}},{"$f":"$G160*INDEX('Unit of measures'!$A$7:$R$24,MATCH(P$4,'Unit of measures'!$A$7:$A$24,0),MATCH($F160,'Unit of measures'!$A$7:$R$7,0))","v":{"$error":"#N/A"}},null,null,{"$f":"$R160*INDEX('Unit of measures'!$A$7:$R$24,MATCH(S$4,'Unit of measures'!$A$7:$A$24,0),MATCH($Q160,'Unit of measures'!$A$7:$R$7,0))","v":{"$error":"#N/A"}},{"$f":"$R160*INDEX('Unit of measures'!$A$7:$R$24,MATCH(T$4,'Unit of measures'!$A$7:$A$24,0),MATCH($Q160,'Unit of measures'!$A$7:$R$7,0))","v":{"$error":"#N/A"}},{"$f":"$R160*INDEX('Unit of measures'!$A$7:$R$24,MATCH(U$4,'Unit of measures'!$A$7:$A$24,0),MATCH($Q160,'Unit of measures'!$A$7:$R$7,0))","v":{"$error":"#N/A"}},{"$f":"$R160*INDEX('Unit of measures'!$A$7:$R$24,MATCH(V$4,'Unit of measures'!$A$7:$A$24,0),MATCH($Q160,'Unit of measures'!$A$7:$R$7,0))","v":{"$error":"#N/A"}},{"$f":"$R160*INDEX('Unit of measures'!$A$7:$R$24,MATCH(W$4,'Unit of measures'!$A$7:$A$24,0),MATCH($Q160,'Unit of measures'!$A$7:$R$7,0))","v":{"$error":"#N/A"}},"Each"]
[null,null,null,null,"",null,null,{"$f":"$G161*INDEX('Unit of measures'!$A$7:$R$24,MATCH(H$4,'Unit of measures'!$A$7:$A$24,0),MATCH($F161,'Unit of measures'!$A$7:$R$7,0))","v":{"$error":"#N/A"}},{"$f":"$G161*INDEX('Unit of measures'!$A$7:$R$24,MATCH(I$4,'Unit of measures'!$A$7:$A$24,0),MATCH($F161,'Unit of measures'!$A$7:$R$7,0))","v":{"$error":"#N/A"}},{"$f":"$G161*INDEX('Unit of measures'!$A$7:$R$24,MATCH(J$4,'Unit of measures'!$A$7:$A$24,0),MATCH($F161,'Unit of measures'!$A$7:$R$7,0))","v":{"$error":"#N/A"}},{"$f":"$G161*INDEX('Unit of measures'!$A$7:$R$24,MATCH(K$4,'Unit of measures'!$A$7:$A$24,0),MATCH($F161,'Unit of measures'!$A$7:$R$7,0))","v":{"$error":"#N/A"}},{"$f":"$G161*INDEX('Unit of measures'!$A$7:$R$24,MATCH(L$4,'Unit of measures'!$A$7:$A$24,0),MATCH($F161,'Unit of measures'!$A$7:$R$7,0))","v":{"$error":"#N/A"}},{"$f":"$G161*INDEX('Unit of measures'!$A$7:$R$24,MATCH(M$4,'Unit of measures'!$A$7:$A$24,0),MATCH($F161,'Unit of measures'!$A$7:$R$7,0))","v":{"$error":"#N/A"}},{"$f":"$G161*INDEX('Unit of measures'!$A$7:$R$24,MATCH(N$4,'Unit of measures'!$A$7:$A$24,0),MATCH($F161,'Unit of measures'!$A$7:$R$7,0))","v":{"$error":"#N/A"}},{"$f":"$G161*INDEX('Unit of measures'!$A$7:$R$24,MATCH(O$4,'Unit of measures'!$A$7:$A$24,0),MATCH($F161,'Unit of measures'!$A$7:$R$7,0))","v":{"$error":"#N/A"}},{"$f":"$G161*INDEX('Unit of measures'!$A$7:$R$24,MATCH(P$4,'Unit of measures'!$A$7:$A$24,0),MATCH($F161,'Unit of measures'!$A$7:$R$7,0))","v":{"$error":"#N/A"}},null,null,{"$f":"$R161*INDEX('Unit of measures'!$A$7:$R$24,MATCH(S$4,'Unit of measures'!$A$7:$A$24,0),MATCH($Q161,'Unit of measures'!$A$7:$R$7,0))","v":{"$error":"#N/A"}},{"$f":"$R161*INDEX('Unit of measures'!$A$7:$R$24,MATCH(T$4,'Unit of measures'!$A$7:$A$24,0),MATCH($Q161,'Unit of measures'!$A$7:$R$7,0))","v":{"$error":"#N/A"}},{"$f":"$R161*INDEX('Unit of measures'!$A$7:$R$24,MATCH(U$4,'Unit of measures'!$A$7:$A$24,0),MATCH($Q161,'Unit of measures'!$A$7:$R$7,0))","v":{"$error":"#N/A"}},{"$f":"$R161*INDEX('Unit of measures'!$A$7:$R$24,MATCH(V$4,'Unit of measures'!$A$7:$A$24,0),MATCH($Q161,'Unit of measures'!$A$7:$R$7,0))","v":{"$error":"#N/A"}},{"$f":"$R161*INDEX('Unit of measures'!$A$7:$R$24,MATCH(W$4,'Unit of measures'!$A$7:$A$24,0),MATCH($Q161,'Unit of measures'!$A$7:$R$7,0))","v":{"$error":"#N/A"}},"Each"]
[null,null,null,null,"",null,null,{"$f":"$G162*INDEX('Unit of measures'!$A$7:$R$24,MATCH(H$4,'Unit of measures'!$A$7:$A$24,0),MATCH($F162,'Unit of measures'!$A$7:$R$7,0))","v":{"$error":"#N/A"}},{"$f":"$G162*INDEX('Unit of measures'!$A$7:$R$24,MATCH(I$4,'Unit of measures'!$A$7:$A$24,0),MATCH($F162,'Unit of measures'!$A$7:$R$7,0))","v":{"$error":"#N/A"}},{"$f":"$G162*INDEX('Unit of measures'!$A$7:$R$24,MATCH(J$4,'Unit of measures'!$A$7:$A$24,0),MATCH($F162,'Unit of measures'!$A$7:$R$7,0))","v":{"$error":"#N/A"}},{"$f":"$G162*INDEX('Unit of measures'!$A$7:$R$24,MATCH(K$4,'Unit of measures'!$A$7:$A$24,0),MATCH($F162,'Unit of measures'!$A$7:$R$7,0))","v":{"$error":"#N/A"}},{"$f":"$G162*INDEX('Unit of measures'!$A$7:$R$24,MATCH(L$4,'Unit of measures'!$A$7:$A$24,0),MATCH($F162,'Unit of measures'!$A$7:$R$7,0))","v":{"$error":"#N/A"}},{"$f":"$G162*INDEX('Unit of measures'!$A$7:$R$24,MATCH(M$4,'Unit of measures'!$A$7:$A$24,0),MATCH($F162,'Unit of measures'!$A$7:$R$7,0))","v":{"$error":"#N/A"}},{"$f":"$G162*INDEX('Unit of measures'!$A$7:$R$24,MATCH(N$4,'Unit of measures'!$A$7:$A$24,0),MATCH($F162,'Unit of measures'!$A$7:$R$7,0))","v":{"$error":"#N/A"}},{"$f":"$G162*INDEX('Unit of measures'!$A$7:$R$24,MATCH(O$4,'Unit of measures'!$A$7:$A$24,0),MATCH($F162,'Unit of measures'!$A$7:$R$7,0))","v":{"$error":"#N/A"}},{"$f":"$G162*INDEX('Unit of measures'!$A$7:$R$24,MATCH(P$4,'Unit of measures'!$A$7:$A$24,0),MATCH($F162,'Unit of measures'!$A$7:$R$7,0))","v":{"$error":"#N/A"}},null,null,{"$f":"$R162*INDEX('Unit of measures'!$A$7:$R$24,MATCH(S$4,'Unit of measures'!$A$7:$A$24,0),MATCH($Q162,'Unit of measures'!$A$7:$R$7,0))","v":{"$error":"#N/A"}},{"$f":"$R162*INDEX('Unit of measures'!$A$7:$R$24,MATCH(T$4,'Unit of measures'!$A$7:$A$24,0),MATCH($Q162,'Unit of measures'!$A$7:$R$7,0))","v":{"$error":"#N/A"}},{"$f":"$R162*INDEX('Unit of measures'!$A$7:$R$24,MATCH(U$4,'Unit of measures'!$A$7:$A$24,0),MATCH($Q162,'Unit of measures'!$A$7:$R$7,0))","v":{"$error":"#N/A"}},{"$f":"$R162*INDEX('Unit of measures'!$A$7:$R$24,MATCH(V$4,'Unit of measures'!$A$7:$A$24,0),MATCH($Q162,'Unit of measures'!$A$7:$R$7,0))","v":{"$error":"#N/A"}},{"$f":"$R162*INDEX('Unit of measures'!$A$7:$R$24,MATCH(W$4,'Unit of measures'!$A$7:$A$24,0),MATCH($Q162,'Unit of measures'!$A$7:$R$7,0))","v":{"$error":"#N/A"}},"Each"]
[null,null,null,null,"",null,null,{"$f":"$G163*INDEX('Unit of measures'!$A$7:$R$24,MATCH(H$4,'Unit of measures'!$A$7:$A$24,0),MATCH($F163,'Unit of measures'!$A$7:$R$7,0))","v":{"$error":"#N/A"}},{"$f":"$G163*INDEX('Unit of measures'!$A$7:$R$24,MATCH(I$4,'Unit of measures'!$A$7:$A$24,0),MATCH($F163,'Unit of measures'!$A$7:$R$7,0))","v":{"$error":"#N/A"}},{"$f":"$G163*INDEX('Unit of measures'!$A$7:$R$24,MATCH(J$4,'Unit of measures'!$A$7:$A$24,0),MATCH($F163,'Unit of measures'!$A$7:$R$7,0))","v":{"$error":"#N/A"}},{"$f":"$G163*INDEX('Unit of measures'!$A$7:$R$24,MATCH(K$4,'Unit of measures'!$A$7:$A$24,0),MATCH($F163,'Unit of measures'!$A$7:$R$7,0))","v":{"$error":"#N/A"}},{"$f":"$G163*INDEX('Unit of measures'!$A$7:$R$24,MATCH(L$4,'Unit of measures'!$A$7:$A$24,0),MATCH($F163,'Unit of measures'!$A$7:$R$7,0))","v":{"$error":"#N/A"}},{"$f":"$G163*INDEX('Unit of measures'!$A$7:$R$24,MATCH(M$4,'Unit of measures'!$A$7:$A$24,0),MATCH($F163,'Unit of measures'!$A$7:$R$7,0))","v":{"$error":"#N/A"}},{"$f":"$G163*INDEX('Unit of measures'!$A$7:$R$24,MATCH(N$4,'Unit of measures'!$A$7:$A$24,0),MATCH($F163,'Unit of measures'!$A$7:$R$7,0))","v":{"$error":"#N/A"}},{"$f":"$G163*INDEX('Unit of measures'!$A$7:$R$24,MATCH(O$4,'Unit of measures'!$A$7:$A$24,0),MATCH($F163,'Unit of measures'!$A$7:$R$7,0))","v":{"$error":"#N/A"}},{"$f":"$G163*INDEX('Unit of measures'!$A$7:$R$24,MATCH(P$4,'Unit of measures'!$A$7:$A$24,0),MATCH($F163,'Unit of measures'!$A$7:$R$7,0))","v":{"$error":"#N/A"}},null,null,{"$f":"$R163*INDEX('Unit of measures'!$A$7:$R$24,MATCH(S$4,'Unit of measures'!$A$7:$A$24,0),MATCH($Q163,'Unit of measures'!$A$7:$R$7,0))","v":{"$error":"#N/A"}},{"$f":"$R163*INDEX('Unit of measures'!$A$7:$R$24,MATCH(T$4,'Unit of measures'!$A$7:$A$24,0),MATCH($Q163,'Unit of measures'!$A$7:$R$7,0))","v":{"$error":"#N/A"}},{"$f":"$R163*INDEX('Unit of measures'!$A$7:$R$24,MATCH(U$4,'Unit of measures'!$A$7:$A$24,0),MATCH($Q163,'Unit of measures'!$A$7:$R$7,0))","v":{"$error":"#N/A"}},{"$f":"$R163*INDEX('Unit of measures'!$A$7:$R$24,MATCH(V$4,'Unit of measures'!$A$7:$A$24,0),MATCH($Q163,'Unit of measures'!$A$7:$R$7,0))","v":{"$error":"#N/A"}},{"$f":"$R163*INDEX('Unit of measures'!$A$7:$R$24,MATCH(W$4,'Unit of measures'!$A$7:$A$24,0),MATCH($Q163,'Unit of measures'!$A$7:$R$7,0))","v":{"$error":"#N/A"}},"Each"]
[null,null,null,null,"",null,null,{"$f":"$G164*INDEX('Unit of measures'!$A$7:$R$24,MATCH(H$4,'Unit of measures'!$A$7:$A$24,0),MATCH($F164,'Unit of measures'!$A$7:$R$7,0))","v":{"$error":"#N/A"}},{"$f":"$G164*INDEX('Unit of measures'!$A$7:$R$24,MATCH(I$4,'Unit of measures'!$A$7:$A$24,0),MATCH($F164,'Unit of measures'!$A$7:$R$7,0))","v":{"$error":"#N/A"}},{"$f":"$G164*INDEX('Unit of measures'!$A$7:$R$24,MATCH(J$4,'Unit of measures'!$A$7:$A$24,0),MATCH($F164,'Unit of measures'!$A$7:$R$7,0))","v":{"$error":"#N/A"}},{"$f":"$G164*INDEX('Unit of measures'!$A$7:$R$24,MATCH(K$4,'Unit of measures'!$A$7:$A$24,0),MATCH($F164,'Unit of measures'!$A$7:$R$7,0))","v":{"$error":"#N/A"}},{"$f":"$G164*INDEX('Unit of measures'!$A$7:$R$24,MATCH(L$4,'Unit of measures'!$A$7:$A$24,0),MATCH($F164,'Unit of measures'!$A$7:$R$7,0))","v":{"$error":"#N/A"}},{"$f":"$G164*INDEX('Unit of measures'!$A$7:$R$24,MATCH(M$4,'Unit of measures'!$A$7:$A$24,0),MATCH($F164,'Unit of measures'!$A$7:$R$7,0))","v":{"$error":"#N/A"}},{"$f":"$G164*INDEX('Unit of measures'!$A$7:$R$24,MATCH(N$4,'Unit of measures'!$A$7:$A$24,0),MATCH($F164,'Unit of measures'!$A$7:$R$7,0))","v":{"$error":"#N/A"}},{"$f":"$G164*INDEX('Unit of measures'!$A$7:$R$24,MATCH(O$4,'Unit of measures'!$A$7:$A$24,0),MATCH($F164,'Unit of measures'!$A$7:$R$7,0))","v":{"$error":"#N/A"}},{"$f":"$G164*INDEX('Unit of measures'!$A$7:$R$24,MATCH(P$4,'Unit of measures'!$A$7:$A$24,0),MATCH($F164,'Unit of measures'!$A$7:$R$7,0))","v":{"$error":"#N/A"}},null,null,{"$f":"$R164*INDEX('Unit of measures'!$A$7:$R$24,MATCH(S$4,'Unit of measures'!$A$7:$A$24,0),MATCH($Q164,'Unit of measures'!$A$7:$R$7,0))","v":{"$error":"#N/A"}},{"$f":"$R164*INDEX('Unit of measures'!$A$7:$R$24,MATCH(T$4,'Unit of measures'!$A$7:$A$24,0),MATCH($Q164,'Unit of measures'!$A$7:$R$7,0))","v":{"$error":"#N/A"}},{"$f":"$R164*INDEX('Unit of measures'!$A$7:$R$24,MATCH(U$4,'Unit of measures'!$A$7:$A$24,0),MATCH($Q164,'Unit of measures'!$A$7:$R$7,0))","v":{"$error":"#N/A"}},{"$f":"$R164*INDEX('Unit of measures'!$A$7:$R$24,MATCH(V$4,'Unit of measures'!$A$7:$A$24,0),MATCH($Q164,'Unit of measures'!$A$7:$R$7,0))","v":{"$error":"#N/A"}},{"$f":"$R164*INDEX('Unit of measures'!$A$7:$R$24,MATCH(W$4,'Unit of measures'!$A$7:$A$24,0),MATCH($Q164,'Unit of measures'!$A$7:$R$7,0))","v":{"$error":"#N/A"}},"Each"]
[null,null,null,null,"",null,null,{"$f":"$G165*INDEX('Unit of measures'!$A$7:$R$24,MATCH(H$4,'Unit of measures'!$A$7:$A$24,0),MATCH($F165,'Unit of measures'!$A$7:$R$7,0))","v":{"$error":"#N/A"}},{"$f":"$G165*INDEX('Unit of measures'!$A$7:$R$24,MATCH(I$4,'Unit of measures'!$A$7:$A$24,0),MATCH($F165,'Unit of measures'!$A$7:$R$7,0))","v":{"$error":"#N/A"}},{"$f":"$G165*INDEX('Unit of measures'!$A$7:$R$24,MATCH(J$4,'Unit of measures'!$A$7:$A$24,0),MATCH($F165,'Unit of measures'!$A$7:$R$7,0))","v":{"$error":"#N/A"}},{"$f":"$G165*INDEX('Unit of measures'!$A$7:$R$24,MATCH(K$4,'Unit of measures'!$A$7:$A$24,0),MATCH($F165,'Unit of measures'!$A$7:$R$7,0))","v":{"$error":"#N/A"}},{"$f":"$G165*INDEX('Unit of measures'!$A$7:$R$24,MATCH(L$4,'Unit of measures'!$A$7:$A$24,0),MATCH($F165,'Unit of measures'!$A$7:$R$7,0))","v":{"$error":"#N/A"}},{"$f":"$G165*INDEX('Unit of measures'!$A$7:$R$24,MATCH(M$4,'Unit of measures'!$A$7:$A$24,0),MATCH($F165,'Unit of measures'!$A$7:$R$7,0))","v":{"$error":"#N/A"}},{"$f":"$G165*INDEX('Unit of measures'!$A$7:$R$24,MATCH(N$4,'Unit of measures'!$A$7:$A$24,0),MATCH($F165,'Unit of measures'!$A$7:$R$7,0))","v":{"$error":"#N/A"}},{"$f":"$G165*INDEX('Unit of measures'!$A$7:$R$24,MATCH(O$4,'Unit of measures'!$A$7:$A$24,0),MATCH($F165,'Unit of measures'!$A$7:$R$7,0))","v":{"$error":"#N/A"}},{"$f":"$G165*INDEX('Unit of measures'!$A$7:$R$24,MATCH(P$4,'Unit of measures'!$A$7:$A$24,0),MATCH($F165,'Unit of measures'!$A$7:$R$7,0))","v":{"$error":"#N/A"}},null,null,{"$f":"$R165*INDEX('Unit of measures'!$A$7:$R$24,MATCH(S$4,'Unit of measures'!$A$7:$A$24,0),MATCH($Q165,'Unit of measures'!$A$7:$R$7,0))","v":{"$error":"#N/A"}},{"$f":"$R165*INDEX('Unit of measures'!$A$7:$R$24,MATCH(T$4,'Unit of measures'!$A$7:$A$24,0),MATCH($Q165,'Unit of measures'!$A$7:$R$7,0))","v":{"$error":"#N/A"}},{"$f":"$R165*INDEX('Unit of measures'!$A$7:$R$24,MATCH(U$4,'Unit of measures'!$A$7:$A$24,0),MATCH($Q165,'Unit of measures'!$A$7:$R$7,0))","v":{"$error":"#N/A"}},{"$f":"$R165*INDEX('Unit of measures'!$A$7:$R$24,MATCH(V$4,'Unit of measures'!$A$7:$A$24,0),MATCH($Q165,'Unit of measures'!$A$7:$R$7,0))","v":{"$error":"#N/A"}},{"$f":"$R165*INDEX('Unit of measures'!$A$7:$R$24,MATCH(W$4,'Unit of measures'!$A$7:$A$24,0),MATCH($Q165,'Unit of measures'!$A$7:$R$7,0))","v":{"$error":"#N/A"}},"Each"]
[null,null,null,null,"",null,null,{"$f":"$G166*INDEX('Unit of measures'!$A$7:$R$24,MATCH(H$4,'Unit of measures'!$A$7:$A$24,0),MATCH($F166,'Unit of measures'!$A$7:$R$7,0))","v":{"$error":"#N/A"}},{"$f":"$G166*INDEX('Unit of measures'!$A$7:$R$24,MATCH(I$4,'Unit of measures'!$A$7:$A$24,0),MATCH($F166,'Unit of measures'!$A$7:$R$7,0))","v":{"$error":"#N/A"}},{"$f":"$G166*INDEX('Unit of measures'!$A$7:$R$24,MATCH(J$4,'Unit of measures'!$A$7:$A$24,0),MATCH($F166,'Unit of measures'!$A$7:$R$7,0))","v":{"$error":"#N/A"}},{"$f":"$G166*INDEX('Unit of measures'!$A$7:$R$24,MATCH(K$4,'Unit of measures'!$A$7:$A$24,0),MATCH($F166,'Unit of measures'!$A$7:$R$7,0))","v":{"$error":"#N/A"}},{"$f":"$G166*INDEX('Unit of measures'!$A$7:$R$24,MATCH(L$4,'Unit of measures'!$A$7:$A$24,0),MATCH($F166,'Unit of measures'!$A$7:$R$7,0))","v":{"$error":"#N/A"}},{"$f":"$G166*INDEX('Unit of measures'!$A$7:$R$24,MATCH(M$4,'Unit of measures'!$A$7:$A$24,0),MATCH($F166,'Unit of measures'!$A$7:$R$7,0))","v":{"$error":"#N/A"}},{"$f":"$G166*INDEX('Unit of measures'!$A$7:$R$24,MATCH(N$4,'Unit of measures'!$A$7:$A$24,0),MATCH($F166,'Unit of measures'!$A$7:$R$7,0))","v":{"$error":"#N/A"}},{"$f":"$G166*INDEX('Unit of measures'!$A$7:$R$24,MATCH(O$4,'Unit of measures'!$A$7:$A$24,0),MATCH($F166,'Unit of measures'!$A$7:$R$7,0))","v":{"$error":"#N/A"}},{"$f":"$G166*INDEX('Unit of measures'!$A$7:$R$24,MATCH(P$4,'Unit of measures'!$A$7:$A$24,0),MATCH($F166,'Unit of measures'!$A$7:$R$7,0))","v":{"$error":"#N/A"}},null,null,{"$f":"$R166*INDEX('Unit of measures'!$A$7:$R$24,MATCH(S$4,'Unit of measures'!$A$7:$A$24,0),MATCH($Q166,'Unit of measures'!$A$7:$R$7,0))","v":{"$error":"#N/A"}},{"$f":"$R166*INDEX('Unit of measures'!$A$7:$R$24,MATCH(T$4,'Unit of measures'!$A$7:$A$24,0),MATCH($Q166,'Unit of measures'!$A$7:$R$7,0))","v":{"$error":"#N/A"}},{"$f":"$R166*INDEX('Unit of measures'!$A$7:$R$24,MATCH(U$4,'Unit of measures'!$A$7:$A$24,0),MATCH($Q166,'Unit of measures'!$A$7:$R$7,0))","v":{"$error":"#N/A"}},{"$f":"$R166*INDEX('Unit of measures'!$A$7:$R$24,MATCH(V$4,'Unit of measures'!$A$7:$A$24,0),MATCH($Q166,'Unit of measures'!$A$7:$R$7,0))","v":{"$error":"#N/A"}},{"$f":"$R166*INDEX('Unit of measures'!$A$7:$R$24,MATCH(W$4,'Unit of measures'!$A$7:$A$24,0),MATCH($Q166,'Unit of measures'!$A$7:$R$7,0))","v":{"$error":"#N/A"}},"Each"]
[null,null,null,null,"",null,null,{"$f":"$G167*INDEX('Unit of measures'!$A$7:$R$24,MATCH(H$4,'Unit of measures'!$A$7:$A$24,0),MATCH($F167,'Unit of measures'!$A$7:$R$7,0))","v":{"$error":"#N/A"}},{"$f":"$G167*INDEX('Unit of measures'!$A$7:$R$24,MATCH(I$4,'Unit of measures'!$A$7:$A$24,0),MATCH($F167,'Unit of measures'!$A$7:$R$7,0))","v":{"$error":"#N/A"}},{"$f":"$G167*INDEX('Unit of measures'!$A$7:$R$24,MATCH(J$4,'Unit of measures'!$A$7:$A$24,0),MATCH($F167,'Unit of measures'!$A$7:$R$7,0))","v":{"$error":"#N/A"}},{"$f":"$G167*INDEX('Unit of measures'!$A$7:$R$24,MATCH(K$4,'Unit of measures'!$A$7:$A$24,0),MATCH($F167,'Unit of measures'!$A$7:$R$7,0))","v":{"$error":"#N/A"}},{"$f":"$G167*INDEX('Unit of measures'!$A$7:$R$24,MATCH(L$4,'Unit of measures'!$A$7:$A$24,0),MATCH($F167,'Unit of measures'!$A$7:$R$7,0))","v":{"$error":"#N/A"}},{"$f":"$G167*INDEX('Unit of measures'!$A$7:$R$24,MATCH(M$4,'Unit of measures'!$A$7:$A$24,0),MATCH($F167,'Unit of measures'!$A$7:$R$7,0))","v":{"$error":"#N/A"}},{"$f":"$G167*INDEX('Unit of measures'!$A$7:$R$24,MATCH(N$4,'Unit of measures'!$A$7:$A$24,0),MATCH($F167,'Unit of measures'!$A$7:$R$7,0))","v":{"$error":"#N/A"}},{"$f":"$G167*INDEX('Unit of measures'!$A$7:$R$24,MATCH(O$4,'Unit of measures'!$A$7:$A$24,0),MATCH($F167,'Unit of measures'!$A$7:$R$7,0))","v":{"$error":"#N/A"}},{"$f":"$G167*INDEX('Unit of measures'!$A$7:$R$24,MATCH(P$4,'Unit of measures'!$A$7:$A$24,0),MATCH($F167,'Unit of measures'!$A$7:$R$7,0))","v":{"$error":"#N/A"}},null,null,{"$f":"$R167*INDEX('Unit of measures'!$A$7:$R$24,MATCH(S$4,'Unit of measures'!$A$7:$A$24,0),MATCH($Q167,'Unit of measures'!$A$7:$R$7,0))","v":{"$error":"#N/A"}},{"$f":"$R167*INDEX('Unit of measures'!$A$7:$R$24,MATCH(T$4,'Unit of measures'!$A$7:$A$24,0),MATCH($Q167,'Unit of measures'!$A$7:$R$7,0))","v":{"$error":"#N/A"}},{"$f":"$R167*INDEX('Unit of measures'!$A$7:$R$24,MATCH(U$4,'Unit of measures'!$A$7:$A$24,0),MATCH($Q167,'Unit of measures'!$A$7:$R$7,0))","v":{"$error":"#N/A"}},{"$f":"$R167*INDEX('Unit of measures'!$A$7:$R$24,MATCH(V$4,'Unit of measures'!$A$7:$A$24,0),MATCH($Q167,'Unit of measures'!$A$7:$R$7,0))","v":{"$error":"#N/A"}},{"$f":"$R167*INDEX('Unit of measures'!$A$7:$R$24,MATCH(W$4,'Unit of measures'!$A$7:$A$24,0),MATCH($Q167,'Unit of measures'!$A$7:$R$7,0))","v":{"$error":"#N/A"}},"Each"]
[null,null,null,null,"",null,null,{"$f":"$G168*INDEX('Unit of measures'!$A$7:$R$24,MATCH(H$4,'Unit of measures'!$A$7:$A$24,0),MATCH($F168,'Unit of measures'!$A$7:$R$7,0))","v":{"$error":"#N/A"}},{"$f":"$G168*INDEX('Unit of measures'!$A$7:$R$24,MATCH(I$4,'Unit of measures'!$A$7:$A$24,0),MATCH($F168,'Unit of measures'!$A$7:$R$7,0))","v":{"$error":"#N/A"}},{"$f":"$G168*INDEX('Unit of measures'!$A$7:$R$24,MATCH(J$4,'Unit of measures'!$A$7:$A$24,0),MATCH($F168,'Unit of measures'!$A$7:$R$7,0))","v":{"$error":"#N/A"}},{"$f":"$G168*INDEX('Unit of measures'!$A$7:$R$24,MATCH(K$4,'Unit of measures'!$A$7:$A$24,0),MATCH($F168,'Unit of measures'!$A$7:$R$7,0))","v":{"$error":"#N/A"}},{"$f":"$G168*INDEX('Unit of measures'!$A$7:$R$24,MATCH(L$4,'Unit of measures'!$A$7:$A$24,0),MATCH($F168,'Unit of measures'!$A$7:$R$7,0))","v":{"$error":"#N/A"}},{"$f":"$G168*INDEX('Unit of measures'!$A$7:$R$24,MATCH(M$4,'Unit of measures'!$A$7:$A$24,0),MATCH($F168,'Unit of measures'!$A$7:$R$7,0))","v":{"$error":"#N/A"}},{"$f":"$G168*INDEX('Unit of measures'!$A$7:$R$24,MATCH(N$4,'Unit of measures'!$A$7:$A$24,0),MATCH($F168,'Unit of measures'!$A$7:$R$7,0))","v":{"$error":"#N/A"}},{"$f":"$G168*INDEX('Unit of measures'!$A$7:$R$24,MATCH(O$4,'Unit of measures'!$A$7:$A$24,0),MATCH($F168,'Unit of measures'!$A$7:$R$7,0))","v":{"$error":"#N/A"}},{"$f":"$G168*INDEX('Unit of measures'!$A$7:$R$24,MATCH(P$4,'Unit of measures'!$A$7:$A$24,0),MATCH($F168,'Unit of measures'!$A$7:$R$7,0))","v":{"$error":"#N/A"}},null,null,{"$f":"$R168*INDEX('Unit of measures'!$A$7:$R$24,MATCH(S$4,'Unit of measures'!$A$7:$A$24,0),MATCH($Q168,'Unit of measures'!$A$7:$R$7,0))","v":{"$error":"#N/A"}},{"$f":"$R168*INDEX('Unit of measures'!$A$7:$R$24,MATCH(T$4,'Unit of measures'!$A$7:$A$24,0),MATCH($Q168,'Unit of measures'!$A$7:$R$7,0))","v":{"$error":"#N/A"}},{"$f":"$R168*INDEX('Unit of measures'!$A$7:$R$24,MATCH(U$4,'Unit of measures'!$A$7:$A$24,0),MATCH($Q168,'Unit of measures'!$A$7:$R$7,0))","v":{"$error":"#N/A"}},{"$f":"$R168*INDEX('Unit of measures'!$A$7:$R$24,MATCH(V$4,'Unit of measures'!$A$7:$A$24,0),MATCH($Q168,'Unit of measures'!$A$7:$R$7,0))","v":{"$error":"#N/A"}},{"$f":"$R168*INDEX('Unit of measures'!$A$7:$R$24,MATCH(W$4,'Unit of measures'!$A$7:$A$24,0),MATCH($Q168,'Unit of measures'!$A$7:$R$7,0))","v":{"$error":"#N/A"}},"Each"]
[null,null,null,null,"",null,null,{"$f":"$G169*INDEX('Unit of measures'!$A$7:$R$24,MATCH(H$4,'Unit of measures'!$A$7:$A$24,0),MATCH($F169,'Unit of measures'!$A$7:$R$7,0))","v":{"$error":"#N/A"}},{"$f":"$G169*INDEX('Unit of measures'!$A$7:$R$24,MATCH(I$4,'Unit of measures'!$A$7:$A$24,0),MATCH($F169,'Unit of measures'!$A$7:$R$7,0))","v":{"$error":"#N/A"}},{"$f":"$G169*INDEX('Unit of measures'!$A$7:$R$24,MATCH(J$4,'Unit of measures'!$A$7:$A$24,0),MATCH($F169,'Unit of measures'!$A$7:$R$7,0))","v":{"$error":"#N/A"}},{"$f":"$G169*INDEX('Unit of measures'!$A$7:$R$24,MATCH(K$4,'Unit of measures'!$A$7:$A$24,0),MATCH($F169,'Unit of measures'!$A$7:$R$7,0))","v":{"$error":"#N/A"}},{"$f":"$G169*INDEX('Unit of measures'!$A$7:$R$24,MATCH(L$4,'Unit of measures'!$A$7:$A$24,0),MATCH($F169,'Unit of measures'!$A$7:$R$7,0))","v":{"$error":"#N/A"}},{"$f":"$G169*INDEX('Unit of measures'!$A$7:$R$24,MATCH(M$4,'Unit of measures'!$A$7:$A$24,0),MATCH($F169,'Unit of measures'!$A$7:$R$7,0))","v":{"$error":"#N/A"}},{"$f":"$G169*INDEX('Unit of measures'!$A$7:$R$24,MATCH(N$4,'Unit of measures'!$A$7:$A$24,0),MATCH($F169,'Unit of measures'!$A$7:$R$7,0))","v":{"$error":"#N/A"}},{"$f":"$G169*INDEX('Unit of measures'!$A$7:$R$24,MATCH(O$4,'Unit of measures'!$A$7:$A$24,0),MATCH($F169,'Unit of measures'!$A$7:$R$7,0))","v":{"$error":"#N/A"}},{"$f":"$G169*INDEX('Unit of measures'!$A$7:$R$24,MATCH(P$4,'Unit of measures'!$A$7:$A$24,0),MATCH($F169,'Unit of measures'!$A$7:$R$7,0))","v":{"$error":"#N/A"}},null,null,{"$f":"$R169*INDEX('Unit of measures'!$A$7:$R$24,MATCH(S$4,'Unit of measures'!$A$7:$A$24,0),MATCH($Q169,'Unit of measures'!$A$7:$R$7,0))","v":{"$error":"#N/A"}},{"$f":"$R169*INDEX('Unit of measures'!$A$7:$R$24,MATCH(T$4,'Unit of measures'!$A$7:$A$24,0),MATCH($Q169,'Unit of measures'!$A$7:$R$7,0))","v":{"$error":"#N/A"}},{"$f":"$R169*INDEX('Unit of measures'!$A$7:$R$24,MATCH(U$4,'Unit of measures'!$A$7:$A$24,0),MATCH($Q169,'Unit of measures'!$A$7:$R$7,0))","v":{"$error":"#N/A"}},{"$f":"$R169*INDEX('Unit of measures'!$A$7:$R$24,MATCH(V$4,'Unit of measures'!$A$7:$A$24,0),MATCH($Q169,'Unit of measures'!$A$7:$R$7,0))","v":{"$error":"#N/A"}},{"$f":"$R169*INDEX('Unit of measures'!$A$7:$R$24,MATCH(W$4,'Unit of measures'!$A$7:$A$24,0),MATCH($Q169,'Unit of measures'!$A$7:$R$7,0))","v":{"$error":"#N/A"}},"Each"]
[null,null,null,null,"",null,null,{"$f":"$G170*INDEX('Unit of measures'!$A$7:$R$24,MATCH(H$4,'Unit of measures'!$A$7:$A$24,0),MATCH($F170,'Unit of measures'!$A$7:$R$7,0))","v":{"$error":"#N/A"}},{"$f":"$G170*INDEX('Unit of measures'!$A$7:$R$24,MATCH(I$4,'Unit of measures'!$A$7:$A$24,0),MATCH($F170,'Unit of measures'!$A$7:$R$7,0))","v":{"$error":"#N/A"}},{"$f":"$G170*INDEX('Unit of measures'!$A$7:$R$24,MATCH(J$4,'Unit of measures'!$A$7:$A$24,0),MATCH($F170,'Unit of measures'!$A$7:$R$7,0))","v":{"$error":"#N/A"}},{"$f":"$G170*INDEX('Unit of measures'!$A$7:$R$24,MATCH(K$4,'Unit of measures'!$A$7:$A$24,0),MATCH($F170,'Unit of measures'!$A$7:$R$7,0))","v":{"$error":"#N/A"}},{"$f":"$G170*INDEX('Unit of measures'!$A$7:$R$24,MATCH(L$4,'Unit of measures'!$A$7:$A$24,0),MATCH($F170,'Unit of measures'!$A$7:$R$7,0))","v":{"$error":"#N/A"}},{"$f":"$G170*INDEX('Unit of measures'!$A$7:$R$24,MATCH(M$4,'Unit of measures'!$A$7:$A$24,0),MATCH($F170,'Unit of measures'!$A$7:$R$7,0))","v":{"$error":"#N/A"}},{"$f":"$G170*INDEX('Unit of measures'!$A$7:$R$24,MATCH(N$4,'Unit of measures'!$A$7:$A$24,0),MATCH($F170,'Unit of measures'!$A$7:$R$7,0))","v":{"$error":"#N/A"}},{"$f":"$G170*INDEX('Unit of measures'!$A$7:$R$24,MATCH(O$4,'Unit of measures'!$A$7:$A$24,0),MATCH($F170,'Unit of measures'!$A$7:$R$7,0))","v":{"$error":"#N/A"}},{"$f":"$G170*INDEX('Unit of measures'!$A$7:$R$24,MATCH(P$4,'Unit of measures'!$A$7:$A$24,0),MATCH($F170,'Unit of measures'!$A$7:$R$7,0))","v":{"$error":"#N/A"}},null,null,{"$f":"$R170*INDEX('Unit of measures'!$A$7:$R$24,MATCH(S$4,'Unit of measures'!$A$7:$A$24,0),MATCH($Q170,'Unit of measures'!$A$7:$R$7,0))","v":{"$error":"#N/A"}},{"$f":"$R170*INDEX('Unit of measures'!$A$7:$R$24,MATCH(T$4,'Unit of measures'!$A$7:$A$24,0),MATCH($Q170,'Unit of measures'!$A$7:$R$7,0))","v":{"$error":"#N/A"}},{"$f":"$R170*INDEX('Unit of measures'!$A$7:$R$24,MATCH(U$4,'Unit of measures'!$A$7:$A$24,0),MATCH($Q170,'Unit of measures'!$A$7:$R$7,0))","v":{"$error":"#N/A"}},{"$f":"$R170*INDEX('Unit of measures'!$A$7:$R$24,MATCH(V$4,'Unit of measures'!$A$7:$A$24,0),MATCH($Q170,'Unit of measures'!$A$7:$R$7,0))","v":{"$error":"#N/A"}},{"$f":"$R170*INDEX('Unit of measures'!$A$7:$R$24,MATCH(W$4,'Unit of measures'!$A$7:$A$24,0),MATCH($Q170,'Unit of measures'!$A$7:$R$7,0))","v":{"$error":"#N/A"}},"Each"]
[null,null,null,null,"",null,null,{"$f":"$G171*INDEX('Unit of measures'!$A$7:$R$24,MATCH(H$4,'Unit of measures'!$A$7:$A$24,0),MATCH($F171,'Unit of measures'!$A$7:$R$7,0))","v":{"$error":"#N/A"}},{"$f":"$G171*INDEX('Unit of measures'!$A$7:$R$24,MATCH(I$4,'Unit of measures'!$A$7:$A$24,0),MATCH($F171,'Unit of measures'!$A$7:$R$7,0))","v":{"$error":"#N/A"}},{"$f":"$G171*INDEX('Unit of measures'!$A$7:$R$24,MATCH(J$4,'Unit of measures'!$A$7:$A$24,0),MATCH($F171,'Unit of measures'!$A$7:$R$7,0))","v":{"$error":"#N/A"}},{"$f":"$G171*INDEX('Unit of measures'!$A$7:$R$24,MATCH(K$4,'Unit of measures'!$A$7:$A$24,0),MATCH($F171,'Unit of measures'!$A$7:$R$7,0))","v":{"$error":"#N/A"}},{"$f":"$G171*INDEX('Unit of measures'!$A$7:$R$24,MATCH(L$4,'Unit of measures'!$A$7:$A$24,0),MATCH($F171,'Unit of measures'!$A$7:$R$7,0))","v":{"$error":"#N/A"}},{"$f":"$G171*INDEX('Unit of measures'!$A$7:$R$24,MATCH(M$4,'Unit of measures'!$A$7:$A$24,0),MATCH($F171,'Unit of measures'!$A$7:$R$7,0))","v":{"$error":"#N/A"}},{"$f":"$G171*INDEX('Unit of measures'!$A$7:$R$24,MATCH(N$4,'Unit of measures'!$A$7:$A$24,0),MATCH($F171,'Unit of measures'!$A$7:$R$7,0))","v":{"$error":"#N/A"}},{"$f":"$G171*INDEX('Unit of measures'!$A$7:$R$24,MATCH(O$4,'Unit of measures'!$A$7:$A$24,0),MATCH($F171,'Unit of measures'!$A$7:$R$7,0))","v":{"$error":"#N/A"}},{"$f":"$G171*INDEX('Unit of measures'!$A$7:$R$24,MATCH(P$4,'Unit of measures'!$A$7:$A$24,0),MATCH($F171,'Unit of measures'!$A$7:$R$7,0))","v":{"$error":"#N/A"}},null,null,{"$f":"$R171*INDEX('Unit of measures'!$A$7:$R$24,MATCH(S$4,'Unit of measures'!$A$7:$A$24,0),MATCH($Q171,'Unit of measures'!$A$7:$R$7,0))","v":{"$error":"#N/A"}},{"$f":"$R171*INDEX('Unit of measures'!$A$7:$R$24,MATCH(T$4,'Unit of measures'!$A$7:$A$24,0),MATCH($Q171,'Unit of measures'!$A$7:$R$7,0))","v":{"$error":"#N/A"}},{"$f":"$R171*INDEX('Unit of measures'!$A$7:$R$24,MATCH(U$4,'Unit of measures'!$A$7:$A$24,0),MATCH($Q171,'Unit of measures'!$A$7:$R$7,0))","v":{"$error":"#N/A"}},{"$f":"$R171*INDEX('Unit of measures'!$A$7:$R$24,MATCH(V$4,'Unit of measures'!$A$7:$A$24,0),MATCH($Q171,'Unit of measures'!$A$7:$R$7,0))","v":{"$error":"#N/A"}},{"$f":"$R171*INDEX('Unit of measures'!$A$7:$R$24,MATCH(W$4,'Unit of measures'!$A$7:$A$24,0),MATCH($Q171,'Unit of measures'!$A$7:$R$7,0))","v":{"$error":"#N/A"}},"Each"]
[null,null,null,null,"",null,null,{"$f":"$G172*INDEX('Unit of measures'!$A$7:$R$24,MATCH(H$4,'Unit of measures'!$A$7:$A$24,0),MATCH($F172,'Unit of measures'!$A$7:$R$7,0))","v":{"$error":"#N/A"}},{"$f":"$G172*INDEX('Unit of measures'!$A$7:$R$24,MATCH(I$4,'Unit of measures'!$A$7:$A$24,0),MATCH($F172,'Unit of measures'!$A$7:$R$7,0))","v":{"$error":"#N/A"}},{"$f":"$G172*INDEX('Unit of measures'!$A$7:$R$24,MATCH(J$4,'Unit of measures'!$A$7:$A$24,0),MATCH($F172,'Unit of measures'!$A$7:$R$7,0))","v":{"$error":"#N/A"}},{"$f":"$G172*INDEX('Unit of measures'!$A$7:$R$24,MATCH(K$4,'Unit of measures'!$A$7:$A$24,0),MATCH($F172,'Unit of measures'!$A$7:$R$7,0))","v":{"$error":"#N/A"}},{"$f":"$G172*INDEX('Unit of measures'!$A$7:$R$24,MATCH(L$4,'Unit of measures'!$A$7:$A$24,0),MATCH($F172,'Unit of measures'!$A$7:$R$7,0))","v":{"$error":"#N/A"}},{"$f":"$G172*INDEX('Unit of measures'!$A$7:$R$24,MATCH(M$4,'Unit of measures'!$A$7:$A$24,0),MATCH($F172,'Unit of measures'!$A$7:$R$7,0))","v":{"$error":"#N/A"}},{"$f":"$G172*INDEX('Unit of measures'!$A$7:$R$24,MATCH(N$4,'Unit of measures'!$A$7:$A$24,0),MATCH($F172,'Unit of measures'!$A$7:$R$7,0))","v":{"$error":"#N/A"}},{"$f":"$G172*INDEX('Unit of measures'!$A$7:$R$24,MATCH(O$4,'Unit of measures'!$A$7:$A$24,0),MATCH($F172,'Unit of measures'!$A$7:$R$7,0))","v":{"$error":"#N/A"}},{"$f":"$G172*INDEX('Unit of measures'!$A$7:$R$24,MATCH(P$4,'Unit of measures'!$A$7:$A$24,0),MATCH($F172,'Unit of measures'!$A$7:$R$7,0))","v":{"$error":"#N/A"}},null,null,{"$f":"$R172*INDEX('Unit of measures'!$A$7:$R$24,MATCH(S$4,'Unit of measures'!$A$7:$A$24,0),MATCH($Q172,'Unit of measures'!$A$7:$R$7,0))","v":{"$error":"#N/A"}},{"$f":"$R172*INDEX('Unit of measures'!$A$7:$R$24,MATCH(T$4,'Unit of measures'!$A$7:$A$24,0),MATCH($Q172,'Unit of measures'!$A$7:$R$7,0))","v":{"$error":"#N/A"}},{"$f":"$R172*INDEX('Unit of measures'!$A$7:$R$24,MATCH(U$4,'Unit of measures'!$A$7:$A$24,0),MATCH($Q172,'Unit of measures'!$A$7:$R$7,0))","v":{"$error":"#N/A"}},{"$f":"$R172*INDEX('Unit of measures'!$A$7:$R$24,MATCH(V$4,'Unit of measures'!$A$7:$A$24,0),MATCH($Q172,'Unit of measures'!$A$7:$R$7,0))","v":{"$error":"#N/A"}},{"$f":"$R172*INDEX('Unit of measures'!$A$7:$R$24,MATCH(W$4,'Unit of measures'!$A$7:$A$24,0),MATCH($Q172,'Unit of measures'!$A$7:$R$7,0))","v":{"$error":"#N/A"}},"Each"]
[null,null,null,null,"",null,null,{"$f":"$G173*INDEX('Unit of measures'!$A$7:$R$24,MATCH(H$4,'Unit of measures'!$A$7:$A$24,0),MATCH($F173,'Unit of measures'!$A$7:$R$7,0))","v":{"$error":"#N/A"}},{"$f":"$G173*INDEX('Unit of measures'!$A$7:$R$24,MATCH(I$4,'Unit of measures'!$A$7:$A$24,0),MATCH($F173,'Unit of measures'!$A$7:$R$7,0))","v":{"$error":"#N/A"}},{"$f":"$G173*INDEX('Unit of measures'!$A$7:$R$24,MATCH(J$4,'Unit of measures'!$A$7:$A$24,0),MATCH($F173,'Unit of measures'!$A$7:$R$7,0))","v":{"$error":"#N/A"}},{"$f":"$G173*INDEX('Unit of measures'!$A$7:$R$24,MATCH(K$4,'Unit of measures'!$A$7:$A$24,0),MATCH($F173,'Unit of measures'!$A$7:$R$7,0))","v":{"$error":"#N/A"}},{"$f":"$G173*INDEX('Unit of measures'!$A$7:$R$24,MATCH(L$4,'Unit of measures'!$A$7:$A$24,0),MATCH($F173,'Unit of measures'!$A$7:$R$7,0))","v":{"$error":"#N/A"}},{"$f":"$G173*INDEX('Unit of measures'!$A$7:$R$24,MATCH(M$4,'Unit of measures'!$A$7:$A$24,0),MATCH($F173,'Unit of measures'!$A$7:$R$7,0))","v":{"$error":"#N/A"}},{"$f":"$G173*INDEX('Unit of measures'!$A$7:$R$24,MATCH(N$4,'Unit of measures'!$A$7:$A$24,0),MATCH($F173,'Unit of measures'!$A$7:$R$7,0))","v":{"$error":"#N/A"}},{"$f":"$G173*INDEX('Unit of measures'!$A$7:$R$24,MATCH(O$4,'Unit of measures'!$A$7:$A$24,0),MATCH($F173,'Unit of measures'!$A$7:$R$7,0))","v":{"$error":"#N/A"}},{"$f":"$G173*INDEX('Unit of measures'!$A$7:$R$24,MATCH(P$4,'Unit of measures'!$A$7:$A$24,0),MATCH($F173,'Unit of measures'!$A$7:$R$7,0))","v":{"$error":"#N/A"}},null,null,{"$f":"$R173*INDEX('Unit of measures'!$A$7:$R$24,MATCH(S$4,'Unit of measures'!$A$7:$A$24,0),MATCH($Q173,'Unit of measures'!$A$7:$R$7,0))","v":{"$error":"#N/A"}},{"$f":"$R173*INDEX('Unit of measures'!$A$7:$R$24,MATCH(T$4,'Unit of measures'!$A$7:$A$24,0),MATCH($Q173,'Unit of measures'!$A$7:$R$7,0))","v":{"$error":"#N/A"}},{"$f":"$R173*INDEX('Unit of measures'!$A$7:$R$24,MATCH(U$4,'Unit of measures'!$A$7:$A$24,0),MATCH($Q173,'Unit of measures'!$A$7:$R$7,0))","v":{"$error":"#N/A"}},{"$f":"$R173*INDEX('Unit of measures'!$A$7:$R$24,MATCH(V$4,'Unit of measures'!$A$7:$A$24,0),MATCH($Q173,'Unit of measures'!$A$7:$R$7,0))","v":{"$error":"#N/A"}},{"$f":"$R173*INDEX('Unit of measures'!$A$7:$R$24,MATCH(W$4,'Unit of measures'!$A$7:$A$24,0),MATCH($Q173,'Unit of measures'!$A$7:$R$7,0))","v":{"$error":"#N/A"}},"Each"]
[null,null,null,null,"",null,null,{"$f":"$G174*INDEX('Unit of measures'!$A$7:$R$24,MATCH(H$4,'Unit of measures'!$A$7:$A$24,0),MATCH($F174,'Unit of measures'!$A$7:$R$7,0))","v":{"$error":"#N/A"}},{"$f":"$G174*INDEX('Unit of measures'!$A$7:$R$24,MATCH(I$4,'Unit of measures'!$A$7:$A$24,0),MATCH($F174,'Unit of measures'!$A$7:$R$7,0))","v":{"$error":"#N/A"}},{"$f":"$G174*INDEX('Unit of measures'!$A$7:$R$24,MATCH(J$4,'Unit of measures'!$A$7:$A$24,0),MATCH($F174,'Unit of measures'!$A$7:$R$7,0))","v":{"$error":"#N/A"}},{"$f":"$G174*INDEX('Unit of measures'!$A$7:$R$24,MATCH(K$4,'Unit of measures'!$A$7:$A$24,0),MATCH($F174,'Unit of measures'!$A$7:$R$7,0))","v":{"$error":"#N/A"}},{"$f":"$G174*INDEX('Unit of measures'!$A$7:$R$24,MATCH(L$4,'Unit of measures'!$A$7:$A$24,0),MATCH($F174,'Unit of measures'!$A$7:$R$7,0))","v":{"$error":"#N/A"}},{"$f":"$G174*INDEX('Unit of measures'!$A$7:$R$24,MATCH(M$4,'Unit of measures'!$A$7:$A$24,0),MATCH($F174,'Unit of measures'!$A$7:$R$7,0))","v":{"$error":"#N/A"}},{"$f":"$G174*INDEX('Unit of measures'!$A$7:$R$24,MATCH(N$4,'Unit of measures'!$A$7:$A$24,0),MATCH($F174,'Unit of measures'!$A$7:$R$7,0))","v":{"$error":"#N/A"}},{"$f":"$G174*INDEX('Unit of measures'!$A$7:$R$24,MATCH(O$4,'Unit of measures'!$A$7:$A$24,0),MATCH($F174,'Unit of measures'!$A$7:$R$7,0))","v":{"$error":"#N/A"}},{"$f":"$G174*INDEX('Unit of measures'!$A$7:$R$24,MATCH(P$4,'Unit of measures'!$A$7:$A$24,0),MATCH($F174,'Unit of measures'!$A$7:$R$7,0))","v":{"$error":"#N/A"}},null,null,{"$f":"$R174*INDEX('Unit of measures'!$A$7:$R$24,MATCH(S$4,'Unit of measures'!$A$7:$A$24,0),MATCH($Q174,'Unit of measures'!$A$7:$R$7,0))","v":{"$error":"#N/A"}},{"$f":"$R174*INDEX('Unit of measures'!$A$7:$R$24,MATCH(T$4,'Unit of measures'!$A$7:$A$24,0),MATCH($Q174,'Unit of measures'!$A$7:$R$7,0))","v":{"$error":"#N/A"}},{"$f":"$R174*INDEX('Unit of measures'!$A$7:$R$24,MATCH(U$4,'Unit of measures'!$A$7:$A$24,0),MATCH($Q174,'Unit of measures'!$A$7:$R$7,0))","v":{"$error":"#N/A"}},{"$f":"$R174*INDEX('Unit of measures'!$A$7:$R$24,MATCH(V$4,'Unit of measures'!$A$7:$A$24,0),MATCH($Q174,'Unit of measures'!$A$7:$R$7,0))","v":{"$error":"#N/A"}},{"$f":"$R174*INDEX('Unit of measures'!$A$7:$R$24,MATCH(W$4,'Unit of measures'!$A$7:$A$24,0),MATCH($Q174,'Unit of measures'!$A$7:$R$7,0))","v":{"$error":"#N/A"}},"Each"]
[null,null,null,null,"",null,null,{"$f":"$G175*INDEX('Unit of measures'!$A$7:$R$24,MATCH(H$4,'Unit of measures'!$A$7:$A$24,0),MATCH($F175,'Unit of measures'!$A$7:$R$7,0))","v":{"$error":"#N/A"}},{"$f":"$G175*INDEX('Unit of measures'!$A$7:$R$24,MATCH(I$4,'Unit of measures'!$A$7:$A$24,0),MATCH($F175,'Unit of measures'!$A$7:$R$7,0))","v":{"$error":"#N/A"}},{"$f":"$G175*INDEX('Unit of measures'!$A$7:$R$24,MATCH(J$4,'Unit of measures'!$A$7:$A$24,0),MATCH($F175,'Unit of measures'!$A$7:$R$7,0))","v":{"$error":"#N/A"}},{"$f":"$G175*INDEX('Unit of measures'!$A$7:$R$24,MATCH(K$4,'Unit of measures'!$A$7:$A$24,0),MATCH($F175,'Unit of measures'!$A$7:$R$7,0))","v":{"$error":"#N/A"}},{"$f":"$G175*INDEX('Unit of measures'!$A$7:$R$24,MATCH(L$4,'Unit of measures'!$A$7:$A$24,0),MATCH($F175,'Unit of measures'!$A$7:$R$7,0))","v":{"$error":"#N/A"}},{"$f":"$G175*INDEX('Unit of measures'!$A$7:$R$24,MATCH(M$4,'Unit of measures'!$A$7:$A$24,0),MATCH($F175,'Unit of measures'!$A$7:$R$7,0))","v":{"$error":"#N/A"}},{"$f":"$G175*INDEX('Unit of measures'!$A$7:$R$24,MATCH(N$4,'Unit of measures'!$A$7:$A$24,0),MATCH($F175,'Unit of measures'!$A$7:$R$7,0))","v":{"$error":"#N/A"}},{"$f":"$G175*INDEX('Unit of measures'!$A$7:$R$24,MATCH(O$4,'Unit of measures'!$A$7:$A$24,0),MATCH($F175,'Unit of measures'!$A$7:$R$7,0))","v":{"$error":"#N/A"}},{"$f":"$G175*INDEX('Unit of measures'!$A$7:$R$24,MATCH(P$4,'Unit of measures'!$A$7:$A$24,0),MATCH($F175,'Unit of measures'!$A$7:$R$7,0))","v":{"$error":"#N/A"}},null,null,{"$f":"$R175*INDEX('Unit of measures'!$A$7:$R$24,MATCH(S$4,'Unit of measures'!$A$7:$A$24,0),MATCH($Q175,'Unit of measures'!$A$7:$R$7,0))","v":{"$error":"#N/A"}},{"$f":"$R175*INDEX('Unit of measures'!$A$7:$R$24,MATCH(T$4,'Unit of measures'!$A$7:$A$24,0),MATCH($Q175,'Unit of measures'!$A$7:$R$7,0))","v":{"$error":"#N/A"}},{"$f":"$R175*INDEX('Unit of measures'!$A$7:$R$24,MATCH(U$4,'Unit of measures'!$A$7:$A$24,0),MATCH($Q175,'Unit of measures'!$A$7:$R$7,0))","v":{"$error":"#N/A"}},{"$f":"$R175*INDEX('Unit of measures'!$A$7:$R$24,MATCH(V$4,'Unit of measures'!$A$7:$A$24,0),MATCH($Q175,'Unit of measures'!$A$7:$R$7,0))","v":{"$error":"#N/A"}},{"$f":"$R175*INDEX('Unit of measures'!$A$7:$R$24,MATCH(W$4,'Unit of measures'!$A$7:$A$24,0),MATCH($Q175,'Unit of measures'!$A$7:$R$7,0))","v":{"$error":"#N/A"}},"Each"]
[null,null,null,null,"",null,null,{"$f":"$G176*INDEX('Unit of measures'!$A$7:$R$24,MATCH(H$4,'Unit of measures'!$A$7:$A$24,0),MATCH($F176,'Unit of measures'!$A$7:$R$7,0))","v":{"$error":"#N/A"}},{"$f":"$G176*INDEX('Unit of measures'!$A$7:$R$24,MATCH(I$4,'Unit of measures'!$A$7:$A$24,0),MATCH($F176,'Unit of measures'!$A$7:$R$7,0))","v":{"$error":"#N/A"}},{"$f":"$G176*INDEX('Unit of measures'!$A$7:$R$24,MATCH(J$4,'Unit of measures'!$A$7:$A$24,0),MATCH($F176,'Unit of measures'!$A$7:$R$7,0))","v":{"$error":"#N/A"}},{"$f":"$G176*INDEX('Unit of measures'!$A$7:$R$24,MATCH(K$4,'Unit of measures'!$A$7:$A$24,0),MATCH($F176,'Unit of measures'!$A$7:$R$7,0))","v":{"$error":"#N/A"}},{"$f":"$G176*INDEX('Unit of measures'!$A$7:$R$24,MATCH(L$4,'Unit of measures'!$A$7:$A$24,0),MATCH($F176,'Unit of measures'!$A$7:$R$7,0))","v":{"$error":"#N/A"}},{"$f":"$G176*INDEX('Unit of measures'!$A$7:$R$24,MATCH(M$4,'Unit of measures'!$A$7:$A$24,0),MATCH($F176,'Unit of measures'!$A$7:$R$7,0))","v":{"$error":"#N/A"}},{"$f":"$G176*INDEX('Unit of measures'!$A$7:$R$24,MATCH(N$4,'Unit of measures'!$A$7:$A$24,0),MATCH($F176,'Unit of measures'!$A$7:$R$7,0))","v":{"$error":"#N/A"}},{"$f":"$G176*INDEX('Unit of measures'!$A$7:$R$24,MATCH(O$4,'Unit of measures'!$A$7:$A$24,0),MATCH($F176,'Unit of measures'!$A$7:$R$7,0))","v":{"$error":"#N/A"}},{"$f":"$G176*INDEX('Unit of measures'!$A$7:$R$24,MATCH(P$4,'Unit of measures'!$A$7:$A$24,0),MATCH($F176,'Unit of measures'!$A$7:$R$7,0))","v":{"$error":"#N/A"}},null,null,{"$f":"$R176*INDEX('Unit of measures'!$A$7:$R$24,MATCH(S$4,'Unit of measures'!$A$7:$A$24,0),MATCH($Q176,'Unit of measures'!$A$7:$R$7,0))","v":{"$error":"#N/A"}},{"$f":"$R176*INDEX('Unit of measures'!$A$7:$R$24,MATCH(T$4,'Unit of measures'!$A$7:$A$24,0),MATCH($Q176,'Unit of measures'!$A$7:$R$7,0))","v":{"$error":"#N/A"}},{"$f":"$R176*INDEX('Unit of measures'!$A$7:$R$24,MATCH(U$4,'Unit of measures'!$A$7:$A$24,0),MATCH($Q176,'Unit of measures'!$A$7:$R$7,0))","v":{"$error":"#N/A"}},{"$f":"$R176*INDEX('Unit of measures'!$A$7:$R$24,MATCH(V$4,'Unit of measures'!$A$7:$A$24,0),MATCH($Q176,'Unit of measures'!$A$7:$R$7,0))","v":{"$error":"#N/A"}},{"$f":"$R176*INDEX('Unit of measures'!$A$7:$R$24,MATCH(W$4,'Unit of measures'!$A$7:$A$24,0),MATCH($Q176,'Unit of measures'!$A$7:$R$7,0))","v":{"$error":"#N/A"}},"Each"]
[null,null,null,null,"",null,null,{"$f":"$G177*INDEX('Unit of measures'!$A$7:$R$24,MATCH(H$4,'Unit of measures'!$A$7:$A$24,0),MATCH($F177,'Unit of measures'!$A$7:$R$7,0))","v":{"$error":"#N/A"}},{"$f":"$G177*INDEX('Unit of measures'!$A$7:$R$24,MATCH(I$4,'Unit of measures'!$A$7:$A$24,0),MATCH($F177,'Unit of measures'!$A$7:$R$7,0))","v":{"$error":"#N/A"}},{"$f":"$G177*INDEX('Unit of measures'!$A$7:$R$24,MATCH(J$4,'Unit of measures'!$A$7:$A$24,0),MATCH($F177,'Unit of measures'!$A$7:$R$7,0))","v":{"$error":"#N/A"}},{"$f":"$G177*INDEX('Unit of measures'!$A$7:$R$24,MATCH(K$4,'Unit of measures'!$A$7:$A$24,0),MATCH($F177,'Unit of measures'!$A$7:$R$7,0))","v":{"$error":"#N/A"}},{"$f":"$G177*INDEX('Unit of measures'!$A$7:$R$24,MATCH(L$4,'Unit of measures'!$A$7:$A$24,0),MATCH($F177,'Unit of measures'!$A$7:$R$7,0))","v":{"$error":"#N/A"}},{"$f":"$G177*INDEX('Unit of measures'!$A$7:$R$24,MATCH(M$4,'Unit of measures'!$A$7:$A$24,0),MATCH($F177,'Unit of measures'!$A$7:$R$7,0))","v":{"$error":"#N/A"}},{"$f":"$G177*INDEX('Unit of measures'!$A$7:$R$24,MATCH(N$4,'Unit of measures'!$A$7:$A$24,0),MATCH($F177,'Unit of measures'!$A$7:$R$7,0))","v":{"$error":"#N/A"}},{"$f":"$G177*INDEX('Unit of measures'!$A$7:$R$24,MATCH(O$4,'Unit of measures'!$A$7:$A$24,0),MATCH($F177,'Unit of measures'!$A$7:$R$7,0))","v":{"$error":"#N/A"}},{"$f":"$G177*INDEX('Unit of measures'!$A$7:$R$24,MATCH(P$4,'Unit of measures'!$A$7:$A$24,0),MATCH($F177,'Unit of measures'!$A$7:$R$7,0))","v":{"$error":"#N/A"}},null,null,{"$f":"$R177*INDEX('Unit of measures'!$A$7:$R$24,MATCH(S$4,'Unit of measures'!$A$7:$A$24,0),MATCH($Q177,'Unit of measures'!$A$7:$R$7,0))","v":{"$error":"#N/A"}},{"$f":"$R177*INDEX('Unit of measures'!$A$7:$R$24,MATCH(T$4,'Unit of measures'!$A$7:$A$24,0),MATCH($Q177,'Unit of measures'!$A$7:$R$7,0))","v":{"$error":"#N/A"}},{"$f":"$R177*INDEX('Unit of measures'!$A$7:$R$24,MATCH(U$4,'Unit of measures'!$A$7:$A$24,0),MATCH($Q177,'Unit of measures'!$A$7:$R$7,0))","v":{"$error":"#N/A"}},{"$f":"$R177*INDEX('Unit of measures'!$A$7:$R$24,MATCH(V$4,'Unit of measures'!$A$7:$A$24,0),MATCH($Q177,'Unit of measures'!$A$7:$R$7,0))","v":{"$error":"#N/A"}},{"$f":"$R177*INDEX('Unit of measures'!$A$7:$R$24,MATCH(W$4,'Unit of measures'!$A$7:$A$24,0),MATCH($Q177,'Unit of measures'!$A$7:$R$7,0))","v":{"$error":"#N/A"}},"Each"]
[null,null,null,null,"",null,null,{"$f":"$G178*INDEX('Unit of measures'!$A$7:$R$24,MATCH(H$4,'Unit of measures'!$A$7:$A$24,0),MATCH($F178,'Unit of measures'!$A$7:$R$7,0))","v":{"$error":"#N/A"}},{"$f":"$G178*INDEX('Unit of measures'!$A$7:$R$24,MATCH(I$4,'Unit of measures'!$A$7:$A$24,0),MATCH($F178,'Unit of measures'!$A$7:$R$7,0))","v":{"$error":"#N/A"}},{"$f":"$G178*INDEX('Unit of measures'!$A$7:$R$24,MATCH(J$4,'Unit of measures'!$A$7:$A$24,0),MATCH($F178,'Unit of measures'!$A$7:$R$7,0))","v":{"$error":"#N/A"}},{"$f":"$G178*INDEX('Unit of measures'!$A$7:$R$24,MATCH(K$4,'Unit of measures'!$A$7:$A$24,0),MATCH($F178,'Unit of measures'!$A$7:$R$7,0))","v":{"$error":"#N/A"}},{"$f":"$G178*INDEX('Unit of measures'!$A$7:$R$24,MATCH(L$4,'Unit of measures'!$A$7:$A$24,0),MATCH($F178,'Unit of measures'!$A$7:$R$7,0))","v":{"$error":"#N/A"}},{"$f":"$G178*INDEX('Unit of measures'!$A$7:$R$24,MATCH(M$4,'Unit of measures'!$A$7:$A$24,0),MATCH($F178,'Unit of measures'!$A$7:$R$7,0))","v":{"$error":"#N/A"}},{"$f":"$G178*INDEX('Unit of measures'!$A$7:$R$24,MATCH(N$4,'Unit of measures'!$A$7:$A$24,0),MATCH($F178,'Unit of measures'!$A$7:$R$7,0))","v":{"$error":"#N/A"}},{"$f":"$G178*INDEX('Unit of measures'!$A$7:$R$24,MATCH(O$4,'Unit of measures'!$A$7:$A$24,0),MATCH($F178,'Unit of measures'!$A$7:$R$7,0))","v":{"$error":"#N/A"}},{"$f":"$G178*INDEX('Unit of measures'!$A$7:$R$24,MATCH(P$4,'Unit of measures'!$A$7:$A$24,0),MATCH($F178,'Unit of measures'!$A$7:$R$7,0))","v":{"$error":"#N/A"}},null,null,{"$f":"$R178*INDEX('Unit of measures'!$A$7:$R$24,MATCH(S$4,'Unit of measures'!$A$7:$A$24,0),MATCH($Q178,'Unit of measures'!$A$7:$R$7,0))","v":{"$error":"#N/A"}},{"$f":"$R178*INDEX('Unit of measures'!$A$7:$R$24,MATCH(T$4,'Unit of measures'!$A$7:$A$24,0),MATCH($Q178,'Unit of measures'!$A$7:$R$7,0))","v":{"$error":"#N/A"}},{"$f":"$R178*INDEX('Unit of measures'!$A$7:$R$24,MATCH(U$4,'Unit of measures'!$A$7:$A$24,0),MATCH($Q178,'Unit of measures'!$A$7:$R$7,0))","v":{"$error":"#N/A"}},{"$f":"$R178*INDEX('Unit of measures'!$A$7:$R$24,MATCH(V$4,'Unit of measures'!$A$7:$A$24,0),MATCH($Q178,'Unit of measures'!$A$7:$R$7,0))","v":{"$error":"#N/A"}},{"$f":"$R178*INDEX('Unit of measures'!$A$7:$R$24,MATCH(W$4,'Unit of measures'!$A$7:$A$24,0),MATCH($Q178,'Unit of measures'!$A$7:$R$7,0))","v":{"$error":"#N/A"}},"Each"]
[null,null,null,null,"",null,null,{"$f":"$G179*INDEX('Unit of measures'!$A$7:$R$24,MATCH(H$4,'Unit of measures'!$A$7:$A$24,0),MATCH($F179,'Unit of measures'!$A$7:$R$7,0))","v":{"$error":"#N/A"}},{"$f":"$G179*INDEX('Unit of measures'!$A$7:$R$24,MATCH(I$4,'Unit of measures'!$A$7:$A$24,0),MATCH($F179,'Unit of measures'!$A$7:$R$7,0))","v":{"$error":"#N/A"}},{"$f":"$G179*INDEX('Unit of measures'!$A$7:$R$24,MATCH(J$4,'Unit of measures'!$A$7:$A$24,0),MATCH($F179,'Unit of measures'!$A$7:$R$7,0))","v":{"$error":"#N/A"}},{"$f":"$G179*INDEX('Unit of measures'!$A$7:$R$24,MATCH(K$4,'Unit of measures'!$A$7:$A$24,0),MATCH($F179,'Unit of measures'!$A$7:$R$7,0))","v":{"$error":"#N/A"}},{"$f":"$G179*INDEX('Unit of measures'!$A$7:$R$24,MATCH(L$4,'Unit of measures'!$A$7:$A$24,0),MATCH($F179,'Unit of measures'!$A$7:$R$7,0))","v":{"$error":"#N/A"}},{"$f":"$G179*INDEX('Unit of measures'!$A$7:$R$24,MATCH(M$4,'Unit of measures'!$A$7:$A$24,0),MATCH($F179,'Unit of measures'!$A$7:$R$7,0))","v":{"$error":"#N/A"}},{"$f":"$G179*INDEX('Unit of measures'!$A$7:$R$24,MATCH(N$4,'Unit of measures'!$A$7:$A$24,0),MATCH($F179,'Unit of measures'!$A$7:$R$7,0))","v":{"$error":"#N/A"}},{"$f":"$G179*INDEX('Unit of measures'!$A$7:$R$24,MATCH(O$4,'Unit of measures'!$A$7:$A$24,0),MATCH($F179,'Unit of measures'!$A$7:$R$7,0))","v":{"$error":"#N/A"}},{"$f":"$G179*INDEX('Unit of measures'!$A$7:$R$24,MATCH(P$4,'Unit of measures'!$A$7:$A$24,0),MATCH($F179,'Unit of measures'!$A$7:$R$7,0))","v":{"$error":"#N/A"}},null,null,{"$f":"$R179*INDEX('Unit of measures'!$A$7:$R$24,MATCH(S$4,'Unit of measures'!$A$7:$A$24,0),MATCH($Q179,'Unit of measures'!$A$7:$R$7,0))","v":{"$error":"#N/A"}},{"$f":"$R179*INDEX('Unit of measures'!$A$7:$R$24,MATCH(T$4,'Unit of measures'!$A$7:$A$24,0),MATCH($Q179,'Unit of measures'!$A$7:$R$7,0))","v":{"$error":"#N/A"}},{"$f":"$R179*INDEX('Unit of measures'!$A$7:$R$24,MATCH(U$4,'Unit of measures'!$A$7:$A$24,0),MATCH($Q179,'Unit of measures'!$A$7:$R$7,0))","v":{"$error":"#N/A"}},{"$f":"$R179*INDEX('Unit of measures'!$A$7:$R$24,MATCH(V$4,'Unit of measures'!$A$7:$A$24,0),MATCH($Q179,'Unit of measures'!$A$7:$R$7,0))","v":{"$error":"#N/A"}},{"$f":"$R179*INDEX('Unit of measures'!$A$7:$R$24,MATCH(W$4,'Unit of measures'!$A$7:$A$24,0),MATCH($Q179,'Unit of measures'!$A$7:$R$7,0))","v":{"$error":"#N/A"}},"Each"]
[null,null,null,null,"",null,null,{"$f":"$G180*INDEX('Unit of measures'!$A$7:$R$24,MATCH(H$4,'Unit of measures'!$A$7:$A$24,0),MATCH($F180,'Unit of measures'!$A$7:$R$7,0))","v":{"$error":"#N/A"}},{"$f":"$G180*INDEX('Unit of measures'!$A$7:$R$24,MATCH(I$4,'Unit of measures'!$A$7:$A$24,0),MATCH($F180,'Unit of measures'!$A$7:$R$7,0))","v":{"$error":"#N/A"}},{"$f":"$G180*INDEX('Unit of measures'!$A$7:$R$24,MATCH(J$4,'Unit of measures'!$A$7:$A$24,0),MATCH($F180,'Unit of measures'!$A$7:$R$7,0))","v":{"$error":"#N/A"}},{"$f":"$G180*INDEX('Unit of measures'!$A$7:$R$24,MATCH(K$4,'Unit of measures'!$A$7:$A$24,0),MATCH($F180,'Unit of measures'!$A$7:$R$7,0))","v":{"$error":"#N/A"}},{"$f":"$G180*INDEX('Unit of measures'!$A$7:$R$24,MATCH(L$4,'Unit of measures'!$A$7:$A$24,0),MATCH($F180,'Unit of measures'!$A$7:$R$7,0))","v":{"$error":"#N/A"}},{"$f":"$G180*INDEX('Unit of measures'!$A$7:$R$24,MATCH(M$4,'Unit of measures'!$A$7:$A$24,0),MATCH($F180,'Unit of measures'!$A$7:$R$7,0))","v":{"$error":"#N/A"}},{"$f":"$G180*INDEX('Unit of measures'!$A$7:$R$24,MATCH(N$4,'Unit of measures'!$A$7:$A$24,0),MATCH($F180,'Unit of measures'!$A$7:$R$7,0))","v":{"$error":"#N/A"}},{"$f":"$G180*INDEX('Unit of measures'!$A$7:$R$24,MATCH(O$4,'Unit of measures'!$A$7:$A$24,0),MATCH($F180,'Unit of measures'!$A$7:$R$7,0))","v":{"$error":"#N/A"}},{"$f":"$G180*INDEX('Unit of measures'!$A$7:$R$24,MATCH(P$4,'Unit of measures'!$A$7:$A$24,0),MATCH($F180,'Unit of measures'!$A$7:$R$7,0))","v":{"$error":"#N/A"}},null,null,{"$f":"$R180*INDEX('Unit of measures'!$A$7:$R$24,MATCH(S$4,'Unit of measures'!$A$7:$A$24,0),MATCH($Q180,'Unit of measures'!$A$7:$R$7,0))","v":{"$error":"#N/A"}},{"$f":"$R180*INDEX('Unit of measures'!$A$7:$R$24,MATCH(T$4,'Unit of measures'!$A$7:$A$24,0),MATCH($Q180,'Unit of measures'!$A$7:$R$7,0))","v":{"$error":"#N/A"}},{"$f":"$R180*INDEX('Unit of measures'!$A$7:$R$24,MATCH(U$4,'Unit of measures'!$A$7:$A$24,0),MATCH($Q180,'Unit of measures'!$A$7:$R$7,0))","v":{"$error":"#N/A"}},{"$f":"$R180*INDEX('Unit of measures'!$A$7:$R$24,MATCH(V$4,'Unit of measures'!$A$7:$A$24,0),MATCH($Q180,'Unit of measures'!$A$7:$R$7,0))","v":{"$error":"#N/A"}},{"$f":"$R180*INDEX('Unit of measures'!$A$7:$R$24,MATCH(W$4,'Unit of measures'!$A$7:$A$24,0),MATCH($Q180,'Unit of measures'!$A$7:$R$7,0))","v":{"$error":"#N/A"}},"Each"]
[null,null,null,null,"",null,null,{"$f":"$G181*INDEX('Unit of measures'!$A$7:$R$24,MATCH(H$4,'Unit of measures'!$A$7:$A$24,0),MATCH($F181,'Unit of measures'!$A$7:$R$7,0))","v":{"$error":"#N/A"}},{"$f":"$G181*INDEX('Unit of measures'!$A$7:$R$24,MATCH(I$4,'Unit of measures'!$A$7:$A$24,0),MATCH($F181,'Unit of measures'!$A$7:$R$7,0))","v":{"$error":"#N/A"}},{"$f":"$G181*INDEX('Unit of measures'!$A$7:$R$24,MATCH(J$4,'Unit of measures'!$A$7:$A$24,0),MATCH($F181,'Unit of measures'!$A$7:$R$7,0))","v":{"$error":"#N/A"}},{"$f":"$G181*INDEX('Unit of measures'!$A$7:$R$24,MATCH(K$4,'Unit of measures'!$A$7:$A$24,0),MATCH($F181,'Unit of measures'!$A$7:$R$7,0))","v":{"$error":"#N/A"}},{"$f":"$G181*INDEX('Unit of measures'!$A$7:$R$24,MATCH(L$4,'Unit of measures'!$A$7:$A$24,0),MATCH($F181,'Unit of measures'!$A$7:$R$7,0))","v":{"$error":"#N/A"}},{"$f":"$G181*INDEX('Unit of measures'!$A$7:$R$24,MATCH(M$4,'Unit of measures'!$A$7:$A$24,0),MATCH($F181,'Unit of measures'!$A$7:$R$7,0))","v":{"$error":"#N/A"}},{"$f":"$G181*INDEX('Unit of measures'!$A$7:$R$24,MATCH(N$4,'Unit of measures'!$A$7:$A$24,0),MATCH($F181,'Unit of measures'!$A$7:$R$7,0))","v":{"$error":"#N/A"}},{"$f":"$G181*INDEX('Unit of measures'!$A$7:$R$24,MATCH(O$4,'Unit of measures'!$A$7:$A$24,0),MATCH($F181,'Unit of measures'!$A$7:$R$7,0))","v":{"$error":"#N/A"}},{"$f":"$G181*INDEX('Unit of measures'!$A$7:$R$24,MATCH(P$4,'Unit of measures'!$A$7:$A$24,0),MATCH($F181,'Unit of measures'!$A$7:$R$7,0))","v":{"$error":"#N/A"}},null,null,{"$f":"$R181*INDEX('Unit of measures'!$A$7:$R$24,MATCH(S$4,'Unit of measures'!$A$7:$A$24,0),MATCH($Q181,'Unit of measures'!$A$7:$R$7,0))","v":{"$error":"#N/A"}},{"$f":"$R181*INDEX('Unit of measures'!$A$7:$R$24,MATCH(T$4,'Unit of measures'!$A$7:$A$24,0),MATCH($Q181,'Unit of measures'!$A$7:$R$7,0))","v":{"$error":"#N/A"}},{"$f":"$R181*INDEX('Unit of measures'!$A$7:$R$24,MATCH(U$4,'Unit of measures'!$A$7:$A$24,0),MATCH($Q181,'Unit of measures'!$A$7:$R$7,0))","v":{"$error":"#N/A"}},{"$f":"$R181*INDEX('Unit of measures'!$A$7:$R$24,MATCH(V$4,'Unit of measures'!$A$7:$A$24,0),MATCH($Q181,'Unit of measures'!$A$7:$R$7,0))","v":{"$error":"#N/A"}},{"$f":"$R181*INDEX('Unit of measures'!$A$7:$R$24,MATCH(W$4,'Unit of measures'!$A$7:$A$24,0),MATCH($Q181,'Unit of measures'!$A$7:$R$7,0))","v":{"$error":"#N/A"}},"Each"]
[null,null,null,null,"",null,null,{"$f":"$G182*INDEX('Unit of measures'!$A$7:$R$24,MATCH(H$4,'Unit of measures'!$A$7:$A$24,0),MATCH($F182,'Unit of measures'!$A$7:$R$7,0))","v":{"$error":"#N/A"}},{"$f":"$G182*INDEX('Unit of measures'!$A$7:$R$24,MATCH(I$4,'Unit of measures'!$A$7:$A$24,0),MATCH($F182,'Unit of measures'!$A$7:$R$7,0))","v":{"$error":"#N/A"}},{"$f":"$G182*INDEX('Unit of measures'!$A$7:$R$24,MATCH(J$4,'Unit of measures'!$A$7:$A$24,0),MATCH($F182,'Unit of measures'!$A$7:$R$7,0))","v":{"$error":"#N/A"}},{"$f":"$G182*INDEX('Unit of measures'!$A$7:$R$24,MATCH(K$4,'Unit of measures'!$A$7:$A$24,0),MATCH($F182,'Unit of measures'!$A$7:$R$7,0))","v":{"$error":"#N/A"}},{"$f":"$G182*INDEX('Unit of measures'!$A$7:$R$24,MATCH(L$4,'Unit of measures'!$A$7:$A$24,0),MATCH($F182,'Unit of measures'!$A$7:$R$7,0))","v":{"$error":"#N/A"}},{"$f":"$G182*INDEX('Unit of measures'!$A$7:$R$24,MATCH(M$4,'Unit of measures'!$A$7:$A$24,0),MATCH($F182,'Unit of measures'!$A$7:$R$7,0))","v":{"$error":"#N/A"}},{"$f":"$G182*INDEX('Unit of measures'!$A$7:$R$24,MATCH(N$4,'Unit of measures'!$A$7:$A$24,0),MATCH($F182,'Unit of measures'!$A$7:$R$7,0))","v":{"$error":"#N/A"}},{"$f":"$G182*INDEX('Unit of measures'!$A$7:$R$24,MATCH(O$4,'Unit of measures'!$A$7:$A$24,0),MATCH($F182,'Unit of measures'!$A$7:$R$7,0))","v":{"$error":"#N/A"}},{"$f":"$G182*INDEX('Unit of measures'!$A$7:$R$24,MATCH(P$4,'Unit of measures'!$A$7:$A$24,0),MATCH($F182,'Unit of measures'!$A$7:$R$7,0))","v":{"$error":"#N/A"}},null,null,{"$f":"$R182*INDEX('Unit of measures'!$A$7:$R$24,MATCH(S$4,'Unit of measures'!$A$7:$A$24,0),MATCH($Q182,'Unit of measures'!$A$7:$R$7,0))","v":{"$error":"#N/A"}},{"$f":"$R182*INDEX('Unit of measures'!$A$7:$R$24,MATCH(T$4,'Unit of measures'!$A$7:$A$24,0),MATCH($Q182,'Unit of measures'!$A$7:$R$7,0))","v":{"$error":"#N/A"}},{"$f":"$R182*INDEX('Unit of measures'!$A$7:$R$24,MATCH(U$4,'Unit of measures'!$A$7:$A$24,0),MATCH($Q182,'Unit of measures'!$A$7:$R$7,0))","v":{"$error":"#N/A"}},{"$f":"$R182*INDEX('Unit of measures'!$A$7:$R$24,MATCH(V$4,'Unit of measures'!$A$7:$A$24,0),MATCH($Q182,'Unit of measures'!$A$7:$R$7,0))","v":{"$error":"#N/A"}},{"$f":"$R182*INDEX('Unit of measures'!$A$7:$R$24,MATCH(W$4,'Unit of measures'!$A$7:$A$24,0),MATCH($Q182,'Unit of measures'!$A$7:$R$7,0))","v":{"$error":"#N/A"}},"Each"]
[null,null,null,null,"",null,null,{"$f":"$G183*INDEX('Unit of measures'!$A$7:$R$24,MATCH(H$4,'Unit of measures'!$A$7:$A$24,0),MATCH($F183,'Unit of measures'!$A$7:$R$7,0))","v":{"$error":"#N/A"}},{"$f":"$G183*INDEX('Unit of measures'!$A$7:$R$24,MATCH(I$4,'Unit of measures'!$A$7:$A$24,0),MATCH($F183,'Unit of measures'!$A$7:$R$7,0))","v":{"$error":"#N/A"}},{"$f":"$G183*INDEX('Unit of measures'!$A$7:$R$24,MATCH(J$4,'Unit of measures'!$A$7:$A$24,0),MATCH($F183,'Unit of measures'!$A$7:$R$7,0))","v":{"$error":"#N/A"}},{"$f":"$G183*INDEX('Unit of measures'!$A$7:$R$24,MATCH(K$4,'Unit of measures'!$A$7:$A$24,0),MATCH($F183,'Unit of measures'!$A$7:$R$7,0))","v":{"$error":"#N/A"}},{"$f":"$G183*INDEX('Unit of measures'!$A$7:$R$24,MATCH(L$4,'Unit of measures'!$A$7:$A$24,0),MATCH($F183,'Unit of measures'!$A$7:$R$7,0))","v":{"$error":"#N/A"}},{"$f":"$G183*INDEX('Unit of measures'!$A$7:$R$24,MATCH(M$4,'Unit of measures'!$A$7:$A$24,0),MATCH($F183,'Unit of measures'!$A$7:$R$7,0))","v":{"$error":"#N/A"}},{"$f":"$G183*INDEX('Unit of measures'!$A$7:$R$24,MATCH(N$4,'Unit of measures'!$A$7:$A$24,0),MATCH($F183,'Unit of measures'!$A$7:$R$7,0))","v":{"$error":"#N/A"}},{"$f":"$G183*INDEX('Unit of measures'!$A$7:$R$24,MATCH(O$4,'Unit of measures'!$A$7:$A$24,0),MATCH($F183,'Unit of measures'!$A$7:$R$7,0))","v":{"$error":"#N/A"}},{"$f":"$G183*INDEX('Unit of measures'!$A$7:$R$24,MATCH(P$4,'Unit of measures'!$A$7:$A$24,0),MATCH($F183,'Unit of measures'!$A$7:$R$7,0))","v":{"$error":"#N/A"}},null,null,{"$f":"$R183*INDEX('Unit of measures'!$A$7:$R$24,MATCH(S$4,'Unit of measures'!$A$7:$A$24,0),MATCH($Q183,'Unit of measures'!$A$7:$R$7,0))","v":{"$error":"#N/A"}},{"$f":"$R183*INDEX('Unit of measures'!$A$7:$R$24,MATCH(T$4,'Unit of measures'!$A$7:$A$24,0),MATCH($Q183,'Unit of measures'!$A$7:$R$7,0))","v":{"$error":"#N/A"}},{"$f":"$R183*INDEX('Unit of measures'!$A$7:$R$24,MATCH(U$4,'Unit of measures'!$A$7:$A$24,0),MATCH($Q183,'Unit of measures'!$A$7:$R$7,0))","v":{"$error":"#N/A"}},{"$f":"$R183*INDEX('Unit of measures'!$A$7:$R$24,MATCH(V$4,'Unit of measures'!$A$7:$A$24,0),MATCH($Q183,'Unit of measures'!$A$7:$R$7,0))","v":{"$error":"#N/A"}},{"$f":"$R183*INDEX('Unit of measures'!$A$7:$R$24,MATCH(W$4,'Unit of measures'!$A$7:$A$24,0),MATCH($Q183,'Unit of measures'!$A$7:$R$7,0))","v":{"$error":"#N/A"}},"Each"]
[null,null,null,null,"",null,null,{"$f":"$G184*INDEX('Unit of measures'!$A$7:$R$24,MATCH(H$4,'Unit of measures'!$A$7:$A$24,0),MATCH($F184,'Unit of measures'!$A$7:$R$7,0))","v":{"$error":"#N/A"}},{"$f":"$G184*INDEX('Unit of measures'!$A$7:$R$24,MATCH(I$4,'Unit of measures'!$A$7:$A$24,0),MATCH($F184,'Unit of measures'!$A$7:$R$7,0))","v":{"$error":"#N/A"}},{"$f":"$G184*INDEX('Unit of measures'!$A$7:$R$24,MATCH(J$4,'Unit of measures'!$A$7:$A$24,0),MATCH($F184,'Unit of measures'!$A$7:$R$7,0))","v":{"$error":"#N/A"}},{"$f":"$G184*INDEX('Unit of measures'!$A$7:$R$24,MATCH(K$4,'Unit of measures'!$A$7:$A$24,0),MATCH($F184,'Unit of measures'!$A$7:$R$7,0))","v":{"$error":"#N/A"}},{"$f":"$G184*INDEX('Unit of measures'!$A$7:$R$24,MATCH(L$4,'Unit of measures'!$A$7:$A$24,0),MATCH($F184,'Unit of measures'!$A$7:$R$7,0))","v":{"$error":"#N/A"}},{"$f":"$G184*INDEX('Unit of measures'!$A$7:$R$24,MATCH(M$4,'Unit of measures'!$A$7:$A$24,0),MATCH($F184,'Unit of measures'!$A$7:$R$7,0))","v":{"$error":"#N/A"}},{"$f":"$G184*INDEX('Unit of measures'!$A$7:$R$24,MATCH(N$4,'Unit of measures'!$A$7:$A$24,0),MATCH($F184,'Unit of measures'!$A$7:$R$7,0))","v":{"$error":"#N/A"}},{"$f":"$G184*INDEX('Unit of measures'!$A$7:$R$24,MATCH(O$4,'Unit of measures'!$A$7:$A$24,0),MATCH($F184,'Unit of measures'!$A$7:$R$7,0))","v":{"$error":"#N/A"}},{"$f":"$G184*INDEX('Unit of measures'!$A$7:$R$24,MATCH(P$4,'Unit of measures'!$A$7:$A$24,0),MATCH($F184,'Unit of measures'!$A$7:$R$7,0))","v":{"$error":"#N/A"}},null,null,{"$f":"$R184*INDEX('Unit of measures'!$A$7:$R$24,MATCH(S$4,'Unit of measures'!$A$7:$A$24,0),MATCH($Q184,'Unit of measures'!$A$7:$R$7,0))","v":{"$error":"#N/A"}},{"$f":"$R184*INDEX('Unit of measures'!$A$7:$R$24,MATCH(T$4,'Unit of measures'!$A$7:$A$24,0),MATCH($Q184,'Unit of measures'!$A$7:$R$7,0))","v":{"$error":"#N/A"}},{"$f":"$R184*INDEX('Unit of measures'!$A$7:$R$24,MATCH(U$4,'Unit of measures'!$A$7:$A$24,0),MATCH($Q184,'Unit of measures'!$A$7:$R$7,0))","v":{"$error":"#N/A"}},{"$f":"$R184*INDEX('Unit of measures'!$A$7:$R$24,MATCH(V$4,'Unit of measures'!$A$7:$A$24,0),MATCH($Q184,'Unit of measures'!$A$7:$R$7,0))","v":{"$error":"#N/A"}},{"$f":"$R184*INDEX('Unit of measures'!$A$7:$R$24,MATCH(W$4,'Unit of measures'!$A$7:$A$24,0),MATCH($Q184,'Unit of measures'!$A$7:$R$7,0))","v":{"$error":"#N/A"}},"Each"]
[null,null,null,null,"",null,null,{"$f":"$G185*INDEX('Unit of measures'!$A$7:$R$24,MATCH(H$4,'Unit of measures'!$A$7:$A$24,0),MATCH($F185,'Unit of measures'!$A$7:$R$7,0))","v":{"$error":"#N/A"}},{"$f":"$G185*INDEX('Unit of measures'!$A$7:$R$24,MATCH(I$4,'Unit of measures'!$A$7:$A$24,0),MATCH($F185,'Unit of measures'!$A$7:$R$7,0))","v":{"$error":"#N/A"}},{"$f":"$G185*INDEX('Unit of measures'!$A$7:$R$24,MATCH(J$4,'Unit of measures'!$A$7:$A$24,0),MATCH($F185,'Unit of measures'!$A$7:$R$7,0))","v":{"$error":"#N/A"}},{"$f":"$G185*INDEX('Unit of measures'!$A$7:$R$24,MATCH(K$4,'Unit of measures'!$A$7:$A$24,0),MATCH($F185,'Unit of measures'!$A$7:$R$7,0))","v":{"$error":"#N/A"}},{"$f":"$G185*INDEX('Unit of measures'!$A$7:$R$24,MATCH(L$4,'Unit of measures'!$A$7:$A$24,0),MATCH($F185,'Unit of measures'!$A$7:$R$7,0))","v":{"$error":"#N/A"}},{"$f":"$G185*INDEX('Unit of measures'!$A$7:$R$24,MATCH(M$4,'Unit of measures'!$A$7:$A$24,0),MATCH($F185,'Unit of measures'!$A$7:$R$7,0))","v":{"$error":"#N/A"}},{"$f":"$G185*INDEX('Unit of measures'!$A$7:$R$24,MATCH(N$4,'Unit of measures'!$A$7:$A$24,0),MATCH($F185,'Unit of measures'!$A$7:$R$7,0))","v":{"$error":"#N/A"}},{"$f":"$G185*INDEX('Unit of measures'!$A$7:$R$24,MATCH(O$4,'Unit of measures'!$A$7:$A$24,0),MATCH($F185,'Unit of measures'!$A$7:$R$7,0))","v":{"$error":"#N/A"}},{"$f":"$G185*INDEX('Unit of measures'!$A$7:$R$24,MATCH(P$4,'Unit of measures'!$A$7:$A$24,0),MATCH($F185,'Unit of measures'!$A$7:$R$7,0))","v":{"$error":"#N/A"}},null,null,{"$f":"$R185*INDEX('Unit of measures'!$A$7:$R$24,MATCH(S$4,'Unit of measures'!$A$7:$A$24,0),MATCH($Q185,'Unit of measures'!$A$7:$R$7,0))","v":{"$error":"#N/A"}},{"$f":"$R185*INDEX('Unit of measures'!$A$7:$R$24,MATCH(T$4,'Unit of measures'!$A$7:$A$24,0),MATCH($Q185,'Unit of measures'!$A$7:$R$7,0))","v":{"$error":"#N/A"}},{"$f":"$R185*INDEX('Unit of measures'!$A$7:$R$24,MATCH(U$4,'Unit of measures'!$A$7:$A$24,0),MATCH($Q185,'Unit of measures'!$A$7:$R$7,0))","v":{"$error":"#N/A"}},{"$f":"$R185*INDEX('Unit of measures'!$A$7:$R$24,MATCH(V$4,'Unit of measures'!$A$7:$A$24,0),MATCH($Q185,'Unit of measures'!$A$7:$R$7,0))","v":{"$error":"#N/A"}},{"$f":"$R185*INDEX('Unit of measures'!$A$7:$R$24,MATCH(W$4,'Unit of measures'!$A$7:$A$24,0),MATCH($Q185,'Unit of measures'!$A$7:$R$7,0))","v":{"$error":"#N/A"}},"Each"]
[null,null,null,null,"",null,null,{"$f":"$G186*INDEX('Unit of measures'!$A$7:$R$24,MATCH(H$4,'Unit of measures'!$A$7:$A$24,0),MATCH($F186,'Unit of measures'!$A$7:$R$7,0))","v":{"$error":"#N/A"}},{"$f":"$G186*INDEX('Unit of measures'!$A$7:$R$24,MATCH(I$4,'Unit of measures'!$A$7:$A$24,0),MATCH($F186,'Unit of measures'!$A$7:$R$7,0))","v":{"$error":"#N/A"}},{"$f":"$G186*INDEX('Unit of measures'!$A$7:$R$24,MATCH(J$4,'Unit of measures'!$A$7:$A$24,0),MATCH($F186,'Unit of measures'!$A$7:$R$7,0))","v":{"$error":"#N/A"}},{"$f":"$G186*INDEX('Unit of measures'!$A$7:$R$24,MATCH(K$4,'Unit of measures'!$A$7:$A$24,0),MATCH($F186,'Unit of measures'!$A$7:$R$7,0))","v":{"$error":"#N/A"}},{"$f":"$G186*INDEX('Unit of measures'!$A$7:$R$24,MATCH(L$4,'Unit of measures'!$A$7:$A$24,0),MATCH($F186,'Unit of measures'!$A$7:$R$7,0))","v":{"$error":"#N/A"}},{"$f":"$G186*INDEX('Unit of measures'!$A$7:$R$24,MATCH(M$4,'Unit of measures'!$A$7:$A$24,0),MATCH($F186,'Unit of measures'!$A$7:$R$7,0))","v":{"$error":"#N/A"}},{"$f":"$G186*INDEX('Unit of measures'!$A$7:$R$24,MATCH(N$4,'Unit of measures'!$A$7:$A$24,0),MATCH($F186,'Unit of measures'!$A$7:$R$7,0))","v":{"$error":"#N/A"}},{"$f":"$G186*INDEX('Unit of measures'!$A$7:$R$24,MATCH(O$4,'Unit of measures'!$A$7:$A$24,0),MATCH($F186,'Unit of measures'!$A$7:$R$7,0))","v":{"$error":"#N/A"}},{"$f":"$G186*INDEX('Unit of measures'!$A$7:$R$24,MATCH(P$4,'Unit of measures'!$A$7:$A$24,0),MATCH($F186,'Unit of measures'!$A$7:$R$7,0))","v":{"$error":"#N/A"}},null,null,{"$f":"$R186*INDEX('Unit of measures'!$A$7:$R$24,MATCH(S$4,'Unit of measures'!$A$7:$A$24,0),MATCH($Q186,'Unit of measures'!$A$7:$R$7,0))","v":{"$error":"#N/A"}},{"$f":"$R186*INDEX('Unit of measures'!$A$7:$R$24,MATCH(T$4,'Unit of measures'!$A$7:$A$24,0),MATCH($Q186,'Unit of measures'!$A$7:$R$7,0))","v":{"$error":"#N/A"}},{"$f":"$R186*INDEX('Unit of measures'!$A$7:$R$24,MATCH(U$4,'Unit of measures'!$A$7:$A$24,0),MATCH($Q186,'Unit of measures'!$A$7:$R$7,0))","v":{"$error":"#N/A"}},{"$f":"$R186*INDEX('Unit of measures'!$A$7:$R$24,MATCH(V$4,'Unit of measures'!$A$7:$A$24,0),MATCH($Q186,'Unit of measures'!$A$7:$R$7,0))","v":{"$error":"#N/A"}},{"$f":"$R186*INDEX('Unit of measures'!$A$7:$R$24,MATCH(W$4,'Unit of measures'!$A$7:$A$24,0),MATCH($Q186,'Unit of measures'!$A$7:$R$7,0))","v":{"$error":"#N/A"}},"Each"]
[null,null,null,null,"",null,null,{"$f":"$G187*INDEX('Unit of measures'!$A$7:$R$24,MATCH(H$4,'Unit of measures'!$A$7:$A$24,0),MATCH($F187,'Unit of measures'!$A$7:$R$7,0))","v":{"$error":"#N/A"}},{"$f":"$G187*INDEX('Unit of measures'!$A$7:$R$24,MATCH(I$4,'Unit of measures'!$A$7:$A$24,0),MATCH($F187,'Unit of measures'!$A$7:$R$7,0))","v":{"$error":"#N/A"}},{"$f":"$G187*INDEX('Unit of measures'!$A$7:$R$24,MATCH(J$4,'Unit of measures'!$A$7:$A$24,0),MATCH($F187,'Unit of measures'!$A$7:$R$7,0))","v":{"$error":"#N/A"}},{"$f":"$G187*INDEX('Unit of measures'!$A$7:$R$24,MATCH(K$4,'Unit of measures'!$A$7:$A$24,0),MATCH($F187,'Unit of measures'!$A$7:$R$7,0))","v":{"$error":"#N/A"}},{"$f":"$G187*INDEX('Unit of measures'!$A$7:$R$24,MATCH(L$4,'Unit of measures'!$A$7:$A$24,0),MATCH($F187,'Unit of measures'!$A$7:$R$7,0))","v":{"$error":"#N/A"}},{"$f":"$G187*INDEX('Unit of measures'!$A$7:$R$24,MATCH(M$4,'Unit of measures'!$A$7:$A$24,0),MATCH($F187,'Unit of measures'!$A$7:$R$7,0))","v":{"$error":"#N/A"}},{"$f":"$G187*INDEX('Unit of measures'!$A$7:$R$24,MATCH(N$4,'Unit of measures'!$A$7:$A$24,0),MATCH($F187,'Unit of measures'!$A$7:$R$7,0))","v":{"$error":"#N/A"}},{"$f":"$G187*INDEX('Unit of measures'!$A$7:$R$24,MATCH(O$4,'Unit of measures'!$A$7:$A$24,0),MATCH($F187,'Unit of measures'!$A$7:$R$7,0))","v":{"$error":"#N/A"}},{"$f":"$G187*INDEX('Unit of measures'!$A$7:$R$24,MATCH(P$4,'Unit of measures'!$A$7:$A$24,0),MATCH($F187,'Unit of measures'!$A$7:$R$7,0))","v":{"$error":"#N/A"}},null,null,{"$f":"$R187*INDEX('Unit of measures'!$A$7:$R$24,MATCH(S$4,'Unit of measures'!$A$7:$A$24,0),MATCH($Q187,'Unit of measures'!$A$7:$R$7,0))","v":{"$error":"#N/A"}},{"$f":"$R187*INDEX('Unit of measures'!$A$7:$R$24,MATCH(T$4,'Unit of measures'!$A$7:$A$24,0),MATCH($Q187,'Unit of measures'!$A$7:$R$7,0))","v":{"$error":"#N/A"}},{"$f":"$R187*INDEX('Unit of measures'!$A$7:$R$24,MATCH(U$4,'Unit of measures'!$A$7:$A$24,0),MATCH($Q187,'Unit of measures'!$A$7:$R$7,0))","v":{"$error":"#N/A"}},{"$f":"$R187*INDEX('Unit of measures'!$A$7:$R$24,MATCH(V$4,'Unit of measures'!$A$7:$A$24,0),MATCH($Q187,'Unit of measures'!$A$7:$R$7,0))","v":{"$error":"#N/A"}},{"$f":"$R187*INDEX('Unit of measures'!$A$7:$R$24,MATCH(W$4,'Unit of measures'!$A$7:$A$24,0),MATCH($Q187,'Unit of measures'!$A$7:$R$7,0))","v":{"$error":"#N/A"}},"Each"]
[null,null,null,null,"",null,null,{"$f":"$G188*INDEX('Unit of measures'!$A$7:$R$24,MATCH(H$4,'Unit of measures'!$A$7:$A$24,0),MATCH($F188,'Unit of measures'!$A$7:$R$7,0))","v":{"$error":"#N/A"}},{"$f":"$G188*INDEX('Unit of measures'!$A$7:$R$24,MATCH(I$4,'Unit of measures'!$A$7:$A$24,0),MATCH($F188,'Unit of measures'!$A$7:$R$7,0))","v":{"$error":"#N/A"}},{"$f":"$G188*INDEX('Unit of measures'!$A$7:$R$24,MATCH(J$4,'Unit of measures'!$A$7:$A$24,0),MATCH($F188,'Unit of measures'!$A$7:$R$7,0))","v":{"$error":"#N/A"}},{"$f":"$G188*INDEX('Unit of measures'!$A$7:$R$24,MATCH(K$4,'Unit of measures'!$A$7:$A$24,0),MATCH($F188,'Unit of measures'!$A$7:$R$7,0))","v":{"$error":"#N/A"}},{"$f":"$G188*INDEX('Unit of measures'!$A$7:$R$24,MATCH(L$4,'Unit of measures'!$A$7:$A$24,0),MATCH($F188,'Unit of measures'!$A$7:$R$7,0))","v":{"$error":"#N/A"}},{"$f":"$G188*INDEX('Unit of measures'!$A$7:$R$24,MATCH(M$4,'Unit of measures'!$A$7:$A$24,0),MATCH($F188,'Unit of measures'!$A$7:$R$7,0))","v":{"$error":"#N/A"}},{"$f":"$G188*INDEX('Unit of measures'!$A$7:$R$24,MATCH(N$4,'Unit of measures'!$A$7:$A$24,0),MATCH($F188,'Unit of measures'!$A$7:$R$7,0))","v":{"$error":"#N/A"}},{"$f":"$G188*INDEX('Unit of measures'!$A$7:$R$24,MATCH(O$4,'Unit of measures'!$A$7:$A$24,0),MATCH($F188,'Unit of measures'!$A$7:$R$7,0))","v":{"$error":"#N/A"}},{"$f":"$G188*INDEX('Unit of measures'!$A$7:$R$24,MATCH(P$4,'Unit of measures'!$A$7:$A$24,0),MATCH($F188,'Unit of measures'!$A$7:$R$7,0))","v":{"$error":"#N/A"}},null,null,{"$f":"$R188*INDEX('Unit of measures'!$A$7:$R$24,MATCH(S$4,'Unit of measures'!$A$7:$A$24,0),MATCH($Q188,'Unit of measures'!$A$7:$R$7,0))","v":{"$error":"#N/A"}},{"$f":"$R188*INDEX('Unit of measures'!$A$7:$R$24,MATCH(T$4,'Unit of measures'!$A$7:$A$24,0),MATCH($Q188,'Unit of measures'!$A$7:$R$7,0))","v":{"$error":"#N/A"}},{"$f":"$R188*INDEX('Unit of measures'!$A$7:$R$24,MATCH(U$4,'Unit of measures'!$A$7:$A$24,0),MATCH($Q188,'Unit of measures'!$A$7:$R$7,0))","v":{"$error":"#N/A"}},{"$f":"$R188*INDEX('Unit of measures'!$A$7:$R$24,MATCH(V$4,'Unit of measures'!$A$7:$A$24,0),MATCH($Q188,'Unit of measures'!$A$7:$R$7,0))","v":{"$error":"#N/A"}},{"$f":"$R188*INDEX('Unit of measures'!$A$7:$R$24,MATCH(W$4,'Unit of measures'!$A$7:$A$24,0),MATCH($Q188,'Unit of measures'!$A$7:$R$7,0))","v":{"$error":"#N/A"}},"Each"]
[null,null,null,null,"",null,null,{"$f":"$G189*INDEX('Unit of measures'!$A$7:$R$24,MATCH(H$4,'Unit of measures'!$A$7:$A$24,0),MATCH($F189,'Unit of measures'!$A$7:$R$7,0))","v":{"$error":"#N/A"}},{"$f":"$G189*INDEX('Unit of measures'!$A$7:$R$24,MATCH(I$4,'Unit of measures'!$A$7:$A$24,0),MATCH($F189,'Unit of measures'!$A$7:$R$7,0))","v":{"$error":"#N/A"}},{"$f":"$G189*INDEX('Unit of measures'!$A$7:$R$24,MATCH(J$4,'Unit of measures'!$A$7:$A$24,0),MATCH($F189,'Unit of measures'!$A$7:$R$7,0))","v":{"$error":"#N/A"}},{"$f":"$G189*INDEX('Unit of measures'!$A$7:$R$24,MATCH(K$4,'Unit of measures'!$A$7:$A$24,0),MATCH($F189,'Unit of measures'!$A$7:$R$7,0))","v":{"$error":"#N/A"}},{"$f":"$G189*INDEX('Unit of measures'!$A$7:$R$24,MATCH(L$4,'Unit of measures'!$A$7:$A$24,0),MATCH($F189,'Unit of measures'!$A$7:$R$7,0))","v":{"$error":"#N/A"}},{"$f":"$G189*INDEX('Unit of measures'!$A$7:$R$24,MATCH(M$4,'Unit of measures'!$A$7:$A$24,0),MATCH($F189,'Unit of measures'!$A$7:$R$7,0))","v":{"$error":"#N/A"}},{"$f":"$G189*INDEX('Unit of measures'!$A$7:$R$24,MATCH(N$4,'Unit of measures'!$A$7:$A$24,0),MATCH($F189,'Unit of measures'!$A$7:$R$7,0))","v":{"$error":"#N/A"}},{"$f":"$G189*INDEX('Unit of measures'!$A$7:$R$24,MATCH(O$4,'Unit of measures'!$A$7:$A$24,0),MATCH($F189,'Unit of measures'!$A$7:$R$7,0))","v":{"$error":"#N/A"}},{"$f":"$G189*INDEX('Unit of measures'!$A$7:$R$24,MATCH(P$4,'Unit of measures'!$A$7:$A$24,0),MATCH($F189,'Unit of measures'!$A$7:$R$7,0))","v":{"$error":"#N/A"}},null,null,{"$f":"$R189*INDEX('Unit of measures'!$A$7:$R$24,MATCH(S$4,'Unit of measures'!$A$7:$A$24,0),MATCH($Q189,'Unit of measures'!$A$7:$R$7,0))","v":{"$error":"#N/A"}},{"$f":"$R189*INDEX('Unit of measures'!$A$7:$R$24,MATCH(T$4,'Unit of measures'!$A$7:$A$24,0),MATCH($Q189,'Unit of measures'!$A$7:$R$7,0))","v":{"$error":"#N/A"}},{"$f":"$R189*INDEX('Unit of measures'!$A$7:$R$24,MATCH(U$4,'Unit of measures'!$A$7:$A$24,0),MATCH($Q189,'Unit of measures'!$A$7:$R$7,0))","v":{"$error":"#N/A"}},{"$f":"$R189*INDEX('Unit of measures'!$A$7:$R$24,MATCH(V$4,'Unit of measures'!$A$7:$A$24,0),MATCH($Q189,'Unit of measures'!$A$7:$R$7,0))","v":{"$error":"#N/A"}},{"$f":"$R189*INDEX('Unit of measures'!$A$7:$R$24,MATCH(W$4,'Unit of measures'!$A$7:$A$24,0),MATCH($Q189,'Unit of measures'!$A$7:$R$7,0))","v":{"$error":"#N/A"}},"Each"]
[null,null,null,null,"",null,null,{"$f":"$G190*INDEX('Unit of measures'!$A$7:$R$24,MATCH(H$4,'Unit of measures'!$A$7:$A$24,0),MATCH($F190,'Unit of measures'!$A$7:$R$7,0))","v":{"$error":"#N/A"}},{"$f":"$G190*INDEX('Unit of measures'!$A$7:$R$24,MATCH(I$4,'Unit of measures'!$A$7:$A$24,0),MATCH($F190,'Unit of measures'!$A$7:$R$7,0))","v":{"$error":"#N/A"}},{"$f":"$G190*INDEX('Unit of measures'!$A$7:$R$24,MATCH(J$4,'Unit of measures'!$A$7:$A$24,0),MATCH($F190,'Unit of measures'!$A$7:$R$7,0))","v":{"$error":"#N/A"}},{"$f":"$G190*INDEX('Unit of measures'!$A$7:$R$24,MATCH(K$4,'Unit of measures'!$A$7:$A$24,0),MATCH($F190,'Unit of measures'!$A$7:$R$7,0))","v":{"$error":"#N/A"}},{"$f":"$G190*INDEX('Unit of measures'!$A$7:$R$24,MATCH(L$4,'Unit of measures'!$A$7:$A$24,0),MATCH($F190,'Unit of measures'!$A$7:$R$7,0))","v":{"$error":"#N/A"}},{"$f":"$G190*INDEX('Unit of measures'!$A$7:$R$24,MATCH(M$4,'Unit of measures'!$A$7:$A$24,0),MATCH($F190,'Unit of measures'!$A$7:$R$7,0))","v":{"$error":"#N/A"}},{"$f":"$G190*INDEX('Unit of measures'!$A$7:$R$24,MATCH(N$4,'Unit of measures'!$A$7:$A$24,0),MATCH($F190,'Unit of measures'!$A$7:$R$7,0))","v":{"$error":"#N/A"}},{"$f":"$G190*INDEX('Unit of measures'!$A$7:$R$24,MATCH(O$4,'Unit of measures'!$A$7:$A$24,0),MATCH($F190,'Unit of measures'!$A$7:$R$7,0))","v":{"$error":"#N/A"}},{"$f":"$G190*INDEX('Unit of measures'!$A$7:$R$24,MATCH(P$4,'Unit of measures'!$A$7:$A$24,0),MATCH($F190,'Unit of measures'!$A$7:$R$7,0))","v":{"$error":"#N/A"}},null,null,{"$f":"$R190*INDEX('Unit of measures'!$A$7:$R$24,MATCH(S$4,'Unit of measures'!$A$7:$A$24,0),MATCH($Q190,'Unit of measures'!$A$7:$R$7,0))","v":{"$error":"#N/A"}},{"$f":"$R190*INDEX('Unit of measures'!$A$7:$R$24,MATCH(T$4,'Unit of measures'!$A$7:$A$24,0),MATCH($Q190,'Unit of measures'!$A$7:$R$7,0))","v":{"$error":"#N/A"}},{"$f":"$R190*INDEX('Unit of measures'!$A$7:$R$24,MATCH(U$4,'Unit of measures'!$A$7:$A$24,0),MATCH($Q190,'Unit of measures'!$A$7:$R$7,0))","v":{"$error":"#N/A"}},{"$f":"$R190*INDEX('Unit of measures'!$A$7:$R$24,MATCH(V$4,'Unit of measures'!$A$7:$A$24,0),MATCH($Q190,'Unit of measures'!$A$7:$R$7,0))","v":{"$error":"#N/A"}},{"$f":"$R190*INDEX('Unit of measures'!$A$7:$R$24,MATCH(W$4,'Unit of measures'!$A$7:$A$24,0),MATCH($Q190,'Unit of measures'!$A$7:$R$7,0))","v":{"$error":"#N/A"}},"Each"]
[null,null,null,null,"",null,null,{"$f":"$G191*INDEX('Unit of measures'!$A$7:$R$24,MATCH(H$4,'Unit of measures'!$A$7:$A$24,0),MATCH($F191,'Unit of measures'!$A$7:$R$7,0))","v":{"$error":"#N/A"}},{"$f":"$G191*INDEX('Unit of measures'!$A$7:$R$24,MATCH(I$4,'Unit of measures'!$A$7:$A$24,0),MATCH($F191,'Unit of measures'!$A$7:$R$7,0))","v":{"$error":"#N/A"}},{"$f":"$G191*INDEX('Unit of measures'!$A$7:$R$24,MATCH(J$4,'Unit of measures'!$A$7:$A$24,0),MATCH($F191,'Unit of measures'!$A$7:$R$7,0))","v":{"$error":"#N/A"}},{"$f":"$G191*INDEX('Unit of measures'!$A$7:$R$24,MATCH(K$4,'Unit of measures'!$A$7:$A$24,0),MATCH($F191,'Unit of measures'!$A$7:$R$7,0))","v":{"$error":"#N/A"}},{"$f":"$G191*INDEX('Unit of measures'!$A$7:$R$24,MATCH(L$4,'Unit of measures'!$A$7:$A$24,0),MATCH($F191,'Unit of measures'!$A$7:$R$7,0))","v":{"$error":"#N/A"}},{"$f":"$G191*INDEX('Unit of measures'!$A$7:$R$24,MATCH(M$4,'Unit of measures'!$A$7:$A$24,0),MATCH($F191,'Unit of measures'!$A$7:$R$7,0))","v":{"$error":"#N/A"}},{"$f":"$G191*INDEX('Unit of measures'!$A$7:$R$24,MATCH(N$4,'Unit of measures'!$A$7:$A$24,0),MATCH($F191,'Unit of measures'!$A$7:$R$7,0))","v":{"$error":"#N/A"}},{"$f":"$G191*INDEX('Unit of measures'!$A$7:$R$24,MATCH(O$4,'Unit of measures'!$A$7:$A$24,0),MATCH($F191,'Unit of measures'!$A$7:$R$7,0))","v":{"$error":"#N/A"}},{"$f":"$G191*INDEX('Unit of measures'!$A$7:$R$24,MATCH(P$4,'Unit of measures'!$A$7:$A$24,0),MATCH($F191,'Unit of measures'!$A$7:$R$7,0))","v":{"$error":"#N/A"}},null,null,{"$f":"$R191*INDEX('Unit of measures'!$A$7:$R$24,MATCH(S$4,'Unit of measures'!$A$7:$A$24,0),MATCH($Q191,'Unit of measures'!$A$7:$R$7,0))","v":{"$error":"#N/A"}},{"$f":"$R191*INDEX('Unit of measures'!$A$7:$R$24,MATCH(T$4,'Unit of measures'!$A$7:$A$24,0),MATCH($Q191,'Unit of measures'!$A$7:$R$7,0))","v":{"$error":"#N/A"}},{"$f":"$R191*INDEX('Unit of measures'!$A$7:$R$24,MATCH(U$4,'Unit of measures'!$A$7:$A$24,0),MATCH($Q191,'Unit of measures'!$A$7:$R$7,0))","v":{"$error":"#N/A"}},{"$f":"$R191*INDEX('Unit of measures'!$A$7:$R$24,MATCH(V$4,'Unit of measures'!$A$7:$A$24,0),MATCH($Q191,'Unit of measures'!$A$7:$R$7,0))","v":{"$error":"#N/A"}},{"$f":"$R191*INDEX('Unit of measures'!$A$7:$R$24,MATCH(W$4,'Unit of measures'!$A$7:$A$24,0),MATCH($Q191,'Unit of measures'!$A$7:$R$7,0))","v":{"$error":"#N/A"}},"Each"]
[null,null,null,null,"",null,null,{"$f":"$G192*INDEX('Unit of measures'!$A$7:$R$24,MATCH(H$4,'Unit of measures'!$A$7:$A$24,0),MATCH($F192,'Unit of measures'!$A$7:$R$7,0))","v":{"$error":"#N/A"}},{"$f":"$G192*INDEX('Unit of measures'!$A$7:$R$24,MATCH(I$4,'Unit of measures'!$A$7:$A$24,0),MATCH($F192,'Unit of measures'!$A$7:$R$7,0))","v":{"$error":"#N/A"}},{"$f":"$G192*INDEX('Unit of measures'!$A$7:$R$24,MATCH(J$4,'Unit of measures'!$A$7:$A$24,0),MATCH($F192,'Unit of measures'!$A$7:$R$7,0))","v":{"$error":"#N/A"}},{"$f":"$G192*INDEX('Unit of measures'!$A$7:$R$24,MATCH(K$4,'Unit of measures'!$A$7:$A$24,0),MATCH($F192,'Unit of measures'!$A$7:$R$7,0))","v":{"$error":"#N/A"}},{"$f":"$G192*INDEX('Unit of measures'!$A$7:$R$24,MATCH(L$4,'Unit of measures'!$A$7:$A$24,0),MATCH($F192,'Unit of measures'!$A$7:$R$7,0))","v":{"$error":"#N/A"}},{"$f":"$G192*INDEX('Unit of measures'!$A$7:$R$24,MATCH(M$4,'Unit of measures'!$A$7:$A$24,0),MATCH($F192,'Unit of measures'!$A$7:$R$7,0))","v":{"$error":"#N/A"}},{"$f":"$G192*INDEX('Unit of measures'!$A$7:$R$24,MATCH(N$4,'Unit of measures'!$A$7:$A$24,0),MATCH($F192,'Unit of measures'!$A$7:$R$7,0))","v":{"$error":"#N/A"}},{"$f":"$G192*INDEX('Unit of measures'!$A$7:$R$24,MATCH(O$4,'Unit of measures'!$A$7:$A$24,0),MATCH($F192,'Unit of measures'!$A$7:$R$7,0))","v":{"$error":"#N/A"}},{"$f":"$G192*INDEX('Unit of measures'!$A$7:$R$24,MATCH(P$4,'Unit of measures'!$A$7:$A$24,0),MATCH($F192,'Unit of measures'!$A$7:$R$7,0))","v":{"$error":"#N/A"}},null,null,{"$f":"$R192*INDEX('Unit of measures'!$A$7:$R$24,MATCH(S$4,'Unit of measures'!$A$7:$A$24,0),MATCH($Q192,'Unit of measures'!$A$7:$R$7,0))","v":{"$error":"#N/A"}},{"$f":"$R192*INDEX('Unit of measures'!$A$7:$R$24,MATCH(T$4,'Unit of measures'!$A$7:$A$24,0),MATCH($Q192,'Unit of measures'!$A$7:$R$7,0))","v":{"$error":"#N/A"}},{"$f":"$R192*INDEX('Unit of measures'!$A$7:$R$24,MATCH(U$4,'Unit of measures'!$A$7:$A$24,0),MATCH($Q192,'Unit of measures'!$A$7:$R$7,0))","v":{"$error":"#N/A"}},{"$f":"$R192*INDEX('Unit of measures'!$A$7:$R$24,MATCH(V$4,'Unit of measures'!$A$7:$A$24,0),MATCH($Q192,'Unit of measures'!$A$7:$R$7,0))","v":{"$error":"#N/A"}},{"$f":"$R192*INDEX('Unit of measures'!$A$7:$R$24,MATCH(W$4,'Unit of measures'!$A$7:$A$24,0),MATCH($Q192,'Unit of measures'!$A$7:$R$7,0))","v":{"$error":"#N/A"}},"Each"]
[null,null,null,null,"",null,null,{"$f":"$G193*INDEX('Unit of measures'!$A$7:$R$24,MATCH(H$4,'Unit of measures'!$A$7:$A$24,0),MATCH($F193,'Unit of measures'!$A$7:$R$7,0))","v":{"$error":"#N/A"}},{"$f":"$G193*INDEX('Unit of measures'!$A$7:$R$24,MATCH(I$4,'Unit of measures'!$A$7:$A$24,0),MATCH($F193,'Unit of measures'!$A$7:$R$7,0))","v":{"$error":"#N/A"}},{"$f":"$G193*INDEX('Unit of measures'!$A$7:$R$24,MATCH(J$4,'Unit of measures'!$A$7:$A$24,0),MATCH($F193,'Unit of measures'!$A$7:$R$7,0))","v":{"$error":"#N/A"}},{"$f":"$G193*INDEX('Unit of measures'!$A$7:$R$24,MATCH(K$4,'Unit of measures'!$A$7:$A$24,0),MATCH($F193,'Unit of measures'!$A$7:$R$7,0))","v":{"$error":"#N/A"}},{"$f":"$G193*INDEX('Unit of measures'!$A$7:$R$24,MATCH(L$4,'Unit of measures'!$A$7:$A$24,0),MATCH($F193,'Unit of measures'!$A$7:$R$7,0))","v":{"$error":"#N/A"}},{"$f":"$G193*INDEX('Unit of measures'!$A$7:$R$24,MATCH(M$4,'Unit of measures'!$A$7:$A$24,0),MATCH($F193,'Unit of measures'!$A$7:$R$7,0))","v":{"$error":"#N/A"}},{"$f":"$G193*INDEX('Unit of measures'!$A$7:$R$24,MATCH(N$4,'Unit of measures'!$A$7:$A$24,0),MATCH($F193,'Unit of measures'!$A$7:$R$7,0))","v":{"$error":"#N/A"}},{"$f":"$G193*INDEX('Unit of measures'!$A$7:$R$24,MATCH(O$4,'Unit of measures'!$A$7:$A$24,0),MATCH($F193,'Unit of measures'!$A$7:$R$7,0))","v":{"$error":"#N/A"}},{"$f":"$G193*INDEX('Unit of measures'!$A$7:$R$24,MATCH(P$4,'Unit of measures'!$A$7:$A$24,0),MATCH($F193,'Unit of measures'!$A$7:$R$7,0))","v":{"$error":"#N/A"}},null,null,{"$f":"$R193*INDEX('Unit of measures'!$A$7:$R$24,MATCH(S$4,'Unit of measures'!$A$7:$A$24,0),MATCH($Q193,'Unit of measures'!$A$7:$R$7,0))","v":{"$error":"#N/A"}},{"$f":"$R193*INDEX('Unit of measures'!$A$7:$R$24,MATCH(T$4,'Unit of measures'!$A$7:$A$24,0),MATCH($Q193,'Unit of measures'!$A$7:$R$7,0))","v":{"$error":"#N/A"}},{"$f":"$R193*INDEX('Unit of measures'!$A$7:$R$24,MATCH(U$4,'Unit of measures'!$A$7:$A$24,0),MATCH($Q193,'Unit of measures'!$A$7:$R$7,0))","v":{"$error":"#N/A"}},{"$f":"$R193*INDEX('Unit of measures'!$A$7:$R$24,MATCH(V$4,'Unit of measures'!$A$7:$A$24,0),MATCH($Q193,'Unit of measures'!$A$7:$R$7,0))","v":{"$error":"#N/A"}},{"$f":"$R193*INDEX('Unit of measures'!$A$7:$R$24,MATCH(W$4,'Unit of measures'!$A$7:$A$24,0),MATCH($Q193,'Unit of measures'!$A$7:$R$7,0))","v":{"$error":"#N/A"}},"Each"]
[null,null,null,null,"",null,null,{"$f":"$G194*INDEX('Unit of measures'!$A$7:$R$24,MATCH(H$4,'Unit of measures'!$A$7:$A$24,0),MATCH($F194,'Unit of measures'!$A$7:$R$7,0))","v":{"$error":"#N/A"}},{"$f":"$G194*INDEX('Unit of measures'!$A$7:$R$24,MATCH(I$4,'Unit of measures'!$A$7:$A$24,0),MATCH($F194,'Unit of measures'!$A$7:$R$7,0))","v":{"$error":"#N/A"}},{"$f":"$G194*INDEX('Unit of measures'!$A$7:$R$24,MATCH(J$4,'Unit of measures'!$A$7:$A$24,0),MATCH($F194,'Unit of measures'!$A$7:$R$7,0))","v":{"$error":"#N/A"}},{"$f":"$G194*INDEX('Unit of measures'!$A$7:$R$24,MATCH(K$4,'Unit of measures'!$A$7:$A$24,0),MATCH($F194,'Unit of measures'!$A$7:$R$7,0))","v":{"$error":"#N/A"}},{"$f":"$G194*INDEX('Unit of measures'!$A$7:$R$24,MATCH(L$4,'Unit of measures'!$A$7:$A$24,0),MATCH($F194,'Unit of measures'!$A$7:$R$7,0))","v":{"$error":"#N/A"}},{"$f":"$G194*INDEX('Unit of measures'!$A$7:$R$24,MATCH(M$4,'Unit of measures'!$A$7:$A$24,0),MATCH($F194,'Unit of measures'!$A$7:$R$7,0))","v":{"$error":"#N/A"}},{"$f":"$G194*INDEX('Unit of measures'!$A$7:$R$24,MATCH(N$4,'Unit of measures'!$A$7:$A$24,0),MATCH($F194,'Unit of measures'!$A$7:$R$7,0))","v":{"$error":"#N/A"}},{"$f":"$G194*INDEX('Unit of measures'!$A$7:$R$24,MATCH(O$4,'Unit of measures'!$A$7:$A$24,0),MATCH($F194,'Unit of measures'!$A$7:$R$7,0))","v":{"$error":"#N/A"}},{"$f":"$G194*INDEX('Unit of measures'!$A$7:$R$24,MATCH(P$4,'Unit of measures'!$A$7:$A$24,0),MATCH($F194,'Unit of measures'!$A$7:$R$7,0))","v":{"$error":"#N/A"}},null,null,{"$f":"$R194*INDEX('Unit of measures'!$A$7:$R$24,MATCH(S$4,'Unit of measures'!$A$7:$A$24,0),MATCH($Q194,'Unit of measures'!$A$7:$R$7,0))","v":{"$error":"#N/A"}},{"$f":"$R194*INDEX('Unit of measures'!$A$7:$R$24,MATCH(T$4,'Unit of measures'!$A$7:$A$24,0),MATCH($Q194,'Unit of measures'!$A$7:$R$7,0))","v":{"$error":"#N/A"}},{"$f":"$R194*INDEX('Unit of measures'!$A$7:$R$24,MATCH(U$4,'Unit of measures'!$A$7:$A$24,0),MATCH($Q194,'Unit of measures'!$A$7:$R$7,0))","v":{"$error":"#N/A"}},{"$f":"$R194*INDEX('Unit of measures'!$A$7:$R$24,MATCH(V$4,'Unit of measures'!$A$7:$A$24,0),MATCH($Q194,'Unit of measures'!$A$7:$R$7,0))","v":{"$error":"#N/A"}},{"$f":"$R194*INDEX('Unit of measures'!$A$7:$R$24,MATCH(W$4,'Unit of measures'!$A$7:$A$24,0),MATCH($Q194,'Unit of measures'!$A$7:$R$7,0))","v":{"$error":"#N/A"}},"Each"]
[null,null,null,null,"",null,null,{"$f":"$G195*INDEX('Unit of measures'!$A$7:$R$24,MATCH(H$4,'Unit of measures'!$A$7:$A$24,0),MATCH($F195,'Unit of measures'!$A$7:$R$7,0))","v":{"$error":"#N/A"}},{"$f":"$G195*INDEX('Unit of measures'!$A$7:$R$24,MATCH(I$4,'Unit of measures'!$A$7:$A$24,0),MATCH($F195,'Unit of measures'!$A$7:$R$7,0))","v":{"$error":"#N/A"}},{"$f":"$G195*INDEX('Unit of measures'!$A$7:$R$24,MATCH(J$4,'Unit of measures'!$A$7:$A$24,0),MATCH($F195,'Unit of measures'!$A$7:$R$7,0))","v":{"$error":"#N/A"}},{"$f":"$G195*INDEX('Unit of measures'!$A$7:$R$24,MATCH(K$4,'Unit of measures'!$A$7:$A$24,0),MATCH($F195,'Unit of measures'!$A$7:$R$7,0))","v":{"$error":"#N/A"}},{"$f":"$G195*INDEX('Unit of measures'!$A$7:$R$24,MATCH(L$4,'Unit of measures'!$A$7:$A$24,0),MATCH($F195,'Unit of measures'!$A$7:$R$7,0))","v":{"$error":"#N/A"}},{"$f":"$G195*INDEX('Unit of measures'!$A$7:$R$24,MATCH(M$4,'Unit of measures'!$A$7:$A$24,0),MATCH($F195,'Unit of measures'!$A$7:$R$7,0))","v":{"$error":"#N/A"}},{"$f":"$G195*INDEX('Unit of measures'!$A$7:$R$24,MATCH(N$4,'Unit of measures'!$A$7:$A$24,0),MATCH($F195,'Unit of measures'!$A$7:$R$7,0))","v":{"$error":"#N/A"}},{"$f":"$G195*INDEX('Unit of measures'!$A$7:$R$24,MATCH(O$4,'Unit of measures'!$A$7:$A$24,0),MATCH($F195,'Unit of measures'!$A$7:$R$7,0))","v":{"$error":"#N/A"}},{"$f":"$G195*INDEX('Unit of measures'!$A$7:$R$24,MATCH(P$4,'Unit of measures'!$A$7:$A$24,0),MATCH($F195,'Unit of measures'!$A$7:$R$7,0))","v":{"$error":"#N/A"}},null,null,{"$f":"$R195*INDEX('Unit of measures'!$A$7:$R$24,MATCH(S$4,'Unit of measures'!$A$7:$A$24,0),MATCH($Q195,'Unit of measures'!$A$7:$R$7,0))","v":{"$error":"#N/A"}},{"$f":"$R195*INDEX('Unit of measures'!$A$7:$R$24,MATCH(T$4,'Unit of measures'!$A$7:$A$24,0),MATCH($Q195,'Unit of measures'!$A$7:$R$7,0))","v":{"$error":"#N/A"}},{"$f":"$R195*INDEX('Unit of measures'!$A$7:$R$24,MATCH(U$4,'Unit of measures'!$A$7:$A$24,0),MATCH($Q195,'Unit of measures'!$A$7:$R$7,0))","v":{"$error":"#N/A"}},{"$f":"$R195*INDEX('Unit of measures'!$A$7:$R$24,MATCH(V$4,'Unit of measures'!$A$7:$A$24,0),MATCH($Q195,'Unit of measures'!$A$7:$R$7,0))","v":{"$error":"#N/A"}},{"$f":"$R195*INDEX('Unit of measures'!$A$7:$R$24,MATCH(W$4,'Unit of measures'!$A$7:$A$24,0),MATCH($Q195,'Unit of measures'!$A$7:$R$7,0))","v":{"$error":"#N/A"}},"Each"]
[null,null,null,null,"",null,null,{"$f":"$G196*INDEX('Unit of measures'!$A$7:$R$24,MATCH(H$4,'Unit of measures'!$A$7:$A$24,0),MATCH($F196,'Unit of measures'!$A$7:$R$7,0))","v":{"$error":"#N/A"}},{"$f":"$G196*INDEX('Unit of measures'!$A$7:$R$24,MATCH(I$4,'Unit of measures'!$A$7:$A$24,0),MATCH($F196,'Unit of measures'!$A$7:$R$7,0))","v":{"$error":"#N/A"}},{"$f":"$G196*INDEX('Unit of measures'!$A$7:$R$24,MATCH(J$4,'Unit of measures'!$A$7:$A$24,0),MATCH($F196,'Unit of measures'!$A$7:$R$7,0))","v":{"$error":"#N/A"}},{"$f":"$G196*INDEX('Unit of measures'!$A$7:$R$24,MATCH(K$4,'Unit of measures'!$A$7:$A$24,0),MATCH($F196,'Unit of measures'!$A$7:$R$7,0))","v":{"$error":"#N/A"}},{"$f":"$G196*INDEX('Unit of measures'!$A$7:$R$24,MATCH(L$4,'Unit of measures'!$A$7:$A$24,0),MATCH($F196,'Unit of measures'!$A$7:$R$7,0))","v":{"$error":"#N/A"}},{"$f":"$G196*INDEX('Unit of measures'!$A$7:$R$24,MATCH(M$4,'Unit of measures'!$A$7:$A$24,0),MATCH($F196,'Unit of measures'!$A$7:$R$7,0))","v":{"$error":"#N/A"}},{"$f":"$G196*INDEX('Unit of measures'!$A$7:$R$24,MATCH(N$4,'Unit of measures'!$A$7:$A$24,0),MATCH($F196,'Unit of measures'!$A$7:$R$7,0))","v":{"$error":"#N/A"}},{"$f":"$G196*INDEX('Unit of measures'!$A$7:$R$24,MATCH(O$4,'Unit of measures'!$A$7:$A$24,0),MATCH($F196,'Unit of measures'!$A$7:$R$7,0))","v":{"$error":"#N/A"}},{"$f":"$G196*INDEX('Unit of measures'!$A$7:$R$24,MATCH(P$4,'Unit of measures'!$A$7:$A$24,0),MATCH($F196,'Unit of measures'!$A$7:$R$7,0))","v":{"$error":"#N/A"}},null,null,{"$f":"$R196*INDEX('Unit of measures'!$A$7:$R$24,MATCH(S$4,'Unit of measures'!$A$7:$A$24,0),MATCH($Q196,'Unit of measures'!$A$7:$R$7,0))","v":{"$error":"#N/A"}},{"$f":"$R196*INDEX('Unit of measures'!$A$7:$R$24,MATCH(T$4,'Unit of measures'!$A$7:$A$24,0),MATCH($Q196,'Unit of measures'!$A$7:$R$7,0))","v":{"$error":"#N/A"}},{"$f":"$R196*INDEX('Unit of measures'!$A$7:$R$24,MATCH(U$4,'Unit of measures'!$A$7:$A$24,0),MATCH($Q196,'Unit of measures'!$A$7:$R$7,0))","v":{"$error":"#N/A"}},{"$f":"$R196*INDEX('Unit of measures'!$A$7:$R$24,MATCH(V$4,'Unit of measures'!$A$7:$A$24,0),MATCH($Q196,'Unit of measures'!$A$7:$R$7,0))","v":{"$error":"#N/A"}},{"$f":"$R196*INDEX('Unit of measures'!$A$7:$R$24,MATCH(W$4,'Unit of measures'!$A$7:$A$24,0),MATCH($Q196,'Unit of measures'!$A$7:$R$7,0))","v":{"$error":"#N/A"}},"Each"]
[null,null,null,null,{"$f":"IFERROR(D197/B197,\"\")","v":""},null,null,{"$f":"$G197*INDEX('Unit of measures'!$A$7:$R$24,MATCH(H$4,'Unit of measures'!$A$7:$A$24,0),MATCH($F197,'Unit of measures'!$A$7:$R$7,0))","v":{"$error":"#N/A"}},{"$f":"$G197*INDEX('Unit of measures'!$A$7:$R$24,MATCH(I$4,'Unit of measures'!$A$7:$A$24,0),MATCH($F197,'Unit of measures'!$A$7:$R$7,0))","v":{"$error":"#N/A"}},{"$f":"$G197*INDEX('Unit of measures'!$A$7:$R$24,MATCH(J$4,'Unit of measures'!$A$7:$A$24,0),MATCH($F197,'Unit of measures'!$A$7:$R$7,0))","v":{"$error":"#N/A"}},{"$f":"$G197*INDEX('Unit of measures'!$A$7:$R$24,MATCH(K$4,'Unit of measures'!$A$7:$A$24,0),MATCH($F197,'Unit of measures'!$A$7:$R$7,0))","v":{"$error":"#N/A"}},{"$f":"$G197*INDEX('Unit of measures'!$A$7:$R$24,MATCH(L$4,'Unit of measures'!$A$7:$A$24,0),MATCH($F197,'Unit of measures'!$A$7:$R$7,0))","v":{"$error":"#N/A"}},{"$f":"$G197*INDEX('Unit of measures'!$A$7:$R$24,MATCH(M$4,'Unit of measures'!$A$7:$A$24,0),MATCH($F197,'Unit of measures'!$A$7:$R$7,0))","v":{"$error":"#N/A"}},{"$f":"$G197*INDEX('Unit of measures'!$A$7:$R$24,MATCH(N$4,'Unit of measures'!$A$7:$A$24,0),MATCH($F197,'Unit of measures'!$A$7:$R$7,0))","v":{"$error":"#N/A"}},{"$f":"$G197*INDEX('Unit of measures'!$A$7:$R$24,MATCH(O$4,'Unit of measures'!$A$7:$A$24,0),MATCH($F197,'Unit of measures'!$A$7:$R$7,0))","v":{"$error":"#N/A"}},{"$f":"$G197*INDEX('Unit of measures'!$A$7:$R$24,MATCH(P$4,'Unit of measures'!$A$7:$A$24,0),MATCH($F197,'Unit of measures'!$A$7:$R$7,0))","v":{"$error":"#N/A"}},null,null,{"$f":"$R197*INDEX('Unit of measures'!$A$7:$R$24,MATCH(S$4,'Unit of measures'!$A$7:$A$24,0),MATCH($Q197,'Unit of measures'!$A$7:$R$7,0))","v":{"$error":"#N/A"}},{"$f":"$R197*INDEX('Unit of measures'!$A$7:$R$24,MATCH(T$4,'Unit of measures'!$A$7:$A$24,0),MATCH($Q197,'Unit of measures'!$A$7:$R$7,0))","v":{"$error":"#N/A"}},{"$f":"$R197*INDEX('Unit of measures'!$A$7:$R$24,MATCH(U$4,'Unit of measures'!$A$7:$A$24,0),MATCH($Q197,'Unit of measures'!$A$7:$R$7,0))","v":{"$error":"#N/A"}},{"$f":"$R197*INDEX('Unit of measures'!$A$7:$R$24,MATCH(V$4,'Unit of measures'!$A$7:$A$24,0),MATCH($Q197,'Unit of measures'!$A$7:$R$7,0))","v":{"$error":"#N/A"}},{"$f":"$R197*INDEX('Unit of measures'!$A$7:$R$24,MATCH(W$4,'Unit of measures'!$A$7:$A$24,0),MATCH($Q197,'Unit of measures'!$A$7:$R$7,0))","v":{"$error":"#N/A"}},"Each"]
[null,null,null,null,"",null,null,{"$f":"$G198*INDEX('Unit of measures'!$A$7:$R$24,MATCH(H$4,'Unit of measures'!$A$7:$A$24,0),MATCH($F198,'Unit of measures'!$A$7:$R$7,0))","v":{"$error":"#N/A"}},{"$f":"$G198*INDEX('Unit of measures'!$A$7:$R$24,MATCH(I$4,'Unit of measures'!$A$7:$A$24,0),MATCH($F198,'Unit of measures'!$A$7:$R$7,0))","v":{"$error":"#N/A"}},{"$f":"$G198*INDEX('Unit of measures'!$A$7:$R$24,MATCH(J$4,'Unit of measures'!$A$7:$A$24,0),MATCH($F198,'Unit of measures'!$A$7:$R$7,0))","v":{"$error":"#N/A"}},{"$f":"$G198*INDEX('Unit of measures'!$A$7:$R$24,MATCH(K$4,'Unit of measures'!$A$7:$A$24,0),MATCH($F198,'Unit of measures'!$A$7:$R$7,0))","v":{"$error":"#N/A"}},{"$f":"$G198*INDEX('Unit of measures'!$A$7:$R$24,MATCH(L$4,'Unit of measures'!$A$7:$A$24,0),MATCH($F198,'Unit of measures'!$A$7:$R$7,0))","v":{"$error":"#N/A"}},{"$f":"$G198*INDEX('Unit of measures'!$A$7:$R$24,MATCH(M$4,'Unit of measures'!$A$7:$A$24,0),MATCH($F198,'Unit of measures'!$A$7:$R$7,0))","v":{"$error":"#N/A"}},{"$f":"$G198*INDEX('Unit of measures'!$A$7:$R$24,MATCH(N$4,'Unit of measures'!$A$7:$A$24,0),MATCH($F198,'Unit of measures'!$A$7:$R$7,0))","v":{"$error":"#N/A"}},{"$f":"$G198*INDEX('Unit of measures'!$A$7:$R$24,MATCH(O$4,'Unit of measures'!$A$7:$A$24,0),MATCH($F198,'Unit of measures'!$A$7:$R$7,0))","v":{"$error":"#N/A"}},{"$f":"$G198*INDEX('Unit of measures'!$A$7:$R$24,MATCH(P$4,'Unit of measures'!$A$7:$A$24,0),MATCH($F198,'Unit of measures'!$A$7:$R$7,0))","v":{"$error":"#N/A"}},null,null,{"$f":"$R198*INDEX('Unit of measures'!$A$7:$R$24,MATCH(S$4,'Unit of measures'!$A$7:$A$24,0),MATCH($Q198,'Unit of measures'!$A$7:$R$7,0))","v":{"$error":"#N/A"}},{"$f":"$R198*INDEX('Unit of measures'!$A$7:$R$24,MATCH(T$4,'Unit of measures'!$A$7:$A$24,0),MATCH($Q198,'Unit of measures'!$A$7:$R$7,0))","v":{"$error":"#N/A"}},{"$f":"$R198*INDEX('Unit of measures'!$A$7:$R$24,MATCH(U$4,'Unit of measures'!$A$7:$A$24,0),MATCH($Q198,'Unit of measures'!$A$7:$R$7,0))","v":{"$error":"#N/A"}},{"$f":"$R198*INDEX('Unit of measures'!$A$7:$R$24,MATCH(V$4,'Unit of measures'!$A$7:$A$24,0),MATCH($Q198,'Unit of measures'!$A$7:$R$7,0))","v":{"$error":"#N/A"}},{"$f":"$R198*INDEX('Unit of measures'!$A$7:$R$24,MATCH(W$4,'Unit of measures'!$A$7:$A$24,0),MATCH($Q198,'Unit of measures'!$A$7:$R$7,0))","v":{"$error":"#N/A"}},"Each"]
[null,null,null,null,"",null,null,{"$f":"$G199*INDEX('Unit of measures'!$A$7:$R$24,MATCH(H$4,'Unit of measures'!$A$7:$A$24,0),MATCH($F199,'Unit of measures'!$A$7:$R$7,0))","v":{"$error":"#N/A"}},{"$f":"$G199*INDEX('Unit of measures'!$A$7:$R$24,MATCH(I$4,'Unit of measures'!$A$7:$A$24,0),MATCH($F199,'Unit of measures'!$A$7:$R$7,0))","v":{"$error":"#N/A"}},{"$f":"$G199*INDEX('Unit of measures'!$A$7:$R$24,MATCH(J$4,'Unit of measures'!$A$7:$A$24,0),MATCH($F199,'Unit of measures'!$A$7:$R$7,0))","v":{"$error":"#N/A"}},{"$f":"$G199*INDEX('Unit of measures'!$A$7:$R$24,MATCH(K$4,'Unit of measures'!$A$7:$A$24,0),MATCH($F199,'Unit of measures'!$A$7:$R$7,0))","v":{"$error":"#N/A"}},{"$f":"$G199*INDEX('Unit of measures'!$A$7:$R$24,MATCH(L$4,'Unit of measures'!$A$7:$A$24,0),MATCH($F199,'Unit of measures'!$A$7:$R$7,0))","v":{"$error":"#N/A"}},{"$f":"$G199*INDEX('Unit of measures'!$A$7:$R$24,MATCH(M$4,'Unit of measures'!$A$7:$A$24,0),MATCH($F199,'Unit of measures'!$A$7:$R$7,0))","v":{"$error":"#N/A"}},{"$f":"$G199*INDEX('Unit of measures'!$A$7:$R$24,MATCH(N$4,'Unit of measures'!$A$7:$A$24,0),MATCH($F199,'Unit of measures'!$A$7:$R$7,0))","v":{"$error":"#N/A"}},{"$f":"$G199*INDEX('Unit of measures'!$A$7:$R$24,MATCH(O$4,'Unit of measures'!$A$7:$A$24,0),MATCH($F199,'Unit of measures'!$A$7:$R$7,0))","v":{"$error":"#N/A"}},{"$f":"$G199*INDEX('Unit of measures'!$A$7:$R$24,MATCH(P$4,'Unit of measures'!$A$7:$A$24,0),MATCH($F199,'Unit of measures'!$A$7:$R$7,0))","v":{"$error":"#N/A"}},null,null,{"$f":"$R199*INDEX('Unit of measures'!$A$7:$R$24,MATCH(S$4,'Unit of measures'!$A$7:$A$24,0),MATCH($Q199,'Unit of measures'!$A$7:$R$7,0))","v":{"$error":"#N/A"}},{"$f":"$R199*INDEX('Unit of measures'!$A$7:$R$24,MATCH(T$4,'Unit of measures'!$A$7:$A$24,0),MATCH($Q199,'Unit of measures'!$A$7:$R$7,0))","v":{"$error":"#N/A"}},{"$f":"$R199*INDEX('Unit of measures'!$A$7:$R$24,MATCH(U$4,'Unit of measures'!$A$7:$A$24,0),MATCH($Q199,'Unit of measures'!$A$7:$R$7,0))","v":{"$error":"#N/A"}},{"$f":"$R199*INDEX('Unit of measures'!$A$7:$R$24,MATCH(V$4,'Unit of measures'!$A$7:$A$24,0),MATCH($Q199,'Unit of measures'!$A$7:$R$7,0))","v":{"$error":"#N/A"}},{"$f":"$R199*INDEX('Unit of measures'!$A$7:$R$24,MATCH(W$4,'Unit of measures'!$A$7:$A$24,0),MATCH($Q199,'Unit of measures'!$A$7:$R$7,0))","v":{"$error":"#N/A"}},"Each"]
[null,null,null,null,"",null,null,{"$f":"$G200*INDEX('Unit of measures'!$A$7:$R$24,MATCH(H$4,'Unit of measures'!$A$7:$A$24,0),MATCH($F200,'Unit of measures'!$A$7:$R$7,0))","v":{"$error":"#N/A"}},{"$f":"$G200*INDEX('Unit of measures'!$A$7:$R$24,MATCH(I$4,'Unit of measures'!$A$7:$A$24,0),MATCH($F200,'Unit of measures'!$A$7:$R$7,0))","v":{"$error":"#N/A"}},{"$f":"$G200*INDEX('Unit of measures'!$A$7:$R$24,MATCH(J$4,'Unit of measures'!$A$7:$A$24,0),MATCH($F200,'Unit of measures'!$A$7:$R$7,0))","v":{"$error":"#N/A"}},{"$f":"$G200*INDEX('Unit of measures'!$A$7:$R$24,MATCH(K$4,'Unit of measures'!$A$7:$A$24,0),MATCH($F200,'Unit of measures'!$A$7:$R$7,0))","v":{"$error":"#N/A"}},{"$f":"$G200*INDEX('Unit of measures'!$A$7:$R$24,MATCH(L$4,'Unit of measures'!$A$7:$A$24,0),MATCH($F200,'Unit of measures'!$A$7:$R$7,0))","v":{"$error":"#N/A"}},{"$f":"$G200*INDEX('Unit of measures'!$A$7:$R$24,MATCH(M$4,'Unit of measures'!$A$7:$A$24,0),MATCH($F200,'Unit of measures'!$A$7:$R$7,0))","v":{"$error":"#N/A"}},{"$f":"$G200*INDEX('Unit of measures'!$A$7:$R$24,MATCH(N$4,'Unit of measures'!$A$7:$A$24,0),MATCH($F200,'Unit of measures'!$A$7:$R$7,0))","v":{"$error":"#N/A"}},{"$f":"$G200*INDEX('Unit of measures'!$A$7:$R$24,MATCH(O$4,'Unit of measures'!$A$7:$A$24,0),MATCH($F200,'Unit of measures'!$A$7:$R$7,0))","v":{"$error":"#N/A"}},{"$f":"$G200*INDEX('Unit of measures'!$A$7:$R$24,MATCH(P$4,'Unit of measures'!$A$7:$A$24,0),MATCH($F200,'Unit of measures'!$A$7:$R$7,0))","v":{"$error":"#N/A"}},null,null,{"$f":"$R200*INDEX('Unit of measures'!$A$7:$R$24,MATCH(S$4,'Unit of measures'!$A$7:$A$24,0),MATCH($Q200,'Unit of measures'!$A$7:$R$7,0))","v":{"$error":"#N/A"}},{"$f":"$R200*INDEX('Unit of measures'!$A$7:$R$24,MATCH(T$4,'Unit of measures'!$A$7:$A$24,0),MATCH($Q200,'Unit of measures'!$A$7:$R$7,0))","v":{"$error":"#N/A"}},{"$f":"$R200*INDEX('Unit of measures'!$A$7:$R$24,MATCH(U$4,'Unit of measures'!$A$7:$A$24,0),MATCH($Q200,'Unit of measures'!$A$7:$R$7,0))","v":{"$error":"#N/A"}},{"$f":"$R200*INDEX('Unit of measures'!$A$7:$R$24,MATCH(V$4,'Unit of measures'!$A$7:$A$24,0),MATCH($Q200,'Unit of measures'!$A$7:$R$7,0))","v":{"$error":"#N/A"}},{"$f":"$R200*INDEX('Unit of measures'!$A$7:$R$24,MATCH(W$4,'Unit of measures'!$A$7:$A$24,0),MATCH($Q200,'Unit of measures'!$A$7:$R$7,0))","v":{"$error":"#N/A"}},"Each"]
[null,null,null,null,"",null,null,{"$f":"$G201*INDEX('Unit of measures'!$A$7:$R$24,MATCH(H$4,'Unit of measures'!$A$7:$A$24,0),MATCH($F201,'Unit of measures'!$A$7:$R$7,0))","v":{"$error":"#N/A"}},{"$f":"$G201*INDEX('Unit of measures'!$A$7:$R$24,MATCH(I$4,'Unit of measures'!$A$7:$A$24,0),MATCH($F201,'Unit of measures'!$A$7:$R$7,0))","v":{"$error":"#N/A"}},{"$f":"$G201*INDEX('Unit of measures'!$A$7:$R$24,MATCH(J$4,'Unit of measures'!$A$7:$A$24,0),MATCH($F201,'Unit of measures'!$A$7:$R$7,0))","v":{"$error":"#N/A"}},{"$f":"$G201*INDEX('Unit of measures'!$A$7:$R$24,MATCH(K$4,'Unit of measures'!$A$7:$A$24,0),MATCH($F201,'Unit of measures'!$A$7:$R$7,0))","v":{"$error":"#N/A"}},{"$f":"$G201*INDEX('Unit of measures'!$A$7:$R$24,MATCH(L$4,'Unit of measures'!$A$7:$A$24,0),MATCH($F201,'Unit of measures'!$A$7:$R$7,0))","v":{"$error":"#N/A"}},{"$f":"$G201*INDEX('Unit of measures'!$A$7:$R$24,MATCH(M$4,'Unit of measures'!$A$7:$A$24,0),MATCH($F201,'Unit of measures'!$A$7:$R$7,0))","v":{"$error":"#N/A"}},{"$f":"$G201*INDEX('Unit of measures'!$A$7:$R$24,MATCH(N$4,'Unit of measures'!$A$7:$A$24,0),MATCH($F201,'Unit of measures'!$A$7:$R$7,0))","v":{"$error":"#N/A"}},{"$f":"$G201*INDEX('Unit of measures'!$A$7:$R$24,MATCH(O$4,'Unit of measures'!$A$7:$A$24,0),MATCH($F201,'Unit of measures'!$A$7:$R$7,0))","v":{"$error":"#N/A"}},{"$f":"$G201*INDEX('Unit of measures'!$A$7:$R$24,MATCH(P$4,'Unit of measures'!$A$7:$A$24,0),MATCH($F201,'Unit of measures'!$A$7:$R$7,0))","v":{"$error":"#N/A"}},null,null,{"$f":"$R201*INDEX('Unit of measures'!$A$7:$R$24,MATCH(S$4,'Unit of measures'!$A$7:$A$24,0),MATCH($Q201,'Unit of measures'!$A$7:$R$7,0))","v":{"$error":"#N/A"}},{"$f":"$R201*INDEX('Unit of measures'!$A$7:$R$24,MATCH(T$4,'Unit of measures'!$A$7:$A$24,0),MATCH($Q201,'Unit of measures'!$A$7:$R$7,0))","v":{"$error":"#N/A"}},{"$f":"$R201*INDEX('Unit of measures'!$A$7:$R$24,MATCH(U$4,'Unit of measures'!$A$7:$A$24,0),MATCH($Q201,'Unit of measures'!$A$7:$R$7,0))","v":{"$error":"#N/A"}},{"$f":"$R201*INDEX('Unit of measures'!$A$7:$R$24,MATCH(V$4,'Unit of measures'!$A$7:$A$24,0),MATCH($Q201,'Unit of measures'!$A$7:$R$7,0))","v":{"$error":"#N/A"}},{"$f":"$R201*INDEX('Unit of measures'!$A$7:$R$24,MATCH(W$4,'Unit of measures'!$A$7:$A$24,0),MATCH($Q201,'Unit of measures'!$A$7:$R$7,0))","v":{"$error":"#N/A"}},"Each"]
[null,null,null,null,"",null,null,{"$f":"$G202*INDEX('Unit of measures'!$A$7:$R$24,MATCH(H$4,'Unit of measures'!$A$7:$A$24,0),MATCH($F202,'Unit of measures'!$A$7:$R$7,0))","v":{"$error":"#N/A"}},{"$f":"$G202*INDEX('Unit of measures'!$A$7:$R$24,MATCH(I$4,'Unit of measures'!$A$7:$A$24,0),MATCH($F202,'Unit of measures'!$A$7:$R$7,0))","v":{"$error":"#N/A"}},{"$f":"$G202*INDEX('Unit of measures'!$A$7:$R$24,MATCH(J$4,'Unit of measures'!$A$7:$A$24,0),MATCH($F202,'Unit of measures'!$A$7:$R$7,0))","v":{"$error":"#N/A"}},{"$f":"$G202*INDEX('Unit of measures'!$A$7:$R$24,MATCH(K$4,'Unit of measures'!$A$7:$A$24,0),MATCH($F202,'Unit of measures'!$A$7:$R$7,0))","v":{"$error":"#N/A"}},{"$f":"$G202*INDEX('Unit of measures'!$A$7:$R$24,MATCH(L$4,'Unit of measures'!$A$7:$A$24,0),MATCH($F202,'Unit of measures'!$A$7:$R$7,0))","v":{"$error":"#N/A"}},{"$f":"$G202*INDEX('Unit of measures'!$A$7:$R$24,MATCH(M$4,'Unit of measures'!$A$7:$A$24,0),MATCH($F202,'Unit of measures'!$A$7:$R$7,0))","v":{"$error":"#N/A"}},{"$f":"$G202*INDEX('Unit of measures'!$A$7:$R$24,MATCH(N$4,'Unit of measures'!$A$7:$A$24,0),MATCH($F202,'Unit of measures'!$A$7:$R$7,0))","v":{"$error":"#N/A"}},{"$f":"$G202*INDEX('Unit of measures'!$A$7:$R$24,MATCH(O$4,'Unit of measures'!$A$7:$A$24,0),MATCH($F202,'Unit of measures'!$A$7:$R$7,0))","v":{"$error":"#N/A"}},{"$f":"$G202*INDEX('Unit of measures'!$A$7:$R$24,MATCH(P$4,'Unit of measures'!$A$7:$A$24,0),MATCH($F202,'Unit of measures'!$A$7:$R$7,0))","v":{"$error":"#N/A"}},null,null,{"$f":"$R202*INDEX('Unit of measures'!$A$7:$R$24,MATCH(S$4,'Unit of measures'!$A$7:$A$24,0),MATCH($Q202,'Unit of measures'!$A$7:$R$7,0))","v":{"$error":"#N/A"}},{"$f":"$R202*INDEX('Unit of measures'!$A$7:$R$24,MATCH(T$4,'Unit of measures'!$A$7:$A$24,0),MATCH($Q202,'Unit of measures'!$A$7:$R$7,0))","v":{"$error":"#N/A"}},{"$f":"$R202*INDEX('Unit of measures'!$A$7:$R$24,MATCH(U$4,'Unit of measures'!$A$7:$A$24,0),MATCH($Q202,'Unit of measures'!$A$7:$R$7,0))","v":{"$error":"#N/A"}},{"$f":"$R202*INDEX('Unit of measures'!$A$7:$R$24,MATCH(V$4,'Unit of measures'!$A$7:$A$24,0),MATCH($Q202,'Unit of measures'!$A$7:$R$7,0))","v":{"$error":"#N/A"}},{"$f":"$R202*INDEX('Unit of measures'!$A$7:$R$24,MATCH(W$4,'Unit of measures'!$A$7:$A$24,0),MATCH($Q202,'Unit of measures'!$A$7:$R$7,0))","v":{"$error":"#N/A"}},"Each"]
[null,null,null,null,"",null,null,{"$f":"$G203*INDEX('Unit of measures'!$A$7:$R$24,MATCH(H$4,'Unit of measures'!$A$7:$A$24,0),MATCH($F203,'Unit of measures'!$A$7:$R$7,0))","v":{"$error":"#N/A"}},{"$f":"$G203*INDEX('Unit of measures'!$A$7:$R$24,MATCH(I$4,'Unit of measures'!$A$7:$A$24,0),MATCH($F203,'Unit of measures'!$A$7:$R$7,0))","v":{"$error":"#N/A"}},{"$f":"$G203*INDEX('Unit of measures'!$A$7:$R$24,MATCH(J$4,'Unit of measures'!$A$7:$A$24,0),MATCH($F203,'Unit of measures'!$A$7:$R$7,0))","v":{"$error":"#N/A"}},{"$f":"$G203*INDEX('Unit of measures'!$A$7:$R$24,MATCH(K$4,'Unit of measures'!$A$7:$A$24,0),MATCH($F203,'Unit of measures'!$A$7:$R$7,0))","v":{"$error":"#N/A"}},{"$f":"$G203*INDEX('Unit of measures'!$A$7:$R$24,MATCH(L$4,'Unit of measures'!$A$7:$A$24,0),MATCH($F203,'Unit of measures'!$A$7:$R$7,0))","v":{"$error":"#N/A"}},{"$f":"$G203*INDEX('Unit of measures'!$A$7:$R$24,MATCH(M$4,'Unit of measures'!$A$7:$A$24,0),MATCH($F203,'Unit of measures'!$A$7:$R$7,0))","v":{"$error":"#N/A"}},{"$f":"$G203*INDEX('Unit of measures'!$A$7:$R$24,MATCH(N$4,'Unit of measures'!$A$7:$A$24,0),MATCH($F203,'Unit of measures'!$A$7:$R$7,0))","v":{"$error":"#N/A"}},{"$f":"$G203*INDEX('Unit of measures'!$A$7:$R$24,MATCH(O$4,'Unit of measures'!$A$7:$A$24,0),MATCH($F203,'Unit of measures'!$A$7:$R$7,0))","v":{"$error":"#N/A"}},{"$f":"$G203*INDEX('Unit of measures'!$A$7:$R$24,MATCH(P$4,'Unit of measures'!$A$7:$A$24,0),MATCH($F203,'Unit of measures'!$A$7:$R$7,0))","v":{"$error":"#N/A"}},null,null,{"$f":"$R203*INDEX('Unit of measures'!$A$7:$R$24,MATCH(S$4,'Unit of measures'!$A$7:$A$24,0),MATCH($Q203,'Unit of measures'!$A$7:$R$7,0))","v":{"$error":"#N/A"}},{"$f":"$R203*INDEX('Unit of measures'!$A$7:$R$24,MATCH(T$4,'Unit of measures'!$A$7:$A$24,0),MATCH($Q203,'Unit of measures'!$A$7:$R$7,0))","v":{"$error":"#N/A"}},{"$f":"$R203*INDEX('Unit of measures'!$A$7:$R$24,MATCH(U$4,'Unit of measures'!$A$7:$A$24,0),MATCH($Q203,'Unit of measures'!$A$7:$R$7,0))","v":{"$error":"#N/A"}},{"$f":"$R203*INDEX('Unit of measures'!$A$7:$R$24,MATCH(V$4,'Unit of measures'!$A$7:$A$24,0),MATCH($Q203,'Unit of measures'!$A$7:$R$7,0))","v":{"$error":"#N/A"}},{"$f":"$R203*INDEX('Unit of measures'!$A$7:$R$24,MATCH(W$4,'Unit of measures'!$A$7:$A$24,0),MATCH($Q203,'Unit of measures'!$A$7:$R$7,0))","v":{"$error":"#N/A"}},"Each"]
[null,null,null,null,"",null,null,{"$f":"$G204*INDEX('Unit of measures'!$A$7:$R$24,MATCH(H$4,'Unit of measures'!$A$7:$A$24,0),MATCH($F204,'Unit of measures'!$A$7:$R$7,0))","v":{"$error":"#N/A"}},{"$f":"$G204*INDEX('Unit of measures'!$A$7:$R$24,MATCH(I$4,'Unit of measures'!$A$7:$A$24,0),MATCH($F204,'Unit of measures'!$A$7:$R$7,0))","v":{"$error":"#N/A"}},{"$f":"$G204*INDEX('Unit of measures'!$A$7:$R$24,MATCH(J$4,'Unit of measures'!$A$7:$A$24,0),MATCH($F204,'Unit of measures'!$A$7:$R$7,0))","v":{"$error":"#N/A"}},{"$f":"$G204*INDEX('Unit of measures'!$A$7:$R$24,MATCH(K$4,'Unit of measures'!$A$7:$A$24,0),MATCH($F204,'Unit of measures'!$A$7:$R$7,0))","v":{"$error":"#N/A"}},{"$f":"$G204*INDEX('Unit of measures'!$A$7:$R$24,MATCH(L$4,'Unit of measures'!$A$7:$A$24,0),MATCH($F204,'Unit of measures'!$A$7:$R$7,0))","v":{"$error":"#N/A"}},{"$f":"$G204*INDEX('Unit of measures'!$A$7:$R$24,MATCH(M$4,'Unit of measures'!$A$7:$A$24,0),MATCH($F204,'Unit of measures'!$A$7:$R$7,0))","v":{"$error":"#N/A"}},{"$f":"$G204*INDEX('Unit of measures'!$A$7:$R$24,MATCH(N$4,'Unit of measures'!$A$7:$A$24,0),MATCH($F204,'Unit of measures'!$A$7:$R$7,0))","v":{"$error":"#N/A"}},{"$f":"$G204*INDEX('Unit of measures'!$A$7:$R$24,MATCH(O$4,'Unit of measures'!$A$7:$A$24,0),MATCH($F204,'Unit of measures'!$A$7:$R$7,0))","v":{"$error":"#N/A"}},{"$f":"$G204*INDEX('Unit of measures'!$A$7:$R$24,MATCH(P$4,'Unit of measures'!$A$7:$A$24,0),MATCH($F204,'Unit of measures'!$A$7:$R$7,0))","v":{"$error":"#N/A"}},null,null,{"$f":"$R204*INDEX('Unit of measures'!$A$7:$R$24,MATCH(S$4,'Unit of measures'!$A$7:$A$24,0),MATCH($Q204,'Unit of measures'!$A$7:$R$7,0))","v":{"$error":"#N/A"}},{"$f":"$R204*INDEX('Unit of measures'!$A$7:$R$24,MATCH(T$4,'Unit of measures'!$A$7:$A$24,0),MATCH($Q204,'Unit of measures'!$A$7:$R$7,0))","v":{"$error":"#N/A"}},{"$f":"$R204*INDEX('Unit of measures'!$A$7:$R$24,MATCH(U$4,'Unit of measures'!$A$7:$A$24,0),MATCH($Q204,'Unit of measures'!$A$7:$R$7,0))","v":{"$error":"#N/A"}},{"$f":"$R204*INDEX('Unit of measures'!$A$7:$R$24,MATCH(V$4,'Unit of measures'!$A$7:$A$24,0),MATCH($Q204,'Unit of measures'!$A$7:$R$7,0))","v":{"$error":"#N/A"}},{"$f":"$R204*INDEX('Unit of measures'!$A$7:$R$24,MATCH(W$4,'Unit of measures'!$A$7:$A$24,0),MATCH($Q204,'Unit of measures'!$A$7:$R$7,0))","v":{"$error":"#N/A"}},"Each"]
[null,null,null,null,"",null,null,{"$f":"$G205*INDEX('Unit of measures'!$A$7:$R$24,MATCH(H$4,'Unit of measures'!$A$7:$A$24,0),MATCH($F205,'Unit of measures'!$A$7:$R$7,0))","v":{"$error":"#N/A"}},{"$f":"$G205*INDEX('Unit of measures'!$A$7:$R$24,MATCH(I$4,'Unit of measures'!$A$7:$A$24,0),MATCH($F205,'Unit of measures'!$A$7:$R$7,0))","v":{"$error":"#N/A"}},{"$f":"$G205*INDEX('Unit of measures'!$A$7:$R$24,MATCH(J$4,'Unit of measures'!$A$7:$A$24,0),MATCH($F205,'Unit of measures'!$A$7:$R$7,0))","v":{"$error":"#N/A"}},{"$f":"$G205*INDEX('Unit of measures'!$A$7:$R$24,MATCH(K$4,'Unit of measures'!$A$7:$A$24,0),MATCH($F205,'Unit of measures'!$A$7:$R$7,0))","v":{"$error":"#N/A"}},{"$f":"$G205*INDEX('Unit of measures'!$A$7:$R$24,MATCH(L$4,'Unit of measures'!$A$7:$A$24,0),MATCH($F205,'Unit of measures'!$A$7:$R$7,0))","v":{"$error":"#N/A"}},{"$f":"$G205*INDEX('Unit of measures'!$A$7:$R$24,MATCH(M$4,'Unit of measures'!$A$7:$A$24,0),MATCH($F205,'Unit of measures'!$A$7:$R$7,0))","v":{"$error":"#N/A"}},{"$f":"$G205*INDEX('Unit of measures'!$A$7:$R$24,MATCH(N$4,'Unit of measures'!$A$7:$A$24,0),MATCH($F205,'Unit of measures'!$A$7:$R$7,0))","v":{"$error":"#N/A"}},{"$f":"$G205*INDEX('Unit of measures'!$A$7:$R$24,MATCH(O$4,'Unit of measures'!$A$7:$A$24,0),MATCH($F205,'Unit of measures'!$A$7:$R$7,0))","v":{"$error":"#N/A"}},{"$f":"$G205*INDEX('Unit of measures'!$A$7:$R$24,MATCH(P$4,'Unit of measures'!$A$7:$A$24,0),MATCH($F205,'Unit of measures'!$A$7:$R$7,0))","v":{"$error":"#N/A"}},null,null,{"$f":"$R205*INDEX('Unit of measures'!$A$7:$R$24,MATCH(S$4,'Unit of measures'!$A$7:$A$24,0),MATCH($Q205,'Unit of measures'!$A$7:$R$7,0))","v":{"$error":"#N/A"}},{"$f":"$R205*INDEX('Unit of measures'!$A$7:$R$24,MATCH(T$4,'Unit of measures'!$A$7:$A$24,0),MATCH($Q205,'Unit of measures'!$A$7:$R$7,0))","v":{"$error":"#N/A"}},{"$f":"$R205*INDEX('Unit of measures'!$A$7:$R$24,MATCH(U$4,'Unit of measures'!$A$7:$A$24,0),MATCH($Q205,'Unit of measures'!$A$7:$R$7,0))","v":{"$error":"#N/A"}},{"$f":"$R205*INDEX('Unit of measures'!$A$7:$R$24,MATCH(V$4,'Unit of measures'!$A$7:$A$24,0),MATCH($Q205,'Unit of measures'!$A$7:$R$7,0))","v":{"$error":"#N/A"}},{"$f":"$R205*INDEX('Unit of measures'!$A$7:$R$24,MATCH(W$4,'Unit of measures'!$A$7:$A$24,0),MATCH($Q205,'Unit of measures'!$A$7:$R$7,0))","v":{"$error":"#N/A"}},"Each"]
[null,null,null,null,"",null,null,{"$f":"$G206*INDEX('Unit of measures'!$A$7:$R$24,MATCH(H$4,'Unit of measures'!$A$7:$A$24,0),MATCH($F206,'Unit of measures'!$A$7:$R$7,0))","v":{"$error":"#N/A"}},{"$f":"$G206*INDEX('Unit of measures'!$A$7:$R$24,MATCH(I$4,'Unit of measures'!$A$7:$A$24,0),MATCH($F206,'Unit of measures'!$A$7:$R$7,0))","v":{"$error":"#N/A"}},{"$f":"$G206*INDEX('Unit of measures'!$A$7:$R$24,MATCH(J$4,'Unit of measures'!$A$7:$A$24,0),MATCH($F206,'Unit of measures'!$A$7:$R$7,0))","v":{"$error":"#N/A"}},{"$f":"$G206*INDEX('Unit of measures'!$A$7:$R$24,MATCH(K$4,'Unit of measures'!$A$7:$A$24,0),MATCH($F206,'Unit of measures'!$A$7:$R$7,0))","v":{"$error":"#N/A"}},{"$f":"$G206*INDEX('Unit of measures'!$A$7:$R$24,MATCH(L$4,'Unit of measures'!$A$7:$A$24,0),MATCH($F206,'Unit of measures'!$A$7:$R$7,0))","v":{"$error":"#N/A"}},{"$f":"$G206*INDEX('Unit of measures'!$A$7:$R$24,MATCH(M$4,'Unit of measures'!$A$7:$A$24,0),MATCH($F206,'Unit of measures'!$A$7:$R$7,0))","v":{"$error":"#N/A"}},{"$f":"$G206*INDEX('Unit of measures'!$A$7:$R$24,MATCH(N$4,'Unit of measures'!$A$7:$A$24,0),MATCH($F206,'Unit of measures'!$A$7:$R$7,0))","v":{"$error":"#N/A"}},{"$f":"$G206*INDEX('Unit of measures'!$A$7:$R$24,MATCH(O$4,'Unit of measures'!$A$7:$A$24,0),MATCH($F206,'Unit of measures'!$A$7:$R$7,0))","v":{"$error":"#N/A"}},{"$f":"$G206*INDEX('Unit of measures'!$A$7:$R$24,MATCH(P$4,'Unit of measures'!$A$7:$A$24,0),MATCH($F206,'Unit of measures'!$A$7:$R$7,0))","v":{"$error":"#N/A"}},null,null,{"$f":"$R206*INDEX('Unit of measures'!$A$7:$R$24,MATCH(S$4,'Unit of measures'!$A$7:$A$24,0),MATCH($Q206,'Unit of measures'!$A$7:$R$7,0))","v":{"$error":"#N/A"}},{"$f":"$R206*INDEX('Unit of measures'!$A$7:$R$24,MATCH(T$4,'Unit of measures'!$A$7:$A$24,0),MATCH($Q206,'Unit of measures'!$A$7:$R$7,0))","v":{"$error":"#N/A"}},{"$f":"$R206*INDEX('Unit of measures'!$A$7:$R$24,MATCH(U$4,'Unit of measures'!$A$7:$A$24,0),MATCH($Q206,'Unit of measures'!$A$7:$R$7,0))","v":{"$error":"#N/A"}},{"$f":"$R206*INDEX('Unit of measures'!$A$7:$R$24,MATCH(V$4,'Unit of measures'!$A$7:$A$24,0),MATCH($Q206,'Unit of measures'!$A$7:$R$7,0))","v":{"$error":"#N/A"}},{"$f":"$R206*INDEX('Unit of measures'!$A$7:$R$24,MATCH(W$4,'Unit of measures'!$A$7:$A$24,0),MATCH($Q206,'Unit of measures'!$A$7:$R$7,0))","v":{"$error":"#N/A"}},"Each"]
[null,null,null,null,"",null,null,{"$f":"$G207*INDEX('Unit of measures'!$A$7:$R$24,MATCH(H$4,'Unit of measures'!$A$7:$A$24,0),MATCH($F207,'Unit of measures'!$A$7:$R$7,0))","v":{"$error":"#N/A"}},{"$f":"$G207*INDEX('Unit of measures'!$A$7:$R$24,MATCH(I$4,'Unit of measures'!$A$7:$A$24,0),MATCH($F207,'Unit of measures'!$A$7:$R$7,0))","v":{"$error":"#N/A"}},{"$f":"$G207*INDEX('Unit of measures'!$A$7:$R$24,MATCH(J$4,'Unit of measures'!$A$7:$A$24,0),MATCH($F207,'Unit of measures'!$A$7:$R$7,0))","v":{"$error":"#N/A"}},{"$f":"$G207*INDEX('Unit of measures'!$A$7:$R$24,MATCH(K$4,'Unit of measures'!$A$7:$A$24,0),MATCH($F207,'Unit of measures'!$A$7:$R$7,0))","v":{"$error":"#N/A"}},{"$f":"$G207*INDEX('Unit of measures'!$A$7:$R$24,MATCH(L$4,'Unit of measures'!$A$7:$A$24,0),MATCH($F207,'Unit of measures'!$A$7:$R$7,0))","v":{"$error":"#N/A"}},{"$f":"$G207*INDEX('Unit of measures'!$A$7:$R$24,MATCH(M$4,'Unit of measures'!$A$7:$A$24,0),MATCH($F207,'Unit of measures'!$A$7:$R$7,0))","v":{"$error":"#N/A"}},{"$f":"$G207*INDEX('Unit of measures'!$A$7:$R$24,MATCH(N$4,'Unit of measures'!$A$7:$A$24,0),MATCH($F207,'Unit of measures'!$A$7:$R$7,0))","v":{"$error":"#N/A"}},{"$f":"$G207*INDEX('Unit of measures'!$A$7:$R$24,MATCH(O$4,'Unit of measures'!$A$7:$A$24,0),MATCH($F207,'Unit of measures'!$A$7:$R$7,0))","v":{"$error":"#N/A"}},{"$f":"$G207*INDEX('Unit of measures'!$A$7:$R$24,MATCH(P$4,'Unit of measures'!$A$7:$A$24,0),MATCH($F207,'Unit of measures'!$A$7:$R$7,0))","v":{"$error":"#N/A"}},null,null,{"$f":"$R207*INDEX('Unit of measures'!$A$7:$R$24,MATCH(S$4,'Unit of measures'!$A$7:$A$24,0),MATCH($Q207,'Unit of measures'!$A$7:$R$7,0))","v":{"$error":"#N/A"}},{"$f":"$R207*INDEX('Unit of measures'!$A$7:$R$24,MATCH(T$4,'Unit of measures'!$A$7:$A$24,0),MATCH($Q207,'Unit of measures'!$A$7:$R$7,0))","v":{"$error":"#N/A"}},{"$f":"$R207*INDEX('Unit of measures'!$A$7:$R$24,MATCH(U$4,'Unit of measures'!$A$7:$A$24,0),MATCH($Q207,'Unit of measures'!$A$7:$R$7,0))","v":{"$error":"#N/A"}},{"$f":"$R207*INDEX('Unit of measures'!$A$7:$R$24,MATCH(V$4,'Unit of measures'!$A$7:$A$24,0),MATCH($Q207,'Unit of measures'!$A$7:$R$7,0))","v":{"$error":"#N/A"}},{"$f":"$R207*INDEX('Unit of measures'!$A$7:$R$24,MATCH(W$4,'Unit of measures'!$A$7:$A$24,0),MATCH($Q207,'Unit of measures'!$A$7:$R$7,0))","v":{"$error":"#N/A"}},"Each"]
[null,null,null,null,"",null,null,{"$f":"$G208*INDEX('Unit of measures'!$A$7:$R$24,MATCH(H$4,'Unit of measures'!$A$7:$A$24,0),MATCH($F208,'Unit of measures'!$A$7:$R$7,0))","v":{"$error":"#N/A"}},{"$f":"$G208*INDEX('Unit of measures'!$A$7:$R$24,MATCH(I$4,'Unit of measures'!$A$7:$A$24,0),MATCH($F208,'Unit of measures'!$A$7:$R$7,0))","v":{"$error":"#N/A"}},{"$f":"$G208*INDEX('Unit of measures'!$A$7:$R$24,MATCH(J$4,'Unit of measures'!$A$7:$A$24,0),MATCH($F208,'Unit of measures'!$A$7:$R$7,0))","v":{"$error":"#N/A"}},{"$f":"$G208*INDEX('Unit of measures'!$A$7:$R$24,MATCH(K$4,'Unit of measures'!$A$7:$A$24,0),MATCH($F208,'Unit of measures'!$A$7:$R$7,0))","v":{"$error":"#N/A"}},{"$f":"$G208*INDEX('Unit of measures'!$A$7:$R$24,MATCH(L$4,'Unit of measures'!$A$7:$A$24,0),MATCH($F208,'Unit of measures'!$A$7:$R$7,0))","v":{"$error":"#N/A"}},{"$f":"$G208*INDEX('Unit of measures'!$A$7:$R$24,MATCH(M$4,'Unit of measures'!$A$7:$A$24,0),MATCH($F208,'Unit of measures'!$A$7:$R$7,0))","v":{"$error":"#N/A"}},{"$f":"$G208*INDEX('Unit of measures'!$A$7:$R$24,MATCH(N$4,'Unit of measures'!$A$7:$A$24,0),MATCH($F208,'Unit of measures'!$A$7:$R$7,0))","v":{"$error":"#N/A"}},{"$f":"$G208*INDEX('Unit of measures'!$A$7:$R$24,MATCH(O$4,'Unit of measures'!$A$7:$A$24,0),MATCH($F208,'Unit of measures'!$A$7:$R$7,0))","v":{"$error":"#N/A"}},{"$f":"$G208*INDEX('Unit of measures'!$A$7:$R$24,MATCH(P$4,'Unit of measures'!$A$7:$A$24,0),MATCH($F208,'Unit of measures'!$A$7:$R$7,0))","v":{"$error":"#N/A"}},null,null,{"$f":"$R208*INDEX('Unit of measures'!$A$7:$R$24,MATCH(S$4,'Unit of measures'!$A$7:$A$24,0),MATCH($Q208,'Unit of measures'!$A$7:$R$7,0))","v":{"$error":"#N/A"}},{"$f":"$R208*INDEX('Unit of measures'!$A$7:$R$24,MATCH(T$4,'Unit of measures'!$A$7:$A$24,0),MATCH($Q208,'Unit of measures'!$A$7:$R$7,0))","v":{"$error":"#N/A"}},{"$f":"$R208*INDEX('Unit of measures'!$A$7:$R$24,MATCH(U$4,'Unit of measures'!$A$7:$A$24,0),MATCH($Q208,'Unit of measures'!$A$7:$R$7,0))","v":{"$error":"#N/A"}},{"$f":"$R208*INDEX('Unit of measures'!$A$7:$R$24,MATCH(V$4,'Unit of measures'!$A$7:$A$24,0),MATCH($Q208,'Unit of measures'!$A$7:$R$7,0))","v":{"$error":"#N/A"}},{"$f":"$R208*INDEX('Unit of measures'!$A$7:$R$24,MATCH(W$4,'Unit of measures'!$A$7:$A$24,0),MATCH($Q208,'Unit of measures'!$A$7:$R$7,0))","v":{"$error":"#N/A"}},"Each"]
[null,null,null,null,"",null,null,{"$f":"$G209*INDEX('Unit of measures'!$A$7:$R$24,MATCH(H$4,'Unit of measures'!$A$7:$A$24,0),MATCH($F209,'Unit of measures'!$A$7:$R$7,0))","v":{"$error":"#N/A"}},{"$f":"$G209*INDEX('Unit of measures'!$A$7:$R$24,MATCH(I$4,'Unit of measures'!$A$7:$A$24,0),MATCH($F209,'Unit of measures'!$A$7:$R$7,0))","v":{"$error":"#N/A"}},{"$f":"$G209*INDEX('Unit of measures'!$A$7:$R$24,MATCH(J$4,'Unit of measures'!$A$7:$A$24,0),MATCH($F209,'Unit of measures'!$A$7:$R$7,0))","v":{"$error":"#N/A"}},{"$f":"$G209*INDEX('Unit of measures'!$A$7:$R$24,MATCH(K$4,'Unit of measures'!$A$7:$A$24,0),MATCH($F209,'Unit of measures'!$A$7:$R$7,0))","v":{"$error":"#N/A"}},{"$f":"$G209*INDEX('Unit of measures'!$A$7:$R$24,MATCH(L$4,'Unit of measures'!$A$7:$A$24,0),MATCH($F209,'Unit of measures'!$A$7:$R$7,0))","v":{"$error":"#N/A"}},{"$f":"$G209*INDEX('Unit of measures'!$A$7:$R$24,MATCH(M$4,'Unit of measures'!$A$7:$A$24,0),MATCH($F209,'Unit of measures'!$A$7:$R$7,0))","v":{"$error":"#N/A"}},{"$f":"$G209*INDEX('Unit of measures'!$A$7:$R$24,MATCH(N$4,'Unit of measures'!$A$7:$A$24,0),MATCH($F209,'Unit of measures'!$A$7:$R$7,0))","v":{"$error":"#N/A"}},{"$f":"$G209*INDEX('Unit of measures'!$A$7:$R$24,MATCH(O$4,'Unit of measures'!$A$7:$A$24,0),MATCH($F209,'Unit of measures'!$A$7:$R$7,0))","v":{"$error":"#N/A"}},{"$f":"$G209*INDEX('Unit of measures'!$A$7:$R$24,MATCH(P$4,'Unit of measures'!$A$7:$A$24,0),MATCH($F209,'Unit of measures'!$A$7:$R$7,0))","v":{"$error":"#N/A"}},null,null,{"$f":"$R209*INDEX('Unit of measures'!$A$7:$R$24,MATCH(S$4,'Unit of measures'!$A$7:$A$24,0),MATCH($Q209,'Unit of measures'!$A$7:$R$7,0))","v":{"$error":"#N/A"}},{"$f":"$R209*INDEX('Unit of measures'!$A$7:$R$24,MATCH(T$4,'Unit of measures'!$A$7:$A$24,0),MATCH($Q209,'Unit of measures'!$A$7:$R$7,0))","v":{"$error":"#N/A"}},{"$f":"$R209*INDEX('Unit of measures'!$A$7:$R$24,MATCH(U$4,'Unit of measures'!$A$7:$A$24,0),MATCH($Q209,'Unit of measures'!$A$7:$R$7,0))","v":{"$error":"#N/A"}},{"$f":"$R209*INDEX('Unit of measures'!$A$7:$R$24,MATCH(V$4,'Unit of measures'!$A$7:$A$24,0),MATCH($Q209,'Unit of measures'!$A$7:$R$7,0))","v":{"$error":"#N/A"}},{"$f":"$R209*INDEX('Unit of measures'!$A$7:$R$24,MATCH(W$4,'Unit of measures'!$A$7:$A$24,0),MATCH($Q209,'Unit of measures'!$A$7:$R$7,0))","v":{"$error":"#N/A"}},"Each"]
[null,null,null,null,"",null,null,{"$f":"$G210*INDEX('Unit of measures'!$A$7:$R$24,MATCH(H$4,'Unit of measures'!$A$7:$A$24,0),MATCH($F210,'Unit of measures'!$A$7:$R$7,0))","v":{"$error":"#N/A"}},{"$f":"$G210*INDEX('Unit of measures'!$A$7:$R$24,MATCH(I$4,'Unit of measures'!$A$7:$A$24,0),MATCH($F210,'Unit of measures'!$A$7:$R$7,0))","v":{"$error":"#N/A"}},{"$f":"$G210*INDEX('Unit of measures'!$A$7:$R$24,MATCH(J$4,'Unit of measures'!$A$7:$A$24,0),MATCH($F210,'Unit of measures'!$A$7:$R$7,0))","v":{"$error":"#N/A"}},{"$f":"$G210*INDEX('Unit of measures'!$A$7:$R$24,MATCH(K$4,'Unit of measures'!$A$7:$A$24,0),MATCH($F210,'Unit of measures'!$A$7:$R$7,0))","v":{"$error":"#N/A"}},{"$f":"$G210*INDEX('Unit of measures'!$A$7:$R$24,MATCH(L$4,'Unit of measures'!$A$7:$A$24,0),MATCH($F210,'Unit of measures'!$A$7:$R$7,0))","v":{"$error":"#N/A"}},{"$f":"$G210*INDEX('Unit of measures'!$A$7:$R$24,MATCH(M$4,'Unit of measures'!$A$7:$A$24,0),MATCH($F210,'Unit of measures'!$A$7:$R$7,0))","v":{"$error":"#N/A"}},{"$f":"$G210*INDEX('Unit of measures'!$A$7:$R$24,MATCH(N$4,'Unit of measures'!$A$7:$A$24,0),MATCH($F210,'Unit of measures'!$A$7:$R$7,0))","v":{"$error":"#N/A"}},{"$f":"$G210*INDEX('Unit of measures'!$A$7:$R$24,MATCH(O$4,'Unit of measures'!$A$7:$A$24,0),MATCH($F210,'Unit of measures'!$A$7:$R$7,0))","v":{"$error":"#N/A"}},{"$f":"$G210*INDEX('Unit of measures'!$A$7:$R$24,MATCH(P$4,'Unit of measures'!$A$7:$A$24,0),MATCH($F210,'Unit of measures'!$A$7:$R$7,0))","v":{"$error":"#N/A"}},null,null,{"$f":"$R210*INDEX('Unit of measures'!$A$7:$R$24,MATCH(S$4,'Unit of measures'!$A$7:$A$24,0),MATCH($Q210,'Unit of measures'!$A$7:$R$7,0))","v":{"$error":"#N/A"}},{"$f":"$R210*INDEX('Unit of measures'!$A$7:$R$24,MATCH(T$4,'Unit of measures'!$A$7:$A$24,0),MATCH($Q210,'Unit of measures'!$A$7:$R$7,0))","v":{"$error":"#N/A"}},{"$f":"$R210*INDEX('Unit of measures'!$A$7:$R$24,MATCH(U$4,'Unit of measures'!$A$7:$A$24,0),MATCH($Q210,'Unit of measures'!$A$7:$R$7,0))","v":{"$error":"#N/A"}},{"$f":"$R210*INDEX('Unit of measures'!$A$7:$R$24,MATCH(V$4,'Unit of measures'!$A$7:$A$24,0),MATCH($Q210,'Unit of measures'!$A$7:$R$7,0))","v":{"$error":"#N/A"}},{"$f":"$R210*INDEX('Unit of measures'!$A$7:$R$24,MATCH(W$4,'Unit of measures'!$A$7:$A$24,0),MATCH($Q210,'Unit of measures'!$A$7:$R$7,0))","v":{"$error":"#N/A"}},"Each"]
[null,null,null,null,"",null,null,{"$f":"$G211*INDEX('Unit of measures'!$A$7:$R$24,MATCH(H$4,'Unit of measures'!$A$7:$A$24,0),MATCH($F211,'Unit of measures'!$A$7:$R$7,0))","v":{"$error":"#N/A"}},{"$f":"$G211*INDEX('Unit of measures'!$A$7:$R$24,MATCH(I$4,'Unit of measures'!$A$7:$A$24,0),MATCH($F211,'Unit of measures'!$A$7:$R$7,0))","v":{"$error":"#N/A"}},{"$f":"$G211*INDEX('Unit of measures'!$A$7:$R$24,MATCH(J$4,'Unit of measures'!$A$7:$A$24,0),MATCH($F211,'Unit of measures'!$A$7:$R$7,0))","v":{"$error":"#N/A"}},{"$f":"$G211*INDEX('Unit of measures'!$A$7:$R$24,MATCH(K$4,'Unit of measures'!$A$7:$A$24,0),MATCH($F211,'Unit of measures'!$A$7:$R$7,0))","v":{"$error":"#N/A"}},{"$f":"$G211*INDEX('Unit of measures'!$A$7:$R$24,MATCH(L$4,'Unit of measures'!$A$7:$A$24,0),MATCH($F211,'Unit of measures'!$A$7:$R$7,0))","v":{"$error":"#N/A"}},{"$f":"$G211*INDEX('Unit of measures'!$A$7:$R$24,MATCH(M$4,'Unit of measures'!$A$7:$A$24,0),MATCH($F211,'Unit of measures'!$A$7:$R$7,0))","v":{"$error":"#N/A"}},{"$f":"$G211*INDEX('Unit of measures'!$A$7:$R$24,MATCH(N$4,'Unit of measures'!$A$7:$A$24,0),MATCH($F211,'Unit of measures'!$A$7:$R$7,0))","v":{"$error":"#N/A"}},{"$f":"$G211*INDEX('Unit of measures'!$A$7:$R$24,MATCH(O$4,'Unit of measures'!$A$7:$A$24,0),MATCH($F211,'Unit of measures'!$A$7:$R$7,0))","v":{"$error":"#N/A"}},{"$f":"$G211*INDEX('Unit of measures'!$A$7:$R$24,MATCH(P$4,'Unit of measures'!$A$7:$A$24,0),MATCH($F211,'Unit of measures'!$A$7:$R$7,0))","v":{"$error":"#N/A"}},null,null,{"$f":"$R211*INDEX('Unit of measures'!$A$7:$R$24,MATCH(S$4,'Unit of measures'!$A$7:$A$24,0),MATCH($Q211,'Unit of measures'!$A$7:$R$7,0))","v":{"$error":"#N/A"}},{"$f":"$R211*INDEX('Unit of measures'!$A$7:$R$24,MATCH(T$4,'Unit of measures'!$A$7:$A$24,0),MATCH($Q211,'Unit of measures'!$A$7:$R$7,0))","v":{"$error":"#N/A"}},{"$f":"$R211*INDEX('Unit of measures'!$A$7:$R$24,MATCH(U$4,'Unit of measures'!$A$7:$A$24,0),MATCH($Q211,'Unit of measures'!$A$7:$R$7,0))","v":{"$error":"#N/A"}},{"$f":"$R211*INDEX('Unit of measures'!$A$7:$R$24,MATCH(V$4,'Unit of measures'!$A$7:$A$24,0),MATCH($Q211,'Unit of measures'!$A$7:$R$7,0))","v":{"$error":"#N/A"}},{"$f":"$R211*INDEX('Unit of measures'!$A$7:$R$24,MATCH(W$4,'Unit of measures'!$A$7:$A$24,0),MATCH($Q211,'Unit of measures'!$A$7:$R$7,0))","v":{"$error":"#N/A"}},"Each"]
[null,null,null,null,"",null,null,{"$f":"$G212*INDEX('Unit of measures'!$A$7:$R$24,MATCH(H$4,'Unit of measures'!$A$7:$A$24,0),MATCH($F212,'Unit of measures'!$A$7:$R$7,0))","v":{"$error":"#N/A"}},{"$f":"$G212*INDEX('Unit of measures'!$A$7:$R$24,MATCH(I$4,'Unit of measures'!$A$7:$A$24,0),MATCH($F212,'Unit of measures'!$A$7:$R$7,0))","v":{"$error":"#N/A"}},{"$f":"$G212*INDEX('Unit of measures'!$A$7:$R$24,MATCH(J$4,'Unit of measures'!$A$7:$A$24,0),MATCH($F212,'Unit of measures'!$A$7:$R$7,0))","v":{"$error":"#N/A"}},{"$f":"$G212*INDEX('Unit of measures'!$A$7:$R$24,MATCH(K$4,'Unit of measures'!$A$7:$A$24,0),MATCH($F212,'Unit of measures'!$A$7:$R$7,0))","v":{"$error":"#N/A"}},{"$f":"$G212*INDEX('Unit of measures'!$A$7:$R$24,MATCH(L$4,'Unit of measures'!$A$7:$A$24,0),MATCH($F212,'Unit of measures'!$A$7:$R$7,0))","v":{"$error":"#N/A"}},{"$f":"$G212*INDEX('Unit of measures'!$A$7:$R$24,MATCH(M$4,'Unit of measures'!$A$7:$A$24,0),MATCH($F212,'Unit of measures'!$A$7:$R$7,0))","v":{"$error":"#N/A"}},{"$f":"$G212*INDEX('Unit of measures'!$A$7:$R$24,MATCH(N$4,'Unit of measures'!$A$7:$A$24,0),MATCH($F212,'Unit of measures'!$A$7:$R$7,0))","v":{"$error":"#N/A"}},{"$f":"$G212*INDEX('Unit of measures'!$A$7:$R$24,MATCH(O$4,'Unit of measures'!$A$7:$A$24,0),MATCH($F212,'Unit of measures'!$A$7:$R$7,0))","v":{"$error":"#N/A"}},{"$f":"$G212*INDEX('Unit of measures'!$A$7:$R$24,MATCH(P$4,'Unit of measures'!$A$7:$A$24,0),MATCH($F212,'Unit of measures'!$A$7:$R$7,0))","v":{"$error":"#N/A"}},null,null,{"$f":"$R212*INDEX('Unit of measures'!$A$7:$R$24,MATCH(S$4,'Unit of measures'!$A$7:$A$24,0),MATCH($Q212,'Unit of measures'!$A$7:$R$7,0))","v":{"$error":"#N/A"}},{"$f":"$R212*INDEX('Unit of measures'!$A$7:$R$24,MATCH(T$4,'Unit of measures'!$A$7:$A$24,0),MATCH($Q212,'Unit of measures'!$A$7:$R$7,0))","v":{"$error":"#N/A"}},{"$f":"$R212*INDEX('Unit of measures'!$A$7:$R$24,MATCH(U$4,'Unit of measures'!$A$7:$A$24,0),MATCH($Q212,'Unit of measures'!$A$7:$R$7,0))","v":{"$error":"#N/A"}},{"$f":"$R212*INDEX('Unit of measures'!$A$7:$R$24,MATCH(V$4,'Unit of measures'!$A$7:$A$24,0),MATCH($Q212,'Unit of measures'!$A$7:$R$7,0))","v":{"$error":"#N/A"}},{"$f":"$R212*INDEX('Unit of measures'!$A$7:$R$24,MATCH(W$4,'Unit of measures'!$A$7:$A$24,0),MATCH($Q212,'Unit of measures'!$A$7:$R$7,0))","v":{"$error":"#N/A"}},"Each"]
[null,null,null,null,"",null,null,{"$f":"$G213*INDEX('Unit of measures'!$A$7:$R$24,MATCH(H$4,'Unit of measures'!$A$7:$A$24,0),MATCH($F213,'Unit of measures'!$A$7:$R$7,0))","v":{"$error":"#N/A"}},{"$f":"$G213*INDEX('Unit of measures'!$A$7:$R$24,MATCH(I$4,'Unit of measures'!$A$7:$A$24,0),MATCH($F213,'Unit of measures'!$A$7:$R$7,0))","v":{"$error":"#N/A"}},{"$f":"$G213*INDEX('Unit of measures'!$A$7:$R$24,MATCH(J$4,'Unit of measures'!$A$7:$A$24,0),MATCH($F213,'Unit of measures'!$A$7:$R$7,0))","v":{"$error":"#N/A"}},{"$f":"$G213*INDEX('Unit of measures'!$A$7:$R$24,MATCH(K$4,'Unit of measures'!$A$7:$A$24,0),MATCH($F213,'Unit of measures'!$A$7:$R$7,0))","v":{"$error":"#N/A"}},{"$f":"$G213*INDEX('Unit of measures'!$A$7:$R$24,MATCH(L$4,'Unit of measures'!$A$7:$A$24,0),MATCH($F213,'Unit of measures'!$A$7:$R$7,0))","v":{"$error":"#N/A"}},{"$f":"$G213*INDEX('Unit of measures'!$A$7:$R$24,MATCH(M$4,'Unit of measures'!$A$7:$A$24,0),MATCH($F213,'Unit of measures'!$A$7:$R$7,0))","v":{"$error":"#N/A"}},{"$f":"$G213*INDEX('Unit of measures'!$A$7:$R$24,MATCH(N$4,'Unit of measures'!$A$7:$A$24,0),MATCH($F213,'Unit of measures'!$A$7:$R$7,0))","v":{"$error":"#N/A"}},{"$f":"$G213*INDEX('Unit of measures'!$A$7:$R$24,MATCH(O$4,'Unit of measures'!$A$7:$A$24,0),MATCH($F213,'Unit of measures'!$A$7:$R$7,0))","v":{"$error":"#N/A"}},{"$f":"$G213*INDEX('Unit of measures'!$A$7:$R$24,MATCH(P$4,'Unit of measures'!$A$7:$A$24,0),MATCH($F213,'Unit of measures'!$A$7:$R$7,0))","v":{"$error":"#N/A"}},null,null,{"$f":"$R213*INDEX('Unit of measures'!$A$7:$R$24,MATCH(S$4,'Unit of measures'!$A$7:$A$24,0),MATCH($Q213,'Unit of measures'!$A$7:$R$7,0))","v":{"$error":"#N/A"}},{"$f":"$R213*INDEX('Unit of measures'!$A$7:$R$24,MATCH(T$4,'Unit of measures'!$A$7:$A$24,0),MATCH($Q213,'Unit of measures'!$A$7:$R$7,0))","v":{"$error":"#N/A"}},{"$f":"$R213*INDEX('Unit of measures'!$A$7:$R$24,MATCH(U$4,'Unit of measures'!$A$7:$A$24,0),MATCH($Q213,'Unit of measures'!$A$7:$R$7,0))","v":{"$error":"#N/A"}},{"$f":"$R213*INDEX('Unit of measures'!$A$7:$R$24,MATCH(V$4,'Unit of measures'!$A$7:$A$24,0),MATCH($Q213,'Unit of measures'!$A$7:$R$7,0))","v":{"$error":"#N/A"}},{"$f":"$R213*INDEX('Unit of measures'!$A$7:$R$24,MATCH(W$4,'Unit of measures'!$A$7:$A$24,0),MATCH($Q213,'Unit of measures'!$A$7:$R$7,0))","v":{"$error":"#N/A"}},"Each"]
[null,null,null,null,"",null,null,{"$f":"$G214*INDEX('Unit of measures'!$A$7:$R$24,MATCH(H$4,'Unit of measures'!$A$7:$A$24,0),MATCH($F214,'Unit of measures'!$A$7:$R$7,0))","v":{"$error":"#N/A"}},{"$f":"$G214*INDEX('Unit of measures'!$A$7:$R$24,MATCH(I$4,'Unit of measures'!$A$7:$A$24,0),MATCH($F214,'Unit of measures'!$A$7:$R$7,0))","v":{"$error":"#N/A"}},{"$f":"$G214*INDEX('Unit of measures'!$A$7:$R$24,MATCH(J$4,'Unit of measures'!$A$7:$A$24,0),MATCH($F214,'Unit of measures'!$A$7:$R$7,0))","v":{"$error":"#N/A"}},{"$f":"$G214*INDEX('Unit of measures'!$A$7:$R$24,MATCH(K$4,'Unit of measures'!$A$7:$A$24,0),MATCH($F214,'Unit of measures'!$A$7:$R$7,0))","v":{"$error":"#N/A"}},{"$f":"$G214*INDEX('Unit of measures'!$A$7:$R$24,MATCH(L$4,'Unit of measures'!$A$7:$A$24,0),MATCH($F214,'Unit of measures'!$A$7:$R$7,0))","v":{"$error":"#N/A"}},{"$f":"$G214*INDEX('Unit of measures'!$A$7:$R$24,MATCH(M$4,'Unit of measures'!$A$7:$A$24,0),MATCH($F214,'Unit of measures'!$A$7:$R$7,0))","v":{"$error":"#N/A"}},{"$f":"$G214*INDEX('Unit of measures'!$A$7:$R$24,MATCH(N$4,'Unit of measures'!$A$7:$A$24,0),MATCH($F214,'Unit of measures'!$A$7:$R$7,0))","v":{"$error":"#N/A"}},{"$f":"$G214*INDEX('Unit of measures'!$A$7:$R$24,MATCH(O$4,'Unit of measures'!$A$7:$A$24,0),MATCH($F214,'Unit of measures'!$A$7:$R$7,0))","v":{"$error":"#N/A"}},{"$f":"$G214*INDEX('Unit of measures'!$A$7:$R$24,MATCH(P$4,'Unit of measures'!$A$7:$A$24,0),MATCH($F214,'Unit of measures'!$A$7:$R$7,0))","v":{"$error":"#N/A"}},null,null,{"$f":"$R214*INDEX('Unit of measures'!$A$7:$R$24,MATCH(S$4,'Unit of measures'!$A$7:$A$24,0),MATCH($Q214,'Unit of measures'!$A$7:$R$7,0))","v":{"$error":"#N/A"}},{"$f":"$R214*INDEX('Unit of measures'!$A$7:$R$24,MATCH(T$4,'Unit of measures'!$A$7:$A$24,0),MATCH($Q214,'Unit of measures'!$A$7:$R$7,0))","v":{"$error":"#N/A"}},{"$f":"$R214*INDEX('Unit of measures'!$A$7:$R$24,MATCH(U$4,'Unit of measures'!$A$7:$A$24,0),MATCH($Q214,'Unit of measures'!$A$7:$R$7,0))","v":{"$error":"#N/A"}},{"$f":"$R214*INDEX('Unit of measures'!$A$7:$R$24,MATCH(V$4,'Unit of measures'!$A$7:$A$24,0),MATCH($Q214,'Unit of measures'!$A$7:$R$7,0))","v":{"$error":"#N/A"}},{"$f":"$R214*INDEX('Unit of measures'!$A$7:$R$24,MATCH(W$4,'Unit of measures'!$A$7:$A$24,0),MATCH($Q214,'Unit of measures'!$A$7:$R$7,0))","v":{"$error":"#N/A"}},"Each"]
[null,null,null,null,"",null,null,{"$f":"$G215*INDEX('Unit of measures'!$A$7:$R$24,MATCH(H$4,'Unit of measures'!$A$7:$A$24,0),MATCH($F215,'Unit of measures'!$A$7:$R$7,0))","v":{"$error":"#N/A"}},{"$f":"$G215*INDEX('Unit of measures'!$A$7:$R$24,MATCH(I$4,'Unit of measures'!$A$7:$A$24,0),MATCH($F215,'Unit of measures'!$A$7:$R$7,0))","v":{"$error":"#N/A"}},{"$f":"$G215*INDEX('Unit of measures'!$A$7:$R$24,MATCH(J$4,'Unit of measures'!$A$7:$A$24,0),MATCH($F215,'Unit of measures'!$A$7:$R$7,0))","v":{"$error":"#N/A"}},{"$f":"$G215*INDEX('Unit of measures'!$A$7:$R$24,MATCH(K$4,'Unit of measures'!$A$7:$A$24,0),MATCH($F215,'Unit of measures'!$A$7:$R$7,0))","v":{"$error":"#N/A"}},{"$f":"$G215*INDEX('Unit of measures'!$A$7:$R$24,MATCH(L$4,'Unit of measures'!$A$7:$A$24,0),MATCH($F215,'Unit of measures'!$A$7:$R$7,0))","v":{"$error":"#N/A"}},{"$f":"$G215*INDEX('Unit of measures'!$A$7:$R$24,MATCH(M$4,'Unit of measures'!$A$7:$A$24,0),MATCH($F215,'Unit of measures'!$A$7:$R$7,0))","v":{"$error":"#N/A"}},{"$f":"$G215*INDEX('Unit of measures'!$A$7:$R$24,MATCH(N$4,'Unit of measures'!$A$7:$A$24,0),MATCH($F215,'Unit of measures'!$A$7:$R$7,0))","v":{"$error":"#N/A"}},{"$f":"$G215*INDEX('Unit of measures'!$A$7:$R$24,MATCH(O$4,'Unit of measures'!$A$7:$A$24,0),MATCH($F215,'Unit of measures'!$A$7:$R$7,0))","v":{"$error":"#N/A"}},{"$f":"$G215*INDEX('Unit of measures'!$A$7:$R$24,MATCH(P$4,'Unit of measures'!$A$7:$A$24,0),MATCH($F215,'Unit of measures'!$A$7:$R$7,0))","v":{"$error":"#N/A"}},null,null,{"$f":"$R215*INDEX('Unit of measures'!$A$7:$R$24,MATCH(S$4,'Unit of measures'!$A$7:$A$24,0),MATCH($Q215,'Unit of measures'!$A$7:$R$7,0))","v":{"$error":"#N/A"}},{"$f":"$R215*INDEX('Unit of measures'!$A$7:$R$24,MATCH(T$4,'Unit of measures'!$A$7:$A$24,0),MATCH($Q215,'Unit of measures'!$A$7:$R$7,0))","v":{"$error":"#N/A"}},{"$f":"$R215*INDEX('Unit of measures'!$A$7:$R$24,MATCH(U$4,'Unit of measures'!$A$7:$A$24,0),MATCH($Q215,'Unit of measures'!$A$7:$R$7,0))","v":{"$error":"#N/A"}},{"$f":"$R215*INDEX('Unit of measures'!$A$7:$R$24,MATCH(V$4,'Unit of measures'!$A$7:$A$24,0),MATCH($Q215,'Unit of measures'!$A$7:$R$7,0))","v":{"$error":"#N/A"}},{"$f":"$R215*INDEX('Unit of measures'!$A$7:$R$24,MATCH(W$4,'Unit of measures'!$A$7:$A$24,0),MATCH($Q215,'Unit of measures'!$A$7:$R$7,0))","v":{"$error":"#N/A"}},"Each"]
[null,null,null,null,"",null,null,{"$f":"$G216*INDEX('Unit of measures'!$A$7:$R$24,MATCH(H$4,'Unit of measures'!$A$7:$A$24,0),MATCH($F216,'Unit of measures'!$A$7:$R$7,0))","v":{"$error":"#N/A"}},{"$f":"$G216*INDEX('Unit of measures'!$A$7:$R$24,MATCH(I$4,'Unit of measures'!$A$7:$A$24,0),MATCH($F216,'Unit of measures'!$A$7:$R$7,0))","v":{"$error":"#N/A"}},{"$f":"$G216*INDEX('Unit of measures'!$A$7:$R$24,MATCH(J$4,'Unit of measures'!$A$7:$A$24,0),MATCH($F216,'Unit of measures'!$A$7:$R$7,0))","v":{"$error":"#N/A"}},{"$f":"$G216*INDEX('Unit of measures'!$A$7:$R$24,MATCH(K$4,'Unit of measures'!$A$7:$A$24,0),MATCH($F216,'Unit of measures'!$A$7:$R$7,0))","v":{"$error":"#N/A"}},{"$f":"$G216*INDEX('Unit of measures'!$A$7:$R$24,MATCH(L$4,'Unit of measures'!$A$7:$A$24,0),MATCH($F216,'Unit of measures'!$A$7:$R$7,0))","v":{"$error":"#N/A"}},{"$f":"$G216*INDEX('Unit of measures'!$A$7:$R$24,MATCH(M$4,'Unit of measures'!$A$7:$A$24,0),MATCH($F216,'Unit of measures'!$A$7:$R$7,0))","v":{"$error":"#N/A"}},{"$f":"$G216*INDEX('Unit of measures'!$A$7:$R$24,MATCH(N$4,'Unit of measures'!$A$7:$A$24,0),MATCH($F216,'Unit of measures'!$A$7:$R$7,0))","v":{"$error":"#N/A"}},{"$f":"$G216*INDEX('Unit of measures'!$A$7:$R$24,MATCH(O$4,'Unit of measures'!$A$7:$A$24,0),MATCH($F216,'Unit of measures'!$A$7:$R$7,0))","v":{"$error":"#N/A"}},{"$f":"$G216*INDEX('Unit of measures'!$A$7:$R$24,MATCH(P$4,'Unit of measures'!$A$7:$A$24,0),MATCH($F216,'Unit of measures'!$A$7:$R$7,0))","v":{"$error":"#N/A"}},null,null,{"$f":"$R216*INDEX('Unit of measures'!$A$7:$R$24,MATCH(S$4,'Unit of measures'!$A$7:$A$24,0),MATCH($Q216,'Unit of measures'!$A$7:$R$7,0))","v":{"$error":"#N/A"}},{"$f":"$R216*INDEX('Unit of measures'!$A$7:$R$24,MATCH(T$4,'Unit of measures'!$A$7:$A$24,0),MATCH($Q216,'Unit of measures'!$A$7:$R$7,0))","v":{"$error":"#N/A"}},{"$f":"$R216*INDEX('Unit of measures'!$A$7:$R$24,MATCH(U$4,'Unit of measures'!$A$7:$A$24,0),MATCH($Q216,'Unit of measures'!$A$7:$R$7,0))","v":{"$error":"#N/A"}},{"$f":"$R216*INDEX('Unit of measures'!$A$7:$R$24,MATCH(V$4,'Unit of measures'!$A$7:$A$24,0),MATCH($Q216,'Unit of measures'!$A$7:$R$7,0))","v":{"$error":"#N/A"}},{"$f":"$R216*INDEX('Unit of measures'!$A$7:$R$24,MATCH(W$4,'Unit of measures'!$A$7:$A$24,0),MATCH($Q216,'Unit of measures'!$A$7:$R$7,0))","v":{"$error":"#N/A"}},"Each"]
[null,null,null,null,"",null,null,{"$f":"$G217*INDEX('Unit of measures'!$A$7:$R$24,MATCH(H$4,'Unit of measures'!$A$7:$A$24,0),MATCH($F217,'Unit of measures'!$A$7:$R$7,0))","v":{"$error":"#N/A"}},{"$f":"$G217*INDEX('Unit of measures'!$A$7:$R$24,MATCH(I$4,'Unit of measures'!$A$7:$A$24,0),MATCH($F217,'Unit of measures'!$A$7:$R$7,0))","v":{"$error":"#N/A"}},{"$f":"$G217*INDEX('Unit of measures'!$A$7:$R$24,MATCH(J$4,'Unit of measures'!$A$7:$A$24,0),MATCH($F217,'Unit of measures'!$A$7:$R$7,0))","v":{"$error":"#N/A"}},{"$f":"$G217*INDEX('Unit of measures'!$A$7:$R$24,MATCH(K$4,'Unit of measures'!$A$7:$A$24,0),MATCH($F217,'Unit of measures'!$A$7:$R$7,0))","v":{"$error":"#N/A"}},{"$f":"$G217*INDEX('Unit of measures'!$A$7:$R$24,MATCH(L$4,'Unit of measures'!$A$7:$A$24,0),MATCH($F217,'Unit of measures'!$A$7:$R$7,0))","v":{"$error":"#N/A"}},{"$f":"$G217*INDEX('Unit of measures'!$A$7:$R$24,MATCH(M$4,'Unit of measures'!$A$7:$A$24,0),MATCH($F217,'Unit of measures'!$A$7:$R$7,0))","v":{"$error":"#N/A"}},{"$f":"$G217*INDEX('Unit of measures'!$A$7:$R$24,MATCH(N$4,'Unit of measures'!$A$7:$A$24,0),MATCH($F217,'Unit of measures'!$A$7:$R$7,0))","v":{"$error":"#N/A"}},{"$f":"$G217*INDEX('Unit of measures'!$A$7:$R$24,MATCH(O$4,'Unit of measures'!$A$7:$A$24,0),MATCH($F217,'Unit of measures'!$A$7:$R$7,0))","v":{"$error":"#N/A"}},{"$f":"$G217*INDEX('Unit of measures'!$A$7:$R$24,MATCH(P$4,'Unit of measures'!$A$7:$A$24,0),MATCH($F217,'Unit of measures'!$A$7:$R$7,0))","v":{"$error":"#N/A"}},null,null,{"$f":"$R217*INDEX('Unit of measures'!$A$7:$R$24,MATCH(S$4,'Unit of measures'!$A$7:$A$24,0),MATCH($Q217,'Unit of measures'!$A$7:$R$7,0))","v":{"$error":"#N/A"}},{"$f":"$R217*INDEX('Unit of measures'!$A$7:$R$24,MATCH(T$4,'Unit of measures'!$A$7:$A$24,0),MATCH($Q217,'Unit of measures'!$A$7:$R$7,0))","v":{"$error":"#N/A"}},{"$f":"$R217*INDEX('Unit of measures'!$A$7:$R$24,MATCH(U$4,'Unit of measures'!$A$7:$A$24,0),MATCH($Q217,'Unit of measures'!$A$7:$R$7,0))","v":{"$error":"#N/A"}},{"$f":"$R217*INDEX('Unit of measures'!$A$7:$R$24,MATCH(V$4,'Unit of measures'!$A$7:$A$24,0),MATCH($Q217,'Unit of measures'!$A$7:$R$7,0))","v":{"$error":"#N/A"}},{"$f":"$R217*INDEX('Unit of measures'!$A$7:$R$24,MATCH(W$4,'Unit of measures'!$A$7:$A$24,0),MATCH($Q217,'Unit of measures'!$A$7:$R$7,0))","v":{"$error":"#N/A"}},"Each"]
[null,null,null,null,"",null,null,{"$f":"$G218*INDEX('Unit of measures'!$A$7:$R$24,MATCH(H$4,'Unit of measures'!$A$7:$A$24,0),MATCH($F218,'Unit of measures'!$A$7:$R$7,0))","v":{"$error":"#N/A"}},{"$f":"$G218*INDEX('Unit of measures'!$A$7:$R$24,MATCH(I$4,'Unit of measures'!$A$7:$A$24,0),MATCH($F218,'Unit of measures'!$A$7:$R$7,0))","v":{"$error":"#N/A"}},{"$f":"$G218*INDEX('Unit of measures'!$A$7:$R$24,MATCH(J$4,'Unit of measures'!$A$7:$A$24,0),MATCH($F218,'Unit of measures'!$A$7:$R$7,0))","v":{"$error":"#N/A"}},{"$f":"$G218*INDEX('Unit of measures'!$A$7:$R$24,MATCH(K$4,'Unit of measures'!$A$7:$A$24,0),MATCH($F218,'Unit of measures'!$A$7:$R$7,0))","v":{"$error":"#N/A"}},{"$f":"$G218*INDEX('Unit of measures'!$A$7:$R$24,MATCH(L$4,'Unit of measures'!$A$7:$A$24,0),MATCH($F218,'Unit of measures'!$A$7:$R$7,0))","v":{"$error":"#N/A"}},{"$f":"$G218*INDEX('Unit of measures'!$A$7:$R$24,MATCH(M$4,'Unit of measures'!$A$7:$A$24,0),MATCH($F218,'Unit of measures'!$A$7:$R$7,0))","v":{"$error":"#N/A"}},{"$f":"$G218*INDEX('Unit of measures'!$A$7:$R$24,MATCH(N$4,'Unit of measures'!$A$7:$A$24,0),MATCH($F218,'Unit of measures'!$A$7:$R$7,0))","v":{"$error":"#N/A"}},{"$f":"$G218*INDEX('Unit of measures'!$A$7:$R$24,MATCH(O$4,'Unit of measures'!$A$7:$A$24,0),MATCH($F218,'Unit of measures'!$A$7:$R$7,0))","v":{"$error":"#N/A"}},{"$f":"$G218*INDEX('Unit of measures'!$A$7:$R$24,MATCH(P$4,'Unit of measures'!$A$7:$A$24,0),MATCH($F218,'Unit of measures'!$A$7:$R$7,0))","v":{"$error":"#N/A"}},null,null,{"$f":"$R218*INDEX('Unit of measures'!$A$7:$R$24,MATCH(S$4,'Unit of measures'!$A$7:$A$24,0),MATCH($Q218,'Unit of measures'!$A$7:$R$7,0))","v":{"$error":"#N/A"}},{"$f":"$R218*INDEX('Unit of measures'!$A$7:$R$24,MATCH(T$4,'Unit of measures'!$A$7:$A$24,0),MATCH($Q218,'Unit of measures'!$A$7:$R$7,0))","v":{"$error":"#N/A"}},{"$f":"$R218*INDEX('Unit of measures'!$A$7:$R$24,MATCH(U$4,'Unit of measures'!$A$7:$A$24,0),MATCH($Q218,'Unit of measures'!$A$7:$R$7,0))","v":{"$error":"#N/A"}},{"$f":"$R218*INDEX('Unit of measures'!$A$7:$R$24,MATCH(V$4,'Unit of measures'!$A$7:$A$24,0),MATCH($Q218,'Unit of measures'!$A$7:$R$7,0))","v":{"$error":"#N/A"}},{"$f":"$R218*INDEX('Unit of measures'!$A$7:$R$24,MATCH(W$4,'Unit of measures'!$A$7:$A$24,0),MATCH($Q218,'Unit of measures'!$A$7:$R$7,0))","v":{"$error":"#N/A"}},"Each"]
[null,null,null,null,"",null,null,{"$f":"$G219*INDEX('Unit of measures'!$A$7:$R$24,MATCH(H$4,'Unit of measures'!$A$7:$A$24,0),MATCH($F219,'Unit of measures'!$A$7:$R$7,0))","v":{"$error":"#N/A"}},{"$f":"$G219*INDEX('Unit of measures'!$A$7:$R$24,MATCH(I$4,'Unit of measures'!$A$7:$A$24,0),MATCH($F219,'Unit of measures'!$A$7:$R$7,0))","v":{"$error":"#N/A"}},{"$f":"$G219*INDEX('Unit of measures'!$A$7:$R$24,MATCH(J$4,'Unit of measures'!$A$7:$A$24,0),MATCH($F219,'Unit of measures'!$A$7:$R$7,0))","v":{"$error":"#N/A"}},{"$f":"$G219*INDEX('Unit of measures'!$A$7:$R$24,MATCH(K$4,'Unit of measures'!$A$7:$A$24,0),MATCH($F219,'Unit of measures'!$A$7:$R$7,0))","v":{"$error":"#N/A"}},{"$f":"$G219*INDEX('Unit of measures'!$A$7:$R$24,MATCH(L$4,'Unit of measures'!$A$7:$A$24,0),MATCH($F219,'Unit of measures'!$A$7:$R$7,0))","v":{"$error":"#N/A"}},{"$f":"$G219*INDEX('Unit of measures'!$A$7:$R$24,MATCH(M$4,'Unit of measures'!$A$7:$A$24,0),MATCH($F219,'Unit of measures'!$A$7:$R$7,0))","v":{"$error":"#N/A"}},{"$f":"$G219*INDEX('Unit of measures'!$A$7:$R$24,MATCH(N$4,'Unit of measures'!$A$7:$A$24,0),MATCH($F219,'Unit of measures'!$A$7:$R$7,0))","v":{"$error":"#N/A"}},{"$f":"$G219*INDEX('Unit of measures'!$A$7:$R$24,MATCH(O$4,'Unit of measures'!$A$7:$A$24,0),MATCH($F219,'Unit of measures'!$A$7:$R$7,0))","v":{"$error":"#N/A"}},{"$f":"$G219*INDEX('Unit of measures'!$A$7:$R$24,MATCH(P$4,'Unit of measures'!$A$7:$A$24,0),MATCH($F219,'Unit of measures'!$A$7:$R$7,0))","v":{"$error":"#N/A"}},null,null,{"$f":"$R219*INDEX('Unit of measures'!$A$7:$R$24,MATCH(S$4,'Unit of measures'!$A$7:$A$24,0),MATCH($Q219,'Unit of measures'!$A$7:$R$7,0))","v":{"$error":"#N/A"}},{"$f":"$R219*INDEX('Unit of measures'!$A$7:$R$24,MATCH(T$4,'Unit of measures'!$A$7:$A$24,0),MATCH($Q219,'Unit of measures'!$A$7:$R$7,0))","v":{"$error":"#N/A"}},{"$f":"$R219*INDEX('Unit of measures'!$A$7:$R$24,MATCH(U$4,'Unit of measures'!$A$7:$A$24,0),MATCH($Q219,'Unit of measures'!$A$7:$R$7,0))","v":{"$error":"#N/A"}},{"$f":"$R219*INDEX('Unit of measures'!$A$7:$R$24,MATCH(V$4,'Unit of measures'!$A$7:$A$24,0),MATCH($Q219,'Unit of measures'!$A$7:$R$7,0))","v":{"$error":"#N/A"}},{"$f":"$R219*INDEX('Unit of measures'!$A$7:$R$24,MATCH(W$4,'Unit of measures'!$A$7:$A$24,0),MATCH($Q219,'Unit of measures'!$A$7:$R$7,0))","v":{"$error":"#N/A"}},"Each"]
[null,null,null,null,"",null,null,{"$f":"$G220*INDEX('Unit of measures'!$A$7:$R$24,MATCH(H$4,'Unit of measures'!$A$7:$A$24,0),MATCH($F220,'Unit of measures'!$A$7:$R$7,0))","v":{"$error":"#N/A"}},{"$f":"$G220*INDEX('Unit of measures'!$A$7:$R$24,MATCH(I$4,'Unit of measures'!$A$7:$A$24,0),MATCH($F220,'Unit of measures'!$A$7:$R$7,0))","v":{"$error":"#N/A"}},{"$f":"$G220*INDEX('Unit of measures'!$A$7:$R$24,MATCH(J$4,'Unit of measures'!$A$7:$A$24,0),MATCH($F220,'Unit of measures'!$A$7:$R$7,0))","v":{"$error":"#N/A"}},{"$f":"$G220*INDEX('Unit of measures'!$A$7:$R$24,MATCH(K$4,'Unit of measures'!$A$7:$A$24,0),MATCH($F220,'Unit of measures'!$A$7:$R$7,0))","v":{"$error":"#N/A"}},{"$f":"$G220*INDEX('Unit of measures'!$A$7:$R$24,MATCH(L$4,'Unit of measures'!$A$7:$A$24,0),MATCH($F220,'Unit of measures'!$A$7:$R$7,0))","v":{"$error":"#N/A"}},{"$f":"$G220*INDEX('Unit of measures'!$A$7:$R$24,MATCH(M$4,'Unit of measures'!$A$7:$A$24,0),MATCH($F220,'Unit of measures'!$A$7:$R$7,0))","v":{"$error":"#N/A"}},{"$f":"$G220*INDEX('Unit of measures'!$A$7:$R$24,MATCH(N$4,'Unit of measures'!$A$7:$A$24,0),MATCH($F220,'Unit of measures'!$A$7:$R$7,0))","v":{"$error":"#N/A"}},{"$f":"$G220*INDEX('Unit of measures'!$A$7:$R$24,MATCH(O$4,'Unit of measures'!$A$7:$A$24,0),MATCH($F220,'Unit of measures'!$A$7:$R$7,0))","v":{"$error":"#N/A"}},{"$f":"$G220*INDEX('Unit of measures'!$A$7:$R$24,MATCH(P$4,'Unit of measures'!$A$7:$A$24,0),MATCH($F220,'Unit of measures'!$A$7:$R$7,0))","v":{"$error":"#N/A"}},null,null,{"$f":"$R220*INDEX('Unit of measures'!$A$7:$R$24,MATCH(S$4,'Unit of measures'!$A$7:$A$24,0),MATCH($Q220,'Unit of measures'!$A$7:$R$7,0))","v":{"$error":"#N/A"}},{"$f":"$R220*INDEX('Unit of measures'!$A$7:$R$24,MATCH(T$4,'Unit of measures'!$A$7:$A$24,0),MATCH($Q220,'Unit of measures'!$A$7:$R$7,0))","v":{"$error":"#N/A"}},{"$f":"$R220*INDEX('Unit of measures'!$A$7:$R$24,MATCH(U$4,'Unit of measures'!$A$7:$A$24,0),MATCH($Q220,'Unit of measures'!$A$7:$R$7,0))","v":{"$error":"#N/A"}},{"$f":"$R220*INDEX('Unit of measures'!$A$7:$R$24,MATCH(V$4,'Unit of measures'!$A$7:$A$24,0),MATCH($Q220,'Unit of measures'!$A$7:$R$7,0))","v":{"$error":"#N/A"}},{"$f":"$R220*INDEX('Unit of measures'!$A$7:$R$24,MATCH(W$4,'Unit of measures'!$A$7:$A$24,0),MATCH($Q220,'Unit of measures'!$A$7:$R$7,0))","v":{"$error":"#N/A"}},"Each"]
[null,null,null,null,"",null,null,{"$f":"$G221*INDEX('Unit of measures'!$A$7:$R$24,MATCH(H$4,'Unit of measures'!$A$7:$A$24,0),MATCH($F221,'Unit of measures'!$A$7:$R$7,0))","v":{"$error":"#N/A"}},{"$f":"$G221*INDEX('Unit of measures'!$A$7:$R$24,MATCH(I$4,'Unit of measures'!$A$7:$A$24,0),MATCH($F221,'Unit of measures'!$A$7:$R$7,0))","v":{"$error":"#N/A"}},{"$f":"$G221*INDEX('Unit of measures'!$A$7:$R$24,MATCH(J$4,'Unit of measures'!$A$7:$A$24,0),MATCH($F221,'Unit of measures'!$A$7:$R$7,0))","v":{"$error":"#N/A"}},{"$f":"$G221*INDEX('Unit of measures'!$A$7:$R$24,MATCH(K$4,'Unit of measures'!$A$7:$A$24,0),MATCH($F221,'Unit of measures'!$A$7:$R$7,0))","v":{"$error":"#N/A"}},{"$f":"$G221*INDEX('Unit of measures'!$A$7:$R$24,MATCH(L$4,'Unit of measures'!$A$7:$A$24,0),MATCH($F221,'Unit of measures'!$A$7:$R$7,0))","v":{"$error":"#N/A"}},{"$f":"$G221*INDEX('Unit of measures'!$A$7:$R$24,MATCH(M$4,'Unit of measures'!$A$7:$A$24,0),MATCH($F221,'Unit of measures'!$A$7:$R$7,0))","v":{"$error":"#N/A"}},{"$f":"$G221*INDEX('Unit of measures'!$A$7:$R$24,MATCH(N$4,'Unit of measures'!$A$7:$A$24,0),MATCH($F221,'Unit of measures'!$A$7:$R$7,0))","v":{"$error":"#N/A"}},{"$f":"$G221*INDEX('Unit of measures'!$A$7:$R$24,MATCH(O$4,'Unit of measures'!$A$7:$A$24,0),MATCH($F221,'Unit of measures'!$A$7:$R$7,0))","v":{"$error":"#N/A"}},{"$f":"$G221*INDEX('Unit of measures'!$A$7:$R$24,MATCH(P$4,'Unit of measures'!$A$7:$A$24,0),MATCH($F221,'Unit of measures'!$A$7:$R$7,0))","v":{"$error":"#N/A"}},null,null,{"$f":"$R221*INDEX('Unit of measures'!$A$7:$R$24,MATCH(S$4,'Unit of measures'!$A$7:$A$24,0),MATCH($Q221,'Unit of measures'!$A$7:$R$7,0))","v":{"$error":"#N/A"}},{"$f":"$R221*INDEX('Unit of measures'!$A$7:$R$24,MATCH(T$4,'Unit of measures'!$A$7:$A$24,0),MATCH($Q221,'Unit of measures'!$A$7:$R$7,0))","v":{"$error":"#N/A"}},{"$f":"$R221*INDEX('Unit of measures'!$A$7:$R$24,MATCH(U$4,'Unit of measures'!$A$7:$A$24,0),MATCH($Q221,'Unit of measures'!$A$7:$R$7,0))","v":{"$error":"#N/A"}},{"$f":"$R221*INDEX('Unit of measures'!$A$7:$R$24,MATCH(V$4,'Unit of measures'!$A$7:$A$24,0),MATCH($Q221,'Unit of measures'!$A$7:$R$7,0))","v":{"$error":"#N/A"}},{"$f":"$R221*INDEX('Unit of measures'!$A$7:$R$24,MATCH(W$4,'Unit of measures'!$A$7:$A$24,0),MATCH($Q221,'Unit of measures'!$A$7:$R$7,0))","v":{"$error":"#N/A"}},"Each"]
[null,null,null,null,"",null,null,{"$f":"$G222*INDEX('Unit of measures'!$A$7:$R$24,MATCH(H$4,'Unit of measures'!$A$7:$A$24,0),MATCH($F222,'Unit of measures'!$A$7:$R$7,0))","v":{"$error":"#N/A"}},{"$f":"$G222*INDEX('Unit of measures'!$A$7:$R$24,MATCH(I$4,'Unit of measures'!$A$7:$A$24,0),MATCH($F222,'Unit of measures'!$A$7:$R$7,0))","v":{"$error":"#N/A"}},{"$f":"$G222*INDEX('Unit of measures'!$A$7:$R$24,MATCH(J$4,'Unit of measures'!$A$7:$A$24,0),MATCH($F222,'Unit of measures'!$A$7:$R$7,0))","v":{"$error":"#N/A"}},{"$f":"$G222*INDEX('Unit of measures'!$A$7:$R$24,MATCH(K$4,'Unit of measures'!$A$7:$A$24,0),MATCH($F222,'Unit of measures'!$A$7:$R$7,0))","v":{"$error":"#N/A"}},{"$f":"$G222*INDEX('Unit of measures'!$A$7:$R$24,MATCH(L$4,'Unit of measures'!$A$7:$A$24,0),MATCH($F222,'Unit of measures'!$A$7:$R$7,0))","v":{"$error":"#N/A"}},{"$f":"$G222*INDEX('Unit of measures'!$A$7:$R$24,MATCH(M$4,'Unit of measures'!$A$7:$A$24,0),MATCH($F222,'Unit of measures'!$A$7:$R$7,0))","v":{"$error":"#N/A"}},{"$f":"$G222*INDEX('Unit of measures'!$A$7:$R$24,MATCH(N$4,'Unit of measures'!$A$7:$A$24,0),MATCH($F222,'Unit of measures'!$A$7:$R$7,0))","v":{"$error":"#N/A"}},{"$f":"$G222*INDEX('Unit of measures'!$A$7:$R$24,MATCH(O$4,'Unit of measures'!$A$7:$A$24,0),MATCH($F222,'Unit of measures'!$A$7:$R$7,0))","v":{"$error":"#N/A"}},{"$f":"$G222*INDEX('Unit of measures'!$A$7:$R$24,MATCH(P$4,'Unit of measures'!$A$7:$A$24,0),MATCH($F222,'Unit of measures'!$A$7:$R$7,0))","v":{"$error":"#N/A"}},null,null,{"$f":"$R222*INDEX('Unit of measures'!$A$7:$R$24,MATCH(S$4,'Unit of measures'!$A$7:$A$24,0),MATCH($Q222,'Unit of measures'!$A$7:$R$7,0))","v":{"$error":"#N/A"}},{"$f":"$R222*INDEX('Unit of measures'!$A$7:$R$24,MATCH(T$4,'Unit of measures'!$A$7:$A$24,0),MATCH($Q222,'Unit of measures'!$A$7:$R$7,0))","v":{"$error":"#N/A"}},{"$f":"$R222*INDEX('Unit of measures'!$A$7:$R$24,MATCH(U$4,'Unit of measures'!$A$7:$A$24,0),MATCH($Q222,'Unit of measures'!$A$7:$R$7,0))","v":{"$error":"#N/A"}},{"$f":"$R222*INDEX('Unit of measures'!$A$7:$R$24,MATCH(V$4,'Unit of measures'!$A$7:$A$24,0),MATCH($Q222,'Unit of measures'!$A$7:$R$7,0))","v":{"$error":"#N/A"}},{"$f":"$R222*INDEX('Unit of measures'!$A$7:$R$24,MATCH(W$4,'Unit of measures'!$A$7:$A$24,0),MATCH($Q222,'Unit of measures'!$A$7:$R$7,0))","v":{"$error":"#N/A"}},"Each"]
[null,null,null,null,"",null,null,{"$f":"$G223*INDEX('Unit of measures'!$A$7:$R$24,MATCH(H$4,'Unit of measures'!$A$7:$A$24,0),MATCH($F223,'Unit of measures'!$A$7:$R$7,0))","v":{"$error":"#N/A"}},{"$f":"$G223*INDEX('Unit of measures'!$A$7:$R$24,MATCH(I$4,'Unit of measures'!$A$7:$A$24,0),MATCH($F223,'Unit of measures'!$A$7:$R$7,0))","v":{"$error":"#N/A"}},{"$f":"$G223*INDEX('Unit of measures'!$A$7:$R$24,MATCH(J$4,'Unit of measures'!$A$7:$A$24,0),MATCH($F223,'Unit of measures'!$A$7:$R$7,0))","v":{"$error":"#N/A"}},{"$f":"$G223*INDEX('Unit of measures'!$A$7:$R$24,MATCH(K$4,'Unit of measures'!$A$7:$A$24,0),MATCH($F223,'Unit of measures'!$A$7:$R$7,0))","v":{"$error":"#N/A"}},{"$f":"$G223*INDEX('Unit of measures'!$A$7:$R$24,MATCH(L$4,'Unit of measures'!$A$7:$A$24,0),MATCH($F223,'Unit of measures'!$A$7:$R$7,0))","v":{"$error":"#N/A"}},{"$f":"$G223*INDEX('Unit of measures'!$A$7:$R$24,MATCH(M$4,'Unit of measures'!$A$7:$A$24,0),MATCH($F223,'Unit of measures'!$A$7:$R$7,0))","v":{"$error":"#N/A"}},{"$f":"$G223*INDEX('Unit of measures'!$A$7:$R$24,MATCH(N$4,'Unit of measures'!$A$7:$A$24,0),MATCH($F223,'Unit of measures'!$A$7:$R$7,0))","v":{"$error":"#N/A"}},{"$f":"$G223*INDEX('Unit of measures'!$A$7:$R$24,MATCH(O$4,'Unit of measures'!$A$7:$A$24,0),MATCH($F223,'Unit of measures'!$A$7:$R$7,0))","v":{"$error":"#N/A"}},{"$f":"$G223*INDEX('Unit of measures'!$A$7:$R$24,MATCH(P$4,'Unit of measures'!$A$7:$A$24,0),MATCH($F223,'Unit of measures'!$A$7:$R$7,0))","v":{"$error":"#N/A"}},null,null,{"$f":"$R223*INDEX('Unit of measures'!$A$7:$R$24,MATCH(S$4,'Unit of measures'!$A$7:$A$24,0),MATCH($Q223,'Unit of measures'!$A$7:$R$7,0))","v":{"$error":"#N/A"}},{"$f":"$R223*INDEX('Unit of measures'!$A$7:$R$24,MATCH(T$4,'Unit of measures'!$A$7:$A$24,0),MATCH($Q223,'Unit of measures'!$A$7:$R$7,0))","v":{"$error":"#N/A"}},{"$f":"$R223*INDEX('Unit of measures'!$A$7:$R$24,MATCH(U$4,'Unit of measures'!$A$7:$A$24,0),MATCH($Q223,'Unit of measures'!$A$7:$R$7,0))","v":{"$error":"#N/A"}},{"$f":"$R223*INDEX('Unit of measures'!$A$7:$R$24,MATCH(V$4,'Unit of measures'!$A$7:$A$24,0),MATCH($Q223,'Unit of measures'!$A$7:$R$7,0))","v":{"$error":"#N/A"}},{"$f":"$R223*INDEX('Unit of measures'!$A$7:$R$24,MATCH(W$4,'Unit of measures'!$A$7:$A$24,0),MATCH($Q223,'Unit of measures'!$A$7:$R$7,0))","v":{"$error":"#N/A"}},"Each"]
[null,null,null,null,"",null,null,{"$f":"$G224*INDEX('Unit of measures'!$A$7:$R$24,MATCH(H$4,'Unit of measures'!$A$7:$A$24,0),MATCH($F224,'Unit of measures'!$A$7:$R$7,0))","v":{"$error":"#N/A"}},{"$f":"$G224*INDEX('Unit of measures'!$A$7:$R$24,MATCH(I$4,'Unit of measures'!$A$7:$A$24,0),MATCH($F224,'Unit of measures'!$A$7:$R$7,0))","v":{"$error":"#N/A"}},{"$f":"$G224*INDEX('Unit of measures'!$A$7:$R$24,MATCH(J$4,'Unit of measures'!$A$7:$A$24,0),MATCH($F224,'Unit of measures'!$A$7:$R$7,0))","v":{"$error":"#N/A"}},{"$f":"$G224*INDEX('Unit of measures'!$A$7:$R$24,MATCH(K$4,'Unit of measures'!$A$7:$A$24,0),MATCH($F224,'Unit of measures'!$A$7:$R$7,0))","v":{"$error":"#N/A"}},{"$f":"$G224*INDEX('Unit of measures'!$A$7:$R$24,MATCH(L$4,'Unit of measures'!$A$7:$A$24,0),MATCH($F224,'Unit of measures'!$A$7:$R$7,0))","v":{"$error":"#N/A"}},{"$f":"$G224*INDEX('Unit of measures'!$A$7:$R$24,MATCH(M$4,'Unit of measures'!$A$7:$A$24,0),MATCH($F224,'Unit of measures'!$A$7:$R$7,0))","v":{"$error":"#N/A"}},{"$f":"$G224*INDEX('Unit of measures'!$A$7:$R$24,MATCH(N$4,'Unit of measures'!$A$7:$A$24,0),MATCH($F224,'Unit of measures'!$A$7:$R$7,0))","v":{"$error":"#N/A"}},{"$f":"$G224*INDEX('Unit of measures'!$A$7:$R$24,MATCH(O$4,'Unit of measures'!$A$7:$A$24,0),MATCH($F224,'Unit of measures'!$A$7:$R$7,0))","v":{"$error":"#N/A"}},{"$f":"$G224*INDEX('Unit of measures'!$A$7:$R$24,MATCH(P$4,'Unit of measures'!$A$7:$A$24,0),MATCH($F224,'Unit of measures'!$A$7:$R$7,0))","v":{"$error":"#N/A"}},null,null,{"$f":"$R224*INDEX('Unit of measures'!$A$7:$R$24,MATCH(S$4,'Unit of measures'!$A$7:$A$24,0),MATCH($Q224,'Unit of measures'!$A$7:$R$7,0))","v":{"$error":"#N/A"}},{"$f":"$R224*INDEX('Unit of measures'!$A$7:$R$24,MATCH(T$4,'Unit of measures'!$A$7:$A$24,0),MATCH($Q224,'Unit of measures'!$A$7:$R$7,0))","v":{"$error":"#N/A"}},{"$f":"$R224*INDEX('Unit of measures'!$A$7:$R$24,MATCH(U$4,'Unit of measures'!$A$7:$A$24,0),MATCH($Q224,'Unit of measures'!$A$7:$R$7,0))","v":{"$error":"#N/A"}},{"$f":"$R224*INDEX('Unit of measures'!$A$7:$R$24,MATCH(V$4,'Unit of measures'!$A$7:$A$24,0),MATCH($Q224,'Unit of measures'!$A$7:$R$7,0))","v":{"$error":"#N/A"}},{"$f":"$R224*INDEX('Unit of measures'!$A$7:$R$24,MATCH(W$4,'Unit of measures'!$A$7:$A$24,0),MATCH($Q224,'Unit of measures'!$A$7:$R$7,0))","v":{"$error":"#N/A"}},"Each"]
[null,null,null,null,"",null,null,{"$f":"$G225*INDEX('Unit of measures'!$A$7:$R$24,MATCH(H$4,'Unit of measures'!$A$7:$A$24,0),MATCH($F225,'Unit of measures'!$A$7:$R$7,0))","v":{"$error":"#N/A"}},{"$f":"$G225*INDEX('Unit of measures'!$A$7:$R$24,MATCH(I$4,'Unit of measures'!$A$7:$A$24,0),MATCH($F225,'Unit of measures'!$A$7:$R$7,0))","v":{"$error":"#N/A"}},{"$f":"$G225*INDEX('Unit of measures'!$A$7:$R$24,MATCH(J$4,'Unit of measures'!$A$7:$A$24,0),MATCH($F225,'Unit of measures'!$A$7:$R$7,0))","v":{"$error":"#N/A"}},{"$f":"$G225*INDEX('Unit of measures'!$A$7:$R$24,MATCH(K$4,'Unit of measures'!$A$7:$A$24,0),MATCH($F225,'Unit of measures'!$A$7:$R$7,0))","v":{"$error":"#N/A"}},{"$f":"$G225*INDEX('Unit of measures'!$A$7:$R$24,MATCH(L$4,'Unit of measures'!$A$7:$A$24,0),MATCH($F225,'Unit of measures'!$A$7:$R$7,0))","v":{"$error":"#N/A"}},{"$f":"$G225*INDEX('Unit of measures'!$A$7:$R$24,MATCH(M$4,'Unit of measures'!$A$7:$A$24,0),MATCH($F225,'Unit of measures'!$A$7:$R$7,0))","v":{"$error":"#N/A"}},{"$f":"$G225*INDEX('Unit of measures'!$A$7:$R$24,MATCH(N$4,'Unit of measures'!$A$7:$A$24,0),MATCH($F225,'Unit of measures'!$A$7:$R$7,0))","v":{"$error":"#N/A"}},{"$f":"$G225*INDEX('Unit of measures'!$A$7:$R$24,MATCH(O$4,'Unit of measures'!$A$7:$A$24,0),MATCH($F225,'Unit of measures'!$A$7:$R$7,0))","v":{"$error":"#N/A"}},{"$f":"$G225*INDEX('Unit of measures'!$A$7:$R$24,MATCH(P$4,'Unit of measures'!$A$7:$A$24,0),MATCH($F225,'Unit of measures'!$A$7:$R$7,0))","v":{"$error":"#N/A"}},null,null,{"$f":"$R225*INDEX('Unit of measures'!$A$7:$R$24,MATCH(S$4,'Unit of measures'!$A$7:$A$24,0),MATCH($Q225,'Unit of measures'!$A$7:$R$7,0))","v":{"$error":"#N/A"}},{"$f":"$R225*INDEX('Unit of measures'!$A$7:$R$24,MATCH(T$4,'Unit of measures'!$A$7:$A$24,0),MATCH($Q225,'Unit of measures'!$A$7:$R$7,0))","v":{"$error":"#N/A"}},{"$f":"$R225*INDEX('Unit of measures'!$A$7:$R$24,MATCH(U$4,'Unit of measures'!$A$7:$A$24,0),MATCH($Q225,'Unit of measures'!$A$7:$R$7,0))","v":{"$error":"#N/A"}},{"$f":"$R225*INDEX('Unit of measures'!$A$7:$R$24,MATCH(V$4,'Unit of measures'!$A$7:$A$24,0),MATCH($Q225,'Unit of measures'!$A$7:$R$7,0))","v":{"$error":"#N/A"}},{"$f":"$R225*INDEX('Unit of measures'!$A$7:$R$24,MATCH(W$4,'Unit of measures'!$A$7:$A$24,0),MATCH($Q225,'Unit of measures'!$A$7:$R$7,0))","v":{"$error":"#N/A"}},"Each"]
[null,null,null,null,"",null,null,{"$f":"$G226*INDEX('Unit of measures'!$A$7:$R$24,MATCH(H$4,'Unit of measures'!$A$7:$A$24,0),MATCH($F226,'Unit of measures'!$A$7:$R$7,0))","v":{"$error":"#N/A"}},{"$f":"$G226*INDEX('Unit of measures'!$A$7:$R$24,MATCH(I$4,'Unit of measures'!$A$7:$A$24,0),MATCH($F226,'Unit of measures'!$A$7:$R$7,0))","v":{"$error":"#N/A"}},{"$f":"$G226*INDEX('Unit of measures'!$A$7:$R$24,MATCH(J$4,'Unit of measures'!$A$7:$A$24,0),MATCH($F226,'Unit of measures'!$A$7:$R$7,0))","v":{"$error":"#N/A"}},{"$f":"$G226*INDEX('Unit of measures'!$A$7:$R$24,MATCH(K$4,'Unit of measures'!$A$7:$A$24,0),MATCH($F226,'Unit of measures'!$A$7:$R$7,0))","v":{"$error":"#N/A"}},{"$f":"$G226*INDEX('Unit of measures'!$A$7:$R$24,MATCH(L$4,'Unit of measures'!$A$7:$A$24,0),MATCH($F226,'Unit of measures'!$A$7:$R$7,0))","v":{"$error":"#N/A"}},{"$f":"$G226*INDEX('Unit of measures'!$A$7:$R$24,MATCH(M$4,'Unit of measures'!$A$7:$A$24,0),MATCH($F226,'Unit of measures'!$A$7:$R$7,0))","v":{"$error":"#N/A"}},{"$f":"$G226*INDEX('Unit of measures'!$A$7:$R$24,MATCH(N$4,'Unit of measures'!$A$7:$A$24,0),MATCH($F226,'Unit of measures'!$A$7:$R$7,0))","v":{"$error":"#N/A"}},{"$f":"$G226*INDEX('Unit of measures'!$A$7:$R$24,MATCH(O$4,'Unit of measures'!$A$7:$A$24,0),MATCH($F226,'Unit of measures'!$A$7:$R$7,0))","v":{"$error":"#N/A"}},{"$f":"$G226*INDEX('Unit of measures'!$A$7:$R$24,MATCH(P$4,'Unit of measures'!$A$7:$A$24,0),MATCH($F226,'Unit of measures'!$A$7:$R$7,0))","v":{"$error":"#N/A"}},null,null,{"$f":"$R226*INDEX('Unit of measures'!$A$7:$R$24,MATCH(S$4,'Unit of measures'!$A$7:$A$24,0),MATCH($Q226,'Unit of measures'!$A$7:$R$7,0))","v":{"$error":"#N/A"}},{"$f":"$R226*INDEX('Unit of measures'!$A$7:$R$24,MATCH(T$4,'Unit of measures'!$A$7:$A$24,0),MATCH($Q226,'Unit of measures'!$A$7:$R$7,0))","v":{"$error":"#N/A"}},{"$f":"$R226*INDEX('Unit of measures'!$A$7:$R$24,MATCH(U$4,'Unit of measures'!$A$7:$A$24,0),MATCH($Q226,'Unit of measures'!$A$7:$R$7,0))","v":{"$error":"#N/A"}},{"$f":"$R226*INDEX('Unit of measures'!$A$7:$R$24,MATCH(V$4,'Unit of measures'!$A$7:$A$24,0),MATCH($Q226,'Unit of measures'!$A$7:$R$7,0))","v":{"$error":"#N/A"}},{"$f":"$R226*INDEX('Unit of measures'!$A$7:$R$24,MATCH(W$4,'Unit of measures'!$A$7:$A$24,0),MATCH($Q226,'Unit of measures'!$A$7:$R$7,0))","v":{"$error":"#N/A"}},"Each"]
[null,null,null,null,"",null,null,{"$f":"$G227*INDEX('Unit of measures'!$A$7:$R$24,MATCH(H$4,'Unit of measures'!$A$7:$A$24,0),MATCH($F227,'Unit of measures'!$A$7:$R$7,0))","v":{"$error":"#N/A"}},{"$f":"$G227*INDEX('Unit of measures'!$A$7:$R$24,MATCH(I$4,'Unit of measures'!$A$7:$A$24,0),MATCH($F227,'Unit of measures'!$A$7:$R$7,0))","v":{"$error":"#N/A"}},{"$f":"$G227*INDEX('Unit of measures'!$A$7:$R$24,MATCH(J$4,'Unit of measures'!$A$7:$A$24,0),MATCH($F227,'Unit of measures'!$A$7:$R$7,0))","v":{"$error":"#N/A"}},{"$f":"$G227*INDEX('Unit of measures'!$A$7:$R$24,MATCH(K$4,'Unit of measures'!$A$7:$A$24,0),MATCH($F227,'Unit of measures'!$A$7:$R$7,0))","v":{"$error":"#N/A"}},{"$f":"$G227*INDEX('Unit of measures'!$A$7:$R$24,MATCH(L$4,'Unit of measures'!$A$7:$A$24,0),MATCH($F227,'Unit of measures'!$A$7:$R$7,0))","v":{"$error":"#N/A"}},{"$f":"$G227*INDEX('Unit of measures'!$A$7:$R$24,MATCH(M$4,'Unit of measures'!$A$7:$A$24,0),MATCH($F227,'Unit of measures'!$A$7:$R$7,0))","v":{"$error":"#N/A"}},{"$f":"$G227*INDEX('Unit of measures'!$A$7:$R$24,MATCH(N$4,'Unit of measures'!$A$7:$A$24,0),MATCH($F227,'Unit of measures'!$A$7:$R$7,0))","v":{"$error":"#N/A"}},{"$f":"$G227*INDEX('Unit of measures'!$A$7:$R$24,MATCH(O$4,'Unit of measures'!$A$7:$A$24,0),MATCH($F227,'Unit of measures'!$A$7:$R$7,0))","v":{"$error":"#N/A"}},{"$f":"$G227*INDEX('Unit of measures'!$A$7:$R$24,MATCH(P$4,'Unit of measures'!$A$7:$A$24,0),MATCH($F227,'Unit of measures'!$A$7:$R$7,0))","v":{"$error":"#N/A"}},null,null,{"$f":"$R227*INDEX('Unit of measures'!$A$7:$R$24,MATCH(S$4,'Unit of measures'!$A$7:$A$24,0),MATCH($Q227,'Unit of measures'!$A$7:$R$7,0))","v":{"$error":"#N/A"}},{"$f":"$R227*INDEX('Unit of measures'!$A$7:$R$24,MATCH(T$4,'Unit of measures'!$A$7:$A$24,0),MATCH($Q227,'Unit of measures'!$A$7:$R$7,0))","v":{"$error":"#N/A"}},{"$f":"$R227*INDEX('Unit of measures'!$A$7:$R$24,MATCH(U$4,'Unit of measures'!$A$7:$A$24,0),MATCH($Q227,'Unit of measures'!$A$7:$R$7,0))","v":{"$error":"#N/A"}},{"$f":"$R227*INDEX('Unit of measures'!$A$7:$R$24,MATCH(V$4,'Unit of measures'!$A$7:$A$24,0),MATCH($Q227,'Unit of measures'!$A$7:$R$7,0))","v":{"$error":"#N/A"}},{"$f":"$R227*INDEX('Unit of measures'!$A$7:$R$24,MATCH(W$4,'Unit of measures'!$A$7:$A$24,0),MATCH($Q227,'Unit of measures'!$A$7:$R$7,0))","v":{"$error":"#N/A"}},"Each"]
[null,null,null,null,"",null,null,{"$f":"$G228*INDEX('Unit of measures'!$A$7:$R$24,MATCH(H$4,'Unit of measures'!$A$7:$A$24,0),MATCH($F228,'Unit of measures'!$A$7:$R$7,0))","v":{"$error":"#N/A"}},{"$f":"$G228*INDEX('Unit of measures'!$A$7:$R$24,MATCH(I$4,'Unit of measures'!$A$7:$A$24,0),MATCH($F228,'Unit of measures'!$A$7:$R$7,0))","v":{"$error":"#N/A"}},{"$f":"$G228*INDEX('Unit of measures'!$A$7:$R$24,MATCH(J$4,'Unit of measures'!$A$7:$A$24,0),MATCH($F228,'Unit of measures'!$A$7:$R$7,0))","v":{"$error":"#N/A"}},{"$f":"$G228*INDEX('Unit of measures'!$A$7:$R$24,MATCH(K$4,'Unit of measures'!$A$7:$A$24,0),MATCH($F228,'Unit of measures'!$A$7:$R$7,0))","v":{"$error":"#N/A"}},{"$f":"$G228*INDEX('Unit of measures'!$A$7:$R$24,MATCH(L$4,'Unit of measures'!$A$7:$A$24,0),MATCH($F228,'Unit of measures'!$A$7:$R$7,0))","v":{"$error":"#N/A"}},{"$f":"$G228*INDEX('Unit of measures'!$A$7:$R$24,MATCH(M$4,'Unit of measures'!$A$7:$A$24,0),MATCH($F228,'Unit of measures'!$A$7:$R$7,0))","v":{"$error":"#N/A"}},{"$f":"$G228*INDEX('Unit of measures'!$A$7:$R$24,MATCH(N$4,'Unit of measures'!$A$7:$A$24,0),MATCH($F228,'Unit of measures'!$A$7:$R$7,0))","v":{"$error":"#N/A"}},{"$f":"$G228*INDEX('Unit of measures'!$A$7:$R$24,MATCH(O$4,'Unit of measures'!$A$7:$A$24,0),MATCH($F228,'Unit of measures'!$A$7:$R$7,0))","v":{"$error":"#N/A"}},{"$f":"$G228*INDEX('Unit of measures'!$A$7:$R$24,MATCH(P$4,'Unit of measures'!$A$7:$A$24,0),MATCH($F228,'Unit of measures'!$A$7:$R$7,0))","v":{"$error":"#N/A"}},null,null,{"$f":"$R228*INDEX('Unit of measures'!$A$7:$R$24,MATCH(S$4,'Unit of measures'!$A$7:$A$24,0),MATCH($Q228,'Unit of measures'!$A$7:$R$7,0))","v":{"$error":"#N/A"}},{"$f":"$R228*INDEX('Unit of measures'!$A$7:$R$24,MATCH(T$4,'Unit of measures'!$A$7:$A$24,0),MATCH($Q228,'Unit of measures'!$A$7:$R$7,0))","v":{"$error":"#N/A"}},{"$f":"$R228*INDEX('Unit of measures'!$A$7:$R$24,MATCH(U$4,'Unit of measures'!$A$7:$A$24,0),MATCH($Q228,'Unit of measures'!$A$7:$R$7,0))","v":{"$error":"#N/A"}},{"$f":"$R228*INDEX('Unit of measures'!$A$7:$R$24,MATCH(V$4,'Unit of measures'!$A$7:$A$24,0),MATCH($Q228,'Unit of measures'!$A$7:$R$7,0))","v":{"$error":"#N/A"}},{"$f":"$R228*INDEX('Unit of measures'!$A$7:$R$24,MATCH(W$4,'Unit of measures'!$A$7:$A$24,0),MATCH($Q228,'Unit of measures'!$A$7:$R$7,0))","v":{"$error":"#N/A"}},"Each"]
[null,null,null,null,"",null,null,{"$f":"$G229*INDEX('Unit of measures'!$A$7:$R$24,MATCH(H$4,'Unit of measures'!$A$7:$A$24,0),MATCH($F229,'Unit of measures'!$A$7:$R$7,0))","v":{"$error":"#N/A"}},{"$f":"$G229*INDEX('Unit of measures'!$A$7:$R$24,MATCH(I$4,'Unit of measures'!$A$7:$A$24,0),MATCH($F229,'Unit of measures'!$A$7:$R$7,0))","v":{"$error":"#N/A"}},{"$f":"$G229*INDEX('Unit of measures'!$A$7:$R$24,MATCH(J$4,'Unit of measures'!$A$7:$A$24,0),MATCH($F229,'Unit of measures'!$A$7:$R$7,0))","v":{"$error":"#N/A"}},{"$f":"$G229*INDEX('Unit of measures'!$A$7:$R$24,MATCH(K$4,'Unit of measures'!$A$7:$A$24,0),MATCH($F229,'Unit of measures'!$A$7:$R$7,0))","v":{"$error":"#N/A"}},{"$f":"$G229*INDEX('Unit of measures'!$A$7:$R$24,MATCH(L$4,'Unit of measures'!$A$7:$A$24,0),MATCH($F229,'Unit of measures'!$A$7:$R$7,0))","v":{"$error":"#N/A"}},{"$f":"$G229*INDEX('Unit of measures'!$A$7:$R$24,MATCH(M$4,'Unit of measures'!$A$7:$A$24,0),MATCH($F229,'Unit of measures'!$A$7:$R$7,0))","v":{"$error":"#N/A"}},{"$f":"$G229*INDEX('Unit of measures'!$A$7:$R$24,MATCH(N$4,'Unit of measures'!$A$7:$A$24,0),MATCH($F229,'Unit of measures'!$A$7:$R$7,0))","v":{"$error":"#N/A"}},{"$f":"$G229*INDEX('Unit of measures'!$A$7:$R$24,MATCH(O$4,'Unit of measures'!$A$7:$A$24,0),MATCH($F229,'Unit of measures'!$A$7:$R$7,0))","v":{"$error":"#N/A"}},{"$f":"$G229*INDEX('Unit of measures'!$A$7:$R$24,MATCH(P$4,'Unit of measures'!$A$7:$A$24,0),MATCH($F229,'Unit of measures'!$A$7:$R$7,0))","v":{"$error":"#N/A"}},null,null,{"$f":"$R229*INDEX('Unit of measures'!$A$7:$R$24,MATCH(S$4,'Unit of measures'!$A$7:$A$24,0),MATCH($Q229,'Unit of measures'!$A$7:$R$7,0))","v":{"$error":"#N/A"}},{"$f":"$R229*INDEX('Unit of measures'!$A$7:$R$24,MATCH(T$4,'Unit of measures'!$A$7:$A$24,0),MATCH($Q229,'Unit of measures'!$A$7:$R$7,0))","v":{"$error":"#N/A"}},{"$f":"$R229*INDEX('Unit of measures'!$A$7:$R$24,MATCH(U$4,'Unit of measures'!$A$7:$A$24,0),MATCH($Q229,'Unit of measures'!$A$7:$R$7,0))","v":{"$error":"#N/A"}},{"$f":"$R229*INDEX('Unit of measures'!$A$7:$R$24,MATCH(V$4,'Unit of measures'!$A$7:$A$24,0),MATCH($Q229,'Unit of measures'!$A$7:$R$7,0))","v":{"$error":"#N/A"}},{"$f":"$R229*INDEX('Unit of measures'!$A$7:$R$24,MATCH(W$4,'Unit of measures'!$A$7:$A$24,0),MATCH($Q229,'Unit of measures'!$A$7:$R$7,0))","v":{"$error":"#N/A"}},"Each"]
[null,null,null,null,"",null,null,{"$f":"$G230*INDEX('Unit of measures'!$A$7:$R$24,MATCH(H$4,'Unit of measures'!$A$7:$A$24,0),MATCH($F230,'Unit of measures'!$A$7:$R$7,0))","v":{"$error":"#N/A"}},{"$f":"$G230*INDEX('Unit of measures'!$A$7:$R$24,MATCH(I$4,'Unit of measures'!$A$7:$A$24,0),MATCH($F230,'Unit of measures'!$A$7:$R$7,0))","v":{"$error":"#N/A"}},{"$f":"$G230*INDEX('Unit of measures'!$A$7:$R$24,MATCH(J$4,'Unit of measures'!$A$7:$A$24,0),MATCH($F230,'Unit of measures'!$A$7:$R$7,0))","v":{"$error":"#N/A"}},{"$f":"$G230*INDEX('Unit of measures'!$A$7:$R$24,MATCH(K$4,'Unit of measures'!$A$7:$A$24,0),MATCH($F230,'Unit of measures'!$A$7:$R$7,0))","v":{"$error":"#N/A"}},{"$f":"$G230*INDEX('Unit of measures'!$A$7:$R$24,MATCH(L$4,'Unit of measures'!$A$7:$A$24,0),MATCH($F230,'Unit of measures'!$A$7:$R$7,0))","v":{"$error":"#N/A"}},{"$f":"$G230*INDEX('Unit of measures'!$A$7:$R$24,MATCH(M$4,'Unit of measures'!$A$7:$A$24,0),MATCH($F230,'Unit of measures'!$A$7:$R$7,0))","v":{"$error":"#N/A"}},{"$f":"$G230*INDEX('Unit of measures'!$A$7:$R$24,MATCH(N$4,'Unit of measures'!$A$7:$A$24,0),MATCH($F230,'Unit of measures'!$A$7:$R$7,0))","v":{"$error":"#N/A"}},{"$f":"$G230*INDEX('Unit of measures'!$A$7:$R$24,MATCH(O$4,'Unit of measures'!$A$7:$A$24,0),MATCH($F230,'Unit of measures'!$A$7:$R$7,0))","v":{"$error":"#N/A"}},{"$f":"$G230*INDEX('Unit of measures'!$A$7:$R$24,MATCH(P$4,'Unit of measures'!$A$7:$A$24,0),MATCH($F230,'Unit of measures'!$A$7:$R$7,0))","v":{"$error":"#N/A"}},null,null,{"$f":"$R230*INDEX('Unit of measures'!$A$7:$R$24,MATCH(S$4,'Unit of measures'!$A$7:$A$24,0),MATCH($Q230,'Unit of measures'!$A$7:$R$7,0))","v":{"$error":"#N/A"}},{"$f":"$R230*INDEX('Unit of measures'!$A$7:$R$24,MATCH(T$4,'Unit of measures'!$A$7:$A$24,0),MATCH($Q230,'Unit of measures'!$A$7:$R$7,0))","v":{"$error":"#N/A"}},{"$f":"$R230*INDEX('Unit of measures'!$A$7:$R$24,MATCH(U$4,'Unit of measures'!$A$7:$A$24,0),MATCH($Q230,'Unit of measures'!$A$7:$R$7,0))","v":{"$error":"#N/A"}},{"$f":"$R230*INDEX('Unit of measures'!$A$7:$R$24,MATCH(V$4,'Unit of measures'!$A$7:$A$24,0),MATCH($Q230,'Unit of measures'!$A$7:$R$7,0))","v":{"$error":"#N/A"}},{"$f":"$R230*INDEX('Unit of measures'!$A$7:$R$24,MATCH(W$4,'Unit of measures'!$A$7:$A$24,0),MATCH($Q230,'Unit of measures'!$A$7:$R$7,0))","v":{"$error":"#N/A"}},"Each"]
[null,null,null,null,"",null,null,{"$f":"$G231*INDEX('Unit of measures'!$A$7:$R$24,MATCH(H$4,'Unit of measures'!$A$7:$A$24,0),MATCH($F231,'Unit of measures'!$A$7:$R$7,0))","v":{"$error":"#N/A"}},{"$f":"$G231*INDEX('Unit of measures'!$A$7:$R$24,MATCH(I$4,'Unit of measures'!$A$7:$A$24,0),MATCH($F231,'Unit of measures'!$A$7:$R$7,0))","v":{"$error":"#N/A"}},{"$f":"$G231*INDEX('Unit of measures'!$A$7:$R$24,MATCH(J$4,'Unit of measures'!$A$7:$A$24,0),MATCH($F231,'Unit of measures'!$A$7:$R$7,0))","v":{"$error":"#N/A"}},{"$f":"$G231*INDEX('Unit of measures'!$A$7:$R$24,MATCH(K$4,'Unit of measures'!$A$7:$A$24,0),MATCH($F231,'Unit of measures'!$A$7:$R$7,0))","v":{"$error":"#N/A"}},{"$f":"$G231*INDEX('Unit of measures'!$A$7:$R$24,MATCH(L$4,'Unit of measures'!$A$7:$A$24,0),MATCH($F231,'Unit of measures'!$A$7:$R$7,0))","v":{"$error":"#N/A"}},{"$f":"$G231*INDEX('Unit of measures'!$A$7:$R$24,MATCH(M$4,'Unit of measures'!$A$7:$A$24,0),MATCH($F231,'Unit of measures'!$A$7:$R$7,0))","v":{"$error":"#N/A"}},{"$f":"$G231*INDEX('Unit of measures'!$A$7:$R$24,MATCH(N$4,'Unit of measures'!$A$7:$A$24,0),MATCH($F231,'Unit of measures'!$A$7:$R$7,0))","v":{"$error":"#N/A"}},{"$f":"$G231*INDEX('Unit of measures'!$A$7:$R$24,MATCH(O$4,'Unit of measures'!$A$7:$A$24,0),MATCH($F231,'Unit of measures'!$A$7:$R$7,0))","v":{"$error":"#N/A"}},{"$f":"$G231*INDEX('Unit of measures'!$A$7:$R$24,MATCH(P$4,'Unit of measures'!$A$7:$A$24,0),MATCH($F231,'Unit of measures'!$A$7:$R$7,0))","v":{"$error":"#N/A"}},null,null,{"$f":"$R231*INDEX('Unit of measures'!$A$7:$R$24,MATCH(S$4,'Unit of measures'!$A$7:$A$24,0),MATCH($Q231,'Unit of measures'!$A$7:$R$7,0))","v":{"$error":"#N/A"}},{"$f":"$R231*INDEX('Unit of measures'!$A$7:$R$24,MATCH(T$4,'Unit of measures'!$A$7:$A$24,0),MATCH($Q231,'Unit of measures'!$A$7:$R$7,0))","v":{"$error":"#N/A"}},{"$f":"$R231*INDEX('Unit of measures'!$A$7:$R$24,MATCH(U$4,'Unit of measures'!$A$7:$A$24,0),MATCH($Q231,'Unit of measures'!$A$7:$R$7,0))","v":{"$error":"#N/A"}},{"$f":"$R231*INDEX('Unit of measures'!$A$7:$R$24,MATCH(V$4,'Unit of measures'!$A$7:$A$24,0),MATCH($Q231,'Unit of measures'!$A$7:$R$7,0))","v":{"$error":"#N/A"}},{"$f":"$R231*INDEX('Unit of measures'!$A$7:$R$24,MATCH(W$4,'Unit of measures'!$A$7:$A$24,0),MATCH($Q231,'Unit of measures'!$A$7:$R$7,0))","v":{"$error":"#N/A"}},"Each"]
[null,null,null,null,"",null,null,{"$f":"$G232*INDEX('Unit of measures'!$A$7:$R$24,MATCH(H$4,'Unit of measures'!$A$7:$A$24,0),MATCH($F232,'Unit of measures'!$A$7:$R$7,0))","v":{"$error":"#N/A"}},{"$f":"$G232*INDEX('Unit of measures'!$A$7:$R$24,MATCH(I$4,'Unit of measures'!$A$7:$A$24,0),MATCH($F232,'Unit of measures'!$A$7:$R$7,0))","v":{"$error":"#N/A"}},{"$f":"$G232*INDEX('Unit of measures'!$A$7:$R$24,MATCH(J$4,'Unit of measures'!$A$7:$A$24,0),MATCH($F232,'Unit of measures'!$A$7:$R$7,0))","v":{"$error":"#N/A"}},{"$f":"$G232*INDEX('Unit of measures'!$A$7:$R$24,MATCH(K$4,'Unit of measures'!$A$7:$A$24,0),MATCH($F232,'Unit of measures'!$A$7:$R$7,0))","v":{"$error":"#N/A"}},{"$f":"$G232*INDEX('Unit of measures'!$A$7:$R$24,MATCH(L$4,'Unit of measures'!$A$7:$A$24,0),MATCH($F232,'Unit of measures'!$A$7:$R$7,0))","v":{"$error":"#N/A"}},{"$f":"$G232*INDEX('Unit of measures'!$A$7:$R$24,MATCH(M$4,'Unit of measures'!$A$7:$A$24,0),MATCH($F232,'Unit of measures'!$A$7:$R$7,0))","v":{"$error":"#N/A"}},{"$f":"$G232*INDEX('Unit of measures'!$A$7:$R$24,MATCH(N$4,'Unit of measures'!$A$7:$A$24,0),MATCH($F232,'Unit of measures'!$A$7:$R$7,0))","v":{"$error":"#N/A"}},{"$f":"$G232*INDEX('Unit of measures'!$A$7:$R$24,MATCH(O$4,'Unit of measures'!$A$7:$A$24,0),MATCH($F232,'Unit of measures'!$A$7:$R$7,0))","v":{"$error":"#N/A"}},{"$f":"$G232*INDEX('Unit of measures'!$A$7:$R$24,MATCH(P$4,'Unit of measures'!$A$7:$A$24,0),MATCH($F232,'Unit of measures'!$A$7:$R$7,0))","v":{"$error":"#N/A"}},null,null,{"$f":"$R232*INDEX('Unit of measures'!$A$7:$R$24,MATCH(S$4,'Unit of measures'!$A$7:$A$24,0),MATCH($Q232,'Unit of measures'!$A$7:$R$7,0))","v":{"$error":"#N/A"}},{"$f":"$R232*INDEX('Unit of measures'!$A$7:$R$24,MATCH(T$4,'Unit of measures'!$A$7:$A$24,0),MATCH($Q232,'Unit of measures'!$A$7:$R$7,0))","v":{"$error":"#N/A"}},{"$f":"$R232*INDEX('Unit of measures'!$A$7:$R$24,MATCH(U$4,'Unit of measures'!$A$7:$A$24,0),MATCH($Q232,'Unit of measures'!$A$7:$R$7,0))","v":{"$error":"#N/A"}},{"$f":"$R232*INDEX('Unit of measures'!$A$7:$R$24,MATCH(V$4,'Unit of measures'!$A$7:$A$24,0),MATCH($Q232,'Unit of measures'!$A$7:$R$7,0))","v":{"$error":"#N/A"}},{"$f":"$R232*INDEX('Unit of measures'!$A$7:$R$24,MATCH(W$4,'Unit of measures'!$A$7:$A$24,0),MATCH($Q232,'Unit of measures'!$A$7:$R$7,0))","v":{"$error":"#N/A"}},"Each"]
[null,null,null,null,"",null,null,{"$f":"$G233*INDEX('Unit of measures'!$A$7:$R$24,MATCH(H$4,'Unit of measures'!$A$7:$A$24,0),MATCH($F233,'Unit of measures'!$A$7:$R$7,0))","v":{"$error":"#N/A"}},{"$f":"$G233*INDEX('Unit of measures'!$A$7:$R$24,MATCH(I$4,'Unit of measures'!$A$7:$A$24,0),MATCH($F233,'Unit of measures'!$A$7:$R$7,0))","v":{"$error":"#N/A"}},{"$f":"$G233*INDEX('Unit of measures'!$A$7:$R$24,MATCH(J$4,'Unit of measures'!$A$7:$A$24,0),MATCH($F233,'Unit of measures'!$A$7:$R$7,0))","v":{"$error":"#N/A"}},{"$f":"$G233*INDEX('Unit of measures'!$A$7:$R$24,MATCH(K$4,'Unit of measures'!$A$7:$A$24,0),MATCH($F233,'Unit of measures'!$A$7:$R$7,0))","v":{"$error":"#N/A"}},{"$f":"$G233*INDEX('Unit of measures'!$A$7:$R$24,MATCH(L$4,'Unit of measures'!$A$7:$A$24,0),MATCH($F233,'Unit of measures'!$A$7:$R$7,0))","v":{"$error":"#N/A"}},{"$f":"$G233*INDEX('Unit of measures'!$A$7:$R$24,MATCH(M$4,'Unit of measures'!$A$7:$A$24,0),MATCH($F233,'Unit of measures'!$A$7:$R$7,0))","v":{"$error":"#N/A"}},{"$f":"$G233*INDEX('Unit of measures'!$A$7:$R$24,MATCH(N$4,'Unit of measures'!$A$7:$A$24,0),MATCH($F233,'Unit of measures'!$A$7:$R$7,0))","v":{"$error":"#N/A"}},{"$f":"$G233*INDEX('Unit of measures'!$A$7:$R$24,MATCH(O$4,'Unit of measures'!$A$7:$A$24,0),MATCH($F233,'Unit of measures'!$A$7:$R$7,0))","v":{"$error":"#N/A"}},{"$f":"$G233*INDEX('Unit of measures'!$A$7:$R$24,MATCH(P$4,'Unit of measures'!$A$7:$A$24,0),MATCH($F233,'Unit of measures'!$A$7:$R$7,0))","v":{"$error":"#N/A"}},null,null,{"$f":"$R233*INDEX('Unit of measures'!$A$7:$R$24,MATCH(S$4,'Unit of measures'!$A$7:$A$24,0),MATCH($Q233,'Unit of measures'!$A$7:$R$7,0))","v":{"$error":"#N/A"}},{"$f":"$R233*INDEX('Unit of measures'!$A$7:$R$24,MATCH(T$4,'Unit of measures'!$A$7:$A$24,0),MATCH($Q233,'Unit of measures'!$A$7:$R$7,0))","v":{"$error":"#N/A"}},{"$f":"$R233*INDEX('Unit of measures'!$A$7:$R$24,MATCH(U$4,'Unit of measures'!$A$7:$A$24,0),MATCH($Q233,'Unit of measures'!$A$7:$R$7,0))","v":{"$error":"#N/A"}},{"$f":"$R233*INDEX('Unit of measures'!$A$7:$R$24,MATCH(V$4,'Unit of measures'!$A$7:$A$24,0),MATCH($Q233,'Unit of measures'!$A$7:$R$7,0))","v":{"$error":"#N/A"}},{"$f":"$R233*INDEX('Unit of measures'!$A$7:$R$24,MATCH(W$4,'Unit of measures'!$A$7:$A$24,0),MATCH($Q233,'Unit of measures'!$A$7:$R$7,0))","v":{"$error":"#N/A"}},"Each"]
[null,null,null,null,"",null,null,{"$f":"$G234*INDEX('Unit of measures'!$A$7:$R$24,MATCH(H$4,'Unit of measures'!$A$7:$A$24,0),MATCH($F234,'Unit of measures'!$A$7:$R$7,0))","v":{"$error":"#N/A"}},{"$f":"$G234*INDEX('Unit of measures'!$A$7:$R$24,MATCH(I$4,'Unit of measures'!$A$7:$A$24,0),MATCH($F234,'Unit of measures'!$A$7:$R$7,0))","v":{"$error":"#N/A"}},{"$f":"$G234*INDEX('Unit of measures'!$A$7:$R$24,MATCH(J$4,'Unit of measures'!$A$7:$A$24,0),MATCH($F234,'Unit of measures'!$A$7:$R$7,0))","v":{"$error":"#N/A"}},{"$f":"$G234*INDEX('Unit of measures'!$A$7:$R$24,MATCH(K$4,'Unit of measures'!$A$7:$A$24,0),MATCH($F234,'Unit of measures'!$A$7:$R$7,0))","v":{"$error":"#N/A"}},{"$f":"$G234*INDEX('Unit of measures'!$A$7:$R$24,MATCH(L$4,'Unit of measures'!$A$7:$A$24,0),MATCH($F234,'Unit of measures'!$A$7:$R$7,0))","v":{"$error":"#N/A"}},{"$f":"$G234*INDEX('Unit of measures'!$A$7:$R$24,MATCH(M$4,'Unit of measures'!$A$7:$A$24,0),MATCH($F234,'Unit of measures'!$A$7:$R$7,0))","v":{"$error":"#N/A"}},{"$f":"$G234*INDEX('Unit of measures'!$A$7:$R$24,MATCH(N$4,'Unit of measures'!$A$7:$A$24,0),MATCH($F234,'Unit of measures'!$A$7:$R$7,0))","v":{"$error":"#N/A"}},{"$f":"$G234*INDEX('Unit of measures'!$A$7:$R$24,MATCH(O$4,'Unit of measures'!$A$7:$A$24,0),MATCH($F234,'Unit of measures'!$A$7:$R$7,0))","v":{"$error":"#N/A"}},{"$f":"$G234*INDEX('Unit of measures'!$A$7:$R$24,MATCH(P$4,'Unit of measures'!$A$7:$A$24,0),MATCH($F234,'Unit of measures'!$A$7:$R$7,0))","v":{"$error":"#N/A"}},null,null,{"$f":"$R234*INDEX('Unit of measures'!$A$7:$R$24,MATCH(S$4,'Unit of measures'!$A$7:$A$24,0),MATCH($Q234,'Unit of measures'!$A$7:$R$7,0))","v":{"$error":"#N/A"}},{"$f":"$R234*INDEX('Unit of measures'!$A$7:$R$24,MATCH(T$4,'Unit of measures'!$A$7:$A$24,0),MATCH($Q234,'Unit of measures'!$A$7:$R$7,0))","v":{"$error":"#N/A"}},{"$f":"$R234*INDEX('Unit of measures'!$A$7:$R$24,MATCH(U$4,'Unit of measures'!$A$7:$A$24,0),MATCH($Q234,'Unit of measures'!$A$7:$R$7,0))","v":{"$error":"#N/A"}},{"$f":"$R234*INDEX('Unit of measures'!$A$7:$R$24,MATCH(V$4,'Unit of measures'!$A$7:$A$24,0),MATCH($Q234,'Unit of measures'!$A$7:$R$7,0))","v":{"$error":"#N/A"}},{"$f":"$R234*INDEX('Unit of measures'!$A$7:$R$24,MATCH(W$4,'Unit of measures'!$A$7:$A$24,0),MATCH($Q234,'Unit of measures'!$A$7:$R$7,0))","v":{"$error":"#N/A"}},"Each"]
[null,null,null,null,"",null,null,{"$f":"$G235*INDEX('Unit of measures'!$A$7:$R$24,MATCH(H$4,'Unit of measures'!$A$7:$A$24,0),MATCH($F235,'Unit of measures'!$A$7:$R$7,0))","v":{"$error":"#N/A"}},{"$f":"$G235*INDEX('Unit of measures'!$A$7:$R$24,MATCH(I$4,'Unit of measures'!$A$7:$A$24,0),MATCH($F235,'Unit of measures'!$A$7:$R$7,0))","v":{"$error":"#N/A"}},{"$f":"$G235*INDEX('Unit of measures'!$A$7:$R$24,MATCH(J$4,'Unit of measures'!$A$7:$A$24,0),MATCH($F235,'Unit of measures'!$A$7:$R$7,0))","v":{"$error":"#N/A"}},{"$f":"$G235*INDEX('Unit of measures'!$A$7:$R$24,MATCH(K$4,'Unit of measures'!$A$7:$A$24,0),MATCH($F235,'Unit of measures'!$A$7:$R$7,0))","v":{"$error":"#N/A"}},{"$f":"$G235*INDEX('Unit of measures'!$A$7:$R$24,MATCH(L$4,'Unit of measures'!$A$7:$A$24,0),MATCH($F235,'Unit of measures'!$A$7:$R$7,0))","v":{"$error":"#N/A"}},{"$f":"$G235*INDEX('Unit of measures'!$A$7:$R$24,MATCH(M$4,'Unit of measures'!$A$7:$A$24,0),MATCH($F235,'Unit of measures'!$A$7:$R$7,0))","v":{"$error":"#N/A"}},{"$f":"$G235*INDEX('Unit of measures'!$A$7:$R$24,MATCH(N$4,'Unit of measures'!$A$7:$A$24,0),MATCH($F235,'Unit of measures'!$A$7:$R$7,0))","v":{"$error":"#N/A"}},{"$f":"$G235*INDEX('Unit of measures'!$A$7:$R$24,MATCH(O$4,'Unit of measures'!$A$7:$A$24,0),MATCH($F235,'Unit of measures'!$A$7:$R$7,0))","v":{"$error":"#N/A"}},{"$f":"$G235*INDEX('Unit of measures'!$A$7:$R$24,MATCH(P$4,'Unit of measures'!$A$7:$A$24,0),MATCH($F235,'Unit of measures'!$A$7:$R$7,0))","v":{"$error":"#N/A"}},null,null,{"$f":"$R235*INDEX('Unit of measures'!$A$7:$R$24,MATCH(S$4,'Unit of measures'!$A$7:$A$24,0),MATCH($Q235,'Unit of measures'!$A$7:$R$7,0))","v":{"$error":"#N/A"}},{"$f":"$R235*INDEX('Unit of measures'!$A$7:$R$24,MATCH(T$4,'Unit of measures'!$A$7:$A$24,0),MATCH($Q235,'Unit of measures'!$A$7:$R$7,0))","v":{"$error":"#N/A"}},{"$f":"$R235*INDEX('Unit of measures'!$A$7:$R$24,MATCH(U$4,'Unit of measures'!$A$7:$A$24,0),MATCH($Q235,'Unit of measures'!$A$7:$R$7,0))","v":{"$error":"#N/A"}},{"$f":"$R235*INDEX('Unit of measures'!$A$7:$R$24,MATCH(V$4,'Unit of measures'!$A$7:$A$24,0),MATCH($Q235,'Unit of measures'!$A$7:$R$7,0))","v":{"$error":"#N/A"}},{"$f":"$R235*INDEX('Unit of measures'!$A$7:$R$24,MATCH(W$4,'Unit of measures'!$A$7:$A$24,0),MATCH($Q235,'Unit of measures'!$A$7:$R$7,0))","v":{"$error":"#N/A"}},"Each"]
[null,null,null,null,"",null,null,{"$f":"$G236*INDEX('Unit of measures'!$A$7:$R$24,MATCH(H$4,'Unit of measures'!$A$7:$A$24,0),MATCH($F236,'Unit of measures'!$A$7:$R$7,0))","v":{"$error":"#N/A"}},{"$f":"$G236*INDEX('Unit of measures'!$A$7:$R$24,MATCH(I$4,'Unit of measures'!$A$7:$A$24,0),MATCH($F236,'Unit of measures'!$A$7:$R$7,0))","v":{"$error":"#N/A"}},{"$f":"$G236*INDEX('Unit of measures'!$A$7:$R$24,MATCH(J$4,'Unit of measures'!$A$7:$A$24,0),MATCH($F236,'Unit of measures'!$A$7:$R$7,0))","v":{"$error":"#N/A"}},{"$f":"$G236*INDEX('Unit of measures'!$A$7:$R$24,MATCH(K$4,'Unit of measures'!$A$7:$A$24,0),MATCH($F236,'Unit of measures'!$A$7:$R$7,0))","v":{"$error":"#N/A"}},{"$f":"$G236*INDEX('Unit of measures'!$A$7:$R$24,MATCH(L$4,'Unit of measures'!$A$7:$A$24,0),MATCH($F236,'Unit of measures'!$A$7:$R$7,0))","v":{"$error":"#N/A"}},{"$f":"$G236*INDEX('Unit of measures'!$A$7:$R$24,MATCH(M$4,'Unit of measures'!$A$7:$A$24,0),MATCH($F236,'Unit of measures'!$A$7:$R$7,0))","v":{"$error":"#N/A"}},{"$f":"$G236*INDEX('Unit of measures'!$A$7:$R$24,MATCH(N$4,'Unit of measures'!$A$7:$A$24,0),MATCH($F236,'Unit of measures'!$A$7:$R$7,0))","v":{"$error":"#N/A"}},{"$f":"$G236*INDEX('Unit of measures'!$A$7:$R$24,MATCH(O$4,'Unit of measures'!$A$7:$A$24,0),MATCH($F236,'Unit of measures'!$A$7:$R$7,0))","v":{"$error":"#N/A"}},{"$f":"$G236*INDEX('Unit of measures'!$A$7:$R$24,MATCH(P$4,'Unit of measures'!$A$7:$A$24,0),MATCH($F236,'Unit of measures'!$A$7:$R$7,0))","v":{"$error":"#N/A"}},null,null,{"$f":"$R236*INDEX('Unit of measures'!$A$7:$R$24,MATCH(S$4,'Unit of measures'!$A$7:$A$24,0),MATCH($Q236,'Unit of measures'!$A$7:$R$7,0))","v":{"$error":"#N/A"}},{"$f":"$R236*INDEX('Unit of measures'!$A$7:$R$24,MATCH(T$4,'Unit of measures'!$A$7:$A$24,0),MATCH($Q236,'Unit of measures'!$A$7:$R$7,0))","v":{"$error":"#N/A"}},{"$f":"$R236*INDEX('Unit of measures'!$A$7:$R$24,MATCH(U$4,'Unit of measures'!$A$7:$A$24,0),MATCH($Q236,'Unit of measures'!$A$7:$R$7,0))","v":{"$error":"#N/A"}},{"$f":"$R236*INDEX('Unit of measures'!$A$7:$R$24,MATCH(V$4,'Unit of measures'!$A$7:$A$24,0),MATCH($Q236,'Unit of measures'!$A$7:$R$7,0))","v":{"$error":"#N/A"}},{"$f":"$R236*INDEX('Unit of measures'!$A$7:$R$24,MATCH(W$4,'Unit of measures'!$A$7:$A$24,0),MATCH($Q236,'Unit of measures'!$A$7:$R$7,0))","v":{"$error":"#N/A"}},"Each"]
[null,null,null,null,"",null,null,{"$f":"$G237*INDEX('Unit of measures'!$A$7:$R$24,MATCH(H$4,'Unit of measures'!$A$7:$A$24,0),MATCH($F237,'Unit of measures'!$A$7:$R$7,0))","v":{"$error":"#N/A"}},{"$f":"$G237*INDEX('Unit of measures'!$A$7:$R$24,MATCH(I$4,'Unit of measures'!$A$7:$A$24,0),MATCH($F237,'Unit of measures'!$A$7:$R$7,0))","v":{"$error":"#N/A"}},{"$f":"$G237*INDEX('Unit of measures'!$A$7:$R$24,MATCH(J$4,'Unit of measures'!$A$7:$A$24,0),MATCH($F237,'Unit of measures'!$A$7:$R$7,0))","v":{"$error":"#N/A"}},{"$f":"$G237*INDEX('Unit of measures'!$A$7:$R$24,MATCH(K$4,'Unit of measures'!$A$7:$A$24,0),MATCH($F237,'Unit of measures'!$A$7:$R$7,0))","v":{"$error":"#N/A"}},{"$f":"$G237*INDEX('Unit of measures'!$A$7:$R$24,MATCH(L$4,'Unit of measures'!$A$7:$A$24,0),MATCH($F237,'Unit of measures'!$A$7:$R$7,0))","v":{"$error":"#N/A"}},{"$f":"$G237*INDEX('Unit of measures'!$A$7:$R$24,MATCH(M$4,'Unit of measures'!$A$7:$A$24,0),MATCH($F237,'Unit of measures'!$A$7:$R$7,0))","v":{"$error":"#N/A"}},{"$f":"$G237*INDEX('Unit of measures'!$A$7:$R$24,MATCH(N$4,'Unit of measures'!$A$7:$A$24,0),MATCH($F237,'Unit of measures'!$A$7:$R$7,0))","v":{"$error":"#N/A"}},{"$f":"$G237*INDEX('Unit of measures'!$A$7:$R$24,MATCH(O$4,'Unit of measures'!$A$7:$A$24,0),MATCH($F237,'Unit of measures'!$A$7:$R$7,0))","v":{"$error":"#N/A"}},{"$f":"$G237*INDEX('Unit of measures'!$A$7:$R$24,MATCH(P$4,'Unit of measures'!$A$7:$A$24,0),MATCH($F237,'Unit of measures'!$A$7:$R$7,0))","v":{"$error":"#N/A"}},null,null,{"$f":"$R237*INDEX('Unit of measures'!$A$7:$R$24,MATCH(S$4,'Unit of measures'!$A$7:$A$24,0),MATCH($Q237,'Unit of measures'!$A$7:$R$7,0))","v":{"$error":"#N/A"}},{"$f":"$R237*INDEX('Unit of measures'!$A$7:$R$24,MATCH(T$4,'Unit of measures'!$A$7:$A$24,0),MATCH($Q237,'Unit of measures'!$A$7:$R$7,0))","v":{"$error":"#N/A"}},{"$f":"$R237*INDEX('Unit of measures'!$A$7:$R$24,MATCH(U$4,'Unit of measures'!$A$7:$A$24,0),MATCH($Q237,'Unit of measures'!$A$7:$R$7,0))","v":{"$error":"#N/A"}},{"$f":"$R237*INDEX('Unit of measures'!$A$7:$R$24,MATCH(V$4,'Unit of measures'!$A$7:$A$24,0),MATCH($Q237,'Unit of measures'!$A$7:$R$7,0))","v":{"$error":"#N/A"}},{"$f":"$R237*INDEX('Unit of measures'!$A$7:$R$24,MATCH(W$4,'Unit of measures'!$A$7:$A$24,0),MATCH($Q237,'Unit of measures'!$A$7:$R$7,0))","v":{"$error":"#N/A"}},"Each"]
[null,null,null,null,"",null,null,{"$f":"$G238*INDEX('Unit of measures'!$A$7:$R$24,MATCH(H$4,'Unit of measures'!$A$7:$A$24,0),MATCH($F238,'Unit of measures'!$A$7:$R$7,0))","v":{"$error":"#N/A"}},{"$f":"$G238*INDEX('Unit of measures'!$A$7:$R$24,MATCH(I$4,'Unit of measures'!$A$7:$A$24,0),MATCH($F238,'Unit of measures'!$A$7:$R$7,0))","v":{"$error":"#N/A"}},{"$f":"$G238*INDEX('Unit of measures'!$A$7:$R$24,MATCH(J$4,'Unit of measures'!$A$7:$A$24,0),MATCH($F238,'Unit of measures'!$A$7:$R$7,0))","v":{"$error":"#N/A"}},{"$f":"$G238*INDEX('Unit of measures'!$A$7:$R$24,MATCH(K$4,'Unit of measures'!$A$7:$A$24,0),MATCH($F238,'Unit of measures'!$A$7:$R$7,0))","v":{"$error":"#N/A"}},{"$f":"$G238*INDEX('Unit of measures'!$A$7:$R$24,MATCH(L$4,'Unit of measures'!$A$7:$A$24,0),MATCH($F238,'Unit of measures'!$A$7:$R$7,0))","v":{"$error":"#N/A"}},{"$f":"$G238*INDEX('Unit of measures'!$A$7:$R$24,MATCH(M$4,'Unit of measures'!$A$7:$A$24,0),MATCH($F238,'Unit of measures'!$A$7:$R$7,0))","v":{"$error":"#N/A"}},{"$f":"$G238*INDEX('Unit of measures'!$A$7:$R$24,MATCH(N$4,'Unit of measures'!$A$7:$A$24,0),MATCH($F238,'Unit of measures'!$A$7:$R$7,0))","v":{"$error":"#N/A"}},{"$f":"$G238*INDEX('Unit of measures'!$A$7:$R$24,MATCH(O$4,'Unit of measures'!$A$7:$A$24,0),MATCH($F238,'Unit of measures'!$A$7:$R$7,0))","v":{"$error":"#N/A"}},{"$f":"$G238*INDEX('Unit of measures'!$A$7:$R$24,MATCH(P$4,'Unit of measures'!$A$7:$A$24,0),MATCH($F238,'Unit of measures'!$A$7:$R$7,0))","v":{"$error":"#N/A"}},null,null,{"$f":"$R238*INDEX('Unit of measures'!$A$7:$R$24,MATCH(S$4,'Unit of measures'!$A$7:$A$24,0),MATCH($Q238,'Unit of measures'!$A$7:$R$7,0))","v":{"$error":"#N/A"}},{"$f":"$R238*INDEX('Unit of measures'!$A$7:$R$24,MATCH(T$4,'Unit of measures'!$A$7:$A$24,0),MATCH($Q238,'Unit of measures'!$A$7:$R$7,0))","v":{"$error":"#N/A"}},{"$f":"$R238*INDEX('Unit of measures'!$A$7:$R$24,MATCH(U$4,'Unit of measures'!$A$7:$A$24,0),MATCH($Q238,'Unit of measures'!$A$7:$R$7,0))","v":{"$error":"#N/A"}},{"$f":"$R238*INDEX('Unit of measures'!$A$7:$R$24,MATCH(V$4,'Unit of measures'!$A$7:$A$24,0),MATCH($Q238,'Unit of measures'!$A$7:$R$7,0))","v":{"$error":"#N/A"}},{"$f":"$R238*INDEX('Unit of measures'!$A$7:$R$24,MATCH(W$4,'Unit of measures'!$A$7:$A$24,0),MATCH($Q238,'Unit of measures'!$A$7:$R$7,0))","v":{"$error":"#N/A"}},"Each"]
[null,null,null,null,"",null,null,{"$f":"$G239*INDEX('Unit of measures'!$A$7:$R$24,MATCH(H$4,'Unit of measures'!$A$7:$A$24,0),MATCH($F239,'Unit of measures'!$A$7:$R$7,0))","v":{"$error":"#N/A"}},{"$f":"$G239*INDEX('Unit of measures'!$A$7:$R$24,MATCH(I$4,'Unit of measures'!$A$7:$A$24,0),MATCH($F239,'Unit of measures'!$A$7:$R$7,0))","v":{"$error":"#N/A"}},{"$f":"$G239*INDEX('Unit of measures'!$A$7:$R$24,MATCH(J$4,'Unit of measures'!$A$7:$A$24,0),MATCH($F239,'Unit of measures'!$A$7:$R$7,0))","v":{"$error":"#N/A"}},{"$f":"$G239*INDEX('Unit of measures'!$A$7:$R$24,MATCH(K$4,'Unit of measures'!$A$7:$A$24,0),MATCH($F239,'Unit of measures'!$A$7:$R$7,0))","v":{"$error":"#N/A"}},{"$f":"$G239*INDEX('Unit of measures'!$A$7:$R$24,MATCH(L$4,'Unit of measures'!$A$7:$A$24,0),MATCH($F239,'Unit of measures'!$A$7:$R$7,0))","v":{"$error":"#N/A"}},{"$f":"$G239*INDEX('Unit of measures'!$A$7:$R$24,MATCH(M$4,'Unit of measures'!$A$7:$A$24,0),MATCH($F239,'Unit of measures'!$A$7:$R$7,0))","v":{"$error":"#N/A"}},{"$f":"$G239*INDEX('Unit of measures'!$A$7:$R$24,MATCH(N$4,'Unit of measures'!$A$7:$A$24,0),MATCH($F239,'Unit of measures'!$A$7:$R$7,0))","v":{"$error":"#N/A"}},{"$f":"$G239*INDEX('Unit of measures'!$A$7:$R$24,MATCH(O$4,'Unit of measures'!$A$7:$A$24,0),MATCH($F239,'Unit of measures'!$A$7:$R$7,0))","v":{"$error":"#N/A"}},{"$f":"$G239*INDEX('Unit of measures'!$A$7:$R$24,MATCH(P$4,'Unit of measures'!$A$7:$A$24,0),MATCH($F239,'Unit of measures'!$A$7:$R$7,0))","v":{"$error":"#N/A"}},null,null,{"$f":"$R239*INDEX('Unit of measures'!$A$7:$R$24,MATCH(S$4,'Unit of measures'!$A$7:$A$24,0),MATCH($Q239,'Unit of measures'!$A$7:$R$7,0))","v":{"$error":"#N/A"}},{"$f":"$R239*INDEX('Unit of measures'!$A$7:$R$24,MATCH(T$4,'Unit of measures'!$A$7:$A$24,0),MATCH($Q239,'Unit of measures'!$A$7:$R$7,0))","v":{"$error":"#N/A"}},{"$f":"$R239*INDEX('Unit of measures'!$A$7:$R$24,MATCH(U$4,'Unit of measures'!$A$7:$A$24,0),MATCH($Q239,'Unit of measures'!$A$7:$R$7,0))","v":{"$error":"#N/A"}},{"$f":"$R239*INDEX('Unit of measures'!$A$7:$R$24,MATCH(V$4,'Unit of measures'!$A$7:$A$24,0),MATCH($Q239,'Unit of measures'!$A$7:$R$7,0))","v":{"$error":"#N/A"}},{"$f":"$R239*INDEX('Unit of measures'!$A$7:$R$24,MATCH(W$4,'Unit of measures'!$A$7:$A$24,0),MATCH($Q239,'Unit of measures'!$A$7:$R$7,0))","v":{"$error":"#N/A"}},"Each"]
[null,null,null,null,"",null,null,{"$f":"$G240*INDEX('Unit of measures'!$A$7:$R$24,MATCH(H$4,'Unit of measures'!$A$7:$A$24,0),MATCH($F240,'Unit of measures'!$A$7:$R$7,0))","v":{"$error":"#N/A"}},{"$f":"$G240*INDEX('Unit of measures'!$A$7:$R$24,MATCH(I$4,'Unit of measures'!$A$7:$A$24,0),MATCH($F240,'Unit of measures'!$A$7:$R$7,0))","v":{"$error":"#N/A"}},{"$f":"$G240*INDEX('Unit of measures'!$A$7:$R$24,MATCH(J$4,'Unit of measures'!$A$7:$A$24,0),MATCH($F240,'Unit of measures'!$A$7:$R$7,0))","v":{"$error":"#N/A"}},{"$f":"$G240*INDEX('Unit of measures'!$A$7:$R$24,MATCH(K$4,'Unit of measures'!$A$7:$A$24,0),MATCH($F240,'Unit of measures'!$A$7:$R$7,0))","v":{"$error":"#N/A"}},{"$f":"$G240*INDEX('Unit of measures'!$A$7:$R$24,MATCH(L$4,'Unit of measures'!$A$7:$A$24,0),MATCH($F240,'Unit of measures'!$A$7:$R$7,0))","v":{"$error":"#N/A"}},{"$f":"$G240*INDEX('Unit of measures'!$A$7:$R$24,MATCH(M$4,'Unit of measures'!$A$7:$A$24,0),MATCH($F240,'Unit of measures'!$A$7:$R$7,0))","v":{"$error":"#N/A"}},{"$f":"$G240*INDEX('Unit of measures'!$A$7:$R$24,MATCH(N$4,'Unit of measures'!$A$7:$A$24,0),MATCH($F240,'Unit of measures'!$A$7:$R$7,0))","v":{"$error":"#N/A"}},{"$f":"$G240*INDEX('Unit of measures'!$A$7:$R$24,MATCH(O$4,'Unit of measures'!$A$7:$A$24,0),MATCH($F240,'Unit of measures'!$A$7:$R$7,0))","v":{"$error":"#N/A"}},{"$f":"$G240*INDEX('Unit of measures'!$A$7:$R$24,MATCH(P$4,'Unit of measures'!$A$7:$A$24,0),MATCH($F240,'Unit of measures'!$A$7:$R$7,0))","v":{"$error":"#N/A"}},null,null,{"$f":"$R240*INDEX('Unit of measures'!$A$7:$R$24,MATCH(S$4,'Unit of measures'!$A$7:$A$24,0),MATCH($Q240,'Unit of measures'!$A$7:$R$7,0))","v":{"$error":"#N/A"}},{"$f":"$R240*INDEX('Unit of measures'!$A$7:$R$24,MATCH(T$4,'Unit of measures'!$A$7:$A$24,0),MATCH($Q240,'Unit of measures'!$A$7:$R$7,0))","v":{"$error":"#N/A"}},{"$f":"$R240*INDEX('Unit of measures'!$A$7:$R$24,MATCH(U$4,'Unit of measures'!$A$7:$A$24,0),MATCH($Q240,'Unit of measures'!$A$7:$R$7,0))","v":{"$error":"#N/A"}},{"$f":"$R240*INDEX('Unit of measures'!$A$7:$R$24,MATCH(V$4,'Unit of measures'!$A$7:$A$24,0),MATCH($Q240,'Unit of measures'!$A$7:$R$7,0))","v":{"$error":"#N/A"}},{"$f":"$R240*INDEX('Unit of measures'!$A$7:$R$24,MATCH(W$4,'Unit of measures'!$A$7:$A$24,0),MATCH($Q240,'Unit of measures'!$A$7:$R$7,0))","v":{"$error":"#N/A"}},"Each"]
[null,null,null,null,"",null,null,{"$f":"$G241*INDEX('Unit of measures'!$A$7:$R$24,MATCH(H$4,'Unit of measures'!$A$7:$A$24,0),MATCH($F241,'Unit of measures'!$A$7:$R$7,0))","v":{"$error":"#N/A"}},{"$f":"$G241*INDEX('Unit of measures'!$A$7:$R$24,MATCH(I$4,'Unit of measures'!$A$7:$A$24,0),MATCH($F241,'Unit of measures'!$A$7:$R$7,0))","v":{"$error":"#N/A"}},{"$f":"$G241*INDEX('Unit of measures'!$A$7:$R$24,MATCH(J$4,'Unit of measures'!$A$7:$A$24,0),MATCH($F241,'Unit of measures'!$A$7:$R$7,0))","v":{"$error":"#N/A"}},{"$f":"$G241*INDEX('Unit of measures'!$A$7:$R$24,MATCH(K$4,'Unit of measures'!$A$7:$A$24,0),MATCH($F241,'Unit of measures'!$A$7:$R$7,0))","v":{"$error":"#N/A"}},{"$f":"$G241*INDEX('Unit of measures'!$A$7:$R$24,MATCH(L$4,'Unit of measures'!$A$7:$A$24,0),MATCH($F241,'Unit of measures'!$A$7:$R$7,0))","v":{"$error":"#N/A"}},{"$f":"$G241*INDEX('Unit of measures'!$A$7:$R$24,MATCH(M$4,'Unit of measures'!$A$7:$A$24,0),MATCH($F241,'Unit of measures'!$A$7:$R$7,0))","v":{"$error":"#N/A"}},{"$f":"$G241*INDEX('Unit of measures'!$A$7:$R$24,MATCH(N$4,'Unit of measures'!$A$7:$A$24,0),MATCH($F241,'Unit of measures'!$A$7:$R$7,0))","v":{"$error":"#N/A"}},{"$f":"$G241*INDEX('Unit of measures'!$A$7:$R$24,MATCH(O$4,'Unit of measures'!$A$7:$A$24,0),MATCH($F241,'Unit of measures'!$A$7:$R$7,0))","v":{"$error":"#N/A"}},{"$f":"$G241*INDEX('Unit of measures'!$A$7:$R$24,MATCH(P$4,'Unit of measures'!$A$7:$A$24,0),MATCH($F241,'Unit of measures'!$A$7:$R$7,0))","v":{"$error":"#N/A"}},null,null,{"$f":"$R241*INDEX('Unit of measures'!$A$7:$R$24,MATCH(S$4,'Unit of measures'!$A$7:$A$24,0),MATCH($Q241,'Unit of measures'!$A$7:$R$7,0))","v":{"$error":"#N/A"}},{"$f":"$R241*INDEX('Unit of measures'!$A$7:$R$24,MATCH(T$4,'Unit of measures'!$A$7:$A$24,0),MATCH($Q241,'Unit of measures'!$A$7:$R$7,0))","v":{"$error":"#N/A"}},{"$f":"$R241*INDEX('Unit of measures'!$A$7:$R$24,MATCH(U$4,'Unit of measures'!$A$7:$A$24,0),MATCH($Q241,'Unit of measures'!$A$7:$R$7,0))","v":{"$error":"#N/A"}},{"$f":"$R241*INDEX('Unit of measures'!$A$7:$R$24,MATCH(V$4,'Unit of measures'!$A$7:$A$24,0),MATCH($Q241,'Unit of measures'!$A$7:$R$7,0))","v":{"$error":"#N/A"}},{"$f":"$R241*INDEX('Unit of measures'!$A$7:$R$24,MATCH(W$4,'Unit of measures'!$A$7:$A$24,0),MATCH($Q241,'Unit of measures'!$A$7:$R$7,0))","v":{"$error":"#N/A"}},"Each"]
[null,null,null,null,"",null,null,{"$f":"$G242*INDEX('Unit of measures'!$A$7:$R$24,MATCH(H$4,'Unit of measures'!$A$7:$A$24,0),MATCH($F242,'Unit of measures'!$A$7:$R$7,0))","v":{"$error":"#N/A"}},{"$f":"$G242*INDEX('Unit of measures'!$A$7:$R$24,MATCH(I$4,'Unit of measures'!$A$7:$A$24,0),MATCH($F242,'Unit of measures'!$A$7:$R$7,0))","v":{"$error":"#N/A"}},{"$f":"$G242*INDEX('Unit of measures'!$A$7:$R$24,MATCH(J$4,'Unit of measures'!$A$7:$A$24,0),MATCH($F242,'Unit of measures'!$A$7:$R$7,0))","v":{"$error":"#N/A"}},{"$f":"$G242*INDEX('Unit of measures'!$A$7:$R$24,MATCH(K$4,'Unit of measures'!$A$7:$A$24,0),MATCH($F242,'Unit of measures'!$A$7:$R$7,0))","v":{"$error":"#N/A"}},{"$f":"$G242*INDEX('Unit of measures'!$A$7:$R$24,MATCH(L$4,'Unit of measures'!$A$7:$A$24,0),MATCH($F242,'Unit of measures'!$A$7:$R$7,0))","v":{"$error":"#N/A"}},{"$f":"$G242*INDEX('Unit of measures'!$A$7:$R$24,MATCH(M$4,'Unit of measures'!$A$7:$A$24,0),MATCH($F242,'Unit of measures'!$A$7:$R$7,0))","v":{"$error":"#N/A"}},{"$f":"$G242*INDEX('Unit of measures'!$A$7:$R$24,MATCH(N$4,'Unit of measures'!$A$7:$A$24,0),MATCH($F242,'Unit of measures'!$A$7:$R$7,0))","v":{"$error":"#N/A"}},{"$f":"$G242*INDEX('Unit of measures'!$A$7:$R$24,MATCH(O$4,'Unit of measures'!$A$7:$A$24,0),MATCH($F242,'Unit of measures'!$A$7:$R$7,0))","v":{"$error":"#N/A"}},{"$f":"$G242*INDEX('Unit of measures'!$A$7:$R$24,MATCH(P$4,'Unit of measures'!$A$7:$A$24,0),MATCH($F242,'Unit of measures'!$A$7:$R$7,0))","v":{"$error":"#N/A"}},null,null,{"$f":"$R242*INDEX('Unit of measures'!$A$7:$R$24,MATCH(S$4,'Unit of measures'!$A$7:$A$24,0),MATCH($Q242,'Unit of measures'!$A$7:$R$7,0))","v":{"$error":"#N/A"}},{"$f":"$R242*INDEX('Unit of measures'!$A$7:$R$24,MATCH(T$4,'Unit of measures'!$A$7:$A$24,0),MATCH($Q242,'Unit of measures'!$A$7:$R$7,0))","v":{"$error":"#N/A"}},{"$f":"$R242*INDEX('Unit of measures'!$A$7:$R$24,MATCH(U$4,'Unit of measures'!$A$7:$A$24,0),MATCH($Q242,'Unit of measures'!$A$7:$R$7,0))","v":{"$error":"#N/A"}},{"$f":"$R242*INDEX('Unit of measures'!$A$7:$R$24,MATCH(V$4,'Unit of measures'!$A$7:$A$24,0),MATCH($Q242,'Unit of measures'!$A$7:$R$7,0))","v":{"$error":"#N/A"}},{"$f":"$R242*INDEX('Unit of measures'!$A$7:$R$24,MATCH(W$4,'Unit of measures'!$A$7:$A$24,0),MATCH($Q242,'Unit of measures'!$A$7:$R$7,0))","v":{"$error":"#N/A"}},"Each"]
[null,null,null,null,"",null,null,{"$f":"$G243*INDEX('Unit of measures'!$A$7:$R$24,MATCH(H$4,'Unit of measures'!$A$7:$A$24,0),MATCH($F243,'Unit of measures'!$A$7:$R$7,0))","v":{"$error":"#N/A"}},{"$f":"$G243*INDEX('Unit of measures'!$A$7:$R$24,MATCH(I$4,'Unit of measures'!$A$7:$A$24,0),MATCH($F243,'Unit of measures'!$A$7:$R$7,0))","v":{"$error":"#N/A"}},{"$f":"$G243*INDEX('Unit of measures'!$A$7:$R$24,MATCH(J$4,'Unit of measures'!$A$7:$A$24,0),MATCH($F243,'Unit of measures'!$A$7:$R$7,0))","v":{"$error":"#N/A"}},{"$f":"$G243*INDEX('Unit of measures'!$A$7:$R$24,MATCH(K$4,'Unit of measures'!$A$7:$A$24,0),MATCH($F243,'Unit of measures'!$A$7:$R$7,0))","v":{"$error":"#N/A"}},{"$f":"$G243*INDEX('Unit of measures'!$A$7:$R$24,MATCH(L$4,'Unit of measures'!$A$7:$A$24,0),MATCH($F243,'Unit of measures'!$A$7:$R$7,0))","v":{"$error":"#N/A"}},{"$f":"$G243*INDEX('Unit of measures'!$A$7:$R$24,MATCH(M$4,'Unit of measures'!$A$7:$A$24,0),MATCH($F243,'Unit of measures'!$A$7:$R$7,0))","v":{"$error":"#N/A"}},{"$f":"$G243*INDEX('Unit of measures'!$A$7:$R$24,MATCH(N$4,'Unit of measures'!$A$7:$A$24,0),MATCH($F243,'Unit of measures'!$A$7:$R$7,0))","v":{"$error":"#N/A"}},{"$f":"$G243*INDEX('Unit of measures'!$A$7:$R$24,MATCH(O$4,'Unit of measures'!$A$7:$A$24,0),MATCH($F243,'Unit of measures'!$A$7:$R$7,0))","v":{"$error":"#N/A"}},{"$f":"$G243*INDEX('Unit of measures'!$A$7:$R$24,MATCH(P$4,'Unit of measures'!$A$7:$A$24,0),MATCH($F243,'Unit of measures'!$A$7:$R$7,0))","v":{"$error":"#N/A"}},null,null,{"$f":"$R243*INDEX('Unit of measures'!$A$7:$R$24,MATCH(S$4,'Unit of measures'!$A$7:$A$24,0),MATCH($Q243,'Unit of measures'!$A$7:$R$7,0))","v":{"$error":"#N/A"}},{"$f":"$R243*INDEX('Unit of measures'!$A$7:$R$24,MATCH(T$4,'Unit of measures'!$A$7:$A$24,0),MATCH($Q243,'Unit of measures'!$A$7:$R$7,0))","v":{"$error":"#N/A"}},{"$f":"$R243*INDEX('Unit of measures'!$A$7:$R$24,MATCH(U$4,'Unit of measures'!$A$7:$A$24,0),MATCH($Q243,'Unit of measures'!$A$7:$R$7,0))","v":{"$error":"#N/A"}},{"$f":"$R243*INDEX('Unit of measures'!$A$7:$R$24,MATCH(V$4,'Unit of measures'!$A$7:$A$24,0),MATCH($Q243,'Unit of measures'!$A$7:$R$7,0))","v":{"$error":"#N/A"}},{"$f":"$R243*INDEX('Unit of measures'!$A$7:$R$24,MATCH(W$4,'Unit of measures'!$A$7:$A$24,0),MATCH($Q243,'Unit of measures'!$A$7:$R$7,0))","v":{"$error":"#N/A"}},"Each"]
[null,null,null,null,"",null,null,{"$f":"$G244*INDEX('Unit of measures'!$A$7:$R$24,MATCH(H$4,'Unit of measures'!$A$7:$A$24,0),MATCH($F244,'Unit of measures'!$A$7:$R$7,0))","v":{"$error":"#N/A"}},{"$f":"$G244*INDEX('Unit of measures'!$A$7:$R$24,MATCH(I$4,'Unit of measures'!$A$7:$A$24,0),MATCH($F244,'Unit of measures'!$A$7:$R$7,0))","v":{"$error":"#N/A"}},{"$f":"$G244*INDEX('Unit of measures'!$A$7:$R$24,MATCH(J$4,'Unit of measures'!$A$7:$A$24,0),MATCH($F244,'Unit of measures'!$A$7:$R$7,0))","v":{"$error":"#N/A"}},{"$f":"$G244*INDEX('Unit of measures'!$A$7:$R$24,MATCH(K$4,'Unit of measures'!$A$7:$A$24,0),MATCH($F244,'Unit of measures'!$A$7:$R$7,0))","v":{"$error":"#N/A"}},{"$f":"$G244*INDEX('Unit of measures'!$A$7:$R$24,MATCH(L$4,'Unit of measures'!$A$7:$A$24,0),MATCH($F244,'Unit of measures'!$A$7:$R$7,0))","v":{"$error":"#N/A"}},{"$f":"$G244*INDEX('Unit of measures'!$A$7:$R$24,MATCH(M$4,'Unit of measures'!$A$7:$A$24,0),MATCH($F244,'Unit of measures'!$A$7:$R$7,0))","v":{"$error":"#N/A"}},{"$f":"$G244*INDEX('Unit of measures'!$A$7:$R$24,MATCH(N$4,'Unit of measures'!$A$7:$A$24,0),MATCH($F244,'Unit of measures'!$A$7:$R$7,0))","v":{"$error":"#N/A"}},{"$f":"$G244*INDEX('Unit of measures'!$A$7:$R$24,MATCH(O$4,'Unit of measures'!$A$7:$A$24,0),MATCH($F244,'Unit of measures'!$A$7:$R$7,0))","v":{"$error":"#N/A"}},{"$f":"$G244*INDEX('Unit of measures'!$A$7:$R$24,MATCH(P$4,'Unit of measures'!$A$7:$A$24,0),MATCH($F244,'Unit of measures'!$A$7:$R$7,0))","v":{"$error":"#N/A"}},null,null,{"$f":"$R244*INDEX('Unit of measures'!$A$7:$R$24,MATCH(S$4,'Unit of measures'!$A$7:$A$24,0),MATCH($Q244,'Unit of measures'!$A$7:$R$7,0))","v":{"$error":"#N/A"}},{"$f":"$R244*INDEX('Unit of measures'!$A$7:$R$24,MATCH(T$4,'Unit of measures'!$A$7:$A$24,0),MATCH($Q244,'Unit of measures'!$A$7:$R$7,0))","v":{"$error":"#N/A"}},{"$f":"$R244*INDEX('Unit of measures'!$A$7:$R$24,MATCH(U$4,'Unit of measures'!$A$7:$A$24,0),MATCH($Q244,'Unit of measures'!$A$7:$R$7,0))","v":{"$error":"#N/A"}},{"$f":"$R244*INDEX('Unit of measures'!$A$7:$R$24,MATCH(V$4,'Unit of measures'!$A$7:$A$24,0),MATCH($Q244,'Unit of measures'!$A$7:$R$7,0))","v":{"$error":"#N/A"}},{"$f":"$R244*INDEX('Unit of measures'!$A$7:$R$24,MATCH(W$4,'Unit of measures'!$A$7:$A$24,0),MATCH($Q244,'Unit of measures'!$A$7:$R$7,0))","v":{"$error":"#N/A"}},"Each"]
[null,null,null,null,"",null,null,{"$f":"$G245*INDEX('Unit of measures'!$A$7:$R$24,MATCH(H$4,'Unit of measures'!$A$7:$A$24,0),MATCH($F245,'Unit of measures'!$A$7:$R$7,0))","v":{"$error":"#N/A"}},{"$f":"$G245*INDEX('Unit of measures'!$A$7:$R$24,MATCH(I$4,'Unit of measures'!$A$7:$A$24,0),MATCH($F245,'Unit of measures'!$A$7:$R$7,0))","v":{"$error":"#N/A"}},{"$f":"$G245*INDEX('Unit of measures'!$A$7:$R$24,MATCH(J$4,'Unit of measures'!$A$7:$A$24,0),MATCH($F245,'Unit of measures'!$A$7:$R$7,0))","v":{"$error":"#N/A"}},{"$f":"$G245*INDEX('Unit of measures'!$A$7:$R$24,MATCH(K$4,'Unit of measures'!$A$7:$A$24,0),MATCH($F245,'Unit of measures'!$A$7:$R$7,0))","v":{"$error":"#N/A"}},{"$f":"$G245*INDEX('Unit of measures'!$A$7:$R$24,MATCH(L$4,'Unit of measures'!$A$7:$A$24,0),MATCH($F245,'Unit of measures'!$A$7:$R$7,0))","v":{"$error":"#N/A"}},{"$f":"$G245*INDEX('Unit of measures'!$A$7:$R$24,MATCH(M$4,'Unit of measures'!$A$7:$A$24,0),MATCH($F245,'Unit of measures'!$A$7:$R$7,0))","v":{"$error":"#N/A"}},{"$f":"$G245*INDEX('Unit of measures'!$A$7:$R$24,MATCH(N$4,'Unit of measures'!$A$7:$A$24,0),MATCH($F245,'Unit of measures'!$A$7:$R$7,0))","v":{"$error":"#N/A"}},{"$f":"$G245*INDEX('Unit of measures'!$A$7:$R$24,MATCH(O$4,'Unit of measures'!$A$7:$A$24,0),MATCH($F245,'Unit of measures'!$A$7:$R$7,0))","v":{"$error":"#N/A"}},{"$f":"$G245*INDEX('Unit of measures'!$A$7:$R$24,MATCH(P$4,'Unit of measures'!$A$7:$A$24,0),MATCH($F245,'Unit of measures'!$A$7:$R$7,0))","v":{"$error":"#N/A"}},null,null,{"$f":"$R245*INDEX('Unit of measures'!$A$7:$R$24,MATCH(S$4,'Unit of measures'!$A$7:$A$24,0),MATCH($Q245,'Unit of measures'!$A$7:$R$7,0))","v":{"$error":"#N/A"}},{"$f":"$R245*INDEX('Unit of measures'!$A$7:$R$24,MATCH(T$4,'Unit of measures'!$A$7:$A$24,0),MATCH($Q245,'Unit of measures'!$A$7:$R$7,0))","v":{"$error":"#N/A"}},{"$f":"$R245*INDEX('Unit of measures'!$A$7:$R$24,MATCH(U$4,'Unit of measures'!$A$7:$A$24,0),MATCH($Q245,'Unit of measures'!$A$7:$R$7,0))","v":{"$error":"#N/A"}},{"$f":"$R245*INDEX('Unit of measures'!$A$7:$R$24,MATCH(V$4,'Unit of measures'!$A$7:$A$24,0),MATCH($Q245,'Unit of measures'!$A$7:$R$7,0))","v":{"$error":"#N/A"}},{"$f":"$R245*INDEX('Unit of measures'!$A$7:$R$24,MATCH(W$4,'Unit of measures'!$A$7:$A$24,0),MATCH($Q245,'Unit of measures'!$A$7:$R$7,0))","v":{"$error":"#N/A"}},"Each"]
[null,null,null,null,"",null,null,{"$f":"$G246*INDEX('Unit of measures'!$A$7:$R$24,MATCH(H$4,'Unit of measures'!$A$7:$A$24,0),MATCH($F246,'Unit of measures'!$A$7:$R$7,0))","v":{"$error":"#N/A"}},{"$f":"$G246*INDEX('Unit of measures'!$A$7:$R$24,MATCH(I$4,'Unit of measures'!$A$7:$A$24,0),MATCH($F246,'Unit of measures'!$A$7:$R$7,0))","v":{"$error":"#N/A"}},{"$f":"$G246*INDEX('Unit of measures'!$A$7:$R$24,MATCH(J$4,'Unit of measures'!$A$7:$A$24,0),MATCH($F246,'Unit of measures'!$A$7:$R$7,0))","v":{"$error":"#N/A"}},{"$f":"$G246*INDEX('Unit of measures'!$A$7:$R$24,MATCH(K$4,'Unit of measures'!$A$7:$A$24,0),MATCH($F246,'Unit of measures'!$A$7:$R$7,0))","v":{"$error":"#N/A"}},{"$f":"$G246*INDEX('Unit of measures'!$A$7:$R$24,MATCH(L$4,'Unit of measures'!$A$7:$A$24,0),MATCH($F246,'Unit of measures'!$A$7:$R$7,0))","v":{"$error":"#N/A"}},{"$f":"$G246*INDEX('Unit of measures'!$A$7:$R$24,MATCH(M$4,'Unit of measures'!$A$7:$A$24,0),MATCH($F246,'Unit of measures'!$A$7:$R$7,0))","v":{"$error":"#N/A"}},{"$f":"$G246*INDEX('Unit of measures'!$A$7:$R$24,MATCH(N$4,'Unit of measures'!$A$7:$A$24,0),MATCH($F246,'Unit of measures'!$A$7:$R$7,0))","v":{"$error":"#N/A"}},{"$f":"$G246*INDEX('Unit of measures'!$A$7:$R$24,MATCH(O$4,'Unit of measures'!$A$7:$A$24,0),MATCH($F246,'Unit of measures'!$A$7:$R$7,0))","v":{"$error":"#N/A"}},{"$f":"$G246*INDEX('Unit of measures'!$A$7:$R$24,MATCH(P$4,'Unit of measures'!$A$7:$A$24,0),MATCH($F246,'Unit of measures'!$A$7:$R$7,0))","v":{"$error":"#N/A"}},null,null,{"$f":"$R246*INDEX('Unit of measures'!$A$7:$R$24,MATCH(S$4,'Unit of measures'!$A$7:$A$24,0),MATCH($Q246,'Unit of measures'!$A$7:$R$7,0))","v":{"$error":"#N/A"}},{"$f":"$R246*INDEX('Unit of measures'!$A$7:$R$24,MATCH(T$4,'Unit of measures'!$A$7:$A$24,0),MATCH($Q246,'Unit of measures'!$A$7:$R$7,0))","v":{"$error":"#N/A"}},{"$f":"$R246*INDEX('Unit of measures'!$A$7:$R$24,MATCH(U$4,'Unit of measures'!$A$7:$A$24,0),MATCH($Q246,'Unit of measures'!$A$7:$R$7,0))","v":{"$error":"#N/A"}},{"$f":"$R246*INDEX('Unit of measures'!$A$7:$R$24,MATCH(V$4,'Unit of measures'!$A$7:$A$24,0),MATCH($Q246,'Unit of measures'!$A$7:$R$7,0))","v":{"$error":"#N/A"}},{"$f":"$R246*INDEX('Unit of measures'!$A$7:$R$24,MATCH(W$4,'Unit of measures'!$A$7:$A$24,0),MATCH($Q246,'Unit of measures'!$A$7:$R$7,0))","v":{"$error":"#N/A"}},"Each"]
[null,null,null,null,"",null,null,{"$f":"$G247*INDEX('Unit of measures'!$A$7:$R$24,MATCH(H$4,'Unit of measures'!$A$7:$A$24,0),MATCH($F247,'Unit of measures'!$A$7:$R$7,0))","v":{"$error":"#N/A"}},{"$f":"$G247*INDEX('Unit of measures'!$A$7:$R$24,MATCH(I$4,'Unit of measures'!$A$7:$A$24,0),MATCH($F247,'Unit of measures'!$A$7:$R$7,0))","v":{"$error":"#N/A"}},{"$f":"$G247*INDEX('Unit of measures'!$A$7:$R$24,MATCH(J$4,'Unit of measures'!$A$7:$A$24,0),MATCH($F247,'Unit of measures'!$A$7:$R$7,0))","v":{"$error":"#N/A"}},{"$f":"$G247*INDEX('Unit of measures'!$A$7:$R$24,MATCH(K$4,'Unit of measures'!$A$7:$A$24,0),MATCH($F247,'Unit of measures'!$A$7:$R$7,0))","v":{"$error":"#N/A"}},{"$f":"$G247*INDEX('Unit of measures'!$A$7:$R$24,MATCH(L$4,'Unit of measures'!$A$7:$A$24,0),MATCH($F247,'Unit of measures'!$A$7:$R$7,0))","v":{"$error":"#N/A"}},{"$f":"$G247*INDEX('Unit of measures'!$A$7:$R$24,MATCH(M$4,'Unit of measures'!$A$7:$A$24,0),MATCH($F247,'Unit of measures'!$A$7:$R$7,0))","v":{"$error":"#N/A"}},{"$f":"$G247*INDEX('Unit of measures'!$A$7:$R$24,MATCH(N$4,'Unit of measures'!$A$7:$A$24,0),MATCH($F247,'Unit of measures'!$A$7:$R$7,0))","v":{"$error":"#N/A"}},{"$f":"$G247*INDEX('Unit of measures'!$A$7:$R$24,MATCH(O$4,'Unit of measures'!$A$7:$A$24,0),MATCH($F247,'Unit of measures'!$A$7:$R$7,0))","v":{"$error":"#N/A"}},{"$f":"$G247*INDEX('Unit of measures'!$A$7:$R$24,MATCH(P$4,'Unit of measures'!$A$7:$A$24,0),MATCH($F247,'Unit of measures'!$A$7:$R$7,0))","v":{"$error":"#N/A"}},null,null,{"$f":"$R247*INDEX('Unit of measures'!$A$7:$R$24,MATCH(S$4,'Unit of measures'!$A$7:$A$24,0),MATCH($Q247,'Unit of measures'!$A$7:$R$7,0))","v":{"$error":"#N/A"}},{"$f":"$R247*INDEX('Unit of measures'!$A$7:$R$24,MATCH(T$4,'Unit of measures'!$A$7:$A$24,0),MATCH($Q247,'Unit of measures'!$A$7:$R$7,0))","v":{"$error":"#N/A"}},{"$f":"$R247*INDEX('Unit of measures'!$A$7:$R$24,MATCH(U$4,'Unit of measures'!$A$7:$A$24,0),MATCH($Q247,'Unit of measures'!$A$7:$R$7,0))","v":{"$error":"#N/A"}},{"$f":"$R247*INDEX('Unit of measures'!$A$7:$R$24,MATCH(V$4,'Unit of measures'!$A$7:$A$24,0),MATCH($Q247,'Unit of measures'!$A$7:$R$7,0))","v":{"$error":"#N/A"}},{"$f":"$R247*INDEX('Unit of measures'!$A$7:$R$24,MATCH(W$4,'Unit of measures'!$A$7:$A$24,0),MATCH($Q247,'Unit of measures'!$A$7:$R$7,0))","v":{"$error":"#N/A"}},"Each"]
[null,null,null,null,"",null,null,{"$f":"$G248*INDEX('Unit of measures'!$A$7:$R$24,MATCH(H$4,'Unit of measures'!$A$7:$A$24,0),MATCH($F248,'Unit of measures'!$A$7:$R$7,0))","v":{"$error":"#N/A"}},{"$f":"$G248*INDEX('Unit of measures'!$A$7:$R$24,MATCH(I$4,'Unit of measures'!$A$7:$A$24,0),MATCH($F248,'Unit of measures'!$A$7:$R$7,0))","v":{"$error":"#N/A"}},{"$f":"$G248*INDEX('Unit of measures'!$A$7:$R$24,MATCH(J$4,'Unit of measures'!$A$7:$A$24,0),MATCH($F248,'Unit of measures'!$A$7:$R$7,0))","v":{"$error":"#N/A"}},{"$f":"$G248*INDEX('Unit of measures'!$A$7:$R$24,MATCH(K$4,'Unit of measures'!$A$7:$A$24,0),MATCH($F248,'Unit of measures'!$A$7:$R$7,0))","v":{"$error":"#N/A"}},{"$f":"$G248*INDEX('Unit of measures'!$A$7:$R$24,MATCH(L$4,'Unit of measures'!$A$7:$A$24,0),MATCH($F248,'Unit of measures'!$A$7:$R$7,0))","v":{"$error":"#N/A"}},{"$f":"$G248*INDEX('Unit of measures'!$A$7:$R$24,MATCH(M$4,'Unit of measures'!$A$7:$A$24,0),MATCH($F248,'Unit of measures'!$A$7:$R$7,0))","v":{"$error":"#N/A"}},{"$f":"$G248*INDEX('Unit of measures'!$A$7:$R$24,MATCH(N$4,'Unit of measures'!$A$7:$A$24,0),MATCH($F248,'Unit of measures'!$A$7:$R$7,0))","v":{"$error":"#N/A"}},{"$f":"$G248*INDEX('Unit of measures'!$A$7:$R$24,MATCH(O$4,'Unit of measures'!$A$7:$A$24,0),MATCH($F248,'Unit of measures'!$A$7:$R$7,0))","v":{"$error":"#N/A"}},{"$f":"$G248*INDEX('Unit of measures'!$A$7:$R$24,MATCH(P$4,'Unit of measures'!$A$7:$A$24,0),MATCH($F248,'Unit of measures'!$A$7:$R$7,0))","v":{"$error":"#N/A"}},null,null,{"$f":"$R248*INDEX('Unit of measures'!$A$7:$R$24,MATCH(S$4,'Unit of measures'!$A$7:$A$24,0),MATCH($Q248,'Unit of measures'!$A$7:$R$7,0))","v":{"$error":"#N/A"}},{"$f":"$R248*INDEX('Unit of measures'!$A$7:$R$24,MATCH(T$4,'Unit of measures'!$A$7:$A$24,0),MATCH($Q248,'Unit of measures'!$A$7:$R$7,0))","v":{"$error":"#N/A"}},{"$f":"$R248*INDEX('Unit of measures'!$A$7:$R$24,MATCH(U$4,'Unit of measures'!$A$7:$A$24,0),MATCH($Q248,'Unit of measures'!$A$7:$R$7,0))","v":{"$error":"#N/A"}},{"$f":"$R248*INDEX('Unit of measures'!$A$7:$R$24,MATCH(V$4,'Unit of measures'!$A$7:$A$24,0),MATCH($Q248,'Unit of measures'!$A$7:$R$7,0))","v":{"$error":"#N/A"}},{"$f":"$R248*INDEX('Unit of measures'!$A$7:$R$24,MATCH(W$4,'Unit of measures'!$A$7:$A$24,0),MATCH($Q248,'Unit of measures'!$A$7:$R$7,0))","v":{"$error":"#N/A"}},"Each"]
[null,null,null,null,"",null,null,{"$f":"$G249*INDEX('Unit of measures'!$A$7:$R$24,MATCH(H$4,'Unit of measures'!$A$7:$A$24,0),MATCH($F249,'Unit of measures'!$A$7:$R$7,0))","v":{"$error":"#N/A"}},{"$f":"$G249*INDEX('Unit of measures'!$A$7:$R$24,MATCH(I$4,'Unit of measures'!$A$7:$A$24,0),MATCH($F249,'Unit of measures'!$A$7:$R$7,0))","v":{"$error":"#N/A"}},{"$f":"$G249*INDEX('Unit of measures'!$A$7:$R$24,MATCH(J$4,'Unit of measures'!$A$7:$A$24,0),MATCH($F249,'Unit of measures'!$A$7:$R$7,0))","v":{"$error":"#N/A"}},{"$f":"$G249*INDEX('Unit of measures'!$A$7:$R$24,MATCH(K$4,'Unit of measures'!$A$7:$A$24,0),MATCH($F249,'Unit of measures'!$A$7:$R$7,0))","v":{"$error":"#N/A"}},{"$f":"$G249*INDEX('Unit of measures'!$A$7:$R$24,MATCH(L$4,'Unit of measures'!$A$7:$A$24,0),MATCH($F249,'Unit of measures'!$A$7:$R$7,0))","v":{"$error":"#N/A"}},{"$f":"$G249*INDEX('Unit of measures'!$A$7:$R$24,MATCH(M$4,'Unit of measures'!$A$7:$A$24,0),MATCH($F249,'Unit of measures'!$A$7:$R$7,0))","v":{"$error":"#N/A"}},{"$f":"$G249*INDEX('Unit of measures'!$A$7:$R$24,MATCH(N$4,'Unit of measures'!$A$7:$A$24,0),MATCH($F249,'Unit of measures'!$A$7:$R$7,0))","v":{"$error":"#N/A"}},{"$f":"$G249*INDEX('Unit of measures'!$A$7:$R$24,MATCH(O$4,'Unit of measures'!$A$7:$A$24,0),MATCH($F249,'Unit of measures'!$A$7:$R$7,0))","v":{"$error":"#N/A"}},{"$f":"$G249*INDEX('Unit of measures'!$A$7:$R$24,MATCH(P$4,'Unit of measures'!$A$7:$A$24,0),MATCH($F249,'Unit of measures'!$A$7:$R$7,0))","v":{"$error":"#N/A"}},null,null,{"$f":"$R249*INDEX('Unit of measures'!$A$7:$R$24,MATCH(S$4,'Unit of measures'!$A$7:$A$24,0),MATCH($Q249,'Unit of measures'!$A$7:$R$7,0))","v":{"$error":"#N/A"}},{"$f":"$R249*INDEX('Unit of measures'!$A$7:$R$24,MATCH(T$4,'Unit of measures'!$A$7:$A$24,0),MATCH($Q249,'Unit of measures'!$A$7:$R$7,0))","v":{"$error":"#N/A"}},{"$f":"$R249*INDEX('Unit of measures'!$A$7:$R$24,MATCH(U$4,'Unit of measures'!$A$7:$A$24,0),MATCH($Q249,'Unit of measures'!$A$7:$R$7,0))","v":{"$error":"#N/A"}},{"$f":"$R249*INDEX('Unit of measures'!$A$7:$R$24,MATCH(V$4,'Unit of measures'!$A$7:$A$24,0),MATCH($Q249,'Unit of measures'!$A$7:$R$7,0))","v":{"$error":"#N/A"}},{"$f":"$R249*INDEX('Unit of measures'!$A$7:$R$24,MATCH(W$4,'Unit of measures'!$A$7:$A$24,0),MATCH($Q249,'Unit of measures'!$A$7:$R$7,0))","v":{"$error":"#N/A"}},"Each"]
[null,null,null,null,"",null,null,{"$f":"$G250*INDEX('Unit of measures'!$A$7:$R$24,MATCH(H$4,'Unit of measures'!$A$7:$A$24,0),MATCH($F250,'Unit of measures'!$A$7:$R$7,0))","v":{"$error":"#N/A"}},{"$f":"$G250*INDEX('Unit of measures'!$A$7:$R$24,MATCH(I$4,'Unit of measures'!$A$7:$A$24,0),MATCH($F250,'Unit of measures'!$A$7:$R$7,0))","v":{"$error":"#N/A"}},{"$f":"$G250*INDEX('Unit of measures'!$A$7:$R$24,MATCH(J$4,'Unit of measures'!$A$7:$A$24,0),MATCH($F250,'Unit of measures'!$A$7:$R$7,0))","v":{"$error":"#N/A"}},{"$f":"$G250*INDEX('Unit of measures'!$A$7:$R$24,MATCH(K$4,'Unit of measures'!$A$7:$A$24,0),MATCH($F250,'Unit of measures'!$A$7:$R$7,0))","v":{"$error":"#N/A"}},{"$f":"$G250*INDEX('Unit of measures'!$A$7:$R$24,MATCH(L$4,'Unit of measures'!$A$7:$A$24,0),MATCH($F250,'Unit of measures'!$A$7:$R$7,0))","v":{"$error":"#N/A"}},{"$f":"$G250*INDEX('Unit of measures'!$A$7:$R$24,MATCH(M$4,'Unit of measures'!$A$7:$A$24,0),MATCH($F250,'Unit of measures'!$A$7:$R$7,0))","v":{"$error":"#N/A"}},{"$f":"$G250*INDEX('Unit of measures'!$A$7:$R$24,MATCH(N$4,'Unit of measures'!$A$7:$A$24,0),MATCH($F250,'Unit of measures'!$A$7:$R$7,0))","v":{"$error":"#N/A"}},{"$f":"$G250*INDEX('Unit of measures'!$A$7:$R$24,MATCH(O$4,'Unit of measures'!$A$7:$A$24,0),MATCH($F250,'Unit of measures'!$A$7:$R$7,0))","v":{"$error":"#N/A"}},{"$f":"$G250*INDEX('Unit of measures'!$A$7:$R$24,MATCH(P$4,'Unit of measures'!$A$7:$A$24,0),MATCH($F250,'Unit of measures'!$A$7:$R$7,0))","v":{"$error":"#N/A"}},null,null,{"$f":"$R250*INDEX('Unit of measures'!$A$7:$R$24,MATCH(S$4,'Unit of measures'!$A$7:$A$24,0),MATCH($Q250,'Unit of measures'!$A$7:$R$7,0))","v":{"$error":"#N/A"}},{"$f":"$R250*INDEX('Unit of measures'!$A$7:$R$24,MATCH(T$4,'Unit of measures'!$A$7:$A$24,0),MATCH($Q250,'Unit of measures'!$A$7:$R$7,0))","v":{"$error":"#N/A"}},{"$f":"$R250*INDEX('Unit of measures'!$A$7:$R$24,MATCH(U$4,'Unit of measures'!$A$7:$A$24,0),MATCH($Q250,'Unit of measures'!$A$7:$R$7,0))","v":{"$error":"#N/A"}},{"$f":"$R250*INDEX('Unit of measures'!$A$7:$R$24,MATCH(V$4,'Unit of measures'!$A$7:$A$24,0),MATCH($Q250,'Unit of measures'!$A$7:$R$7,0))","v":{"$error":"#N/A"}},{"$f":"$R250*INDEX('Unit of measures'!$A$7:$R$24,MATCH(W$4,'Unit of measures'!$A$7:$A$24,0),MATCH($Q250,'Unit of measures'!$A$7:$R$7,0))","v":{"$error":"#N/A"}},"Each"]
[null,null,null,null,"",null,null,{"$f":"$G251*INDEX('Unit of measures'!$A$7:$R$24,MATCH(H$4,'Unit of measures'!$A$7:$A$24,0),MATCH($F251,'Unit of measures'!$A$7:$R$7,0))","v":{"$error":"#N/A"}},{"$f":"$G251*INDEX('Unit of measures'!$A$7:$R$24,MATCH(I$4,'Unit of measures'!$A$7:$A$24,0),MATCH($F251,'Unit of measures'!$A$7:$R$7,0))","v":{"$error":"#N/A"}},{"$f":"$G251*INDEX('Unit of measures'!$A$7:$R$24,MATCH(J$4,'Unit of measures'!$A$7:$A$24,0),MATCH($F251,'Unit of measures'!$A$7:$R$7,0))","v":{"$error":"#N/A"}},{"$f":"$G251*INDEX('Unit of measures'!$A$7:$R$24,MATCH(K$4,'Unit of measures'!$A$7:$A$24,0),MATCH($F251,'Unit of measures'!$A$7:$R$7,0))","v":{"$error":"#N/A"}},{"$f":"$G251*INDEX('Unit of measures'!$A$7:$R$24,MATCH(L$4,'Unit of measures'!$A$7:$A$24,0),MATCH($F251,'Unit of measures'!$A$7:$R$7,0))","v":{"$error":"#N/A"}},{"$f":"$G251*INDEX('Unit of measures'!$A$7:$R$24,MATCH(M$4,'Unit of measures'!$A$7:$A$24,0),MATCH($F251,'Unit of measures'!$A$7:$R$7,0))","v":{"$error":"#N/A"}},{"$f":"$G251*INDEX('Unit of measures'!$A$7:$R$24,MATCH(N$4,'Unit of measures'!$A$7:$A$24,0),MATCH($F251,'Unit of measures'!$A$7:$R$7,0))","v":{"$error":"#N/A"}},{"$f":"$G251*INDEX('Unit of measures'!$A$7:$R$24,MATCH(O$4,'Unit of measures'!$A$7:$A$24,0),MATCH($F251,'Unit of measures'!$A$7:$R$7,0))","v":{"$error":"#N/A"}},{"$f":"$G251*INDEX('Unit of measures'!$A$7:$R$24,MATCH(P$4,'Unit of measures'!$A$7:$A$24,0),MATCH($F251,'Unit of measures'!$A$7:$R$7,0))","v":{"$error":"#N/A"}},null,null,{"$f":"$R251*INDEX('Unit of measures'!$A$7:$R$24,MATCH(S$4,'Unit of measures'!$A$7:$A$24,0),MATCH($Q251,'Unit of measures'!$A$7:$R$7,0))","v":{"$error":"#N/A"}},{"$f":"$R251*INDEX('Unit of measures'!$A$7:$R$24,MATCH(T$4,'Unit of measures'!$A$7:$A$24,0),MATCH($Q251,'Unit of measures'!$A$7:$R$7,0))","v":{"$error":"#N/A"}},{"$f":"$R251*INDEX('Unit of measures'!$A$7:$R$24,MATCH(U$4,'Unit of measures'!$A$7:$A$24,0),MATCH($Q251,'Unit of measures'!$A$7:$R$7,0))","v":{"$error":"#N/A"}},{"$f":"$R251*INDEX('Unit of measures'!$A$7:$R$24,MATCH(V$4,'Unit of measures'!$A$7:$A$24,0),MATCH($Q251,'Unit of measures'!$A$7:$R$7,0))","v":{"$error":"#N/A"}},{"$f":"$R251*INDEX('Unit of measures'!$A$7:$R$24,MATCH(W$4,'Unit of measures'!$A$7:$A$24,0),MATCH($Q251,'Unit of measures'!$A$7:$R$7,0))","v":{"$error":"#N/A"}},"Each"]
[null,null,null,null,"",null,null,{"$f":"$G252*INDEX('Unit of measures'!$A$7:$R$24,MATCH(H$4,'Unit of measures'!$A$7:$A$24,0),MATCH($F252,'Unit of measures'!$A$7:$R$7,0))","v":{"$error":"#N/A"}},{"$f":"$G252*INDEX('Unit of measures'!$A$7:$R$24,MATCH(I$4,'Unit of measures'!$A$7:$A$24,0),MATCH($F252,'Unit of measures'!$A$7:$R$7,0))","v":{"$error":"#N/A"}},{"$f":"$G252*INDEX('Unit of measures'!$A$7:$R$24,MATCH(J$4,'Unit of measures'!$A$7:$A$24,0),MATCH($F252,'Unit of measures'!$A$7:$R$7,0))","v":{"$error":"#N/A"}},{"$f":"$G252*INDEX('Unit of measures'!$A$7:$R$24,MATCH(K$4,'Unit of measures'!$A$7:$A$24,0),MATCH($F252,'Unit of measures'!$A$7:$R$7,0))","v":{"$error":"#N/A"}},{"$f":"$G252*INDEX('Unit of measures'!$A$7:$R$24,MATCH(L$4,'Unit of measures'!$A$7:$A$24,0),MATCH($F252,'Unit of measures'!$A$7:$R$7,0))","v":{"$error":"#N/A"}},{"$f":"$G252*INDEX('Unit of measures'!$A$7:$R$24,MATCH(M$4,'Unit of measures'!$A$7:$A$24,0),MATCH($F252,'Unit of measures'!$A$7:$R$7,0))","v":{"$error":"#N/A"}},{"$f":"$G252*INDEX('Unit of measures'!$A$7:$R$24,MATCH(N$4,'Unit of measures'!$A$7:$A$24,0),MATCH($F252,'Unit of measures'!$A$7:$R$7,0))","v":{"$error":"#N/A"}},{"$f":"$G252*INDEX('Unit of measures'!$A$7:$R$24,MATCH(O$4,'Unit of measures'!$A$7:$A$24,0),MATCH($F252,'Unit of measures'!$A$7:$R$7,0))","v":{"$error":"#N/A"}},{"$f":"$G252*INDEX('Unit of measures'!$A$7:$R$24,MATCH(P$4,'Unit of measures'!$A$7:$A$24,0),MATCH($F252,'Unit of measures'!$A$7:$R$7,0))","v":{"$error":"#N/A"}},null,null,{"$f":"$R252*INDEX('Unit of measures'!$A$7:$R$24,MATCH(S$4,'Unit of measures'!$A$7:$A$24,0),MATCH($Q252,'Unit of measures'!$A$7:$R$7,0))","v":{"$error":"#N/A"}},{"$f":"$R252*INDEX('Unit of measures'!$A$7:$R$24,MATCH(T$4,'Unit of measures'!$A$7:$A$24,0),MATCH($Q252,'Unit of measures'!$A$7:$R$7,0))","v":{"$error":"#N/A"}},{"$f":"$R252*INDEX('Unit of measures'!$A$7:$R$24,MATCH(U$4,'Unit of measures'!$A$7:$A$24,0),MATCH($Q252,'Unit of measures'!$A$7:$R$7,0))","v":{"$error":"#N/A"}},{"$f":"$R252*INDEX('Unit of measures'!$A$7:$R$24,MATCH(V$4,'Unit of measures'!$A$7:$A$24,0),MATCH($Q252,'Unit of measures'!$A$7:$R$7,0))","v":{"$error":"#N/A"}},{"$f":"$R252*INDEX('Unit of measures'!$A$7:$R$24,MATCH(W$4,'Unit of measures'!$A$7:$A$24,0),MATCH($Q252,'Unit of measures'!$A$7:$R$7,0))","v":{"$error":"#N/A"}},"Each"]
[null,null,null,null,"",null,null,{"$f":"$G253*INDEX('Unit of measures'!$A$7:$R$24,MATCH(H$4,'Unit of measures'!$A$7:$A$24,0),MATCH($F253,'Unit of measures'!$A$7:$R$7,0))","v":{"$error":"#N/A"}},{"$f":"$G253*INDEX('Unit of measures'!$A$7:$R$24,MATCH(I$4,'Unit of measures'!$A$7:$A$24,0),MATCH($F253,'Unit of measures'!$A$7:$R$7,0))","v":{"$error":"#N/A"}},{"$f":"$G253*INDEX('Unit of measures'!$A$7:$R$24,MATCH(J$4,'Unit of measures'!$A$7:$A$24,0),MATCH($F253,'Unit of measures'!$A$7:$R$7,0))","v":{"$error":"#N/A"}},{"$f":"$G253*INDEX('Unit of measures'!$A$7:$R$24,MATCH(K$4,'Unit of measures'!$A$7:$A$24,0),MATCH($F253,'Unit of measures'!$A$7:$R$7,0))","v":{"$error":"#N/A"}},{"$f":"$G253*INDEX('Unit of measures'!$A$7:$R$24,MATCH(L$4,'Unit of measures'!$A$7:$A$24,0),MATCH($F253,'Unit of measures'!$A$7:$R$7,0))","v":{"$error":"#N/A"}},{"$f":"$G253*INDEX('Unit of measures'!$A$7:$R$24,MATCH(M$4,'Unit of measures'!$A$7:$A$24,0),MATCH($F253,'Unit of measures'!$A$7:$R$7,0))","v":{"$error":"#N/A"}},{"$f":"$G253*INDEX('Unit of measures'!$A$7:$R$24,MATCH(N$4,'Unit of measures'!$A$7:$A$24,0),MATCH($F253,'Unit of measures'!$A$7:$R$7,0))","v":{"$error":"#N/A"}},{"$f":"$G253*INDEX('Unit of measures'!$A$7:$R$24,MATCH(O$4,'Unit of measures'!$A$7:$A$24,0),MATCH($F253,'Unit of measures'!$A$7:$R$7,0))","v":{"$error":"#N/A"}},{"$f":"$G253*INDEX('Unit of measures'!$A$7:$R$24,MATCH(P$4,'Unit of measures'!$A$7:$A$24,0),MATCH($F253,'Unit of measures'!$A$7:$R$7,0))","v":{"$error":"#N/A"}},null,null,{"$f":"$R253*INDEX('Unit of measures'!$A$7:$R$24,MATCH(S$4,'Unit of measures'!$A$7:$A$24,0),MATCH($Q253,'Unit of measures'!$A$7:$R$7,0))","v":{"$error":"#N/A"}},{"$f":"$R253*INDEX('Unit of measures'!$A$7:$R$24,MATCH(T$4,'Unit of measures'!$A$7:$A$24,0),MATCH($Q253,'Unit of measures'!$A$7:$R$7,0))","v":{"$error":"#N/A"}},{"$f":"$R253*INDEX('Unit of measures'!$A$7:$R$24,MATCH(U$4,'Unit of measures'!$A$7:$A$24,0),MATCH($Q253,'Unit of measures'!$A$7:$R$7,0))","v":{"$error":"#N/A"}},{"$f":"$R253*INDEX('Unit of measures'!$A$7:$R$24,MATCH(V$4,'Unit of measures'!$A$7:$A$24,0),MATCH($Q253,'Unit of measures'!$A$7:$R$7,0))","v":{"$error":"#N/A"}},{"$f":"$R253*INDEX('Unit of measures'!$A$7:$R$24,MATCH(W$4,'Unit of measures'!$A$7:$A$24,0),MATCH($Q253,'Unit of measures'!$A$7:$R$7,0))","v":{"$error":"#N/A"}},"Each"]
[null,null,null,null,"",null,null,{"$f":"$G254*INDEX('Unit of measures'!$A$7:$R$24,MATCH(H$4,'Unit of measures'!$A$7:$A$24,0),MATCH($F254,'Unit of measures'!$A$7:$R$7,0))","v":{"$error":"#N/A"}},{"$f":"$G254*INDEX('Unit of measures'!$A$7:$R$24,MATCH(I$4,'Unit of measures'!$A$7:$A$24,0),MATCH($F254,'Unit of measures'!$A$7:$R$7,0))","v":{"$error":"#N/A"}},{"$f":"$G254*INDEX('Unit of measures'!$A$7:$R$24,MATCH(J$4,'Unit of measures'!$A$7:$A$24,0),MATCH($F254,'Unit of measures'!$A$7:$R$7,0))","v":{"$error":"#N/A"}},{"$f":"$G254*INDEX('Unit of measures'!$A$7:$R$24,MATCH(K$4,'Unit of measures'!$A$7:$A$24,0),MATCH($F254,'Unit of measures'!$A$7:$R$7,0))","v":{"$error":"#N/A"}},{"$f":"$G254*INDEX('Unit of measures'!$A$7:$R$24,MATCH(L$4,'Unit of measures'!$A$7:$A$24,0),MATCH($F254,'Unit of measures'!$A$7:$R$7,0))","v":{"$error":"#N/A"}},{"$f":"$G254*INDEX('Unit of measures'!$A$7:$R$24,MATCH(M$4,'Unit of measures'!$A$7:$A$24,0),MATCH($F254,'Unit of measures'!$A$7:$R$7,0))","v":{"$error":"#N/A"}},{"$f":"$G254*INDEX('Unit of measures'!$A$7:$R$24,MATCH(N$4,'Unit of measures'!$A$7:$A$24,0),MATCH($F254,'Unit of measures'!$A$7:$R$7,0))","v":{"$error":"#N/A"}},{"$f":"$G254*INDEX('Unit of measures'!$A$7:$R$24,MATCH(O$4,'Unit of measures'!$A$7:$A$24,0),MATCH($F254,'Unit of measures'!$A$7:$R$7,0))","v":{"$error":"#N/A"}},{"$f":"$G254*INDEX('Unit of measures'!$A$7:$R$24,MATCH(P$4,'Unit of measures'!$A$7:$A$24,0),MATCH($F254,'Unit of measures'!$A$7:$R$7,0))","v":{"$error":"#N/A"}},null,null,{"$f":"$R254*INDEX('Unit of measures'!$A$7:$R$24,MATCH(S$4,'Unit of measures'!$A$7:$A$24,0),MATCH($Q254,'Unit of measures'!$A$7:$R$7,0))","v":{"$error":"#N/A"}},{"$f":"$R254*INDEX('Unit of measures'!$A$7:$R$24,MATCH(T$4,'Unit of measures'!$A$7:$A$24,0),MATCH($Q254,'Unit of measures'!$A$7:$R$7,0))","v":{"$error":"#N/A"}},{"$f":"$R254*INDEX('Unit of measures'!$A$7:$R$24,MATCH(U$4,'Unit of measures'!$A$7:$A$24,0),MATCH($Q254,'Unit of measures'!$A$7:$R$7,0))","v":{"$error":"#N/A"}},{"$f":"$R254*INDEX('Unit of measures'!$A$7:$R$24,MATCH(V$4,'Unit of measures'!$A$7:$A$24,0),MATCH($Q254,'Unit of measures'!$A$7:$R$7,0))","v":{"$error":"#N/A"}},{"$f":"$R254*INDEX('Unit of measures'!$A$7:$R$24,MATCH(W$4,'Unit of measures'!$A$7:$A$24,0),MATCH($Q254,'Unit of measures'!$A$7:$R$7,0))","v":{"$error":"#N/A"}},"Each"]
[null,null,null,null,"",null,null,{"$f":"$G255*INDEX('Unit of measures'!$A$7:$R$24,MATCH(H$4,'Unit of measures'!$A$7:$A$24,0),MATCH($F255,'Unit of measures'!$A$7:$R$7,0))","v":{"$error":"#N/A"}},{"$f":"$G255*INDEX('Unit of measures'!$A$7:$R$24,MATCH(I$4,'Unit of measures'!$A$7:$A$24,0),MATCH($F255,'Unit of measures'!$A$7:$R$7,0))","v":{"$error":"#N/A"}},{"$f":"$G255*INDEX('Unit of measures'!$A$7:$R$24,MATCH(J$4,'Unit of measures'!$A$7:$A$24,0),MATCH($F255,'Unit of measures'!$A$7:$R$7,0))","v":{"$error":"#N/A"}},{"$f":"$G255*INDEX('Unit of measures'!$A$7:$R$24,MATCH(K$4,'Unit of measures'!$A$7:$A$24,0),MATCH($F255,'Unit of measures'!$A$7:$R$7,0))","v":{"$error":"#N/A"}},{"$f":"$G255*INDEX('Unit of measures'!$A$7:$R$24,MATCH(L$4,'Unit of measures'!$A$7:$A$24,0),MATCH($F255,'Unit of measures'!$A$7:$R$7,0))","v":{"$error":"#N/A"}},{"$f":"$G255*INDEX('Unit of measures'!$A$7:$R$24,MATCH(M$4,'Unit of measures'!$A$7:$A$24,0),MATCH($F255,'Unit of measures'!$A$7:$R$7,0))","v":{"$error":"#N/A"}},{"$f":"$G255*INDEX('Unit of measures'!$A$7:$R$24,MATCH(N$4,'Unit of measures'!$A$7:$A$24,0),MATCH($F255,'Unit of measures'!$A$7:$R$7,0))","v":{"$error":"#N/A"}},{"$f":"$G255*INDEX('Unit of measures'!$A$7:$R$24,MATCH(O$4,'Unit of measures'!$A$7:$A$24,0),MATCH($F255,'Unit of measures'!$A$7:$R$7,0))","v":{"$error":"#N/A"}},{"$f":"$G255*INDEX('Unit of measures'!$A$7:$R$24,MATCH(P$4,'Unit of measures'!$A$7:$A$24,0),MATCH($F255,'Unit of measures'!$A$7:$R$7,0))","v":{"$error":"#N/A"}},null,null,{"$f":"$R255*INDEX('Unit of measures'!$A$7:$R$24,MATCH(S$4,'Unit of measures'!$A$7:$A$24,0),MATCH($Q255,'Unit of measures'!$A$7:$R$7,0))","v":{"$error":"#N/A"}},{"$f":"$R255*INDEX('Unit of measures'!$A$7:$R$24,MATCH(T$4,'Unit of measures'!$A$7:$A$24,0),MATCH($Q255,'Unit of measures'!$A$7:$R$7,0))","v":{"$error":"#N/A"}},{"$f":"$R255*INDEX('Unit of measures'!$A$7:$R$24,MATCH(U$4,'Unit of measures'!$A$7:$A$24,0),MATCH($Q255,'Unit of measures'!$A$7:$R$7,0))","v":{"$error":"#N/A"}},{"$f":"$R255*INDEX('Unit of measures'!$A$7:$R$24,MATCH(V$4,'Unit of measures'!$A$7:$A$24,0),MATCH($Q255,'Unit of measures'!$A$7:$R$7,0))","v":{"$error":"#N/A"}},{"$f":"$R255*INDEX('Unit of measures'!$A$7:$R$24,MATCH(W$4,'Unit of measures'!$A$7:$A$24,0),MATCH($Q255,'Unit of measures'!$A$7:$R$7,0))","v":{"$error":"#N/A"}},"Each"]
[null,null,null,null,"",null,null,{"$f":"$G256*INDEX('Unit of measures'!$A$7:$R$24,MATCH(H$4,'Unit of measures'!$A$7:$A$24,0),MATCH($F256,'Unit of measures'!$A$7:$R$7,0))","v":{"$error":"#N/A"}},{"$f":"$G256*INDEX('Unit of measures'!$A$7:$R$24,MATCH(I$4,'Unit of measures'!$A$7:$A$24,0),MATCH($F256,'Unit of measures'!$A$7:$R$7,0))","v":{"$error":"#N/A"}},{"$f":"$G256*INDEX('Unit of measures'!$A$7:$R$24,MATCH(J$4,'Unit of measures'!$A$7:$A$24,0),MATCH($F256,'Unit of measures'!$A$7:$R$7,0))","v":{"$error":"#N/A"}},{"$f":"$G256*INDEX('Unit of measures'!$A$7:$R$24,MATCH(K$4,'Unit of measures'!$A$7:$A$24,0),MATCH($F256,'Unit of measures'!$A$7:$R$7,0))","v":{"$error":"#N/A"}},{"$f":"$G256*INDEX('Unit of measures'!$A$7:$R$24,MATCH(L$4,'Unit of measures'!$A$7:$A$24,0),MATCH($F256,'Unit of measures'!$A$7:$R$7,0))","v":{"$error":"#N/A"}},{"$f":"$G256*INDEX('Unit of measures'!$A$7:$R$24,MATCH(M$4,'Unit of measures'!$A$7:$A$24,0),MATCH($F256,'Unit of measures'!$A$7:$R$7,0))","v":{"$error":"#N/A"}},{"$f":"$G256*INDEX('Unit of measures'!$A$7:$R$24,MATCH(N$4,'Unit of measures'!$A$7:$A$24,0),MATCH($F256,'Unit of measures'!$A$7:$R$7,0))","v":{"$error":"#N/A"}},{"$f":"$G256*INDEX('Unit of measures'!$A$7:$R$24,MATCH(O$4,'Unit of measures'!$A$7:$A$24,0),MATCH($F256,'Unit of measures'!$A$7:$R$7,0))","v":{"$error":"#N/A"}},{"$f":"$G256*INDEX('Unit of measures'!$A$7:$R$24,MATCH(P$4,'Unit of measures'!$A$7:$A$24,0),MATCH($F256,'Unit of measures'!$A$7:$R$7,0))","v":{"$error":"#N/A"}},null,null,{"$f":"$R256*INDEX('Unit of measures'!$A$7:$R$24,MATCH(S$4,'Unit of measures'!$A$7:$A$24,0),MATCH($Q256,'Unit of measures'!$A$7:$R$7,0))","v":{"$error":"#N/A"}},{"$f":"$R256*INDEX('Unit of measures'!$A$7:$R$24,MATCH(T$4,'Unit of measures'!$A$7:$A$24,0),MATCH($Q256,'Unit of measures'!$A$7:$R$7,0))","v":{"$error":"#N/A"}},{"$f":"$R256*INDEX('Unit of measures'!$A$7:$R$24,MATCH(U$4,'Unit of measures'!$A$7:$A$24,0),MATCH($Q256,'Unit of measures'!$A$7:$R$7,0))","v":{"$error":"#N/A"}},{"$f":"$R256*INDEX('Unit of measures'!$A$7:$R$24,MATCH(V$4,'Unit of measures'!$A$7:$A$24,0),MATCH($Q256,'Unit of measures'!$A$7:$R$7,0))","v":{"$error":"#N/A"}},{"$f":"$R256*INDEX('Unit of measures'!$A$7:$R$24,MATCH(W$4,'Unit of measures'!$A$7:$A$24,0),MATCH($Q256,'Unit of measures'!$A$7:$R$7,0))","v":{"$error":"#N/A"}},"Each"]
[null,null,null,null,"",null,null,{"$f":"$G257*INDEX('Unit of measures'!$A$7:$R$24,MATCH(H$4,'Unit of measures'!$A$7:$A$24,0),MATCH($F257,'Unit of measures'!$A$7:$R$7,0))","v":{"$error":"#N/A"}},{"$f":"$G257*INDEX('Unit of measures'!$A$7:$R$24,MATCH(I$4,'Unit of measures'!$A$7:$A$24,0),MATCH($F257,'Unit of measures'!$A$7:$R$7,0))","v":{"$error":"#N/A"}},{"$f":"$G257*INDEX('Unit of measures'!$A$7:$R$24,MATCH(J$4,'Unit of measures'!$A$7:$A$24,0),MATCH($F257,'Unit of measures'!$A$7:$R$7,0))","v":{"$error":"#N/A"}},{"$f":"$G257*INDEX('Unit of measures'!$A$7:$R$24,MATCH(K$4,'Unit of measures'!$A$7:$A$24,0),MATCH($F257,'Unit of measures'!$A$7:$R$7,0))","v":{"$error":"#N/A"}},{"$f":"$G257*INDEX('Unit of measures'!$A$7:$R$24,MATCH(L$4,'Unit of measures'!$A$7:$A$24,0),MATCH($F257,'Unit of measures'!$A$7:$R$7,0))","v":{"$error":"#N/A"}},{"$f":"$G257*INDEX('Unit of measures'!$A$7:$R$24,MATCH(M$4,'Unit of measures'!$A$7:$A$24,0),MATCH($F257,'Unit of measures'!$A$7:$R$7,0))","v":{"$error":"#N/A"}},{"$f":"$G257*INDEX('Unit of measures'!$A$7:$R$24,MATCH(N$4,'Unit of measures'!$A$7:$A$24,0),MATCH($F257,'Unit of measures'!$A$7:$R$7,0))","v":{"$error":"#N/A"}},{"$f":"$G257*INDEX('Unit of measures'!$A$7:$R$24,MATCH(O$4,'Unit of measures'!$A$7:$A$24,0),MATCH($F257,'Unit of measures'!$A$7:$R$7,0))","v":{"$error":"#N/A"}},{"$f":"$G257*INDEX('Unit of measures'!$A$7:$R$24,MATCH(P$4,'Unit of measures'!$A$7:$A$24,0),MATCH($F257,'Unit of measures'!$A$7:$R$7,0))","v":{"$error":"#N/A"}},null,null,{"$f":"$R257*INDEX('Unit of measures'!$A$7:$R$24,MATCH(S$4,'Unit of measures'!$A$7:$A$24,0),MATCH($Q257,'Unit of measures'!$A$7:$R$7,0))","v":{"$error":"#N/A"}},{"$f":"$R257*INDEX('Unit of measures'!$A$7:$R$24,MATCH(T$4,'Unit of measures'!$A$7:$A$24,0),MATCH($Q257,'Unit of measures'!$A$7:$R$7,0))","v":{"$error":"#N/A"}},{"$f":"$R257*INDEX('Unit of measures'!$A$7:$R$24,MATCH(U$4,'Unit of measures'!$A$7:$A$24,0),MATCH($Q257,'Unit of measures'!$A$7:$R$7,0))","v":{"$error":"#N/A"}},{"$f":"$R257*INDEX('Unit of measures'!$A$7:$R$24,MATCH(V$4,'Unit of measures'!$A$7:$A$24,0),MATCH($Q257,'Unit of measures'!$A$7:$R$7,0))","v":{"$error":"#N/A"}},{"$f":"$R257*INDEX('Unit of measures'!$A$7:$R$24,MATCH(W$4,'Unit of measures'!$A$7:$A$24,0),MATCH($Q257,'Unit of measures'!$A$7:$R$7,0))","v":{"$error":"#N/A"}},"Each"]
[null,null,null,null,"",null,null,{"$f":"$G258*INDEX('Unit of measures'!$A$7:$R$24,MATCH(H$4,'Unit of measures'!$A$7:$A$24,0),MATCH($F258,'Unit of measures'!$A$7:$R$7,0))","v":{"$error":"#N/A"}},{"$f":"$G258*INDEX('Unit of measures'!$A$7:$R$24,MATCH(I$4,'Unit of measures'!$A$7:$A$24,0),MATCH($F258,'Unit of measures'!$A$7:$R$7,0))","v":{"$error":"#N/A"}},{"$f":"$G258*INDEX('Unit of measures'!$A$7:$R$24,MATCH(J$4,'Unit of measures'!$A$7:$A$24,0),MATCH($F258,'Unit of measures'!$A$7:$R$7,0))","v":{"$error":"#N/A"}},{"$f":"$G258*INDEX('Unit of measures'!$A$7:$R$24,MATCH(K$4,'Unit of measures'!$A$7:$A$24,0),MATCH($F258,'Unit of measures'!$A$7:$R$7,0))","v":{"$error":"#N/A"}},{"$f":"$G258*INDEX('Unit of measures'!$A$7:$R$24,MATCH(L$4,'Unit of measures'!$A$7:$A$24,0),MATCH($F258,'Unit of measures'!$A$7:$R$7,0))","v":{"$error":"#N/A"}},{"$f":"$G258*INDEX('Unit of measures'!$A$7:$R$24,MATCH(M$4,'Unit of measures'!$A$7:$A$24,0),MATCH($F258,'Unit of measures'!$A$7:$R$7,0))","v":{"$error":"#N/A"}},{"$f":"$G258*INDEX('Unit of measures'!$A$7:$R$24,MATCH(N$4,'Unit of measures'!$A$7:$A$24,0),MATCH($F258,'Unit of measures'!$A$7:$R$7,0))","v":{"$error":"#N/A"}},{"$f":"$G258*INDEX('Unit of measures'!$A$7:$R$24,MATCH(O$4,'Unit of measures'!$A$7:$A$24,0),MATCH($F258,'Unit of measures'!$A$7:$R$7,0))","v":{"$error":"#N/A"}},{"$f":"$G258*INDEX('Unit of measures'!$A$7:$R$24,MATCH(P$4,'Unit of measures'!$A$7:$A$24,0),MATCH($F258,'Unit of measures'!$A$7:$R$7,0))","v":{"$error":"#N/A"}},null,null,{"$f":"$R258*INDEX('Unit of measures'!$A$7:$R$24,MATCH(S$4,'Unit of measures'!$A$7:$A$24,0),MATCH($Q258,'Unit of measures'!$A$7:$R$7,0))","v":{"$error":"#N/A"}},{"$f":"$R258*INDEX('Unit of measures'!$A$7:$R$24,MATCH(T$4,'Unit of measures'!$A$7:$A$24,0),MATCH($Q258,'Unit of measures'!$A$7:$R$7,0))","v":{"$error":"#N/A"}},{"$f":"$R258*INDEX('Unit of measures'!$A$7:$R$24,MATCH(U$4,'Unit of measures'!$A$7:$A$24,0),MATCH($Q258,'Unit of measures'!$A$7:$R$7,0))","v":{"$error":"#N/A"}},{"$f":"$R258*INDEX('Unit of measures'!$A$7:$R$24,MATCH(V$4,'Unit of measures'!$A$7:$A$24,0),MATCH($Q258,'Unit of measures'!$A$7:$R$7,0))","v":{"$error":"#N/A"}},{"$f":"$R258*INDEX('Unit of measures'!$A$7:$R$24,MATCH(W$4,'Unit of measures'!$A$7:$A$24,0),MATCH($Q258,'Unit of measures'!$A$7:$R$7,0))","v":{"$error":"#N/A"}},"Each"]
[null,null,null,null,"",null,null,{"$f":"$G259*INDEX('Unit of measures'!$A$7:$R$24,MATCH(H$4,'Unit of measures'!$A$7:$A$24,0),MATCH($F259,'Unit of measures'!$A$7:$R$7,0))","v":{"$error":"#N/A"}},{"$f":"$G259*INDEX('Unit of measures'!$A$7:$R$24,MATCH(I$4,'Unit of measures'!$A$7:$A$24,0),MATCH($F259,'Unit of measures'!$A$7:$R$7,0))","v":{"$error":"#N/A"}},{"$f":"$G259*INDEX('Unit of measures'!$A$7:$R$24,MATCH(J$4,'Unit of measures'!$A$7:$A$24,0),MATCH($F259,'Unit of measures'!$A$7:$R$7,0))","v":{"$error":"#N/A"}},{"$f":"$G259*INDEX('Unit of measures'!$A$7:$R$24,MATCH(K$4,'Unit of measures'!$A$7:$A$24,0),MATCH($F259,'Unit of measures'!$A$7:$R$7,0))","v":{"$error":"#N/A"}},{"$f":"$G259*INDEX('Unit of measures'!$A$7:$R$24,MATCH(L$4,'Unit of measures'!$A$7:$A$24,0),MATCH($F259,'Unit of measures'!$A$7:$R$7,0))","v":{"$error":"#N/A"}},{"$f":"$G259*INDEX('Unit of measures'!$A$7:$R$24,MATCH(M$4,'Unit of measures'!$A$7:$A$24,0),MATCH($F259,'Unit of measures'!$A$7:$R$7,0))","v":{"$error":"#N/A"}},{"$f":"$G259*INDEX('Unit of measures'!$A$7:$R$24,MATCH(N$4,'Unit of measures'!$A$7:$A$24,0),MATCH($F259,'Unit of measures'!$A$7:$R$7,0))","v":{"$error":"#N/A"}},{"$f":"$G259*INDEX('Unit of measures'!$A$7:$R$24,MATCH(O$4,'Unit of measures'!$A$7:$A$24,0),MATCH($F259,'Unit of measures'!$A$7:$R$7,0))","v":{"$error":"#N/A"}},{"$f":"$G259*INDEX('Unit of measures'!$A$7:$R$24,MATCH(P$4,'Unit of measures'!$A$7:$A$24,0),MATCH($F259,'Unit of measures'!$A$7:$R$7,0))","v":{"$error":"#N/A"}},null,null,{"$f":"$R259*INDEX('Unit of measures'!$A$7:$R$24,MATCH(S$4,'Unit of measures'!$A$7:$A$24,0),MATCH($Q259,'Unit of measures'!$A$7:$R$7,0))","v":{"$error":"#N/A"}},{"$f":"$R259*INDEX('Unit of measures'!$A$7:$R$24,MATCH(T$4,'Unit of measures'!$A$7:$A$24,0),MATCH($Q259,'Unit of measures'!$A$7:$R$7,0))","v":{"$error":"#N/A"}},{"$f":"$R259*INDEX('Unit of measures'!$A$7:$R$24,MATCH(U$4,'Unit of measures'!$A$7:$A$24,0),MATCH($Q259,'Unit of measures'!$A$7:$R$7,0))","v":{"$error":"#N/A"}},{"$f":"$R259*INDEX('Unit of measures'!$A$7:$R$24,MATCH(V$4,'Unit of measures'!$A$7:$A$24,0),MATCH($Q259,'Unit of measures'!$A$7:$R$7,0))","v":{"$error":"#N/A"}},{"$f":"$R259*INDEX('Unit of measures'!$A$7:$R$24,MATCH(W$4,'Unit of measures'!$A$7:$A$24,0),MATCH($Q259,'Unit of measures'!$A$7:$R$7,0))","v":{"$error":"#N/A"}},"Each"]
[null,null,null,null,"",null,null,{"$f":"$G260*INDEX('Unit of measures'!$A$7:$R$24,MATCH(H$4,'Unit of measures'!$A$7:$A$24,0),MATCH($F260,'Unit of measures'!$A$7:$R$7,0))","v":{"$error":"#N/A"}},{"$f":"$G260*INDEX('Unit of measures'!$A$7:$R$24,MATCH(I$4,'Unit of measures'!$A$7:$A$24,0),MATCH($F260,'Unit of measures'!$A$7:$R$7,0))","v":{"$error":"#N/A"}},{"$f":"$G260*INDEX('Unit of measures'!$A$7:$R$24,MATCH(J$4,'Unit of measures'!$A$7:$A$24,0),MATCH($F260,'Unit of measures'!$A$7:$R$7,0))","v":{"$error":"#N/A"}},{"$f":"$G260*INDEX('Unit of measures'!$A$7:$R$24,MATCH(K$4,'Unit of measures'!$A$7:$A$24,0),MATCH($F260,'Unit of measures'!$A$7:$R$7,0))","v":{"$error":"#N/A"}},{"$f":"$G260*INDEX('Unit of measures'!$A$7:$R$24,MATCH(L$4,'Unit of measures'!$A$7:$A$24,0),MATCH($F260,'Unit of measures'!$A$7:$R$7,0))","v":{"$error":"#N/A"}},{"$f":"$G260*INDEX('Unit of measures'!$A$7:$R$24,MATCH(M$4,'Unit of measures'!$A$7:$A$24,0),MATCH($F260,'Unit of measures'!$A$7:$R$7,0))","v":{"$error":"#N/A"}},{"$f":"$G260*INDEX('Unit of measures'!$A$7:$R$24,MATCH(N$4,'Unit of measures'!$A$7:$A$24,0),MATCH($F260,'Unit of measures'!$A$7:$R$7,0))","v":{"$error":"#N/A"}},{"$f":"$G260*INDEX('Unit of measures'!$A$7:$R$24,MATCH(O$4,'Unit of measures'!$A$7:$A$24,0),MATCH($F260,'Unit of measures'!$A$7:$R$7,0))","v":{"$error":"#N/A"}},{"$f":"$G260*INDEX('Unit of measures'!$A$7:$R$24,MATCH(P$4,'Unit of measures'!$A$7:$A$24,0),MATCH($F260,'Unit of measures'!$A$7:$R$7,0))","v":{"$error":"#N/A"}},null,null,{"$f":"$R260*INDEX('Unit of measures'!$A$7:$R$24,MATCH(S$4,'Unit of measures'!$A$7:$A$24,0),MATCH($Q260,'Unit of measures'!$A$7:$R$7,0))","v":{"$error":"#N/A"}},{"$f":"$R260*INDEX('Unit of measures'!$A$7:$R$24,MATCH(T$4,'Unit of measures'!$A$7:$A$24,0),MATCH($Q260,'Unit of measures'!$A$7:$R$7,0))","v":{"$error":"#N/A"}},{"$f":"$R260*INDEX('Unit of measures'!$A$7:$R$24,MATCH(U$4,'Unit of measures'!$A$7:$A$24,0),MATCH($Q260,'Unit of measures'!$A$7:$R$7,0))","v":{"$error":"#N/A"}},{"$f":"$R260*INDEX('Unit of measures'!$A$7:$R$24,MATCH(V$4,'Unit of measures'!$A$7:$A$24,0),MATCH($Q260,'Unit of measures'!$A$7:$R$7,0))","v":{"$error":"#N/A"}},{"$f":"$R260*INDEX('Unit of measures'!$A$7:$R$24,MATCH(W$4,'Unit of measures'!$A$7:$A$24,0),MATCH($Q260,'Unit of measures'!$A$7:$R$7,0))","v":{"$error":"#N/A"}},"Each"]
[null,null,null,null,{"$f":"IFERROR(D261/B261,\"\")","v":""},null,null,{"$f":"$G261*INDEX('Unit of measures'!$A$7:$R$24,MATCH(H$4,'Unit of measures'!$A$7:$A$24,0),MATCH($F261,'Unit of measures'!$A$7:$R$7,0))","v":{"$error":"#N/A"}},{"$f":"$G261*INDEX('Unit of measures'!$A$7:$R$24,MATCH(I$4,'Unit of measures'!$A$7:$A$24,0),MATCH($F261,'Unit of measures'!$A$7:$R$7,0))","v":{"$error":"#N/A"}},{"$f":"$G261*INDEX('Unit of measures'!$A$7:$R$24,MATCH(J$4,'Unit of measures'!$A$7:$A$24,0),MATCH($F261,'Unit of measures'!$A$7:$R$7,0))","v":{"$error":"#N/A"}},{"$f":"$G261*INDEX('Unit of measures'!$A$7:$R$24,MATCH(K$4,'Unit of measures'!$A$7:$A$24,0),MATCH($F261,'Unit of measures'!$A$7:$R$7,0))","v":{"$error":"#N/A"}},{"$f":"$G261*INDEX('Unit of measures'!$A$7:$R$24,MATCH(L$4,'Unit of measures'!$A$7:$A$24,0),MATCH($F261,'Unit of measures'!$A$7:$R$7,0))","v":{"$error":"#N/A"}},{"$f":"$G261*INDEX('Unit of measures'!$A$7:$R$24,MATCH(M$4,'Unit of measures'!$A$7:$A$24,0),MATCH($F261,'Unit of measures'!$A$7:$R$7,0))","v":{"$error":"#N/A"}},{"$f":"$G261*INDEX('Unit of measures'!$A$7:$R$24,MATCH(N$4,'Unit of measures'!$A$7:$A$24,0),MATCH($F261,'Unit of measures'!$A$7:$R$7,0))","v":{"$error":"#N/A"}},{"$f":"$G261*INDEX('Unit of measures'!$A$7:$R$24,MATCH(O$4,'Unit of measures'!$A$7:$A$24,0),MATCH($F261,'Unit of measures'!$A$7:$R$7,0))","v":{"$error":"#N/A"}},{"$f":"$G261*INDEX('Unit of measures'!$A$7:$R$24,MATCH(P$4,'Unit of measures'!$A$7:$A$24,0),MATCH($F261,'Unit of measures'!$A$7:$R$7,0))","v":{"$error":"#N/A"}},null,null,{"$f":"$R261*INDEX('Unit of measures'!$A$7:$R$24,MATCH(S$4,'Unit of measures'!$A$7:$A$24,0),MATCH($Q261,'Unit of measures'!$A$7:$R$7,0))","v":{"$error":"#N/A"}},{"$f":"$R261*INDEX('Unit of measures'!$A$7:$R$24,MATCH(T$4,'Unit of measures'!$A$7:$A$24,0),MATCH($Q261,'Unit of measures'!$A$7:$R$7,0))","v":{"$error":"#N/A"}},{"$f":"$R261*INDEX('Unit of measures'!$A$7:$R$24,MATCH(U$4,'Unit of measures'!$A$7:$A$24,0),MATCH($Q261,'Unit of measures'!$A$7:$R$7,0))","v":{"$error":"#N/A"}},{"$f":"$R261*INDEX('Unit of measures'!$A$7:$R$24,MATCH(V$4,'Unit of measures'!$A$7:$A$24,0),MATCH($Q261,'Unit of measures'!$A$7:$R$7,0))","v":{"$error":"#N/A"}},{"$f":"$R261*INDEX('Unit of measures'!$A$7:$R$24,MATCH(W$4,'Unit of measures'!$A$7:$A$24,0),MATCH($Q261,'Unit of measures'!$A$7:$R$7,0))","v":{"$error":"#N/A"}},"Each"]
[null,null,null,null,"",null,null,{"$f":"$G262*INDEX('Unit of measures'!$A$7:$R$24,MATCH(H$4,'Unit of measures'!$A$7:$A$24,0),MATCH($F262,'Unit of measures'!$A$7:$R$7,0))","v":{"$error":"#N/A"}},{"$f":"$G262*INDEX('Unit of measures'!$A$7:$R$24,MATCH(I$4,'Unit of measures'!$A$7:$A$24,0),MATCH($F262,'Unit of measures'!$A$7:$R$7,0))","v":{"$error":"#N/A"}},{"$f":"$G262*INDEX('Unit of measures'!$A$7:$R$24,MATCH(J$4,'Unit of measures'!$A$7:$A$24,0),MATCH($F262,'Unit of measures'!$A$7:$R$7,0))","v":{"$error":"#N/A"}},{"$f":"$G262*INDEX('Unit of measures'!$A$7:$R$24,MATCH(K$4,'Unit of measures'!$A$7:$A$24,0),MATCH($F262,'Unit of measures'!$A$7:$R$7,0))","v":{"$error":"#N/A"}},{"$f":"$G262*INDEX('Unit of measures'!$A$7:$R$24,MATCH(L$4,'Unit of measures'!$A$7:$A$24,0),MATCH($F262,'Unit of measures'!$A$7:$R$7,0))","v":{"$error":"#N/A"}},{"$f":"$G262*INDEX('Unit of measures'!$A$7:$R$24,MATCH(M$4,'Unit of measures'!$A$7:$A$24,0),MATCH($F262,'Unit of measures'!$A$7:$R$7,0))","v":{"$error":"#N/A"}},{"$f":"$G262*INDEX('Unit of measures'!$A$7:$R$24,MATCH(N$4,'Unit of measures'!$A$7:$A$24,0),MATCH($F262,'Unit of measures'!$A$7:$R$7,0))","v":{"$error":"#N/A"}},{"$f":"$G262*INDEX('Unit of measures'!$A$7:$R$24,MATCH(O$4,'Unit of measures'!$A$7:$A$24,0),MATCH($F262,'Unit of measures'!$A$7:$R$7,0))","v":{"$error":"#N/A"}},{"$f":"$G262*INDEX('Unit of measures'!$A$7:$R$24,MATCH(P$4,'Unit of measures'!$A$7:$A$24,0),MATCH($F262,'Unit of measures'!$A$7:$R$7,0))","v":{"$error":"#N/A"}},null,null,{"$f":"$R262*INDEX('Unit of measures'!$A$7:$R$24,MATCH(S$4,'Unit of measures'!$A$7:$A$24,0),MATCH($Q262,'Unit of measures'!$A$7:$R$7,0))","v":{"$error":"#N/A"}},{"$f":"$R262*INDEX('Unit of measures'!$A$7:$R$24,MATCH(T$4,'Unit of measures'!$A$7:$A$24,0),MATCH($Q262,'Unit of measures'!$A$7:$R$7,0))","v":{"$error":"#N/A"}},{"$f":"$R262*INDEX('Unit of measures'!$A$7:$R$24,MATCH(U$4,'Unit of measures'!$A$7:$A$24,0),MATCH($Q262,'Unit of measures'!$A$7:$R$7,0))","v":{"$error":"#N/A"}},{"$f":"$R262*INDEX('Unit of measures'!$A$7:$R$24,MATCH(V$4,'Unit of measures'!$A$7:$A$24,0),MATCH($Q262,'Unit of measures'!$A$7:$R$7,0))","v":{"$error":"#N/A"}},{"$f":"$R262*INDEX('Unit of measures'!$A$7:$R$24,MATCH(W$4,'Unit of measures'!$A$7:$A$24,0),MATCH($Q262,'Unit of measures'!$A$7:$R$7,0))","v":{"$error":"#N/A"}},"Each"]
[null,null,null,null,"",null,null,{"$f":"$G263*INDEX('Unit of measures'!$A$7:$R$24,MATCH(H$4,'Unit of measures'!$A$7:$A$24,0),MATCH($F263,'Unit of measures'!$A$7:$R$7,0))","v":{"$error":"#N/A"}},{"$f":"$G263*INDEX('Unit of measures'!$A$7:$R$24,MATCH(I$4,'Unit of measures'!$A$7:$A$24,0),MATCH($F263,'Unit of measures'!$A$7:$R$7,0))","v":{"$error":"#N/A"}},{"$f":"$G263*INDEX('Unit of measures'!$A$7:$R$24,MATCH(J$4,'Unit of measures'!$A$7:$A$24,0),MATCH($F263,'Unit of measures'!$A$7:$R$7,0))","v":{"$error":"#N/A"}},{"$f":"$G263*INDEX('Unit of measures'!$A$7:$R$24,MATCH(K$4,'Unit of measures'!$A$7:$A$24,0),MATCH($F263,'Unit of measures'!$A$7:$R$7,0))","v":{"$error":"#N/A"}},{"$f":"$G263*INDEX('Unit of measures'!$A$7:$R$24,MATCH(L$4,'Unit of measures'!$A$7:$A$24,0),MATCH($F263,'Unit of measures'!$A$7:$R$7,0))","v":{"$error":"#N/A"}},{"$f":"$G263*INDEX('Unit of measures'!$A$7:$R$24,MATCH(M$4,'Unit of measures'!$A$7:$A$24,0),MATCH($F263,'Unit of measures'!$A$7:$R$7,0))","v":{"$error":"#N/A"}},{"$f":"$G263*INDEX('Unit of measures'!$A$7:$R$24,MATCH(N$4,'Unit of measures'!$A$7:$A$24,0),MATCH($F263,'Unit of measures'!$A$7:$R$7,0))","v":{"$error":"#N/A"}},{"$f":"$G263*INDEX('Unit of measures'!$A$7:$R$24,MATCH(O$4,'Unit of measures'!$A$7:$A$24,0),MATCH($F263,'Unit of measures'!$A$7:$R$7,0))","v":{"$error":"#N/A"}},{"$f":"$G263*INDEX('Unit of measures'!$A$7:$R$24,MATCH(P$4,'Unit of measures'!$A$7:$A$24,0),MATCH($F263,'Unit of measures'!$A$7:$R$7,0))","v":{"$error":"#N/A"}},null,null,{"$f":"$R263*INDEX('Unit of measures'!$A$7:$R$24,MATCH(S$4,'Unit of measures'!$A$7:$A$24,0),MATCH($Q263,'Unit of measures'!$A$7:$R$7,0))","v":{"$error":"#N/A"}},{"$f":"$R263*INDEX('Unit of measures'!$A$7:$R$24,MATCH(T$4,'Unit of measures'!$A$7:$A$24,0),MATCH($Q263,'Unit of measures'!$A$7:$R$7,0))","v":{"$error":"#N/A"}},{"$f":"$R263*INDEX('Unit of measures'!$A$7:$R$24,MATCH(U$4,'Unit of measures'!$A$7:$A$24,0),MATCH($Q263,'Unit of measures'!$A$7:$R$7,0))","v":{"$error":"#N/A"}},{"$f":"$R263*INDEX('Unit of measures'!$A$7:$R$24,MATCH(V$4,'Unit of measures'!$A$7:$A$24,0),MATCH($Q263,'Unit of measures'!$A$7:$R$7,0))","v":{"$error":"#N/A"}},{"$f":"$R263*INDEX('Unit of measures'!$A$7:$R$24,MATCH(W$4,'Unit of measures'!$A$7:$A$24,0),MATCH($Q263,'Unit of measures'!$A$7:$R$7,0))","v":{"$error":"#N/A"}},"Each"]
[null,null,null,null,"",null,null,{"$f":"$G264*INDEX('Unit of measures'!$A$7:$R$24,MATCH(H$4,'Unit of measures'!$A$7:$A$24,0),MATCH($F264,'Unit of measures'!$A$7:$R$7,0))","v":{"$error":"#N/A"}},{"$f":"$G264*INDEX('Unit of measures'!$A$7:$R$24,MATCH(I$4,'Unit of measures'!$A$7:$A$24,0),MATCH($F264,'Unit of measures'!$A$7:$R$7,0))","v":{"$error":"#N/A"}},{"$f":"$G264*INDEX('Unit of measures'!$A$7:$R$24,MATCH(J$4,'Unit of measures'!$A$7:$A$24,0),MATCH($F264,'Unit of measures'!$A$7:$R$7,0))","v":{"$error":"#N/A"}},{"$f":"$G264*INDEX('Unit of measures'!$A$7:$R$24,MATCH(K$4,'Unit of measures'!$A$7:$A$24,0),MATCH($F264,'Unit of measures'!$A$7:$R$7,0))","v":{"$error":"#N/A"}},{"$f":"$G264*INDEX('Unit of measures'!$A$7:$R$24,MATCH(L$4,'Unit of measures'!$A$7:$A$24,0),MATCH($F264,'Unit of measures'!$A$7:$R$7,0))","v":{"$error":"#N/A"}},{"$f":"$G264*INDEX('Unit of measures'!$A$7:$R$24,MATCH(M$4,'Unit of measures'!$A$7:$A$24,0),MATCH($F264,'Unit of measures'!$A$7:$R$7,0))","v":{"$error":"#N/A"}},{"$f":"$G264*INDEX('Unit of measures'!$A$7:$R$24,MATCH(N$4,'Unit of measures'!$A$7:$A$24,0),MATCH($F264,'Unit of measures'!$A$7:$R$7,0))","v":{"$error":"#N/A"}},{"$f":"$G264*INDEX('Unit of measures'!$A$7:$R$24,MATCH(O$4,'Unit of measures'!$A$7:$A$24,0),MATCH($F264,'Unit of measures'!$A$7:$R$7,0))","v":{"$error":"#N/A"}},{"$f":"$G264*INDEX('Unit of measures'!$A$7:$R$24,MATCH(P$4,'Unit of measures'!$A$7:$A$24,0),MATCH($F264,'Unit of measures'!$A$7:$R$7,0))","v":{"$error":"#N/A"}},null,null,{"$f":"$R264*INDEX('Unit of measures'!$A$7:$R$24,MATCH(S$4,'Unit of measures'!$A$7:$A$24,0),MATCH($Q264,'Unit of measures'!$A$7:$R$7,0))","v":{"$error":"#N/A"}},{"$f":"$R264*INDEX('Unit of measures'!$A$7:$R$24,MATCH(T$4,'Unit of measures'!$A$7:$A$24,0),MATCH($Q264,'Unit of measures'!$A$7:$R$7,0))","v":{"$error":"#N/A"}},{"$f":"$R264*INDEX('Unit of measures'!$A$7:$R$24,MATCH(U$4,'Unit of measures'!$A$7:$A$24,0),MATCH($Q264,'Unit of measures'!$A$7:$R$7,0))","v":{"$error":"#N/A"}},{"$f":"$R264*INDEX('Unit of measures'!$A$7:$R$24,MATCH(V$4,'Unit of measures'!$A$7:$A$24,0),MATCH($Q264,'Unit of measures'!$A$7:$R$7,0))","v":{"$error":"#N/A"}},{"$f":"$R264*INDEX('Unit of measures'!$A$7:$R$24,MATCH(W$4,'Unit of measures'!$A$7:$A$24,0),MATCH($Q264,'Unit of measures'!$A$7:$R$7,0))","v":{"$error":"#N/A"}},"Each"]
[null,null,null,null,"",null,null,{"$f":"$G265*INDEX('Unit of measures'!$A$7:$R$24,MATCH(H$4,'Unit of measures'!$A$7:$A$24,0),MATCH($F265,'Unit of measures'!$A$7:$R$7,0))","v":{"$error":"#N/A"}},{"$f":"$G265*INDEX('Unit of measures'!$A$7:$R$24,MATCH(I$4,'Unit of measures'!$A$7:$A$24,0),MATCH($F265,'Unit of measures'!$A$7:$R$7,0))","v":{"$error":"#N/A"}},{"$f":"$G265*INDEX('Unit of measures'!$A$7:$R$24,MATCH(J$4,'Unit of measures'!$A$7:$A$24,0),MATCH($F265,'Unit of measures'!$A$7:$R$7,0))","v":{"$error":"#N/A"}},{"$f":"$G265*INDEX('Unit of measures'!$A$7:$R$24,MATCH(K$4,'Unit of measures'!$A$7:$A$24,0),MATCH($F265,'Unit of measures'!$A$7:$R$7,0))","v":{"$error":"#N/A"}},{"$f":"$G265*INDEX('Unit of measures'!$A$7:$R$24,MATCH(L$4,'Unit of measures'!$A$7:$A$24,0),MATCH($F265,'Unit of measures'!$A$7:$R$7,0))","v":{"$error":"#N/A"}},{"$f":"$G265*INDEX('Unit of measures'!$A$7:$R$24,MATCH(M$4,'Unit of measures'!$A$7:$A$24,0),MATCH($F265,'Unit of measures'!$A$7:$R$7,0))","v":{"$error":"#N/A"}},{"$f":"$G265*INDEX('Unit of measures'!$A$7:$R$24,MATCH(N$4,'Unit of measures'!$A$7:$A$24,0),MATCH($F265,'Unit of measures'!$A$7:$R$7,0))","v":{"$error":"#N/A"}},{"$f":"$G265*INDEX('Unit of measures'!$A$7:$R$24,MATCH(O$4,'Unit of measures'!$A$7:$A$24,0),MATCH($F265,'Unit of measures'!$A$7:$R$7,0))","v":{"$error":"#N/A"}},{"$f":"$G265*INDEX('Unit of measures'!$A$7:$R$24,MATCH(P$4,'Unit of measures'!$A$7:$A$24,0),MATCH($F265,'Unit of measures'!$A$7:$R$7,0))","v":{"$error":"#N/A"}},null,null,{"$f":"$R265*INDEX('Unit of measures'!$A$7:$R$24,MATCH(S$4,'Unit of measures'!$A$7:$A$24,0),MATCH($Q265,'Unit of measures'!$A$7:$R$7,0))","v":{"$error":"#N/A"}},{"$f":"$R265*INDEX('Unit of measures'!$A$7:$R$24,MATCH(T$4,'Unit of measures'!$A$7:$A$24,0),MATCH($Q265,'Unit of measures'!$A$7:$R$7,0))","v":{"$error":"#N/A"}},{"$f":"$R265*INDEX('Unit of measures'!$A$7:$R$24,MATCH(U$4,'Unit of measures'!$A$7:$A$24,0),MATCH($Q265,'Unit of measures'!$A$7:$R$7,0))","v":{"$error":"#N/A"}},{"$f":"$R265*INDEX('Unit of measures'!$A$7:$R$24,MATCH(V$4,'Unit of measures'!$A$7:$A$24,0),MATCH($Q265,'Unit of measures'!$A$7:$R$7,0))","v":{"$error":"#N/A"}},{"$f":"$R265*INDEX('Unit of measures'!$A$7:$R$24,MATCH(W$4,'Unit of measures'!$A$7:$A$24,0),MATCH($Q265,'Unit of measures'!$A$7:$R$7,0))","v":{"$error":"#N/A"}},"Each"]
[null,null,null,null,"",null,null,{"$f":"$G266*INDEX('Unit of measures'!$A$7:$R$24,MATCH(H$4,'Unit of measures'!$A$7:$A$24,0),MATCH($F266,'Unit of measures'!$A$7:$R$7,0))","v":{"$error":"#N/A"}},{"$f":"$G266*INDEX('Unit of measures'!$A$7:$R$24,MATCH(I$4,'Unit of measures'!$A$7:$A$24,0),MATCH($F266,'Unit of measures'!$A$7:$R$7,0))","v":{"$error":"#N/A"}},{"$f":"$G266*INDEX('Unit of measures'!$A$7:$R$24,MATCH(J$4,'Unit of measures'!$A$7:$A$24,0),MATCH($F266,'Unit of measures'!$A$7:$R$7,0))","v":{"$error":"#N/A"}},{"$f":"$G266*INDEX('Unit of measures'!$A$7:$R$24,MATCH(K$4,'Unit of measures'!$A$7:$A$24,0),MATCH($F266,'Unit of measures'!$A$7:$R$7,0))","v":{"$error":"#N/A"}},{"$f":"$G266*INDEX('Unit of measures'!$A$7:$R$24,MATCH(L$4,'Unit of measures'!$A$7:$A$24,0),MATCH($F266,'Unit of measures'!$A$7:$R$7,0))","v":{"$error":"#N/A"}},{"$f":"$G266*INDEX('Unit of measures'!$A$7:$R$24,MATCH(M$4,'Unit of measures'!$A$7:$A$24,0),MATCH($F266,'Unit of measures'!$A$7:$R$7,0))","v":{"$error":"#N/A"}},{"$f":"$G266*INDEX('Unit of measures'!$A$7:$R$24,MATCH(N$4,'Unit of measures'!$A$7:$A$24,0),MATCH($F266,'Unit of measures'!$A$7:$R$7,0))","v":{"$error":"#N/A"}},{"$f":"$G266*INDEX('Unit of measures'!$A$7:$R$24,MATCH(O$4,'Unit of measures'!$A$7:$A$24,0),MATCH($F266,'Unit of measures'!$A$7:$R$7,0))","v":{"$error":"#N/A"}},{"$f":"$G266*INDEX('Unit of measures'!$A$7:$R$24,MATCH(P$4,'Unit of measures'!$A$7:$A$24,0),MATCH($F266,'Unit of measures'!$A$7:$R$7,0))","v":{"$error":"#N/A"}},null,null,{"$f":"$R266*INDEX('Unit of measures'!$A$7:$R$24,MATCH(S$4,'Unit of measures'!$A$7:$A$24,0),MATCH($Q266,'Unit of measures'!$A$7:$R$7,0))","v":{"$error":"#N/A"}},{"$f":"$R266*INDEX('Unit of measures'!$A$7:$R$24,MATCH(T$4,'Unit of measures'!$A$7:$A$24,0),MATCH($Q266,'Unit of measures'!$A$7:$R$7,0))","v":{"$error":"#N/A"}},{"$f":"$R266*INDEX('Unit of measures'!$A$7:$R$24,MATCH(U$4,'Unit of measures'!$A$7:$A$24,0),MATCH($Q266,'Unit of measures'!$A$7:$R$7,0))","v":{"$error":"#N/A"}},{"$f":"$R266*INDEX('Unit of measures'!$A$7:$R$24,MATCH(V$4,'Unit of measures'!$A$7:$A$24,0),MATCH($Q266,'Unit of measures'!$A$7:$R$7,0))","v":{"$error":"#N/A"}},{"$f":"$R266*INDEX('Unit of measures'!$A$7:$R$24,MATCH(W$4,'Unit of measures'!$A$7:$A$24,0),MATCH($Q266,'Unit of measures'!$A$7:$R$7,0))","v":{"$error":"#N/A"}},"Each"]
[null,null,null,null,"",null,null,{"$f":"$G267*INDEX('Unit of measures'!$A$7:$R$24,MATCH(H$4,'Unit of measures'!$A$7:$A$24,0),MATCH($F267,'Unit of measures'!$A$7:$R$7,0))","v":{"$error":"#N/A"}},{"$f":"$G267*INDEX('Unit of measures'!$A$7:$R$24,MATCH(I$4,'Unit of measures'!$A$7:$A$24,0),MATCH($F267,'Unit of measures'!$A$7:$R$7,0))","v":{"$error":"#N/A"}},{"$f":"$G267*INDEX('Unit of measures'!$A$7:$R$24,MATCH(J$4,'Unit of measures'!$A$7:$A$24,0),MATCH($F267,'Unit of measures'!$A$7:$R$7,0))","v":{"$error":"#N/A"}},{"$f":"$G267*INDEX('Unit of measures'!$A$7:$R$24,MATCH(K$4,'Unit of measures'!$A$7:$A$24,0),MATCH($F267,'Unit of measures'!$A$7:$R$7,0))","v":{"$error":"#N/A"}},{"$f":"$G267*INDEX('Unit of measures'!$A$7:$R$24,MATCH(L$4,'Unit of measures'!$A$7:$A$24,0),MATCH($F267,'Unit of measures'!$A$7:$R$7,0))","v":{"$error":"#N/A"}},{"$f":"$G267*INDEX('Unit of measures'!$A$7:$R$24,MATCH(M$4,'Unit of measures'!$A$7:$A$24,0),MATCH($F267,'Unit of measures'!$A$7:$R$7,0))","v":{"$error":"#N/A"}},{"$f":"$G267*INDEX('Unit of measures'!$A$7:$R$24,MATCH(N$4,'Unit of measures'!$A$7:$A$24,0),MATCH($F267,'Unit of measures'!$A$7:$R$7,0))","v":{"$error":"#N/A"}},{"$f":"$G267*INDEX('Unit of measures'!$A$7:$R$24,MATCH(O$4,'Unit of measures'!$A$7:$A$24,0),MATCH($F267,'Unit of measures'!$A$7:$R$7,0))","v":{"$error":"#N/A"}},{"$f":"$G267*INDEX('Unit of measures'!$A$7:$R$24,MATCH(P$4,'Unit of measures'!$A$7:$A$24,0),MATCH($F267,'Unit of measures'!$A$7:$R$7,0))","v":{"$error":"#N/A"}},null,null,{"$f":"$R267*INDEX('Unit of measures'!$A$7:$R$24,MATCH(S$4,'Unit of measures'!$A$7:$A$24,0),MATCH($Q267,'Unit of measures'!$A$7:$R$7,0))","v":{"$error":"#N/A"}},{"$f":"$R267*INDEX('Unit of measures'!$A$7:$R$24,MATCH(T$4,'Unit of measures'!$A$7:$A$24,0),MATCH($Q267,'Unit of measures'!$A$7:$R$7,0))","v":{"$error":"#N/A"}},{"$f":"$R267*INDEX('Unit of measures'!$A$7:$R$24,MATCH(U$4,'Unit of measures'!$A$7:$A$24,0),MATCH($Q267,'Unit of measures'!$A$7:$R$7,0))","v":{"$error":"#N/A"}},{"$f":"$R267*INDEX('Unit of measures'!$A$7:$R$24,MATCH(V$4,'Unit of measures'!$A$7:$A$24,0),MATCH($Q267,'Unit of measures'!$A$7:$R$7,0))","v":{"$error":"#N/A"}},{"$f":"$R267*INDEX('Unit of measures'!$A$7:$R$24,MATCH(W$4,'Unit of measures'!$A$7:$A$24,0),MATCH($Q267,'Unit of measures'!$A$7:$R$7,0))","v":{"$error":"#N/A"}},"Each"]
[null,null,null,null,"",null,null,{"$f":"$G268*INDEX('Unit of measures'!$A$7:$R$24,MATCH(H$4,'Unit of measures'!$A$7:$A$24,0),MATCH($F268,'Unit of measures'!$A$7:$R$7,0))","v":{"$error":"#N/A"}},{"$f":"$G268*INDEX('Unit of measures'!$A$7:$R$24,MATCH(I$4,'Unit of measures'!$A$7:$A$24,0),MATCH($F268,'Unit of measures'!$A$7:$R$7,0))","v":{"$error":"#N/A"}},{"$f":"$G268*INDEX('Unit of measures'!$A$7:$R$24,MATCH(J$4,'Unit of measures'!$A$7:$A$24,0),MATCH($F268,'Unit of measures'!$A$7:$R$7,0))","v":{"$error":"#N/A"}},{"$f":"$G268*INDEX('Unit of measures'!$A$7:$R$24,MATCH(K$4,'Unit of measures'!$A$7:$A$24,0),MATCH($F268,'Unit of measures'!$A$7:$R$7,0))","v":{"$error":"#N/A"}},{"$f":"$G268*INDEX('Unit of measures'!$A$7:$R$24,MATCH(L$4,'Unit of measures'!$A$7:$A$24,0),MATCH($F268,'Unit of measures'!$A$7:$R$7,0))","v":{"$error":"#N/A"}},{"$f":"$G268*INDEX('Unit of measures'!$A$7:$R$24,MATCH(M$4,'Unit of measures'!$A$7:$A$24,0),MATCH($F268,'Unit of measures'!$A$7:$R$7,0))","v":{"$error":"#N/A"}},{"$f":"$G268*INDEX('Unit of measures'!$A$7:$R$24,MATCH(N$4,'Unit of measures'!$A$7:$A$24,0),MATCH($F268,'Unit of measures'!$A$7:$R$7,0))","v":{"$error":"#N/A"}},{"$f":"$G268*INDEX('Unit of measures'!$A$7:$R$24,MATCH(O$4,'Unit of measures'!$A$7:$A$24,0),MATCH($F268,'Unit of measures'!$A$7:$R$7,0))","v":{"$error":"#N/A"}},{"$f":"$G268*INDEX('Unit of measures'!$A$7:$R$24,MATCH(P$4,'Unit of measures'!$A$7:$A$24,0),MATCH($F268,'Unit of measures'!$A$7:$R$7,0))","v":{"$error":"#N/A"}},null,null,{"$f":"$R268*INDEX('Unit of measures'!$A$7:$R$24,MATCH(S$4,'Unit of measures'!$A$7:$A$24,0),MATCH($Q268,'Unit of measures'!$A$7:$R$7,0))","v":{"$error":"#N/A"}},{"$f":"$R268*INDEX('Unit of measures'!$A$7:$R$24,MATCH(T$4,'Unit of measures'!$A$7:$A$24,0),MATCH($Q268,'Unit of measures'!$A$7:$R$7,0))","v":{"$error":"#N/A"}},{"$f":"$R268*INDEX('Unit of measures'!$A$7:$R$24,MATCH(U$4,'Unit of measures'!$A$7:$A$24,0),MATCH($Q268,'Unit of measures'!$A$7:$R$7,0))","v":{"$error":"#N/A"}},{"$f":"$R268*INDEX('Unit of measures'!$A$7:$R$24,MATCH(V$4,'Unit of measures'!$A$7:$A$24,0),MATCH($Q268,'Unit of measures'!$A$7:$R$7,0))","v":{"$error":"#N/A"}},{"$f":"$R268*INDEX('Unit of measures'!$A$7:$R$24,MATCH(W$4,'Unit of measures'!$A$7:$A$24,0),MATCH($Q268,'Unit of measures'!$A$7:$R$7,0))","v":{"$error":"#N/A"}},"Each"]
[null,null,null,null,"",null,null,{"$f":"$G269*INDEX('Unit of measures'!$A$7:$R$24,MATCH(H$4,'Unit of measures'!$A$7:$A$24,0),MATCH($F269,'Unit of measures'!$A$7:$R$7,0))","v":{"$error":"#N/A"}},{"$f":"$G269*INDEX('Unit of measures'!$A$7:$R$24,MATCH(I$4,'Unit of measures'!$A$7:$A$24,0),MATCH($F269,'Unit of measures'!$A$7:$R$7,0))","v":{"$error":"#N/A"}},{"$f":"$G269*INDEX('Unit of measures'!$A$7:$R$24,MATCH(J$4,'Unit of measures'!$A$7:$A$24,0),MATCH($F269,'Unit of measures'!$A$7:$R$7,0))","v":{"$error":"#N/A"}},{"$f":"$G269*INDEX('Unit of measures'!$A$7:$R$24,MATCH(K$4,'Unit of measures'!$A$7:$A$24,0),MATCH($F269,'Unit of measures'!$A$7:$R$7,0))","v":{"$error":"#N/A"}},{"$f":"$G269*INDEX('Unit of measures'!$A$7:$R$24,MATCH(L$4,'Unit of measures'!$A$7:$A$24,0),MATCH($F269,'Unit of measures'!$A$7:$R$7,0))","v":{"$error":"#N/A"}},{"$f":"$G269*INDEX('Unit of measures'!$A$7:$R$24,MATCH(M$4,'Unit of measures'!$A$7:$A$24,0),MATCH($F269,'Unit of measures'!$A$7:$R$7,0))","v":{"$error":"#N/A"}},{"$f":"$G269*INDEX('Unit of measures'!$A$7:$R$24,MATCH(N$4,'Unit of measures'!$A$7:$A$24,0),MATCH($F269,'Unit of measures'!$A$7:$R$7,0))","v":{"$error":"#N/A"}},{"$f":"$G269*INDEX('Unit of measures'!$A$7:$R$24,MATCH(O$4,'Unit of measures'!$A$7:$A$24,0),MATCH($F269,'Unit of measures'!$A$7:$R$7,0))","v":{"$error":"#N/A"}},{"$f":"$G269*INDEX('Unit of measures'!$A$7:$R$24,MATCH(P$4,'Unit of measures'!$A$7:$A$24,0),MATCH($F269,'Unit of measures'!$A$7:$R$7,0))","v":{"$error":"#N/A"}},null,null,{"$f":"$R269*INDEX('Unit of measures'!$A$7:$R$24,MATCH(S$4,'Unit of measures'!$A$7:$A$24,0),MATCH($Q269,'Unit of measures'!$A$7:$R$7,0))","v":{"$error":"#N/A"}},{"$f":"$R269*INDEX('Unit of measures'!$A$7:$R$24,MATCH(T$4,'Unit of measures'!$A$7:$A$24,0),MATCH($Q269,'Unit of measures'!$A$7:$R$7,0))","v":{"$error":"#N/A"}},{"$f":"$R269*INDEX('Unit of measures'!$A$7:$R$24,MATCH(U$4,'Unit of measures'!$A$7:$A$24,0),MATCH($Q269,'Unit of measures'!$A$7:$R$7,0))","v":{"$error":"#N/A"}},{"$f":"$R269*INDEX('Unit of measures'!$A$7:$R$24,MATCH(V$4,'Unit of measures'!$A$7:$A$24,0),MATCH($Q269,'Unit of measures'!$A$7:$R$7,0))","v":{"$error":"#N/A"}},{"$f":"$R269*INDEX('Unit of measures'!$A$7:$R$24,MATCH(W$4,'Unit of measures'!$A$7:$A$24,0),MATCH($Q269,'Unit of measures'!$A$7:$R$7,0))","v":{"$error":"#N/A"}},"Each"]
[null,null,null,null,"",null,null,{"$f":"$G270*INDEX('Unit of measures'!$A$7:$R$24,MATCH(H$4,'Unit of measures'!$A$7:$A$24,0),MATCH($F270,'Unit of measures'!$A$7:$R$7,0))","v":{"$error":"#N/A"}},{"$f":"$G270*INDEX('Unit of measures'!$A$7:$R$24,MATCH(I$4,'Unit of measures'!$A$7:$A$24,0),MATCH($F270,'Unit of measures'!$A$7:$R$7,0))","v":{"$error":"#N/A"}},{"$f":"$G270*INDEX('Unit of measures'!$A$7:$R$24,MATCH(J$4,'Unit of measures'!$A$7:$A$24,0),MATCH($F270,'Unit of measures'!$A$7:$R$7,0))","v":{"$error":"#N/A"}},{"$f":"$G270*INDEX('Unit of measures'!$A$7:$R$24,MATCH(K$4,'Unit of measures'!$A$7:$A$24,0),MATCH($F270,'Unit of measures'!$A$7:$R$7,0))","v":{"$error":"#N/A"}},{"$f":"$G270*INDEX('Unit of measures'!$A$7:$R$24,MATCH(L$4,'Unit of measures'!$A$7:$A$24,0),MATCH($F270,'Unit of measures'!$A$7:$R$7,0))","v":{"$error":"#N/A"}},{"$f":"$G270*INDEX('Unit of measures'!$A$7:$R$24,MATCH(M$4,'Unit of measures'!$A$7:$A$24,0),MATCH($F270,'Unit of measures'!$A$7:$R$7,0))","v":{"$error":"#N/A"}},{"$f":"$G270*INDEX('Unit of measures'!$A$7:$R$24,MATCH(N$4,'Unit of measures'!$A$7:$A$24,0),MATCH($F270,'Unit of measures'!$A$7:$R$7,0))","v":{"$error":"#N/A"}},{"$f":"$G270*INDEX('Unit of measures'!$A$7:$R$24,MATCH(O$4,'Unit of measures'!$A$7:$A$24,0),MATCH($F270,'Unit of measures'!$A$7:$R$7,0))","v":{"$error":"#N/A"}},{"$f":"$G270*INDEX('Unit of measures'!$A$7:$R$24,MATCH(P$4,'Unit of measures'!$A$7:$A$24,0),MATCH($F270,'Unit of measures'!$A$7:$R$7,0))","v":{"$error":"#N/A"}},null,null,{"$f":"$R270*INDEX('Unit of measures'!$A$7:$R$24,MATCH(S$4,'Unit of measures'!$A$7:$A$24,0),MATCH($Q270,'Unit of measures'!$A$7:$R$7,0))","v":{"$error":"#N/A"}},{"$f":"$R270*INDEX('Unit of measures'!$A$7:$R$24,MATCH(T$4,'Unit of measures'!$A$7:$A$24,0),MATCH($Q270,'Unit of measures'!$A$7:$R$7,0))","v":{"$error":"#N/A"}},{"$f":"$R270*INDEX('Unit of measures'!$A$7:$R$24,MATCH(U$4,'Unit of measures'!$A$7:$A$24,0),MATCH($Q270,'Unit of measures'!$A$7:$R$7,0))","v":{"$error":"#N/A"}},{"$f":"$R270*INDEX('Unit of measures'!$A$7:$R$24,MATCH(V$4,'Unit of measures'!$A$7:$A$24,0),MATCH($Q270,'Unit of measures'!$A$7:$R$7,0))","v":{"$error":"#N/A"}},{"$f":"$R270*INDEX('Unit of measures'!$A$7:$R$24,MATCH(W$4,'Unit of measures'!$A$7:$A$24,0),MATCH($Q270,'Unit of measures'!$A$7:$R$7,0))","v":{"$error":"#N/A"}},"Each"]
[null,null,null,null,"",null,null,{"$f":"$G271*INDEX('Unit of measures'!$A$7:$R$24,MATCH(H$4,'Unit of measures'!$A$7:$A$24,0),MATCH($F271,'Unit of measures'!$A$7:$R$7,0))","v":{"$error":"#N/A"}},{"$f":"$G271*INDEX('Unit of measures'!$A$7:$R$24,MATCH(I$4,'Unit of measures'!$A$7:$A$24,0),MATCH($F271,'Unit of measures'!$A$7:$R$7,0))","v":{"$error":"#N/A"}},{"$f":"$G271*INDEX('Unit of measures'!$A$7:$R$24,MATCH(J$4,'Unit of measures'!$A$7:$A$24,0),MATCH($F271,'Unit of measures'!$A$7:$R$7,0))","v":{"$error":"#N/A"}},{"$f":"$G271*INDEX('Unit of measures'!$A$7:$R$24,MATCH(K$4,'Unit of measures'!$A$7:$A$24,0),MATCH($F271,'Unit of measures'!$A$7:$R$7,0))","v":{"$error":"#N/A"}},{"$f":"$G271*INDEX('Unit of measures'!$A$7:$R$24,MATCH(L$4,'Unit of measures'!$A$7:$A$24,0),MATCH($F271,'Unit of measures'!$A$7:$R$7,0))","v":{"$error":"#N/A"}},{"$f":"$G271*INDEX('Unit of measures'!$A$7:$R$24,MATCH(M$4,'Unit of measures'!$A$7:$A$24,0),MATCH($F271,'Unit of measures'!$A$7:$R$7,0))","v":{"$error":"#N/A"}},{"$f":"$G271*INDEX('Unit of measures'!$A$7:$R$24,MATCH(N$4,'Unit of measures'!$A$7:$A$24,0),MATCH($F271,'Unit of measures'!$A$7:$R$7,0))","v":{"$error":"#N/A"}},{"$f":"$G271*INDEX('Unit of measures'!$A$7:$R$24,MATCH(O$4,'Unit of measures'!$A$7:$A$24,0),MATCH($F271,'Unit of measures'!$A$7:$R$7,0))","v":{"$error":"#N/A"}},{"$f":"$G271*INDEX('Unit of measures'!$A$7:$R$24,MATCH(P$4,'Unit of measures'!$A$7:$A$24,0),MATCH($F271,'Unit of measures'!$A$7:$R$7,0))","v":{"$error":"#N/A"}},null,null,{"$f":"$R271*INDEX('Unit of measures'!$A$7:$R$24,MATCH(S$4,'Unit of measures'!$A$7:$A$24,0),MATCH($Q271,'Unit of measures'!$A$7:$R$7,0))","v":{"$error":"#N/A"}},{"$f":"$R271*INDEX('Unit of measures'!$A$7:$R$24,MATCH(T$4,'Unit of measures'!$A$7:$A$24,0),MATCH($Q271,'Unit of measures'!$A$7:$R$7,0))","v":{"$error":"#N/A"}},{"$f":"$R271*INDEX('Unit of measures'!$A$7:$R$24,MATCH(U$4,'Unit of measures'!$A$7:$A$24,0),MATCH($Q271,'Unit of measures'!$A$7:$R$7,0))","v":{"$error":"#N/A"}},{"$f":"$R271*INDEX('Unit of measures'!$A$7:$R$24,MATCH(V$4,'Unit of measures'!$A$7:$A$24,0),MATCH($Q271,'Unit of measures'!$A$7:$R$7,0))","v":{"$error":"#N/A"}},{"$f":"$R271*INDEX('Unit of measures'!$A$7:$R$24,MATCH(W$4,'Unit of measures'!$A$7:$A$24,0),MATCH($Q271,'Unit of measures'!$A$7:$R$7,0))","v":{"$error":"#N/A"}},"Each"]
[null,null,null,null,"",null,null,{"$f":"$G272*INDEX('Unit of measures'!$A$7:$R$24,MATCH(H$4,'Unit of measures'!$A$7:$A$24,0),MATCH($F272,'Unit of measures'!$A$7:$R$7,0))","v":{"$error":"#N/A"}},{"$f":"$G272*INDEX('Unit of measures'!$A$7:$R$24,MATCH(I$4,'Unit of measures'!$A$7:$A$24,0),MATCH($F272,'Unit of measures'!$A$7:$R$7,0))","v":{"$error":"#N/A"}},{"$f":"$G272*INDEX('Unit of measures'!$A$7:$R$24,MATCH(J$4,'Unit of measures'!$A$7:$A$24,0),MATCH($F272,'Unit of measures'!$A$7:$R$7,0))","v":{"$error":"#N/A"}},{"$f":"$G272*INDEX('Unit of measures'!$A$7:$R$24,MATCH(K$4,'Unit of measures'!$A$7:$A$24,0),MATCH($F272,'Unit of measures'!$A$7:$R$7,0))","v":{"$error":"#N/A"}},{"$f":"$G272*INDEX('Unit of measures'!$A$7:$R$24,MATCH(L$4,'Unit of measures'!$A$7:$A$24,0),MATCH($F272,'Unit of measures'!$A$7:$R$7,0))","v":{"$error":"#N/A"}},{"$f":"$G272*INDEX('Unit of measures'!$A$7:$R$24,MATCH(M$4,'Unit of measures'!$A$7:$A$24,0),MATCH($F272,'Unit of measures'!$A$7:$R$7,0))","v":{"$error":"#N/A"}},{"$f":"$G272*INDEX('Unit of measures'!$A$7:$R$24,MATCH(N$4,'Unit of measures'!$A$7:$A$24,0),MATCH($F272,'Unit of measures'!$A$7:$R$7,0))","v":{"$error":"#N/A"}},{"$f":"$G272*INDEX('Unit of measures'!$A$7:$R$24,MATCH(O$4,'Unit of measures'!$A$7:$A$24,0),MATCH($F272,'Unit of measures'!$A$7:$R$7,0))","v":{"$error":"#N/A"}},{"$f":"$G272*INDEX('Unit of measures'!$A$7:$R$24,MATCH(P$4,'Unit of measures'!$A$7:$A$24,0),MATCH($F272,'Unit of measures'!$A$7:$R$7,0))","v":{"$error":"#N/A"}},null,null,{"$f":"$R272*INDEX('Unit of measures'!$A$7:$R$24,MATCH(S$4,'Unit of measures'!$A$7:$A$24,0),MATCH($Q272,'Unit of measures'!$A$7:$R$7,0))","v":{"$error":"#N/A"}},{"$f":"$R272*INDEX('Unit of measures'!$A$7:$R$24,MATCH(T$4,'Unit of measures'!$A$7:$A$24,0),MATCH($Q272,'Unit of measures'!$A$7:$R$7,0))","v":{"$error":"#N/A"}},{"$f":"$R272*INDEX('Unit of measures'!$A$7:$R$24,MATCH(U$4,'Unit of measures'!$A$7:$A$24,0),MATCH($Q272,'Unit of measures'!$A$7:$R$7,0))","v":{"$error":"#N/A"}},{"$f":"$R272*INDEX('Unit of measures'!$A$7:$R$24,MATCH(V$4,'Unit of measures'!$A$7:$A$24,0),MATCH($Q272,'Unit of measures'!$A$7:$R$7,0))","v":{"$error":"#N/A"}},{"$f":"$R272*INDEX('Unit of measures'!$A$7:$R$24,MATCH(W$4,'Unit of measures'!$A$7:$A$24,0),MATCH($Q272,'Unit of measures'!$A$7:$R$7,0))","v":{"$error":"#N/A"}},"Each"]
[null,null,null,null,"",null,null,{"$f":"$G273*INDEX('Unit of measures'!$A$7:$R$24,MATCH(H$4,'Unit of measures'!$A$7:$A$24,0),MATCH($F273,'Unit of measures'!$A$7:$R$7,0))","v":{"$error":"#N/A"}},{"$f":"$G273*INDEX('Unit of measures'!$A$7:$R$24,MATCH(I$4,'Unit of measures'!$A$7:$A$24,0),MATCH($F273,'Unit of measures'!$A$7:$R$7,0))","v":{"$error":"#N/A"}},{"$f":"$G273*INDEX('Unit of measures'!$A$7:$R$24,MATCH(J$4,'Unit of measures'!$A$7:$A$24,0),MATCH($F273,'Unit of measures'!$A$7:$R$7,0))","v":{"$error":"#N/A"}},{"$f":"$G273*INDEX('Unit of measures'!$A$7:$R$24,MATCH(K$4,'Unit of measures'!$A$7:$A$24,0),MATCH($F273,'Unit of measures'!$A$7:$R$7,0))","v":{"$error":"#N/A"}},{"$f":"$G273*INDEX('Unit of measures'!$A$7:$R$24,MATCH(L$4,'Unit of measures'!$A$7:$A$24,0),MATCH($F273,'Unit of measures'!$A$7:$R$7,0))","v":{"$error":"#N/A"}},{"$f":"$G273*INDEX('Unit of measures'!$A$7:$R$24,MATCH(M$4,'Unit of measures'!$A$7:$A$24,0),MATCH($F273,'Unit of measures'!$A$7:$R$7,0))","v":{"$error":"#N/A"}},{"$f":"$G273*INDEX('Unit of measures'!$A$7:$R$24,MATCH(N$4,'Unit of measures'!$A$7:$A$24,0),MATCH($F273,'Unit of measures'!$A$7:$R$7,0))","v":{"$error":"#N/A"}},{"$f":"$G273*INDEX('Unit of measures'!$A$7:$R$24,MATCH(O$4,'Unit of measures'!$A$7:$A$24,0),MATCH($F273,'Unit of measures'!$A$7:$R$7,0))","v":{"$error":"#N/A"}},{"$f":"$G273*INDEX('Unit of measures'!$A$7:$R$24,MATCH(P$4,'Unit of measures'!$A$7:$A$24,0),MATCH($F273,'Unit of measures'!$A$7:$R$7,0))","v":{"$error":"#N/A"}},null,null,{"$f":"$R273*INDEX('Unit of measures'!$A$7:$R$24,MATCH(S$4,'Unit of measures'!$A$7:$A$24,0),MATCH($Q273,'Unit of measures'!$A$7:$R$7,0))","v":{"$error":"#N/A"}},{"$f":"$R273*INDEX('Unit of measures'!$A$7:$R$24,MATCH(T$4,'Unit of measures'!$A$7:$A$24,0),MATCH($Q273,'Unit of measures'!$A$7:$R$7,0))","v":{"$error":"#N/A"}},{"$f":"$R273*INDEX('Unit of measures'!$A$7:$R$24,MATCH(U$4,'Unit of measures'!$A$7:$A$24,0),MATCH($Q273,'Unit of measures'!$A$7:$R$7,0))","v":{"$error":"#N/A"}},{"$f":"$R273*INDEX('Unit of measures'!$A$7:$R$24,MATCH(V$4,'Unit of measures'!$A$7:$A$24,0),MATCH($Q273,'Unit of measures'!$A$7:$R$7,0))","v":{"$error":"#N/A"}},{"$f":"$R273*INDEX('Unit of measures'!$A$7:$R$24,MATCH(W$4,'Unit of measures'!$A$7:$A$24,0),MATCH($Q273,'Unit of measures'!$A$7:$R$7,0))","v":{"$error":"#N/A"}},"Each"]
[null,null,null,null,"",null,null,{"$f":"$G274*INDEX('Unit of measures'!$A$7:$R$24,MATCH(H$4,'Unit of measures'!$A$7:$A$24,0),MATCH($F274,'Unit of measures'!$A$7:$R$7,0))","v":{"$error":"#N/A"}},{"$f":"$G274*INDEX('Unit of measures'!$A$7:$R$24,MATCH(I$4,'Unit of measures'!$A$7:$A$24,0),MATCH($F274,'Unit of measures'!$A$7:$R$7,0))","v":{"$error":"#N/A"}},{"$f":"$G274*INDEX('Unit of measures'!$A$7:$R$24,MATCH(J$4,'Unit of measures'!$A$7:$A$24,0),MATCH($F274,'Unit of measures'!$A$7:$R$7,0))","v":{"$error":"#N/A"}},{"$f":"$G274*INDEX('Unit of measures'!$A$7:$R$24,MATCH(K$4,'Unit of measures'!$A$7:$A$24,0),MATCH($F274,'Unit of measures'!$A$7:$R$7,0))","v":{"$error":"#N/A"}},{"$f":"$G274*INDEX('Unit of measures'!$A$7:$R$24,MATCH(L$4,'Unit of measures'!$A$7:$A$24,0),MATCH($F274,'Unit of measures'!$A$7:$R$7,0))","v":{"$error":"#N/A"}},{"$f":"$G274*INDEX('Unit of measures'!$A$7:$R$24,MATCH(M$4,'Unit of measures'!$A$7:$A$24,0),MATCH($F274,'Unit of measures'!$A$7:$R$7,0))","v":{"$error":"#N/A"}},{"$f":"$G274*INDEX('Unit of measures'!$A$7:$R$24,MATCH(N$4,'Unit of measures'!$A$7:$A$24,0),MATCH($F274,'Unit of measures'!$A$7:$R$7,0))","v":{"$error":"#N/A"}},{"$f":"$G274*INDEX('Unit of measures'!$A$7:$R$24,MATCH(O$4,'Unit of measures'!$A$7:$A$24,0),MATCH($F274,'Unit of measures'!$A$7:$R$7,0))","v":{"$error":"#N/A"}},{"$f":"$G274*INDEX('Unit of measures'!$A$7:$R$24,MATCH(P$4,'Unit of measures'!$A$7:$A$24,0),MATCH($F274,'Unit of measures'!$A$7:$R$7,0))","v":{"$error":"#N/A"}},null,null,{"$f":"$R274*INDEX('Unit of measures'!$A$7:$R$24,MATCH(S$4,'Unit of measures'!$A$7:$A$24,0),MATCH($Q274,'Unit of measures'!$A$7:$R$7,0))","v":{"$error":"#N/A"}},{"$f":"$R274*INDEX('Unit of measures'!$A$7:$R$24,MATCH(T$4,'Unit of measures'!$A$7:$A$24,0),MATCH($Q274,'Unit of measures'!$A$7:$R$7,0))","v":{"$error":"#N/A"}},{"$f":"$R274*INDEX('Unit of measures'!$A$7:$R$24,MATCH(U$4,'Unit of measures'!$A$7:$A$24,0),MATCH($Q274,'Unit of measures'!$A$7:$R$7,0))","v":{"$error":"#N/A"}},{"$f":"$R274*INDEX('Unit of measures'!$A$7:$R$24,MATCH(V$4,'Unit of measures'!$A$7:$A$24,0),MATCH($Q274,'Unit of measures'!$A$7:$R$7,0))","v":{"$error":"#N/A"}},{"$f":"$R274*INDEX('Unit of measures'!$A$7:$R$24,MATCH(W$4,'Unit of measures'!$A$7:$A$24,0),MATCH($Q274,'Unit of measures'!$A$7:$R$7,0))","v":{"$error":"#N/A"}},"Each"]
[null,null,null,null,"",null,null,{"$f":"$G275*INDEX('Unit of measures'!$A$7:$R$24,MATCH(H$4,'Unit of measures'!$A$7:$A$24,0),MATCH($F275,'Unit of measures'!$A$7:$R$7,0))","v":{"$error":"#N/A"}},{"$f":"$G275*INDEX('Unit of measures'!$A$7:$R$24,MATCH(I$4,'Unit of measures'!$A$7:$A$24,0),MATCH($F275,'Unit of measures'!$A$7:$R$7,0))","v":{"$error":"#N/A"}},{"$f":"$G275*INDEX('Unit of measures'!$A$7:$R$24,MATCH(J$4,'Unit of measures'!$A$7:$A$24,0),MATCH($F275,'Unit of measures'!$A$7:$R$7,0))","v":{"$error":"#N/A"}},{"$f":"$G275*INDEX('Unit of measures'!$A$7:$R$24,MATCH(K$4,'Unit of measures'!$A$7:$A$24,0),MATCH($F275,'Unit of measures'!$A$7:$R$7,0))","v":{"$error":"#N/A"}},{"$f":"$G275*INDEX('Unit of measures'!$A$7:$R$24,MATCH(L$4,'Unit of measures'!$A$7:$A$24,0),MATCH($F275,'Unit of measures'!$A$7:$R$7,0))","v":{"$error":"#N/A"}},{"$f":"$G275*INDEX('Unit of measures'!$A$7:$R$24,MATCH(M$4,'Unit of measures'!$A$7:$A$24,0),MATCH($F275,'Unit of measures'!$A$7:$R$7,0))","v":{"$error":"#N/A"}},{"$f":"$G275*INDEX('Unit of measures'!$A$7:$R$24,MATCH(N$4,'Unit of measures'!$A$7:$A$24,0),MATCH($F275,'Unit of measures'!$A$7:$R$7,0))","v":{"$error":"#N/A"}},{"$f":"$G275*INDEX('Unit of measures'!$A$7:$R$24,MATCH(O$4,'Unit of measures'!$A$7:$A$24,0),MATCH($F275,'Unit of measures'!$A$7:$R$7,0))","v":{"$error":"#N/A"}},{"$f":"$G275*INDEX('Unit of measures'!$A$7:$R$24,MATCH(P$4,'Unit of measures'!$A$7:$A$24,0),MATCH($F275,'Unit of measures'!$A$7:$R$7,0))","v":{"$error":"#N/A"}},null,null,{"$f":"$R275*INDEX('Unit of measures'!$A$7:$R$24,MATCH(S$4,'Unit of measures'!$A$7:$A$24,0),MATCH($Q275,'Unit of measures'!$A$7:$R$7,0))","v":{"$error":"#N/A"}},{"$f":"$R275*INDEX('Unit of measures'!$A$7:$R$24,MATCH(T$4,'Unit of measures'!$A$7:$A$24,0),MATCH($Q275,'Unit of measures'!$A$7:$R$7,0))","v":{"$error":"#N/A"}},{"$f":"$R275*INDEX('Unit of measures'!$A$7:$R$24,MATCH(U$4,'Unit of measures'!$A$7:$A$24,0),MATCH($Q275,'Unit of measures'!$A$7:$R$7,0))","v":{"$error":"#N/A"}},{"$f":"$R275*INDEX('Unit of measures'!$A$7:$R$24,MATCH(V$4,'Unit of measures'!$A$7:$A$24,0),MATCH($Q275,'Unit of measures'!$A$7:$R$7,0))","v":{"$error":"#N/A"}},{"$f":"$R275*INDEX('Unit of measures'!$A$7:$R$24,MATCH(W$4,'Unit of measures'!$A$7:$A$24,0),MATCH($Q275,'Unit of measures'!$A$7:$R$7,0))","v":{"$error":"#N/A"}},"Each"]
[null,null,null,null,"",null,null,{"$f":"$G276*INDEX('Unit of measures'!$A$7:$R$24,MATCH(H$4,'Unit of measures'!$A$7:$A$24,0),MATCH($F276,'Unit of measures'!$A$7:$R$7,0))","v":{"$error":"#N/A"}},{"$f":"$G276*INDEX('Unit of measures'!$A$7:$R$24,MATCH(I$4,'Unit of measures'!$A$7:$A$24,0),MATCH($F276,'Unit of measures'!$A$7:$R$7,0))","v":{"$error":"#N/A"}},{"$f":"$G276*INDEX('Unit of measures'!$A$7:$R$24,MATCH(J$4,'Unit of measures'!$A$7:$A$24,0),MATCH($F276,'Unit of measures'!$A$7:$R$7,0))","v":{"$error":"#N/A"}},{"$f":"$G276*INDEX('Unit of measures'!$A$7:$R$24,MATCH(K$4,'Unit of measures'!$A$7:$A$24,0),MATCH($F276,'Unit of measures'!$A$7:$R$7,0))","v":{"$error":"#N/A"}},{"$f":"$G276*INDEX('Unit of measures'!$A$7:$R$24,MATCH(L$4,'Unit of measures'!$A$7:$A$24,0),MATCH($F276,'Unit of measures'!$A$7:$R$7,0))","v":{"$error":"#N/A"}},{"$f":"$G276*INDEX('Unit of measures'!$A$7:$R$24,MATCH(M$4,'Unit of measures'!$A$7:$A$24,0),MATCH($F276,'Unit of measures'!$A$7:$R$7,0))","v":{"$error":"#N/A"}},{"$f":"$G276*INDEX('Unit of measures'!$A$7:$R$24,MATCH(N$4,'Unit of measures'!$A$7:$A$24,0),MATCH($F276,'Unit of measures'!$A$7:$R$7,0))","v":{"$error":"#N/A"}},{"$f":"$G276*INDEX('Unit of measures'!$A$7:$R$24,MATCH(O$4,'Unit of measures'!$A$7:$A$24,0),MATCH($F276,'Unit of measures'!$A$7:$R$7,0))","v":{"$error":"#N/A"}},{"$f":"$G276*INDEX('Unit of measures'!$A$7:$R$24,MATCH(P$4,'Unit of measures'!$A$7:$A$24,0),MATCH($F276,'Unit of measures'!$A$7:$R$7,0))","v":{"$error":"#N/A"}},null,null,{"$f":"$R276*INDEX('Unit of measures'!$A$7:$R$24,MATCH(S$4,'Unit of measures'!$A$7:$A$24,0),MATCH($Q276,'Unit of measures'!$A$7:$R$7,0))","v":{"$error":"#N/A"}},{"$f":"$R276*INDEX('Unit of measures'!$A$7:$R$24,MATCH(T$4,'Unit of measures'!$A$7:$A$24,0),MATCH($Q276,'Unit of measures'!$A$7:$R$7,0))","v":{"$error":"#N/A"}},{"$f":"$R276*INDEX('Unit of measures'!$A$7:$R$24,MATCH(U$4,'Unit of measures'!$A$7:$A$24,0),MATCH($Q276,'Unit of measures'!$A$7:$R$7,0))","v":{"$error":"#N/A"}},{"$f":"$R276*INDEX('Unit of measures'!$A$7:$R$24,MATCH(V$4,'Unit of measures'!$A$7:$A$24,0),MATCH($Q276,'Unit of measures'!$A$7:$R$7,0))","v":{"$error":"#N/A"}},{"$f":"$R276*INDEX('Unit of measures'!$A$7:$R$24,MATCH(W$4,'Unit of measures'!$A$7:$A$24,0),MATCH($Q276,'Unit of measures'!$A$7:$R$7,0))","v":{"$error":"#N/A"}},"Each"]
[null,null,null,null,"",null,null,{"$f":"$G277*INDEX('Unit of measures'!$A$7:$R$24,MATCH(H$4,'Unit of measures'!$A$7:$A$24,0),MATCH($F277,'Unit of measures'!$A$7:$R$7,0))","v":{"$error":"#N/A"}},{"$f":"$G277*INDEX('Unit of measures'!$A$7:$R$24,MATCH(I$4,'Unit of measures'!$A$7:$A$24,0),MATCH($F277,'Unit of measures'!$A$7:$R$7,0))","v":{"$error":"#N/A"}},{"$f":"$G277*INDEX('Unit of measures'!$A$7:$R$24,MATCH(J$4,'Unit of measures'!$A$7:$A$24,0),MATCH($F277,'Unit of measures'!$A$7:$R$7,0))","v":{"$error":"#N/A"}},{"$f":"$G277*INDEX('Unit of measures'!$A$7:$R$24,MATCH(K$4,'Unit of measures'!$A$7:$A$24,0),MATCH($F277,'Unit of measures'!$A$7:$R$7,0))","v":{"$error":"#N/A"}},{"$f":"$G277*INDEX('Unit of measures'!$A$7:$R$24,MATCH(L$4,'Unit of measures'!$A$7:$A$24,0),MATCH($F277,'Unit of measures'!$A$7:$R$7,0))","v":{"$error":"#N/A"}},{"$f":"$G277*INDEX('Unit of measures'!$A$7:$R$24,MATCH(M$4,'Unit of measures'!$A$7:$A$24,0),MATCH($F277,'Unit of measures'!$A$7:$R$7,0))","v":{"$error":"#N/A"}},{"$f":"$G277*INDEX('Unit of measures'!$A$7:$R$24,MATCH(N$4,'Unit of measures'!$A$7:$A$24,0),MATCH($F277,'Unit of measures'!$A$7:$R$7,0))","v":{"$error":"#N/A"}},{"$f":"$G277*INDEX('Unit of measures'!$A$7:$R$24,MATCH(O$4,'Unit of measures'!$A$7:$A$24,0),MATCH($F277,'Unit of measures'!$A$7:$R$7,0))","v":{"$error":"#N/A"}},{"$f":"$G277*INDEX('Unit of measures'!$A$7:$R$24,MATCH(P$4,'Unit of measures'!$A$7:$A$24,0),MATCH($F277,'Unit of measures'!$A$7:$R$7,0))","v":{"$error":"#N/A"}},null,null,{"$f":"$R277*INDEX('Unit of measures'!$A$7:$R$24,MATCH(S$4,'Unit of measures'!$A$7:$A$24,0),MATCH($Q277,'Unit of measures'!$A$7:$R$7,0))","v":{"$error":"#N/A"}},{"$f":"$R277*INDEX('Unit of measures'!$A$7:$R$24,MATCH(T$4,'Unit of measures'!$A$7:$A$24,0),MATCH($Q277,'Unit of measures'!$A$7:$R$7,0))","v":{"$error":"#N/A"}},{"$f":"$R277*INDEX('Unit of measures'!$A$7:$R$24,MATCH(U$4,'Unit of measures'!$A$7:$A$24,0),MATCH($Q277,'Unit of measures'!$A$7:$R$7,0))","v":{"$error":"#N/A"}},{"$f":"$R277*INDEX('Unit of measures'!$A$7:$R$24,MATCH(V$4,'Unit of measures'!$A$7:$A$24,0),MATCH($Q277,'Unit of measures'!$A$7:$R$7,0))","v":{"$error":"#N/A"}},{"$f":"$R277*INDEX('Unit of measures'!$A$7:$R$24,MATCH(W$4,'Unit of measures'!$A$7:$A$24,0),MATCH($Q277,'Unit of measures'!$A$7:$R$7,0))","v":{"$error":"#N/A"}},"Each"]
[null,null,null,null,"",null,null,{"$f":"$G278*INDEX('Unit of measures'!$A$7:$R$24,MATCH(H$4,'Unit of measures'!$A$7:$A$24,0),MATCH($F278,'Unit of measures'!$A$7:$R$7,0))","v":{"$error":"#N/A"}},{"$f":"$G278*INDEX('Unit of measures'!$A$7:$R$24,MATCH(I$4,'Unit of measures'!$A$7:$A$24,0),MATCH($F278,'Unit of measures'!$A$7:$R$7,0))","v":{"$error":"#N/A"}},{"$f":"$G278*INDEX('Unit of measures'!$A$7:$R$24,MATCH(J$4,'Unit of measures'!$A$7:$A$24,0),MATCH($F278,'Unit of measures'!$A$7:$R$7,0))","v":{"$error":"#N/A"}},{"$f":"$G278*INDEX('Unit of measures'!$A$7:$R$24,MATCH(K$4,'Unit of measures'!$A$7:$A$24,0),MATCH($F278,'Unit of measures'!$A$7:$R$7,0))","v":{"$error":"#N/A"}},{"$f":"$G278*INDEX('Unit of measures'!$A$7:$R$24,MATCH(L$4,'Unit of measures'!$A$7:$A$24,0),MATCH($F278,'Unit of measures'!$A$7:$R$7,0))","v":{"$error":"#N/A"}},{"$f":"$G278*INDEX('Unit of measures'!$A$7:$R$24,MATCH(M$4,'Unit of measures'!$A$7:$A$24,0),MATCH($F278,'Unit of measures'!$A$7:$R$7,0))","v":{"$error":"#N/A"}},{"$f":"$G278*INDEX('Unit of measures'!$A$7:$R$24,MATCH(N$4,'Unit of measures'!$A$7:$A$24,0),MATCH($F278,'Unit of measures'!$A$7:$R$7,0))","v":{"$error":"#N/A"}},{"$f":"$G278*INDEX('Unit of measures'!$A$7:$R$24,MATCH(O$4,'Unit of measures'!$A$7:$A$24,0),MATCH($F278,'Unit of measures'!$A$7:$R$7,0))","v":{"$error":"#N/A"}},{"$f":"$G278*INDEX('Unit of measures'!$A$7:$R$24,MATCH(P$4,'Unit of measures'!$A$7:$A$24,0),MATCH($F278,'Unit of measures'!$A$7:$R$7,0))","v":{"$error":"#N/A"}},null,null,{"$f":"$R278*INDEX('Unit of measures'!$A$7:$R$24,MATCH(S$4,'Unit of measures'!$A$7:$A$24,0),MATCH($Q278,'Unit of measures'!$A$7:$R$7,0))","v":{"$error":"#N/A"}},{"$f":"$R278*INDEX('Unit of measures'!$A$7:$R$24,MATCH(T$4,'Unit of measures'!$A$7:$A$24,0),MATCH($Q278,'Unit of measures'!$A$7:$R$7,0))","v":{"$error":"#N/A"}},{"$f":"$R278*INDEX('Unit of measures'!$A$7:$R$24,MATCH(U$4,'Unit of measures'!$A$7:$A$24,0),MATCH($Q278,'Unit of measures'!$A$7:$R$7,0))","v":{"$error":"#N/A"}},{"$f":"$R278*INDEX('Unit of measures'!$A$7:$R$24,MATCH(V$4,'Unit of measures'!$A$7:$A$24,0),MATCH($Q278,'Unit of measures'!$A$7:$R$7,0))","v":{"$error":"#N/A"}},{"$f":"$R278*INDEX('Unit of measures'!$A$7:$R$24,MATCH(W$4,'Unit of measures'!$A$7:$A$24,0),MATCH($Q278,'Unit of measures'!$A$7:$R$7,0))","v":{"$error":"#N/A"}},"Each"]
[null,null,null,null,"",null,null,{"$f":"$G279*INDEX('Unit of measures'!$A$7:$R$24,MATCH(H$4,'Unit of measures'!$A$7:$A$24,0),MATCH($F279,'Unit of measures'!$A$7:$R$7,0))","v":{"$error":"#N/A"}},{"$f":"$G279*INDEX('Unit of measures'!$A$7:$R$24,MATCH(I$4,'Unit of measures'!$A$7:$A$24,0),MATCH($F279,'Unit of measures'!$A$7:$R$7,0))","v":{"$error":"#N/A"}},{"$f":"$G279*INDEX('Unit of measures'!$A$7:$R$24,MATCH(J$4,'Unit of measures'!$A$7:$A$24,0),MATCH($F279,'Unit of measures'!$A$7:$R$7,0))","v":{"$error":"#N/A"}},{"$f":"$G279*INDEX('Unit of measures'!$A$7:$R$24,MATCH(K$4,'Unit of measures'!$A$7:$A$24,0),MATCH($F279,'Unit of measures'!$A$7:$R$7,0))","v":{"$error":"#N/A"}},{"$f":"$G279*INDEX('Unit of measures'!$A$7:$R$24,MATCH(L$4,'Unit of measures'!$A$7:$A$24,0),MATCH($F279,'Unit of measures'!$A$7:$R$7,0))","v":{"$error":"#N/A"}},{"$f":"$G279*INDEX('Unit of measures'!$A$7:$R$24,MATCH(M$4,'Unit of measures'!$A$7:$A$24,0),MATCH($F279,'Unit of measures'!$A$7:$R$7,0))","v":{"$error":"#N/A"}},{"$f":"$G279*INDEX('Unit of measures'!$A$7:$R$24,MATCH(N$4,'Unit of measures'!$A$7:$A$24,0),MATCH($F279,'Unit of measures'!$A$7:$R$7,0))","v":{"$error":"#N/A"}},{"$f":"$G279*INDEX('Unit of measures'!$A$7:$R$24,MATCH(O$4,'Unit of measures'!$A$7:$A$24,0),MATCH($F279,'Unit of measures'!$A$7:$R$7,0))","v":{"$error":"#N/A"}},{"$f":"$G279*INDEX('Unit of measures'!$A$7:$R$24,MATCH(P$4,'Unit of measures'!$A$7:$A$24,0),MATCH($F279,'Unit of measures'!$A$7:$R$7,0))","v":{"$error":"#N/A"}},null,null,{"$f":"$R279*INDEX('Unit of measures'!$A$7:$R$24,MATCH(S$4,'Unit of measures'!$A$7:$A$24,0),MATCH($Q279,'Unit of measures'!$A$7:$R$7,0))","v":{"$error":"#N/A"}},{"$f":"$R279*INDEX('Unit of measures'!$A$7:$R$24,MATCH(T$4,'Unit of measures'!$A$7:$A$24,0),MATCH($Q279,'Unit of measures'!$A$7:$R$7,0))","v":{"$error":"#N/A"}},{"$f":"$R279*INDEX('Unit of measures'!$A$7:$R$24,MATCH(U$4,'Unit of measures'!$A$7:$A$24,0),MATCH($Q279,'Unit of measures'!$A$7:$R$7,0))","v":{"$error":"#N/A"}},{"$f":"$R279*INDEX('Unit of measures'!$A$7:$R$24,MATCH(V$4,'Unit of measures'!$A$7:$A$24,0),MATCH($Q279,'Unit of measures'!$A$7:$R$7,0))","v":{"$error":"#N/A"}},{"$f":"$R279*INDEX('Unit of measures'!$A$7:$R$24,MATCH(W$4,'Unit of measures'!$A$7:$A$24,0),MATCH($Q279,'Unit of measures'!$A$7:$R$7,0))","v":{"$error":"#N/A"}},"Each"]
[null,null,null,null,"",null,null,{"$f":"$G280*INDEX('Unit of measures'!$A$7:$R$24,MATCH(H$4,'Unit of measures'!$A$7:$A$24,0),MATCH($F280,'Unit of measures'!$A$7:$R$7,0))","v":{"$error":"#N/A"}},{"$f":"$G280*INDEX('Unit of measures'!$A$7:$R$24,MATCH(I$4,'Unit of measures'!$A$7:$A$24,0),MATCH($F280,'Unit of measures'!$A$7:$R$7,0))","v":{"$error":"#N/A"}},{"$f":"$G280*INDEX('Unit of measures'!$A$7:$R$24,MATCH(J$4,'Unit of measures'!$A$7:$A$24,0),MATCH($F280,'Unit of measures'!$A$7:$R$7,0))","v":{"$error":"#N/A"}},{"$f":"$G280*INDEX('Unit of measures'!$A$7:$R$24,MATCH(K$4,'Unit of measures'!$A$7:$A$24,0),MATCH($F280,'Unit of measures'!$A$7:$R$7,0))","v":{"$error":"#N/A"}},{"$f":"$G280*INDEX('Unit of measures'!$A$7:$R$24,MATCH(L$4,'Unit of measures'!$A$7:$A$24,0),MATCH($F280,'Unit of measures'!$A$7:$R$7,0))","v":{"$error":"#N/A"}},{"$f":"$G280*INDEX('Unit of measures'!$A$7:$R$24,MATCH(M$4,'Unit of measures'!$A$7:$A$24,0),MATCH($F280,'Unit of measures'!$A$7:$R$7,0))","v":{"$error":"#N/A"}},{"$f":"$G280*INDEX('Unit of measures'!$A$7:$R$24,MATCH(N$4,'Unit of measures'!$A$7:$A$24,0),MATCH($F280,'Unit of measures'!$A$7:$R$7,0))","v":{"$error":"#N/A"}},{"$f":"$G280*INDEX('Unit of measures'!$A$7:$R$24,MATCH(O$4,'Unit of measures'!$A$7:$A$24,0),MATCH($F280,'Unit of measures'!$A$7:$R$7,0))","v":{"$error":"#N/A"}},{"$f":"$G280*INDEX('Unit of measures'!$A$7:$R$24,MATCH(P$4,'Unit of measures'!$A$7:$A$24,0),MATCH($F280,'Unit of measures'!$A$7:$R$7,0))","v":{"$error":"#N/A"}},null,null,{"$f":"$R280*INDEX('Unit of measures'!$A$7:$R$24,MATCH(S$4,'Unit of measures'!$A$7:$A$24,0),MATCH($Q280,'Unit of measures'!$A$7:$R$7,0))","v":{"$error":"#N/A"}},{"$f":"$R280*INDEX('Unit of measures'!$A$7:$R$24,MATCH(T$4,'Unit of measures'!$A$7:$A$24,0),MATCH($Q280,'Unit of measures'!$A$7:$R$7,0))","v":{"$error":"#N/A"}},{"$f":"$R280*INDEX('Unit of measures'!$A$7:$R$24,MATCH(U$4,'Unit of measures'!$A$7:$A$24,0),MATCH($Q280,'Unit of measures'!$A$7:$R$7,0))","v":{"$error":"#N/A"}},{"$f":"$R280*INDEX('Unit of measures'!$A$7:$R$24,MATCH(V$4,'Unit of measures'!$A$7:$A$24,0),MATCH($Q280,'Unit of measures'!$A$7:$R$7,0))","v":{"$error":"#N/A"}},{"$f":"$R280*INDEX('Unit of measures'!$A$7:$R$24,MATCH(W$4,'Unit of measures'!$A$7:$A$24,0),MATCH($Q280,'Unit of measures'!$A$7:$R$7,0))","v":{"$error":"#N/A"}},"Each"]
[null,null,null,null,"",null,null,{"$f":"$G281*INDEX('Unit of measures'!$A$7:$R$24,MATCH(H$4,'Unit of measures'!$A$7:$A$24,0),MATCH($F281,'Unit of measures'!$A$7:$R$7,0))","v":{"$error":"#N/A"}},{"$f":"$G281*INDEX('Unit of measures'!$A$7:$R$24,MATCH(I$4,'Unit of measures'!$A$7:$A$24,0),MATCH($F281,'Unit of measures'!$A$7:$R$7,0))","v":{"$error":"#N/A"}},{"$f":"$G281*INDEX('Unit of measures'!$A$7:$R$24,MATCH(J$4,'Unit of measures'!$A$7:$A$24,0),MATCH($F281,'Unit of measures'!$A$7:$R$7,0))","v":{"$error":"#N/A"}},{"$f":"$G281*INDEX('Unit of measures'!$A$7:$R$24,MATCH(K$4,'Unit of measures'!$A$7:$A$24,0),MATCH($F281,'Unit of measures'!$A$7:$R$7,0))","v":{"$error":"#N/A"}},{"$f":"$G281*INDEX('Unit of measures'!$A$7:$R$24,MATCH(L$4,'Unit of measures'!$A$7:$A$24,0),MATCH($F281,'Unit of measures'!$A$7:$R$7,0))","v":{"$error":"#N/A"}},{"$f":"$G281*INDEX('Unit of measures'!$A$7:$R$24,MATCH(M$4,'Unit of measures'!$A$7:$A$24,0),MATCH($F281,'Unit of measures'!$A$7:$R$7,0))","v":{"$error":"#N/A"}},{"$f":"$G281*INDEX('Unit of measures'!$A$7:$R$24,MATCH(N$4,'Unit of measures'!$A$7:$A$24,0),MATCH($F281,'Unit of measures'!$A$7:$R$7,0))","v":{"$error":"#N/A"}},{"$f":"$G281*INDEX('Unit of measures'!$A$7:$R$24,MATCH(O$4,'Unit of measures'!$A$7:$A$24,0),MATCH($F281,'Unit of measures'!$A$7:$R$7,0))","v":{"$error":"#N/A"}},{"$f":"$G281*INDEX('Unit of measures'!$A$7:$R$24,MATCH(P$4,'Unit of measures'!$A$7:$A$24,0),MATCH($F281,'Unit of measures'!$A$7:$R$7,0))","v":{"$error":"#N/A"}},null,null,{"$f":"$R281*INDEX('Unit of measures'!$A$7:$R$24,MATCH(S$4,'Unit of measures'!$A$7:$A$24,0),MATCH($Q281,'Unit of measures'!$A$7:$R$7,0))","v":{"$error":"#N/A"}},{"$f":"$R281*INDEX('Unit of measures'!$A$7:$R$24,MATCH(T$4,'Unit of measures'!$A$7:$A$24,0),MATCH($Q281,'Unit of measures'!$A$7:$R$7,0))","v":{"$error":"#N/A"}},{"$f":"$R281*INDEX('Unit of measures'!$A$7:$R$24,MATCH(U$4,'Unit of measures'!$A$7:$A$24,0),MATCH($Q281,'Unit of measures'!$A$7:$R$7,0))","v":{"$error":"#N/A"}},{"$f":"$R281*INDEX('Unit of measures'!$A$7:$R$24,MATCH(V$4,'Unit of measures'!$A$7:$A$24,0),MATCH($Q281,'Unit of measures'!$A$7:$R$7,0))","v":{"$error":"#N/A"}},{"$f":"$R281*INDEX('Unit of measures'!$A$7:$R$24,MATCH(W$4,'Unit of measures'!$A$7:$A$24,0),MATCH($Q281,'Unit of measures'!$A$7:$R$7,0))","v":{"$error":"#N/A"}},"Each"]
[null,null,null,null,"",null,null,{"$f":"$G282*INDEX('Unit of measures'!$A$7:$R$24,MATCH(H$4,'Unit of measures'!$A$7:$A$24,0),MATCH($F282,'Unit of measures'!$A$7:$R$7,0))","v":{"$error":"#N/A"}},{"$f":"$G282*INDEX('Unit of measures'!$A$7:$R$24,MATCH(I$4,'Unit of measures'!$A$7:$A$24,0),MATCH($F282,'Unit of measures'!$A$7:$R$7,0))","v":{"$error":"#N/A"}},{"$f":"$G282*INDEX('Unit of measures'!$A$7:$R$24,MATCH(J$4,'Unit of measures'!$A$7:$A$24,0),MATCH($F282,'Unit of measures'!$A$7:$R$7,0))","v":{"$error":"#N/A"}},{"$f":"$G282*INDEX('Unit of measures'!$A$7:$R$24,MATCH(K$4,'Unit of measures'!$A$7:$A$24,0),MATCH($F282,'Unit of measures'!$A$7:$R$7,0))","v":{"$error":"#N/A"}},{"$f":"$G282*INDEX('Unit of measures'!$A$7:$R$24,MATCH(L$4,'Unit of measures'!$A$7:$A$24,0),MATCH($F282,'Unit of measures'!$A$7:$R$7,0))","v":{"$error":"#N/A"}},{"$f":"$G282*INDEX('Unit of measures'!$A$7:$R$24,MATCH(M$4,'Unit of measures'!$A$7:$A$24,0),MATCH($F282,'Unit of measures'!$A$7:$R$7,0))","v":{"$error":"#N/A"}},{"$f":"$G282*INDEX('Unit of measures'!$A$7:$R$24,MATCH(N$4,'Unit of measures'!$A$7:$A$24,0),MATCH($F282,'Unit of measures'!$A$7:$R$7,0))","v":{"$error":"#N/A"}},{"$f":"$G282*INDEX('Unit of measures'!$A$7:$R$24,MATCH(O$4,'Unit of measures'!$A$7:$A$24,0),MATCH($F282,'Unit of measures'!$A$7:$R$7,0))","v":{"$error":"#N/A"}},{"$f":"$G282*INDEX('Unit of measures'!$A$7:$R$24,MATCH(P$4,'Unit of measures'!$A$7:$A$24,0),MATCH($F282,'Unit of measures'!$A$7:$R$7,0))","v":{"$error":"#N/A"}},null,null,{"$f":"$R282*INDEX('Unit of measures'!$A$7:$R$24,MATCH(S$4,'Unit of measures'!$A$7:$A$24,0),MATCH($Q282,'Unit of measures'!$A$7:$R$7,0))","v":{"$error":"#N/A"}},{"$f":"$R282*INDEX('Unit of measures'!$A$7:$R$24,MATCH(T$4,'Unit of measures'!$A$7:$A$24,0),MATCH($Q282,'Unit of measures'!$A$7:$R$7,0))","v":{"$error":"#N/A"}},{"$f":"$R282*INDEX('Unit of measures'!$A$7:$R$24,MATCH(U$4,'Unit of measures'!$A$7:$A$24,0),MATCH($Q282,'Unit of measures'!$A$7:$R$7,0))","v":{"$error":"#N/A"}},{"$f":"$R282*INDEX('Unit of measures'!$A$7:$R$24,MATCH(V$4,'Unit of measures'!$A$7:$A$24,0),MATCH($Q282,'Unit of measures'!$A$7:$R$7,0))","v":{"$error":"#N/A"}},{"$f":"$R282*INDEX('Unit of measures'!$A$7:$R$24,MATCH(W$4,'Unit of measures'!$A$7:$A$24,0),MATCH($Q282,'Unit of measures'!$A$7:$R$7,0))","v":{"$error":"#N/A"}},"Each"]
[null,null,null,null,"",null,null,{"$f":"$G283*INDEX('Unit of measures'!$A$7:$R$24,MATCH(H$4,'Unit of measures'!$A$7:$A$24,0),MATCH($F283,'Unit of measures'!$A$7:$R$7,0))","v":{"$error":"#N/A"}},{"$f":"$G283*INDEX('Unit of measures'!$A$7:$R$24,MATCH(I$4,'Unit of measures'!$A$7:$A$24,0),MATCH($F283,'Unit of measures'!$A$7:$R$7,0))","v":{"$error":"#N/A"}},{"$f":"$G283*INDEX('Unit of measures'!$A$7:$R$24,MATCH(J$4,'Unit of measures'!$A$7:$A$24,0),MATCH($F283,'Unit of measures'!$A$7:$R$7,0))","v":{"$error":"#N/A"}},{"$f":"$G283*INDEX('Unit of measures'!$A$7:$R$24,MATCH(K$4,'Unit of measures'!$A$7:$A$24,0),MATCH($F283,'Unit of measures'!$A$7:$R$7,0))","v":{"$error":"#N/A"}},{"$f":"$G283*INDEX('Unit of measures'!$A$7:$R$24,MATCH(L$4,'Unit of measures'!$A$7:$A$24,0),MATCH($F283,'Unit of measures'!$A$7:$R$7,0))","v":{"$error":"#N/A"}},{"$f":"$G283*INDEX('Unit of measures'!$A$7:$R$24,MATCH(M$4,'Unit of measures'!$A$7:$A$24,0),MATCH($F283,'Unit of measures'!$A$7:$R$7,0))","v":{"$error":"#N/A"}},{"$f":"$G283*INDEX('Unit of measures'!$A$7:$R$24,MATCH(N$4,'Unit of measures'!$A$7:$A$24,0),MATCH($F283,'Unit of measures'!$A$7:$R$7,0))","v":{"$error":"#N/A"}},{"$f":"$G283*INDEX('Unit of measures'!$A$7:$R$24,MATCH(O$4,'Unit of measures'!$A$7:$A$24,0),MATCH($F283,'Unit of measures'!$A$7:$R$7,0))","v":{"$error":"#N/A"}},{"$f":"$G283*INDEX('Unit of measures'!$A$7:$R$24,MATCH(P$4,'Unit of measures'!$A$7:$A$24,0),MATCH($F283,'Unit of measures'!$A$7:$R$7,0))","v":{"$error":"#N/A"}},null,null,{"$f":"$R283*INDEX('Unit of measures'!$A$7:$R$24,MATCH(S$4,'Unit of measures'!$A$7:$A$24,0),MATCH($Q283,'Unit of measures'!$A$7:$R$7,0))","v":{"$error":"#N/A"}},{"$f":"$R283*INDEX('Unit of measures'!$A$7:$R$24,MATCH(T$4,'Unit of measures'!$A$7:$A$24,0),MATCH($Q283,'Unit of measures'!$A$7:$R$7,0))","v":{"$error":"#N/A"}},{"$f":"$R283*INDEX('Unit of measures'!$A$7:$R$24,MATCH(U$4,'Unit of measures'!$A$7:$A$24,0),MATCH($Q283,'Unit of measures'!$A$7:$R$7,0))","v":{"$error":"#N/A"}},{"$f":"$R283*INDEX('Unit of measures'!$A$7:$R$24,MATCH(V$4,'Unit of measures'!$A$7:$A$24,0),MATCH($Q283,'Unit of measures'!$A$7:$R$7,0))","v":{"$error":"#N/A"}},{"$f":"$R283*INDEX('Unit of measures'!$A$7:$R$24,MATCH(W$4,'Unit of measures'!$A$7:$A$24,0),MATCH($Q283,'Unit of measures'!$A$7:$R$7,0))","v":{"$error":"#N/A"}},"Each"]
[null,null,null,null,"",null,null,{"$f":"$G284*INDEX('Unit of measures'!$A$7:$R$24,MATCH(H$4,'Unit of measures'!$A$7:$A$24,0),MATCH($F284,'Unit of measures'!$A$7:$R$7,0))","v":{"$error":"#N/A"}},{"$f":"$G284*INDEX('Unit of measures'!$A$7:$R$24,MATCH(I$4,'Unit of measures'!$A$7:$A$24,0),MATCH($F284,'Unit of measures'!$A$7:$R$7,0))","v":{"$error":"#N/A"}},{"$f":"$G284*INDEX('Unit of measures'!$A$7:$R$24,MATCH(J$4,'Unit of measures'!$A$7:$A$24,0),MATCH($F284,'Unit of measures'!$A$7:$R$7,0))","v":{"$error":"#N/A"}},{"$f":"$G284*INDEX('Unit of measures'!$A$7:$R$24,MATCH(K$4,'Unit of measures'!$A$7:$A$24,0),MATCH($F284,'Unit of measures'!$A$7:$R$7,0))","v":{"$error":"#N/A"}},{"$f":"$G284*INDEX('Unit of measures'!$A$7:$R$24,MATCH(L$4,'Unit of measures'!$A$7:$A$24,0),MATCH($F284,'Unit of measures'!$A$7:$R$7,0))","v":{"$error":"#N/A"}},{"$f":"$G284*INDEX('Unit of measures'!$A$7:$R$24,MATCH(M$4,'Unit of measures'!$A$7:$A$24,0),MATCH($F284,'Unit of measures'!$A$7:$R$7,0))","v":{"$error":"#N/A"}},{"$f":"$G284*INDEX('Unit of measures'!$A$7:$R$24,MATCH(N$4,'Unit of measures'!$A$7:$A$24,0),MATCH($F284,'Unit of measures'!$A$7:$R$7,0))","v":{"$error":"#N/A"}},{"$f":"$G284*INDEX('Unit of measures'!$A$7:$R$24,MATCH(O$4,'Unit of measures'!$A$7:$A$24,0),MATCH($F284,'Unit of measures'!$A$7:$R$7,0))","v":{"$error":"#N/A"}},{"$f":"$G284*INDEX('Unit of measures'!$A$7:$R$24,MATCH(P$4,'Unit of measures'!$A$7:$A$24,0),MATCH($F284,'Unit of measures'!$A$7:$R$7,0))","v":{"$error":"#N/A"}},null,null,{"$f":"$R284*INDEX('Unit of measures'!$A$7:$R$24,MATCH(S$4,'Unit of measures'!$A$7:$A$24,0),MATCH($Q284,'Unit of measures'!$A$7:$R$7,0))","v":{"$error":"#N/A"}},{"$f":"$R284*INDEX('Unit of measures'!$A$7:$R$24,MATCH(T$4,'Unit of measures'!$A$7:$A$24,0),MATCH($Q284,'Unit of measures'!$A$7:$R$7,0))","v":{"$error":"#N/A"}},{"$f":"$R284*INDEX('Unit of measures'!$A$7:$R$24,MATCH(U$4,'Unit of measures'!$A$7:$A$24,0),MATCH($Q284,'Unit of measures'!$A$7:$R$7,0))","v":{"$error":"#N/A"}},{"$f":"$R284*INDEX('Unit of measures'!$A$7:$R$24,MATCH(V$4,'Unit of measures'!$A$7:$A$24,0),MATCH($Q284,'Unit of measures'!$A$7:$R$7,0))","v":{"$error":"#N/A"}},{"$f":"$R284*INDEX('Unit of measures'!$A$7:$R$24,MATCH(W$4,'Unit of measures'!$A$7:$A$24,0),MATCH($Q284,'Unit of measures'!$A$7:$R$7,0))","v":{"$error":"#N/A"}},"Each"]
[null,null,null,null,"",null,null,{"$f":"$G285*INDEX('Unit of measures'!$A$7:$R$24,MATCH(H$4,'Unit of measures'!$A$7:$A$24,0),MATCH($F285,'Unit of measures'!$A$7:$R$7,0))","v":{"$error":"#N/A"}},{"$f":"$G285*INDEX('Unit of measures'!$A$7:$R$24,MATCH(I$4,'Unit of measures'!$A$7:$A$24,0),MATCH($F285,'Unit of measures'!$A$7:$R$7,0))","v":{"$error":"#N/A"}},{"$f":"$G285*INDEX('Unit of measures'!$A$7:$R$24,MATCH(J$4,'Unit of measures'!$A$7:$A$24,0),MATCH($F285,'Unit of measures'!$A$7:$R$7,0))","v":{"$error":"#N/A"}},{"$f":"$G285*INDEX('Unit of measures'!$A$7:$R$24,MATCH(K$4,'Unit of measures'!$A$7:$A$24,0),MATCH($F285,'Unit of measures'!$A$7:$R$7,0))","v":{"$error":"#N/A"}},{"$f":"$G285*INDEX('Unit of measures'!$A$7:$R$24,MATCH(L$4,'Unit of measures'!$A$7:$A$24,0),MATCH($F285,'Unit of measures'!$A$7:$R$7,0))","v":{"$error":"#N/A"}},{"$f":"$G285*INDEX('Unit of measures'!$A$7:$R$24,MATCH(M$4,'Unit of measures'!$A$7:$A$24,0),MATCH($F285,'Unit of measures'!$A$7:$R$7,0))","v":{"$error":"#N/A"}},{"$f":"$G285*INDEX('Unit of measures'!$A$7:$R$24,MATCH(N$4,'Unit of measures'!$A$7:$A$24,0),MATCH($F285,'Unit of measures'!$A$7:$R$7,0))","v":{"$error":"#N/A"}},{"$f":"$G285*INDEX('Unit of measures'!$A$7:$R$24,MATCH(O$4,'Unit of measures'!$A$7:$A$24,0),MATCH($F285,'Unit of measures'!$A$7:$R$7,0))","v":{"$error":"#N/A"}},{"$f":"$G285*INDEX('Unit of measures'!$A$7:$R$24,MATCH(P$4,'Unit of measures'!$A$7:$A$24,0),MATCH($F285,'Unit of measures'!$A$7:$R$7,0))","v":{"$error":"#N/A"}},null,null,{"$f":"$R285*INDEX('Unit of measures'!$A$7:$R$24,MATCH(S$4,'Unit of measures'!$A$7:$A$24,0),MATCH($Q285,'Unit of measures'!$A$7:$R$7,0))","v":{"$error":"#N/A"}},{"$f":"$R285*INDEX('Unit of measures'!$A$7:$R$24,MATCH(T$4,'Unit of measures'!$A$7:$A$24,0),MATCH($Q285,'Unit of measures'!$A$7:$R$7,0))","v":{"$error":"#N/A"}},{"$f":"$R285*INDEX('Unit of measures'!$A$7:$R$24,MATCH(U$4,'Unit of measures'!$A$7:$A$24,0),MATCH($Q285,'Unit of measures'!$A$7:$R$7,0))","v":{"$error":"#N/A"}},{"$f":"$R285*INDEX('Unit of measures'!$A$7:$R$24,MATCH(V$4,'Unit of measures'!$A$7:$A$24,0),MATCH($Q285,'Unit of measures'!$A$7:$R$7,0))","v":{"$error":"#N/A"}},{"$f":"$R285*INDEX('Unit of measures'!$A$7:$R$24,MATCH(W$4,'Unit of measures'!$A$7:$A$24,0),MATCH($Q285,'Unit of measures'!$A$7:$R$7,0))","v":{"$error":"#N/A"}},"Each"]
[null,null,null,null,"",null,null,{"$f":"$G286*INDEX('Unit of measures'!$A$7:$R$24,MATCH(H$4,'Unit of measures'!$A$7:$A$24,0),MATCH($F286,'Unit of measures'!$A$7:$R$7,0))","v":{"$error":"#N/A"}},{"$f":"$G286*INDEX('Unit of measures'!$A$7:$R$24,MATCH(I$4,'Unit of measures'!$A$7:$A$24,0),MATCH($F286,'Unit of measures'!$A$7:$R$7,0))","v":{"$error":"#N/A"}},{"$f":"$G286*INDEX('Unit of measures'!$A$7:$R$24,MATCH(J$4,'Unit of measures'!$A$7:$A$24,0),MATCH($F286,'Unit of measures'!$A$7:$R$7,0))","v":{"$error":"#N/A"}},{"$f":"$G286*INDEX('Unit of measures'!$A$7:$R$24,MATCH(K$4,'Unit of measures'!$A$7:$A$24,0),MATCH($F286,'Unit of measures'!$A$7:$R$7,0))","v":{"$error":"#N/A"}},{"$f":"$G286*INDEX('Unit of measures'!$A$7:$R$24,MATCH(L$4,'Unit of measures'!$A$7:$A$24,0),MATCH($F286,'Unit of measures'!$A$7:$R$7,0))","v":{"$error":"#N/A"}},{"$f":"$G286*INDEX('Unit of measures'!$A$7:$R$24,MATCH(M$4,'Unit of measures'!$A$7:$A$24,0),MATCH($F286,'Unit of measures'!$A$7:$R$7,0))","v":{"$error":"#N/A"}},{"$f":"$G286*INDEX('Unit of measures'!$A$7:$R$24,MATCH(N$4,'Unit of measures'!$A$7:$A$24,0),MATCH($F286,'Unit of measures'!$A$7:$R$7,0))","v":{"$error":"#N/A"}},{"$f":"$G286*INDEX('Unit of measures'!$A$7:$R$24,MATCH(O$4,'Unit of measures'!$A$7:$A$24,0),MATCH($F286,'Unit of measures'!$A$7:$R$7,0))","v":{"$error":"#N/A"}},{"$f":"$G286*INDEX('Unit of measures'!$A$7:$R$24,MATCH(P$4,'Unit of measures'!$A$7:$A$24,0),MATCH($F286,'Unit of measures'!$A$7:$R$7,0))","v":{"$error":"#N/A"}},null,null,{"$f":"$R286*INDEX('Unit of measures'!$A$7:$R$24,MATCH(S$4,'Unit of measures'!$A$7:$A$24,0),MATCH($Q286,'Unit of measures'!$A$7:$R$7,0))","v":{"$error":"#N/A"}},{"$f":"$R286*INDEX('Unit of measures'!$A$7:$R$24,MATCH(T$4,'Unit of measures'!$A$7:$A$24,0),MATCH($Q286,'Unit of measures'!$A$7:$R$7,0))","v":{"$error":"#N/A"}},{"$f":"$R286*INDEX('Unit of measures'!$A$7:$R$24,MATCH(U$4,'Unit of measures'!$A$7:$A$24,0),MATCH($Q286,'Unit of measures'!$A$7:$R$7,0))","v":{"$error":"#N/A"}},{"$f":"$R286*INDEX('Unit of measures'!$A$7:$R$24,MATCH(V$4,'Unit of measures'!$A$7:$A$24,0),MATCH($Q286,'Unit of measures'!$A$7:$R$7,0))","v":{"$error":"#N/A"}},{"$f":"$R286*INDEX('Unit of measures'!$A$7:$R$24,MATCH(W$4,'Unit of measures'!$A$7:$A$24,0),MATCH($Q286,'Unit of measures'!$A$7:$R$7,0))","v":{"$error":"#N/A"}},"Each"]
[null,null,null,null,"",null,null,{"$f":"$G287*INDEX('Unit of measures'!$A$7:$R$24,MATCH(H$4,'Unit of measures'!$A$7:$A$24,0),MATCH($F287,'Unit of measures'!$A$7:$R$7,0))","v":{"$error":"#N/A"}},{"$f":"$G287*INDEX('Unit of measures'!$A$7:$R$24,MATCH(I$4,'Unit of measures'!$A$7:$A$24,0),MATCH($F287,'Unit of measures'!$A$7:$R$7,0))","v":{"$error":"#N/A"}},{"$f":"$G287*INDEX('Unit of measures'!$A$7:$R$24,MATCH(J$4,'Unit of measures'!$A$7:$A$24,0),MATCH($F287,'Unit of measures'!$A$7:$R$7,0))","v":{"$error":"#N/A"}},{"$f":"$G287*INDEX('Unit of measures'!$A$7:$R$24,MATCH(K$4,'Unit of measures'!$A$7:$A$24,0),MATCH($F287,'Unit of measures'!$A$7:$R$7,0))","v":{"$error":"#N/A"}},{"$f":"$G287*INDEX('Unit of measures'!$A$7:$R$24,MATCH(L$4,'Unit of measures'!$A$7:$A$24,0),MATCH($F287,'Unit of measures'!$A$7:$R$7,0))","v":{"$error":"#N/A"}},{"$f":"$G287*INDEX('Unit of measures'!$A$7:$R$24,MATCH(M$4,'Unit of measures'!$A$7:$A$24,0),MATCH($F287,'Unit of measures'!$A$7:$R$7,0))","v":{"$error":"#N/A"}},{"$f":"$G287*INDEX('Unit of measures'!$A$7:$R$24,MATCH(N$4,'Unit of measures'!$A$7:$A$24,0),MATCH($F287,'Unit of measures'!$A$7:$R$7,0))","v":{"$error":"#N/A"}},{"$f":"$G287*INDEX('Unit of measures'!$A$7:$R$24,MATCH(O$4,'Unit of measures'!$A$7:$A$24,0),MATCH($F287,'Unit of measures'!$A$7:$R$7,0))","v":{"$error":"#N/A"}},{"$f":"$G287*INDEX('Unit of measures'!$A$7:$R$24,MATCH(P$4,'Unit of measures'!$A$7:$A$24,0),MATCH($F287,'Unit of measures'!$A$7:$R$7,0))","v":{"$error":"#N/A"}},null,null,{"$f":"$R287*INDEX('Unit of measures'!$A$7:$R$24,MATCH(S$4,'Unit of measures'!$A$7:$A$24,0),MATCH($Q287,'Unit of measures'!$A$7:$R$7,0))","v":{"$error":"#N/A"}},{"$f":"$R287*INDEX('Unit of measures'!$A$7:$R$24,MATCH(T$4,'Unit of measures'!$A$7:$A$24,0),MATCH($Q287,'Unit of measures'!$A$7:$R$7,0))","v":{"$error":"#N/A"}},{"$f":"$R287*INDEX('Unit of measures'!$A$7:$R$24,MATCH(U$4,'Unit of measures'!$A$7:$A$24,0),MATCH($Q287,'Unit of measures'!$A$7:$R$7,0))","v":{"$error":"#N/A"}},{"$f":"$R287*INDEX('Unit of measures'!$A$7:$R$24,MATCH(V$4,'Unit of measures'!$A$7:$A$24,0),MATCH($Q287,'Unit of measures'!$A$7:$R$7,0))","v":{"$error":"#N/A"}},{"$f":"$R287*INDEX('Unit of measures'!$A$7:$R$24,MATCH(W$4,'Unit of measures'!$A$7:$A$24,0),MATCH($Q287,'Unit of measures'!$A$7:$R$7,0))","v":{"$error":"#N/A"}},"Each"]
[null,null,null,null,"",null,null,{"$f":"$G288*INDEX('Unit of measures'!$A$7:$R$24,MATCH(H$4,'Unit of measures'!$A$7:$A$24,0),MATCH($F288,'Unit of measures'!$A$7:$R$7,0))","v":{"$error":"#N/A"}},{"$f":"$G288*INDEX('Unit of measures'!$A$7:$R$24,MATCH(I$4,'Unit of measures'!$A$7:$A$24,0),MATCH($F288,'Unit of measures'!$A$7:$R$7,0))","v":{"$error":"#N/A"}},{"$f":"$G288*INDEX('Unit of measures'!$A$7:$R$24,MATCH(J$4,'Unit of measures'!$A$7:$A$24,0),MATCH($F288,'Unit of measures'!$A$7:$R$7,0))","v":{"$error":"#N/A"}},{"$f":"$G288*INDEX('Unit of measures'!$A$7:$R$24,MATCH(K$4,'Unit of measures'!$A$7:$A$24,0),MATCH($F288,'Unit of measures'!$A$7:$R$7,0))","v":{"$error":"#N/A"}},{"$f":"$G288*INDEX('Unit of measures'!$A$7:$R$24,MATCH(L$4,'Unit of measures'!$A$7:$A$24,0),MATCH($F288,'Unit of measures'!$A$7:$R$7,0))","v":{"$error":"#N/A"}},{"$f":"$G288*INDEX('Unit of measures'!$A$7:$R$24,MATCH(M$4,'Unit of measures'!$A$7:$A$24,0),MATCH($F288,'Unit of measures'!$A$7:$R$7,0))","v":{"$error":"#N/A"}},{"$f":"$G288*INDEX('Unit of measures'!$A$7:$R$24,MATCH(N$4,'Unit of measures'!$A$7:$A$24,0),MATCH($F288,'Unit of measures'!$A$7:$R$7,0))","v":{"$error":"#N/A"}},{"$f":"$G288*INDEX('Unit of measures'!$A$7:$R$24,MATCH(O$4,'Unit of measures'!$A$7:$A$24,0),MATCH($F288,'Unit of measures'!$A$7:$R$7,0))","v":{"$error":"#N/A"}},{"$f":"$G288*INDEX('Unit of measures'!$A$7:$R$24,MATCH(P$4,'Unit of measures'!$A$7:$A$24,0),MATCH($F288,'Unit of measures'!$A$7:$R$7,0))","v":{"$error":"#N/A"}},null,null,{"$f":"$R288*INDEX('Unit of measures'!$A$7:$R$24,MATCH(S$4,'Unit of measures'!$A$7:$A$24,0),MATCH($Q288,'Unit of measures'!$A$7:$R$7,0))","v":{"$error":"#N/A"}},{"$f":"$R288*INDEX('Unit of measures'!$A$7:$R$24,MATCH(T$4,'Unit of measures'!$A$7:$A$24,0),MATCH($Q288,'Unit of measures'!$A$7:$R$7,0))","v":{"$error":"#N/A"}},{"$f":"$R288*INDEX('Unit of measures'!$A$7:$R$24,MATCH(U$4,'Unit of measures'!$A$7:$A$24,0),MATCH($Q288,'Unit of measures'!$A$7:$R$7,0))","v":{"$error":"#N/A"}},{"$f":"$R288*INDEX('Unit of measures'!$A$7:$R$24,MATCH(V$4,'Unit of measures'!$A$7:$A$24,0),MATCH($Q288,'Unit of measures'!$A$7:$R$7,0))","v":{"$error":"#N/A"}},{"$f":"$R288*INDEX('Unit of measures'!$A$7:$R$24,MATCH(W$4,'Unit of measures'!$A$7:$A$24,0),MATCH($Q288,'Unit of measures'!$A$7:$R$7,0))","v":{"$error":"#N/A"}},"Each"]
[null,null,null,null,"",null,null,{"$f":"$G289*INDEX('Unit of measures'!$A$7:$R$24,MATCH(H$4,'Unit of measures'!$A$7:$A$24,0),MATCH($F289,'Unit of measures'!$A$7:$R$7,0))","v":{"$error":"#N/A"}},{"$f":"$G289*INDEX('Unit of measures'!$A$7:$R$24,MATCH(I$4,'Unit of measures'!$A$7:$A$24,0),MATCH($F289,'Unit of measures'!$A$7:$R$7,0))","v":{"$error":"#N/A"}},{"$f":"$G289*INDEX('Unit of measures'!$A$7:$R$24,MATCH(J$4,'Unit of measures'!$A$7:$A$24,0),MATCH($F289,'Unit of measures'!$A$7:$R$7,0))","v":{"$error":"#N/A"}},{"$f":"$G289*INDEX('Unit of measures'!$A$7:$R$24,MATCH(K$4,'Unit of measures'!$A$7:$A$24,0),MATCH($F289,'Unit of measures'!$A$7:$R$7,0))","v":{"$error":"#N/A"}},{"$f":"$G289*INDEX('Unit of measures'!$A$7:$R$24,MATCH(L$4,'Unit of measures'!$A$7:$A$24,0),MATCH($F289,'Unit of measures'!$A$7:$R$7,0))","v":{"$error":"#N/A"}},{"$f":"$G289*INDEX('Unit of measures'!$A$7:$R$24,MATCH(M$4,'Unit of measures'!$A$7:$A$24,0),MATCH($F289,'Unit of measures'!$A$7:$R$7,0))","v":{"$error":"#N/A"}},{"$f":"$G289*INDEX('Unit of measures'!$A$7:$R$24,MATCH(N$4,'Unit of measures'!$A$7:$A$24,0),MATCH($F289,'Unit of measures'!$A$7:$R$7,0))","v":{"$error":"#N/A"}},{"$f":"$G289*INDEX('Unit of measures'!$A$7:$R$24,MATCH(O$4,'Unit of measures'!$A$7:$A$24,0),MATCH($F289,'Unit of measures'!$A$7:$R$7,0))","v":{"$error":"#N/A"}},{"$f":"$G289*INDEX('Unit of measures'!$A$7:$R$24,MATCH(P$4,'Unit of measures'!$A$7:$A$24,0),MATCH($F289,'Unit of measures'!$A$7:$R$7,0))","v":{"$error":"#N/A"}},null,null,{"$f":"$R289*INDEX('Unit of measures'!$A$7:$R$24,MATCH(S$4,'Unit of measures'!$A$7:$A$24,0),MATCH($Q289,'Unit of measures'!$A$7:$R$7,0))","v":{"$error":"#N/A"}},{"$f":"$R289*INDEX('Unit of measures'!$A$7:$R$24,MATCH(T$4,'Unit of measures'!$A$7:$A$24,0),MATCH($Q289,'Unit of measures'!$A$7:$R$7,0))","v":{"$error":"#N/A"}},{"$f":"$R289*INDEX('Unit of measures'!$A$7:$R$24,MATCH(U$4,'Unit of measures'!$A$7:$A$24,0),MATCH($Q289,'Unit of measures'!$A$7:$R$7,0))","v":{"$error":"#N/A"}},{"$f":"$R289*INDEX('Unit of measures'!$A$7:$R$24,MATCH(V$4,'Unit of measures'!$A$7:$A$24,0),MATCH($Q289,'Unit of measures'!$A$7:$R$7,0))","v":{"$error":"#N/A"}},{"$f":"$R289*INDEX('Unit of measures'!$A$7:$R$24,MATCH(W$4,'Unit of measures'!$A$7:$A$24,0),MATCH($Q289,'Unit of measures'!$A$7:$R$7,0))","v":{"$error":"#N/A"}},"Each"]
[null,null,null,null,"",null,null,{"$f":"$G290*INDEX('Unit of measures'!$A$7:$R$24,MATCH(H$4,'Unit of measures'!$A$7:$A$24,0),MATCH($F290,'Unit of measures'!$A$7:$R$7,0))","v":{"$error":"#N/A"}},{"$f":"$G290*INDEX('Unit of measures'!$A$7:$R$24,MATCH(I$4,'Unit of measures'!$A$7:$A$24,0),MATCH($F290,'Unit of measures'!$A$7:$R$7,0))","v":{"$error":"#N/A"}},{"$f":"$G290*INDEX('Unit of measures'!$A$7:$R$24,MATCH(J$4,'Unit of measures'!$A$7:$A$24,0),MATCH($F290,'Unit of measures'!$A$7:$R$7,0))","v":{"$error":"#N/A"}},{"$f":"$G290*INDEX('Unit of measures'!$A$7:$R$24,MATCH(K$4,'Unit of measures'!$A$7:$A$24,0),MATCH($F290,'Unit of measures'!$A$7:$R$7,0))","v":{"$error":"#N/A"}},{"$f":"$G290*INDEX('Unit of measures'!$A$7:$R$24,MATCH(L$4,'Unit of measures'!$A$7:$A$24,0),MATCH($F290,'Unit of measures'!$A$7:$R$7,0))","v":{"$error":"#N/A"}},{"$f":"$G290*INDEX('Unit of measures'!$A$7:$R$24,MATCH(M$4,'Unit of measures'!$A$7:$A$24,0),MATCH($F290,'Unit of measures'!$A$7:$R$7,0))","v":{"$error":"#N/A"}},{"$f":"$G290*INDEX('Unit of measures'!$A$7:$R$24,MATCH(N$4,'Unit of measures'!$A$7:$A$24,0),MATCH($F290,'Unit of measures'!$A$7:$R$7,0))","v":{"$error":"#N/A"}},{"$f":"$G290*INDEX('Unit of measures'!$A$7:$R$24,MATCH(O$4,'Unit of measures'!$A$7:$A$24,0),MATCH($F290,'Unit of measures'!$A$7:$R$7,0))","v":{"$error":"#N/A"}},{"$f":"$G290*INDEX('Unit of measures'!$A$7:$R$24,MATCH(P$4,'Unit of measures'!$A$7:$A$24,0),MATCH($F290,'Unit of measures'!$A$7:$R$7,0))","v":{"$error":"#N/A"}},null,null,{"$f":"$R290*INDEX('Unit of measures'!$A$7:$R$24,MATCH(S$4,'Unit of measures'!$A$7:$A$24,0),MATCH($Q290,'Unit of measures'!$A$7:$R$7,0))","v":{"$error":"#N/A"}},{"$f":"$R290*INDEX('Unit of measures'!$A$7:$R$24,MATCH(T$4,'Unit of measures'!$A$7:$A$24,0),MATCH($Q290,'Unit of measures'!$A$7:$R$7,0))","v":{"$error":"#N/A"}},{"$f":"$R290*INDEX('Unit of measures'!$A$7:$R$24,MATCH(U$4,'Unit of measures'!$A$7:$A$24,0),MATCH($Q290,'Unit of measures'!$A$7:$R$7,0))","v":{"$error":"#N/A"}},{"$f":"$R290*INDEX('Unit of measures'!$A$7:$R$24,MATCH(V$4,'Unit of measures'!$A$7:$A$24,0),MATCH($Q290,'Unit of measures'!$A$7:$R$7,0))","v":{"$error":"#N/A"}},{"$f":"$R290*INDEX('Unit of measures'!$A$7:$R$24,MATCH(W$4,'Unit of measures'!$A$7:$A$24,0),MATCH($Q290,'Unit of measures'!$A$7:$R$7,0))","v":{"$error":"#N/A"}},"Each"]
[null,null,null,null,"",null,null,{"$f":"$G291*INDEX('Unit of measures'!$A$7:$R$24,MATCH(H$4,'Unit of measures'!$A$7:$A$24,0),MATCH($F291,'Unit of measures'!$A$7:$R$7,0))","v":{"$error":"#N/A"}},{"$f":"$G291*INDEX('Unit of measures'!$A$7:$R$24,MATCH(I$4,'Unit of measures'!$A$7:$A$24,0),MATCH($F291,'Unit of measures'!$A$7:$R$7,0))","v":{"$error":"#N/A"}},{"$f":"$G291*INDEX('Unit of measures'!$A$7:$R$24,MATCH(J$4,'Unit of measures'!$A$7:$A$24,0),MATCH($F291,'Unit of measures'!$A$7:$R$7,0))","v":{"$error":"#N/A"}},{"$f":"$G291*INDEX('Unit of measures'!$A$7:$R$24,MATCH(K$4,'Unit of measures'!$A$7:$A$24,0),MATCH($F291,'Unit of measures'!$A$7:$R$7,0))","v":{"$error":"#N/A"}},{"$f":"$G291*INDEX('Unit of measures'!$A$7:$R$24,MATCH(L$4,'Unit of measures'!$A$7:$A$24,0),MATCH($F291,'Unit of measures'!$A$7:$R$7,0))","v":{"$error":"#N/A"}},{"$f":"$G291*INDEX('Unit of measures'!$A$7:$R$24,MATCH(M$4,'Unit of measures'!$A$7:$A$24,0),MATCH($F291,'Unit of measures'!$A$7:$R$7,0))","v":{"$error":"#N/A"}},{"$f":"$G291*INDEX('Unit of measures'!$A$7:$R$24,MATCH(N$4,'Unit of measures'!$A$7:$A$24,0),MATCH($F291,'Unit of measures'!$A$7:$R$7,0))","v":{"$error":"#N/A"}},{"$f":"$G291*INDEX('Unit of measures'!$A$7:$R$24,MATCH(O$4,'Unit of measures'!$A$7:$A$24,0),MATCH($F291,'Unit of measures'!$A$7:$R$7,0))","v":{"$error":"#N/A"}},{"$f":"$G291*INDEX('Unit of measures'!$A$7:$R$24,MATCH(P$4,'Unit of measures'!$A$7:$A$24,0),MATCH($F291,'Unit of measures'!$A$7:$R$7,0))","v":{"$error":"#N/A"}},null,null,{"$f":"$R291*INDEX('Unit of measures'!$A$7:$R$24,MATCH(S$4,'Unit of measures'!$A$7:$A$24,0),MATCH($Q291,'Unit of measures'!$A$7:$R$7,0))","v":{"$error":"#N/A"}},{"$f":"$R291*INDEX('Unit of measures'!$A$7:$R$24,MATCH(T$4,'Unit of measures'!$A$7:$A$24,0),MATCH($Q291,'Unit of measures'!$A$7:$R$7,0))","v":{"$error":"#N/A"}},{"$f":"$R291*INDEX('Unit of measures'!$A$7:$R$24,MATCH(U$4,'Unit of measures'!$A$7:$A$24,0),MATCH($Q291,'Unit of measures'!$A$7:$R$7,0))","v":{"$error":"#N/A"}},{"$f":"$R291*INDEX('Unit of measures'!$A$7:$R$24,MATCH(V$4,'Unit of measures'!$A$7:$A$24,0),MATCH($Q291,'Unit of measures'!$A$7:$R$7,0))","v":{"$error":"#N/A"}},{"$f":"$R291*INDEX('Unit of measures'!$A$7:$R$24,MATCH(W$4,'Unit of measures'!$A$7:$A$24,0),MATCH($Q291,'Unit of measures'!$A$7:$R$7,0))","v":{"$error":"#N/A"}},"Each"]
[null,null,null,null,"",null,null,{"$f":"$G292*INDEX('Unit of measures'!$A$7:$R$24,MATCH(H$4,'Unit of measures'!$A$7:$A$24,0),MATCH($F292,'Unit of measures'!$A$7:$R$7,0))","v":{"$error":"#N/A"}},{"$f":"$G292*INDEX('Unit of measures'!$A$7:$R$24,MATCH(I$4,'Unit of measures'!$A$7:$A$24,0),MATCH($F292,'Unit of measures'!$A$7:$R$7,0))","v":{"$error":"#N/A"}},{"$f":"$G292*INDEX('Unit of measures'!$A$7:$R$24,MATCH(J$4,'Unit of measures'!$A$7:$A$24,0),MATCH($F292,'Unit of measures'!$A$7:$R$7,0))","v":{"$error":"#N/A"}},{"$f":"$G292*INDEX('Unit of measures'!$A$7:$R$24,MATCH(K$4,'Unit of measures'!$A$7:$A$24,0),MATCH($F292,'Unit of measures'!$A$7:$R$7,0))","v":{"$error":"#N/A"}},{"$f":"$G292*INDEX('Unit of measures'!$A$7:$R$24,MATCH(L$4,'Unit of measures'!$A$7:$A$24,0),MATCH($F292,'Unit of measures'!$A$7:$R$7,0))","v":{"$error":"#N/A"}},{"$f":"$G292*INDEX('Unit of measures'!$A$7:$R$24,MATCH(M$4,'Unit of measures'!$A$7:$A$24,0),MATCH($F292,'Unit of measures'!$A$7:$R$7,0))","v":{"$error":"#N/A"}},{"$f":"$G292*INDEX('Unit of measures'!$A$7:$R$24,MATCH(N$4,'Unit of measures'!$A$7:$A$24,0),MATCH($F292,'Unit of measures'!$A$7:$R$7,0))","v":{"$error":"#N/A"}},{"$f":"$G292*INDEX('Unit of measures'!$A$7:$R$24,MATCH(O$4,'Unit of measures'!$A$7:$A$24,0),MATCH($F292,'Unit of measures'!$A$7:$R$7,0))","v":{"$error":"#N/A"}},{"$f":"$G292*INDEX('Unit of measures'!$A$7:$R$24,MATCH(P$4,'Unit of measures'!$A$7:$A$24,0),MATCH($F292,'Unit of measures'!$A$7:$R$7,0))","v":{"$error":"#N/A"}},null,null,{"$f":"$R292*INDEX('Unit of measures'!$A$7:$R$24,MATCH(S$4,'Unit of measures'!$A$7:$A$24,0),MATCH($Q292,'Unit of measures'!$A$7:$R$7,0))","v":{"$error":"#N/A"}},{"$f":"$R292*INDEX('Unit of measures'!$A$7:$R$24,MATCH(T$4,'Unit of measures'!$A$7:$A$24,0),MATCH($Q292,'Unit of measures'!$A$7:$R$7,0))","v":{"$error":"#N/A"}},{"$f":"$R292*INDEX('Unit of measures'!$A$7:$R$24,MATCH(U$4,'Unit of measures'!$A$7:$A$24,0),MATCH($Q292,'Unit of measures'!$A$7:$R$7,0))","v":{"$error":"#N/A"}},{"$f":"$R292*INDEX('Unit of measures'!$A$7:$R$24,MATCH(V$4,'Unit of measures'!$A$7:$A$24,0),MATCH($Q292,'Unit of measures'!$A$7:$R$7,0))","v":{"$error":"#N/A"}},{"$f":"$R292*INDEX('Unit of measures'!$A$7:$R$24,MATCH(W$4,'Unit of measures'!$A$7:$A$24,0),MATCH($Q292,'Unit of measures'!$A$7:$R$7,0))","v":{"$error":"#N/A"}},"Each"]
[null,null,null,null,"",null,null,{"$f":"$G293*INDEX('Unit of measures'!$A$7:$R$24,MATCH(H$4,'Unit of measures'!$A$7:$A$24,0),MATCH($F293,'Unit of measures'!$A$7:$R$7,0))","v":{"$error":"#N/A"}},{"$f":"$G293*INDEX('Unit of measures'!$A$7:$R$24,MATCH(I$4,'Unit of measures'!$A$7:$A$24,0),MATCH($F293,'Unit of measures'!$A$7:$R$7,0))","v":{"$error":"#N/A"}},{"$f":"$G293*INDEX('Unit of measures'!$A$7:$R$24,MATCH(J$4,'Unit of measures'!$A$7:$A$24,0),MATCH($F293,'Unit of measures'!$A$7:$R$7,0))","v":{"$error":"#N/A"}},{"$f":"$G293*INDEX('Unit of measures'!$A$7:$R$24,MATCH(K$4,'Unit of measures'!$A$7:$A$24,0),MATCH($F293,'Unit of measures'!$A$7:$R$7,0))","v":{"$error":"#N/A"}},{"$f":"$G293*INDEX('Unit of measures'!$A$7:$R$24,MATCH(L$4,'Unit of measures'!$A$7:$A$24,0),MATCH($F293,'Unit of measures'!$A$7:$R$7,0))","v":{"$error":"#N/A"}},{"$f":"$G293*INDEX('Unit of measures'!$A$7:$R$24,MATCH(M$4,'Unit of measures'!$A$7:$A$24,0),MATCH($F293,'Unit of measures'!$A$7:$R$7,0))","v":{"$error":"#N/A"}},{"$f":"$G293*INDEX('Unit of measures'!$A$7:$R$24,MATCH(N$4,'Unit of measures'!$A$7:$A$24,0),MATCH($F293,'Unit of measures'!$A$7:$R$7,0))","v":{"$error":"#N/A"}},{"$f":"$G293*INDEX('Unit of measures'!$A$7:$R$24,MATCH(O$4,'Unit of measures'!$A$7:$A$24,0),MATCH($F293,'Unit of measures'!$A$7:$R$7,0))","v":{"$error":"#N/A"}},{"$f":"$G293*INDEX('Unit of measures'!$A$7:$R$24,MATCH(P$4,'Unit of measures'!$A$7:$A$24,0),MATCH($F293,'Unit of measures'!$A$7:$R$7,0))","v":{"$error":"#N/A"}},null,null,{"$f":"$R293*INDEX('Unit of measures'!$A$7:$R$24,MATCH(S$4,'Unit of measures'!$A$7:$A$24,0),MATCH($Q293,'Unit of measures'!$A$7:$R$7,0))","v":{"$error":"#N/A"}},{"$f":"$R293*INDEX('Unit of measures'!$A$7:$R$24,MATCH(T$4,'Unit of measures'!$A$7:$A$24,0),MATCH($Q293,'Unit of measures'!$A$7:$R$7,0))","v":{"$error":"#N/A"}},{"$f":"$R293*INDEX('Unit of measures'!$A$7:$R$24,MATCH(U$4,'Unit of measures'!$A$7:$A$24,0),MATCH($Q293,'Unit of measures'!$A$7:$R$7,0))","v":{"$error":"#N/A"}},{"$f":"$R293*INDEX('Unit of measures'!$A$7:$R$24,MATCH(V$4,'Unit of measures'!$A$7:$A$24,0),MATCH($Q293,'Unit of measures'!$A$7:$R$7,0))","v":{"$error":"#N/A"}},{"$f":"$R293*INDEX('Unit of measures'!$A$7:$R$24,MATCH(W$4,'Unit of measures'!$A$7:$A$24,0),MATCH($Q293,'Unit of measures'!$A$7:$R$7,0))","v":{"$error":"#N/A"}},"Each"]
[null,null,null,null,"",null,null,{"$f":"$G294*INDEX('Unit of measures'!$A$7:$R$24,MATCH(H$4,'Unit of measures'!$A$7:$A$24,0),MATCH($F294,'Unit of measures'!$A$7:$R$7,0))","v":{"$error":"#N/A"}},{"$f":"$G294*INDEX('Unit of measures'!$A$7:$R$24,MATCH(I$4,'Unit of measures'!$A$7:$A$24,0),MATCH($F294,'Unit of measures'!$A$7:$R$7,0))","v":{"$error":"#N/A"}},{"$f":"$G294*INDEX('Unit of measures'!$A$7:$R$24,MATCH(J$4,'Unit of measures'!$A$7:$A$24,0),MATCH($F294,'Unit of measures'!$A$7:$R$7,0))","v":{"$error":"#N/A"}},{"$f":"$G294*INDEX('Unit of measures'!$A$7:$R$24,MATCH(K$4,'Unit of measures'!$A$7:$A$24,0),MATCH($F294,'Unit of measures'!$A$7:$R$7,0))","v":{"$error":"#N/A"}},{"$f":"$G294*INDEX('Unit of measures'!$A$7:$R$24,MATCH(L$4,'Unit of measures'!$A$7:$A$24,0),MATCH($F294,'Unit of measures'!$A$7:$R$7,0))","v":{"$error":"#N/A"}},{"$f":"$G294*INDEX('Unit of measures'!$A$7:$R$24,MATCH(M$4,'Unit of measures'!$A$7:$A$24,0),MATCH($F294,'Unit of measures'!$A$7:$R$7,0))","v":{"$error":"#N/A"}},{"$f":"$G294*INDEX('Unit of measures'!$A$7:$R$24,MATCH(N$4,'Unit of measures'!$A$7:$A$24,0),MATCH($F294,'Unit of measures'!$A$7:$R$7,0))","v":{"$error":"#N/A"}},{"$f":"$G294*INDEX('Unit of measures'!$A$7:$R$24,MATCH(O$4,'Unit of measures'!$A$7:$A$24,0),MATCH($F294,'Unit of measures'!$A$7:$R$7,0))","v":{"$error":"#N/A"}},{"$f":"$G294*INDEX('Unit of measures'!$A$7:$R$24,MATCH(P$4,'Unit of measures'!$A$7:$A$24,0),MATCH($F294,'Unit of measures'!$A$7:$R$7,0))","v":{"$error":"#N/A"}},null,null,{"$f":"$R294*INDEX('Unit of measures'!$A$7:$R$24,MATCH(S$4,'Unit of measures'!$A$7:$A$24,0),MATCH($Q294,'Unit of measures'!$A$7:$R$7,0))","v":{"$error":"#N/A"}},{"$f":"$R294*INDEX('Unit of measures'!$A$7:$R$24,MATCH(T$4,'Unit of measures'!$A$7:$A$24,0),MATCH($Q294,'Unit of measures'!$A$7:$R$7,0))","v":{"$error":"#N/A"}},{"$f":"$R294*INDEX('Unit of measures'!$A$7:$R$24,MATCH(U$4,'Unit of measures'!$A$7:$A$24,0),MATCH($Q294,'Unit of measures'!$A$7:$R$7,0))","v":{"$error":"#N/A"}},{"$f":"$R294*INDEX('Unit of measures'!$A$7:$R$24,MATCH(V$4,'Unit of measures'!$A$7:$A$24,0),MATCH($Q294,'Unit of measures'!$A$7:$R$7,0))","v":{"$error":"#N/A"}},{"$f":"$R294*INDEX('Unit of measures'!$A$7:$R$24,MATCH(W$4,'Unit of measures'!$A$7:$A$24,0),MATCH($Q294,'Unit of measures'!$A$7:$R$7,0))","v":{"$error":"#N/A"}},"Each"]
[null,null,null,null,"",null,null,{"$f":"$G295*INDEX('Unit of measures'!$A$7:$R$24,MATCH(H$4,'Unit of measures'!$A$7:$A$24,0),MATCH($F295,'Unit of measures'!$A$7:$R$7,0))","v":{"$error":"#N/A"}},{"$f":"$G295*INDEX('Unit of measures'!$A$7:$R$24,MATCH(I$4,'Unit of measures'!$A$7:$A$24,0),MATCH($F295,'Unit of measures'!$A$7:$R$7,0))","v":{"$error":"#N/A"}},{"$f":"$G295*INDEX('Unit of measures'!$A$7:$R$24,MATCH(J$4,'Unit of measures'!$A$7:$A$24,0),MATCH($F295,'Unit of measures'!$A$7:$R$7,0))","v":{"$error":"#N/A"}},{"$f":"$G295*INDEX('Unit of measures'!$A$7:$R$24,MATCH(K$4,'Unit of measures'!$A$7:$A$24,0),MATCH($F295,'Unit of measures'!$A$7:$R$7,0))","v":{"$error":"#N/A"}},{"$f":"$G295*INDEX('Unit of measures'!$A$7:$R$24,MATCH(L$4,'Unit of measures'!$A$7:$A$24,0),MATCH($F295,'Unit of measures'!$A$7:$R$7,0))","v":{"$error":"#N/A"}},{"$f":"$G295*INDEX('Unit of measures'!$A$7:$R$24,MATCH(M$4,'Unit of measures'!$A$7:$A$24,0),MATCH($F295,'Unit of measures'!$A$7:$R$7,0))","v":{"$error":"#N/A"}},{"$f":"$G295*INDEX('Unit of measures'!$A$7:$R$24,MATCH(N$4,'Unit of measures'!$A$7:$A$24,0),MATCH($F295,'Unit of measures'!$A$7:$R$7,0))","v":{"$error":"#N/A"}},{"$f":"$G295*INDEX('Unit of measures'!$A$7:$R$24,MATCH(O$4,'Unit of measures'!$A$7:$A$24,0),MATCH($F295,'Unit of measures'!$A$7:$R$7,0))","v":{"$error":"#N/A"}},{"$f":"$G295*INDEX('Unit of measures'!$A$7:$R$24,MATCH(P$4,'Unit of measures'!$A$7:$A$24,0),MATCH($F295,'Unit of measures'!$A$7:$R$7,0))","v":{"$error":"#N/A"}},null,null,{"$f":"$R295*INDEX('Unit of measures'!$A$7:$R$24,MATCH(S$4,'Unit of measures'!$A$7:$A$24,0),MATCH($Q295,'Unit of measures'!$A$7:$R$7,0))","v":{"$error":"#N/A"}},{"$f":"$R295*INDEX('Unit of measures'!$A$7:$R$24,MATCH(T$4,'Unit of measures'!$A$7:$A$24,0),MATCH($Q295,'Unit of measures'!$A$7:$R$7,0))","v":{"$error":"#N/A"}},{"$f":"$R295*INDEX('Unit of measures'!$A$7:$R$24,MATCH(U$4,'Unit of measures'!$A$7:$A$24,0),MATCH($Q295,'Unit of measures'!$A$7:$R$7,0))","v":{"$error":"#N/A"}},{"$f":"$R295*INDEX('Unit of measures'!$A$7:$R$24,MATCH(V$4,'Unit of measures'!$A$7:$A$24,0),MATCH($Q295,'Unit of measures'!$A$7:$R$7,0))","v":{"$error":"#N/A"}},{"$f":"$R295*INDEX('Unit of measures'!$A$7:$R$24,MATCH(W$4,'Unit of measures'!$A$7:$A$24,0),MATCH($Q295,'Unit of measures'!$A$7:$R$7,0))","v":{"$error":"#N/A"}},"Each"]
[null,null,null,null,"",null,null,{"$f":"$G296*INDEX('Unit of measures'!$A$7:$R$24,MATCH(H$4,'Unit of measures'!$A$7:$A$24,0),MATCH($F296,'Unit of measures'!$A$7:$R$7,0))","v":{"$error":"#N/A"}},{"$f":"$G296*INDEX('Unit of measures'!$A$7:$R$24,MATCH(I$4,'Unit of measures'!$A$7:$A$24,0),MATCH($F296,'Unit of measures'!$A$7:$R$7,0))","v":{"$error":"#N/A"}},{"$f":"$G296*INDEX('Unit of measures'!$A$7:$R$24,MATCH(J$4,'Unit of measures'!$A$7:$A$24,0),MATCH($F296,'Unit of measures'!$A$7:$R$7,0))","v":{"$error":"#N/A"}},{"$f":"$G296*INDEX('Unit of measures'!$A$7:$R$24,MATCH(K$4,'Unit of measures'!$A$7:$A$24,0),MATCH($F296,'Unit of measures'!$A$7:$R$7,0))","v":{"$error":"#N/A"}},{"$f":"$G296*INDEX('Unit of measures'!$A$7:$R$24,MATCH(L$4,'Unit of measures'!$A$7:$A$24,0),MATCH($F296,'Unit of measures'!$A$7:$R$7,0))","v":{"$error":"#N/A"}},{"$f":"$G296*INDEX('Unit of measures'!$A$7:$R$24,MATCH(M$4,'Unit of measures'!$A$7:$A$24,0),MATCH($F296,'Unit of measures'!$A$7:$R$7,0))","v":{"$error":"#N/A"}},{"$f":"$G296*INDEX('Unit of measures'!$A$7:$R$24,MATCH(N$4,'Unit of measures'!$A$7:$A$24,0),MATCH($F296,'Unit of measures'!$A$7:$R$7,0))","v":{"$error":"#N/A"}},{"$f":"$G296*INDEX('Unit of measures'!$A$7:$R$24,MATCH(O$4,'Unit of measures'!$A$7:$A$24,0),MATCH($F296,'Unit of measures'!$A$7:$R$7,0))","v":{"$error":"#N/A"}},{"$f":"$G296*INDEX('Unit of measures'!$A$7:$R$24,MATCH(P$4,'Unit of measures'!$A$7:$A$24,0),MATCH($F296,'Unit of measures'!$A$7:$R$7,0))","v":{"$error":"#N/A"}},null,null,{"$f":"$R296*INDEX('Unit of measures'!$A$7:$R$24,MATCH(S$4,'Unit of measures'!$A$7:$A$24,0),MATCH($Q296,'Unit of measures'!$A$7:$R$7,0))","v":{"$error":"#N/A"}},{"$f":"$R296*INDEX('Unit of measures'!$A$7:$R$24,MATCH(T$4,'Unit of measures'!$A$7:$A$24,0),MATCH($Q296,'Unit of measures'!$A$7:$R$7,0))","v":{"$error":"#N/A"}},{"$f":"$R296*INDEX('Unit of measures'!$A$7:$R$24,MATCH(U$4,'Unit of measures'!$A$7:$A$24,0),MATCH($Q296,'Unit of measures'!$A$7:$R$7,0))","v":{"$error":"#N/A"}},{"$f":"$R296*INDEX('Unit of measures'!$A$7:$R$24,MATCH(V$4,'Unit of measures'!$A$7:$A$24,0),MATCH($Q296,'Unit of measures'!$A$7:$R$7,0))","v":{"$error":"#N/A"}},{"$f":"$R296*INDEX('Unit of measures'!$A$7:$R$24,MATCH(W$4,'Unit of measures'!$A$7:$A$24,0),MATCH($Q296,'Unit of measures'!$A$7:$R$7,0))","v":{"$error":"#N/A"}},"Each"]
[null,null,null,null,"",null,null,{"$f":"$G297*INDEX('Unit of measures'!$A$7:$R$24,MATCH(H$4,'Unit of measures'!$A$7:$A$24,0),MATCH($F297,'Unit of measures'!$A$7:$R$7,0))","v":{"$error":"#N/A"}},{"$f":"$G297*INDEX('Unit of measures'!$A$7:$R$24,MATCH(I$4,'Unit of measures'!$A$7:$A$24,0),MATCH($F297,'Unit of measures'!$A$7:$R$7,0))","v":{"$error":"#N/A"}},{"$f":"$G297*INDEX('Unit of measures'!$A$7:$R$24,MATCH(J$4,'Unit of measures'!$A$7:$A$24,0),MATCH($F297,'Unit of measures'!$A$7:$R$7,0))","v":{"$error":"#N/A"}},{"$f":"$G297*INDEX('Unit of measures'!$A$7:$R$24,MATCH(K$4,'Unit of measures'!$A$7:$A$24,0),MATCH($F297,'Unit of measures'!$A$7:$R$7,0))","v":{"$error":"#N/A"}},{"$f":"$G297*INDEX('Unit of measures'!$A$7:$R$24,MATCH(L$4,'Unit of measures'!$A$7:$A$24,0),MATCH($F297,'Unit of measures'!$A$7:$R$7,0))","v":{"$error":"#N/A"}},{"$f":"$G297*INDEX('Unit of measures'!$A$7:$R$24,MATCH(M$4,'Unit of measures'!$A$7:$A$24,0),MATCH($F297,'Unit of measures'!$A$7:$R$7,0))","v":{"$error":"#N/A"}},{"$f":"$G297*INDEX('Unit of measures'!$A$7:$R$24,MATCH(N$4,'Unit of measures'!$A$7:$A$24,0),MATCH($F297,'Unit of measures'!$A$7:$R$7,0))","v":{"$error":"#N/A"}},{"$f":"$G297*INDEX('Unit of measures'!$A$7:$R$24,MATCH(O$4,'Unit of measures'!$A$7:$A$24,0),MATCH($F297,'Unit of measures'!$A$7:$R$7,0))","v":{"$error":"#N/A"}},{"$f":"$G297*INDEX('Unit of measures'!$A$7:$R$24,MATCH(P$4,'Unit of measures'!$A$7:$A$24,0),MATCH($F297,'Unit of measures'!$A$7:$R$7,0))","v":{"$error":"#N/A"}},null,null,{"$f":"$R297*INDEX('Unit of measures'!$A$7:$R$24,MATCH(S$4,'Unit of measures'!$A$7:$A$24,0),MATCH($Q297,'Unit of measures'!$A$7:$R$7,0))","v":{"$error":"#N/A"}},{"$f":"$R297*INDEX('Unit of measures'!$A$7:$R$24,MATCH(T$4,'Unit of measures'!$A$7:$A$24,0),MATCH($Q297,'Unit of measures'!$A$7:$R$7,0))","v":{"$error":"#N/A"}},{"$f":"$R297*INDEX('Unit of measures'!$A$7:$R$24,MATCH(U$4,'Unit of measures'!$A$7:$A$24,0),MATCH($Q297,'Unit of measures'!$A$7:$R$7,0))","v":{"$error":"#N/A"}},{"$f":"$R297*INDEX('Unit of measures'!$A$7:$R$24,MATCH(V$4,'Unit of measures'!$A$7:$A$24,0),MATCH($Q297,'Unit of measures'!$A$7:$R$7,0))","v":{"$error":"#N/A"}},{"$f":"$R297*INDEX('Unit of measures'!$A$7:$R$24,MATCH(W$4,'Unit of measures'!$A$7:$A$24,0),MATCH($Q297,'Unit of measures'!$A$7:$R$7,0))","v":{"$error":"#N/A"}},"Each"]
[null,null,null,null,"",null,null,{"$f":"$G298*INDEX('Unit of measures'!$A$7:$R$24,MATCH(H$4,'Unit of measures'!$A$7:$A$24,0),MATCH($F298,'Unit of measures'!$A$7:$R$7,0))","v":{"$error":"#N/A"}},{"$f":"$G298*INDEX('Unit of measures'!$A$7:$R$24,MATCH(I$4,'Unit of measures'!$A$7:$A$24,0),MATCH($F298,'Unit of measures'!$A$7:$R$7,0))","v":{"$error":"#N/A"}},{"$f":"$G298*INDEX('Unit of measures'!$A$7:$R$24,MATCH(J$4,'Unit of measures'!$A$7:$A$24,0),MATCH($F298,'Unit of measures'!$A$7:$R$7,0))","v":{"$error":"#N/A"}},{"$f":"$G298*INDEX('Unit of measures'!$A$7:$R$24,MATCH(K$4,'Unit of measures'!$A$7:$A$24,0),MATCH($F298,'Unit of measures'!$A$7:$R$7,0))","v":{"$error":"#N/A"}},{"$f":"$G298*INDEX('Unit of measures'!$A$7:$R$24,MATCH(L$4,'Unit of measures'!$A$7:$A$24,0),MATCH($F298,'Unit of measures'!$A$7:$R$7,0))","v":{"$error":"#N/A"}},{"$f":"$G298*INDEX('Unit of measures'!$A$7:$R$24,MATCH(M$4,'Unit of measures'!$A$7:$A$24,0),MATCH($F298,'Unit of measures'!$A$7:$R$7,0))","v":{"$error":"#N/A"}},{"$f":"$G298*INDEX('Unit of measures'!$A$7:$R$24,MATCH(N$4,'Unit of measures'!$A$7:$A$24,0),MATCH($F298,'Unit of measures'!$A$7:$R$7,0))","v":{"$error":"#N/A"}},{"$f":"$G298*INDEX('Unit of measures'!$A$7:$R$24,MATCH(O$4,'Unit of measures'!$A$7:$A$24,0),MATCH($F298,'Unit of measures'!$A$7:$R$7,0))","v":{"$error":"#N/A"}},{"$f":"$G298*INDEX('Unit of measures'!$A$7:$R$24,MATCH(P$4,'Unit of measures'!$A$7:$A$24,0),MATCH($F298,'Unit of measures'!$A$7:$R$7,0))","v":{"$error":"#N/A"}},null,null,{"$f":"$R298*INDEX('Unit of measures'!$A$7:$R$24,MATCH(S$4,'Unit of measures'!$A$7:$A$24,0),MATCH($Q298,'Unit of measures'!$A$7:$R$7,0))","v":{"$error":"#N/A"}},{"$f":"$R298*INDEX('Unit of measures'!$A$7:$R$24,MATCH(T$4,'Unit of measures'!$A$7:$A$24,0),MATCH($Q298,'Unit of measures'!$A$7:$R$7,0))","v":{"$error":"#N/A"}},{"$f":"$R298*INDEX('Unit of measures'!$A$7:$R$24,MATCH(U$4,'Unit of measures'!$A$7:$A$24,0),MATCH($Q298,'Unit of measures'!$A$7:$R$7,0))","v":{"$error":"#N/A"}},{"$f":"$R298*INDEX('Unit of measures'!$A$7:$R$24,MATCH(V$4,'Unit of measures'!$A$7:$A$24,0),MATCH($Q298,'Unit of measures'!$A$7:$R$7,0))","v":{"$error":"#N/A"}},{"$f":"$R298*INDEX('Unit of measures'!$A$7:$R$24,MATCH(W$4,'Unit of measures'!$A$7:$A$24,0),MATCH($Q298,'Unit of measures'!$A$7:$R$7,0))","v":{"$error":"#N/A"}},"Each"]
[null,null,null,null,"",null,null,{"$f":"$G299*INDEX('Unit of measures'!$A$7:$R$24,MATCH(H$4,'Unit of measures'!$A$7:$A$24,0),MATCH($F299,'Unit of measures'!$A$7:$R$7,0))","v":{"$error":"#N/A"}},{"$f":"$G299*INDEX('Unit of measures'!$A$7:$R$24,MATCH(I$4,'Unit of measures'!$A$7:$A$24,0),MATCH($F299,'Unit of measures'!$A$7:$R$7,0))","v":{"$error":"#N/A"}},{"$f":"$G299*INDEX('Unit of measures'!$A$7:$R$24,MATCH(J$4,'Unit of measures'!$A$7:$A$24,0),MATCH($F299,'Unit of measures'!$A$7:$R$7,0))","v":{"$error":"#N/A"}},{"$f":"$G299*INDEX('Unit of measures'!$A$7:$R$24,MATCH(K$4,'Unit of measures'!$A$7:$A$24,0),MATCH($F299,'Unit of measures'!$A$7:$R$7,0))","v":{"$error":"#N/A"}},{"$f":"$G299*INDEX('Unit of measures'!$A$7:$R$24,MATCH(L$4,'Unit of measures'!$A$7:$A$24,0),MATCH($F299,'Unit of measures'!$A$7:$R$7,0))","v":{"$error":"#N/A"}},{"$f":"$G299*INDEX('Unit of measures'!$A$7:$R$24,MATCH(M$4,'Unit of measures'!$A$7:$A$24,0),MATCH($F299,'Unit of measures'!$A$7:$R$7,0))","v":{"$error":"#N/A"}},{"$f":"$G299*INDEX('Unit of measures'!$A$7:$R$24,MATCH(N$4,'Unit of measures'!$A$7:$A$24,0),MATCH($F299,'Unit of measures'!$A$7:$R$7,0))","v":{"$error":"#N/A"}},{"$f":"$G299*INDEX('Unit of measures'!$A$7:$R$24,MATCH(O$4,'Unit of measures'!$A$7:$A$24,0),MATCH($F299,'Unit of measures'!$A$7:$R$7,0))","v":{"$error":"#N/A"}},{"$f":"$G299*INDEX('Unit of measures'!$A$7:$R$24,MATCH(P$4,'Unit of measures'!$A$7:$A$24,0),MATCH($F299,'Unit of measures'!$A$7:$R$7,0))","v":{"$error":"#N/A"}},null,null,{"$f":"$R299*INDEX('Unit of measures'!$A$7:$R$24,MATCH(S$4,'Unit of measures'!$A$7:$A$24,0),MATCH($Q299,'Unit of measures'!$A$7:$R$7,0))","v":{"$error":"#N/A"}},{"$f":"$R299*INDEX('Unit of measures'!$A$7:$R$24,MATCH(T$4,'Unit of measures'!$A$7:$A$24,0),MATCH($Q299,'Unit of measures'!$A$7:$R$7,0))","v":{"$error":"#N/A"}},{"$f":"$R299*INDEX('Unit of measures'!$A$7:$R$24,MATCH(U$4,'Unit of measures'!$A$7:$A$24,0),MATCH($Q299,'Unit of measures'!$A$7:$R$7,0))","v":{"$error":"#N/A"}},{"$f":"$R299*INDEX('Unit of measures'!$A$7:$R$24,MATCH(V$4,'Unit of measures'!$A$7:$A$24,0),MATCH($Q299,'Unit of measures'!$A$7:$R$7,0))","v":{"$error":"#N/A"}},{"$f":"$R299*INDEX('Unit of measures'!$A$7:$R$24,MATCH(W$4,'Unit of measures'!$A$7:$A$24,0),MATCH($Q299,'Unit of measures'!$A$7:$R$7,0))","v":{"$error":"#N/A"}},"Each"]
[null,null,null,null,"",null,null,{"$f":"$G300*INDEX('Unit of measures'!$A$7:$R$24,MATCH(H$4,'Unit of measures'!$A$7:$A$24,0),MATCH($F300,'Unit of measures'!$A$7:$R$7,0))","v":{"$error":"#N/A"}},{"$f":"$G300*INDEX('Unit of measures'!$A$7:$R$24,MATCH(I$4,'Unit of measures'!$A$7:$A$24,0),MATCH($F300,'Unit of measures'!$A$7:$R$7,0))","v":{"$error":"#N/A"}},{"$f":"$G300*INDEX('Unit of measures'!$A$7:$R$24,MATCH(J$4,'Unit of measures'!$A$7:$A$24,0),MATCH($F300,'Unit of measures'!$A$7:$R$7,0))","v":{"$error":"#N/A"}},{"$f":"$G300*INDEX('Unit of measures'!$A$7:$R$24,MATCH(K$4,'Unit of measures'!$A$7:$A$24,0),MATCH($F300,'Unit of measures'!$A$7:$R$7,0))","v":{"$error":"#N/A"}},{"$f":"$G300*INDEX('Unit of measures'!$A$7:$R$24,MATCH(L$4,'Unit of measures'!$A$7:$A$24,0),MATCH($F300,'Unit of measures'!$A$7:$R$7,0))","v":{"$error":"#N/A"}},{"$f":"$G300*INDEX('Unit of measures'!$A$7:$R$24,MATCH(M$4,'Unit of measures'!$A$7:$A$24,0),MATCH($F300,'Unit of measures'!$A$7:$R$7,0))","v":{"$error":"#N/A"}},{"$f":"$G300*INDEX('Unit of measures'!$A$7:$R$24,MATCH(N$4,'Unit of measures'!$A$7:$A$24,0),MATCH($F300,'Unit of measures'!$A$7:$R$7,0))","v":{"$error":"#N/A"}},{"$f":"$G300*INDEX('Unit of measures'!$A$7:$R$24,MATCH(O$4,'Unit of measures'!$A$7:$A$24,0),MATCH($F300,'Unit of measures'!$A$7:$R$7,0))","v":{"$error":"#N/A"}},{"$f":"$G300*INDEX('Unit of measures'!$A$7:$R$24,MATCH(P$4,'Unit of measures'!$A$7:$A$24,0),MATCH($F300,'Unit of measures'!$A$7:$R$7,0))","v":{"$error":"#N/A"}},null,null,{"$f":"$R300*INDEX('Unit of measures'!$A$7:$R$24,MATCH(S$4,'Unit of measures'!$A$7:$A$24,0),MATCH($Q300,'Unit of measures'!$A$7:$R$7,0))","v":{"$error":"#N/A"}},{"$f":"$R300*INDEX('Unit of measures'!$A$7:$R$24,MATCH(T$4,'Unit of measures'!$A$7:$A$24,0),MATCH($Q300,'Unit of measures'!$A$7:$R$7,0))","v":{"$error":"#N/A"}},{"$f":"$R300*INDEX('Unit of measures'!$A$7:$R$24,MATCH(U$4,'Unit of measures'!$A$7:$A$24,0),MATCH($Q300,'Unit of measures'!$A$7:$R$7,0))","v":{"$error":"#N/A"}},{"$f":"$R300*INDEX('Unit of measures'!$A$7:$R$24,MATCH(V$4,'Unit of measures'!$A$7:$A$24,0),MATCH($Q300,'Unit of measures'!$A$7:$R$7,0))","v":{"$error":"#N/A"}},{"$f":"$R300*INDEX('Unit of measures'!$A$7:$R$24,MATCH(W$4,'Unit of measures'!$A$7:$A$24,0),MATCH($Q300,'Unit of measures'!$A$7:$R$7,0))","v":{"$error":"#N/A"}},"Each"]
[null,null,null,null,"",null,null,{"$f":"$G301*INDEX('Unit of measures'!$A$7:$R$24,MATCH(H$4,'Unit of measures'!$A$7:$A$24,0),MATCH($F301,'Unit of measures'!$A$7:$R$7,0))","v":{"$error":"#N/A"}},{"$f":"$G301*INDEX('Unit of measures'!$A$7:$R$24,MATCH(I$4,'Unit of measures'!$A$7:$A$24,0),MATCH($F301,'Unit of measures'!$A$7:$R$7,0))","v":{"$error":"#N/A"}},{"$f":"$G301*INDEX('Unit of measures'!$A$7:$R$24,MATCH(J$4,'Unit of measures'!$A$7:$A$24,0),MATCH($F301,'Unit of measures'!$A$7:$R$7,0))","v":{"$error":"#N/A"}},{"$f":"$G301*INDEX('Unit of measures'!$A$7:$R$24,MATCH(K$4,'Unit of measures'!$A$7:$A$24,0),MATCH($F301,'Unit of measures'!$A$7:$R$7,0))","v":{"$error":"#N/A"}},{"$f":"$G301*INDEX('Unit of measures'!$A$7:$R$24,MATCH(L$4,'Unit of measures'!$A$7:$A$24,0),MATCH($F301,'Unit of measures'!$A$7:$R$7,0))","v":{"$error":"#N/A"}},{"$f":"$G301*INDEX('Unit of measures'!$A$7:$R$24,MATCH(M$4,'Unit of measures'!$A$7:$A$24,0),MATCH($F301,'Unit of measures'!$A$7:$R$7,0))","v":{"$error":"#N/A"}},{"$f":"$G301*INDEX('Unit of measures'!$A$7:$R$24,MATCH(N$4,'Unit of measures'!$A$7:$A$24,0),MATCH($F301,'Unit of measures'!$A$7:$R$7,0))","v":{"$error":"#N/A"}},{"$f":"$G301*INDEX('Unit of measures'!$A$7:$R$24,MATCH(O$4,'Unit of measures'!$A$7:$A$24,0),MATCH($F301,'Unit of measures'!$A$7:$R$7,0))","v":{"$error":"#N/A"}},{"$f":"$G301*INDEX('Unit of measures'!$A$7:$R$24,MATCH(P$4,'Unit of measures'!$A$7:$A$24,0),MATCH($F301,'Unit of measures'!$A$7:$R$7,0))","v":{"$error":"#N/A"}},null,null,{"$f":"$R301*INDEX('Unit of measures'!$A$7:$R$24,MATCH(S$4,'Unit of measures'!$A$7:$A$24,0),MATCH($Q301,'Unit of measures'!$A$7:$R$7,0))","v":{"$error":"#N/A"}},{"$f":"$R301*INDEX('Unit of measures'!$A$7:$R$24,MATCH(T$4,'Unit of measures'!$A$7:$A$24,0),MATCH($Q301,'Unit of measures'!$A$7:$R$7,0))","v":{"$error":"#N/A"}},{"$f":"$R301*INDEX('Unit of measures'!$A$7:$R$24,MATCH(U$4,'Unit of measures'!$A$7:$A$24,0),MATCH($Q301,'Unit of measures'!$A$7:$R$7,0))","v":{"$error":"#N/A"}},{"$f":"$R301*INDEX('Unit of measures'!$A$7:$R$24,MATCH(V$4,'Unit of measures'!$A$7:$A$24,0),MATCH($Q301,'Unit of measures'!$A$7:$R$7,0))","v":{"$error":"#N/A"}},{"$f":"$R301*INDEX('Unit of measures'!$A$7:$R$24,MATCH(W$4,'Unit of measures'!$A$7:$A$24,0),MATCH($Q301,'Unit of measures'!$A$7:$R$7,0))","v":{"$error":"#N/A"}},"Each"]
[null,null,null,null,"",null,null,{"$f":"$G302*INDEX('Unit of measures'!$A$7:$R$24,MATCH(H$4,'Unit of measures'!$A$7:$A$24,0),MATCH($F302,'Unit of measures'!$A$7:$R$7,0))","v":{"$error":"#N/A"}},{"$f":"$G302*INDEX('Unit of measures'!$A$7:$R$24,MATCH(I$4,'Unit of measures'!$A$7:$A$24,0),MATCH($F302,'Unit of measures'!$A$7:$R$7,0))","v":{"$error":"#N/A"}},{"$f":"$G302*INDEX('Unit of measures'!$A$7:$R$24,MATCH(J$4,'Unit of measures'!$A$7:$A$24,0),MATCH($F302,'Unit of measures'!$A$7:$R$7,0))","v":{"$error":"#N/A"}},{"$f":"$G302*INDEX('Unit of measures'!$A$7:$R$24,MATCH(K$4,'Unit of measures'!$A$7:$A$24,0),MATCH($F302,'Unit of measures'!$A$7:$R$7,0))","v":{"$error":"#N/A"}},{"$f":"$G302*INDEX('Unit of measures'!$A$7:$R$24,MATCH(L$4,'Unit of measures'!$A$7:$A$24,0),MATCH($F302,'Unit of measures'!$A$7:$R$7,0))","v":{"$error":"#N/A"}},{"$f":"$G302*INDEX('Unit of measures'!$A$7:$R$24,MATCH(M$4,'Unit of measures'!$A$7:$A$24,0),MATCH($F302,'Unit of measures'!$A$7:$R$7,0))","v":{"$error":"#N/A"}},{"$f":"$G302*INDEX('Unit of measures'!$A$7:$R$24,MATCH(N$4,'Unit of measures'!$A$7:$A$24,0),MATCH($F302,'Unit of measures'!$A$7:$R$7,0))","v":{"$error":"#N/A"}},{"$f":"$G302*INDEX('Unit of measures'!$A$7:$R$24,MATCH(O$4,'Unit of measures'!$A$7:$A$24,0),MATCH($F302,'Unit of measures'!$A$7:$R$7,0))","v":{"$error":"#N/A"}},{"$f":"$G302*INDEX('Unit of measures'!$A$7:$R$24,MATCH(P$4,'Unit of measures'!$A$7:$A$24,0),MATCH($F302,'Unit of measures'!$A$7:$R$7,0))","v":{"$error":"#N/A"}},null,null,{"$f":"$R302*INDEX('Unit of measures'!$A$7:$R$24,MATCH(S$4,'Unit of measures'!$A$7:$A$24,0),MATCH($Q302,'Unit of measures'!$A$7:$R$7,0))","v":{"$error":"#N/A"}},{"$f":"$R302*INDEX('Unit of measures'!$A$7:$R$24,MATCH(T$4,'Unit of measures'!$A$7:$A$24,0),MATCH($Q302,'Unit of measures'!$A$7:$R$7,0))","v":{"$error":"#N/A"}},{"$f":"$R302*INDEX('Unit of measures'!$A$7:$R$24,MATCH(U$4,'Unit of measures'!$A$7:$A$24,0),MATCH($Q302,'Unit of measures'!$A$7:$R$7,0))","v":{"$error":"#N/A"}},{"$f":"$R302*INDEX('Unit of measures'!$A$7:$R$24,MATCH(V$4,'Unit of measures'!$A$7:$A$24,0),MATCH($Q302,'Unit of measures'!$A$7:$R$7,0))","v":{"$error":"#N/A"}},{"$f":"$R302*INDEX('Unit of measures'!$A$7:$R$24,MATCH(W$4,'Unit of measures'!$A$7:$A$24,0),MATCH($Q302,'Unit of measures'!$A$7:$R$7,0))","v":{"$error":"#N/A"}},"Each"]
[null,null,null,null,"",null,null,{"$f":"$G303*INDEX('Unit of measures'!$A$7:$R$24,MATCH(H$4,'Unit of measures'!$A$7:$A$24,0),MATCH($F303,'Unit of measures'!$A$7:$R$7,0))","v":{"$error":"#N/A"}},{"$f":"$G303*INDEX('Unit of measures'!$A$7:$R$24,MATCH(I$4,'Unit of measures'!$A$7:$A$24,0),MATCH($F303,'Unit of measures'!$A$7:$R$7,0))","v":{"$error":"#N/A"}},{"$f":"$G303*INDEX('Unit of measures'!$A$7:$R$24,MATCH(J$4,'Unit of measures'!$A$7:$A$24,0),MATCH($F303,'Unit of measures'!$A$7:$R$7,0))","v":{"$error":"#N/A"}},{"$f":"$G303*INDEX('Unit of measures'!$A$7:$R$24,MATCH(K$4,'Unit of measures'!$A$7:$A$24,0),MATCH($F303,'Unit of measures'!$A$7:$R$7,0))","v":{"$error":"#N/A"}},{"$f":"$G303*INDEX('Unit of measures'!$A$7:$R$24,MATCH(L$4,'Unit of measures'!$A$7:$A$24,0),MATCH($F303,'Unit of measures'!$A$7:$R$7,0))","v":{"$error":"#N/A"}},{"$f":"$G303*INDEX('Unit of measures'!$A$7:$R$24,MATCH(M$4,'Unit of measures'!$A$7:$A$24,0),MATCH($F303,'Unit of measures'!$A$7:$R$7,0))","v":{"$error":"#N/A"}},{"$f":"$G303*INDEX('Unit of measures'!$A$7:$R$24,MATCH(N$4,'Unit of measures'!$A$7:$A$24,0),MATCH($F303,'Unit of measures'!$A$7:$R$7,0))","v":{"$error":"#N/A"}},{"$f":"$G303*INDEX('Unit of measures'!$A$7:$R$24,MATCH(O$4,'Unit of measures'!$A$7:$A$24,0),MATCH($F303,'Unit of measures'!$A$7:$R$7,0))","v":{"$error":"#N/A"}},{"$f":"$G303*INDEX('Unit of measures'!$A$7:$R$24,MATCH(P$4,'Unit of measures'!$A$7:$A$24,0),MATCH($F303,'Unit of measures'!$A$7:$R$7,0))","v":{"$error":"#N/A"}},null,null,{"$f":"$R303*INDEX('Unit of measures'!$A$7:$R$24,MATCH(S$4,'Unit of measures'!$A$7:$A$24,0),MATCH($Q303,'Unit of measures'!$A$7:$R$7,0))","v":{"$error":"#N/A"}},{"$f":"$R303*INDEX('Unit of measures'!$A$7:$R$24,MATCH(T$4,'Unit of measures'!$A$7:$A$24,0),MATCH($Q303,'Unit of measures'!$A$7:$R$7,0))","v":{"$error":"#N/A"}},{"$f":"$R303*INDEX('Unit of measures'!$A$7:$R$24,MATCH(U$4,'Unit of measures'!$A$7:$A$24,0),MATCH($Q303,'Unit of measures'!$A$7:$R$7,0))","v":{"$error":"#N/A"}},{"$f":"$R303*INDEX('Unit of measures'!$A$7:$R$24,MATCH(V$4,'Unit of measures'!$A$7:$A$24,0),MATCH($Q303,'Unit of measures'!$A$7:$R$7,0))","v":{"$error":"#N/A"}},{"$f":"$R303*INDEX('Unit of measures'!$A$7:$R$24,MATCH(W$4,'Unit of measures'!$A$7:$A$24,0),MATCH($Q303,'Unit of measures'!$A$7:$R$7,0))","v":{"$error":"#N/A"}},"Each"]

{"sheet":"Recipes DB","index":3,"n_rows":28,"n_cols":12,"rows_kept":28,"cut":false,"hidden":true,"merged":[]}
["Recipe Name","Target food cost % of price","Number of servings","Target price per serving","Total Cost","Buffer [%]","VAT [%]","Ingredient","Quantity","Recipe UOM","Yield %","Cost"]
["Chicken",0.3,5,16.554400000000001,20.1555,0.1,0.12,"olive oil",1.5,"Kilogram (kg)",0.95,18.959928229665074]
["Chicken",0.3,5,16.554400000000001,20.1555,0.1,0.12,"chicken bouillon granules",3,"Tablespoon (tbs)",0.8,0.5625]
["Chicken",0.3,5,16.554400000000001,20.1555,0.1,0.12,"cloves garlic",1,"Each",0.95,0.52631578947368418]
["Chicken",0.3,5,16.554400000000001,20.1555,0.1,0.12,"water",0.5,"Liter (L)",0.99,0.10673737373737374]
["Grilled Lemon Herb Chicken",0.4,4,17.343499999999999,23.427199999999999,0.03,0.15,"Chicken breast",2.4,"Kilogram (kg)",0.95,21.473684210526315]
["Grilled Lemon Herb Chicken",0.4,4,17.343499999999999,23.427199999999999,0.03,0.15,"Olive oil",3,"Tablespoon (tbs)",0.95,0.49342688951633246]
["Grilled Lemon Herb Chicken",0.4,4,17.343499999999999,23.427199999999999,0.03,0.15,"Lemon juice",2,"Tablespoon (tbs)",0.95,0.24904084210526314]
["Grilled Lemon Herb Chicken",0.4,4,17.343499999999999,23.427199999999999,0.03,0.15,"Garlic",3,"Each",0.95,5.6842105263157894E-4]
["Grilled Lemon Herb Chicken",0.4,4,17.343499999999999,23.427199999999999,0.03,0.15,"Fresh parsley",15,"Gram (g)",0.95,0.23684210526315788]
["Grilled Lemon Herb Chicken",0.4,4,17.343499999999999,23.427199999999999,0.03,0.15,"Dried oregano",10,"Gram (g)",0.95,0.4210526315789474]
["Grilled Lemon Herb Chicken",0.4,4,17.343499999999999,23.427199999999999,0.03,0.15,"Paprika",10,"Gram (g)",0.95,0.36842105263157898]
["Grilled Lemon Herb Chicken",0.4,4,17.343499999999999,23.427199999999999,0.03,0.15,"Salt",10,"Gram (g)",0.95,5.2631578947368425E-2]
["Grilled Lemon Herb Chicken",0.4,4,17.343499999999999,23.427199999999999,0.03,0.15,"Black pepper",5,"Gram (g)",0.95,0.13157894736842105]
["Pizza Dough",0.4,1,4.3658999999999999,1.4175,0.1,0.12,"White Flour",350,"Gram (g)",0.95,0.92105263157894746]
["Pizza Dough",0.4,1,4.3658999999999999,1.4175,0.1,0.12,"Water",162.5,"Milliliter (ml)",0.95,3.5921052631578944E-2]
["Pizza Dough",0.4,1,4.3658999999999999,1.4175,0.1,0.12,"Olive Oil",15,"Milliliter (ml)",0.95,0.16684736842105263]
["Pizza Dough",0.4,1,4.3658999999999999,1.4175,0.1,0.12,"Sugar",5,"Gram (g)",0.95,4.2105263157894736E-3]
["Pizza Dough",0.4,1,4.3658999999999999,1.4175,0.1,0.12,"Salt",5,"Gram (g)",0.95,2.6315789473684213E-2]
["Pizza Dough",0.4,1,4.3658999999999999,1.4175,0.1,0.12,"Dry Yeast",5,"Gram (g)",0.95,0.26315789473684209]
["Pizza Margarita",0.4,8,5.7294999999999998,16.6675,0,0.1,"Pizza Dough",1,"Each",1,1.4175]
["Pizza Margarita",0.4,8,5.7294999999999998,16.6675,0,0.1,"Tomato sauce",0.8,"Liter (L)",0.95,4.2105263157894735]
["Pizza Margarita",0.4,8,5.7294999999999998,16.6675,0,0.1,"Fresh mozzarella cheese, sliced",1.2,"Kilogram (kg)",0.95,10.105263157894736]
["Pizza Margarita",0.4,8,5.7294999999999998,16.6675,0,0.1,"Fresh basil leaves",20,"Gram (g)",0.95,0.25263157894736843]
["Pizza Margarita",0.4,8,5.7294999999999998,16.6675,0,0.1,"Extra-virgin olive oil",40,"Milliliter (ml)",0.95,0.63157894736842102]
["Pizza Margarita",0.4,8,5.7294999999999998,16.6675,0,0.1,"Salt",10,"Gram (g)",1,0.05]
["Pizza New",0.4,8,6.1559999999999997,17.9084,0,0.1,"Pizza Margarita",1,"Each",0.95,17.544736842105266]
["Pizza New",0.4,8,6.1559999999999997,17.9084,0,0.1,"Green Olives",45,"Gram (g)",0.99,0.36363636363636365]

{"sheet":"Unit of measures","index":4,"n_rows":22,"n_cols":16,"rows_kept":22,"cut":false,"hidden":true,"merged":[]}
["Process:"]
["1. Add a new unit of measure to the table, both as a new row and a new column."]
["2. For that combination right 1 (similar to the others)."]
["3. If there is a connection to the other unit of measures right the ration as seen for the other examples."]
["4. You can adjust the numbers any time."]
[]
["Unit of Measure","Teaspoon (tsp)","Tablespoon (tbs)","Cup (cup)","Fluid Ounce (oz)","Milliliter (ml)","Quart (qt)","Pint (pt)","Gallon (gal)","Liter (L)","Milligram (mg)","Gram (g)","Kilogram (kg)","Ounce (ozm)","Pound (lbm)","Each"]
["Teaspoon (tsp)",1,3,48,6,0.2029,192,96,768,202.88409999999999,{"$error":"#N/A"},{"$error":"#N/A"},{"$error":"#N/A"},{"$error":"#N/A"},{"$error":"#N/A"},{"$error":"#N/A"}]
["Tablespoon (tbs)",0.33329999999999999,1,16,2,6.7599999999999993E-2,64,32,256,67.628,{"$error":"#N/A"},{"$error":"#N/A"},{"$error":"#N/A"},{"$error":"#N/A"},{"$error":"#N/A"},{"$error":"#N/A"}]
["Cup (cup)",2.0799999999999999E-2,6.25E-2,1,0.125,4.1999999999999997E-3,4,2,16,4.2267999999999999,{"$error":"#N/A"},{"$error":"#N/A"},{"$error":"#N/A"},{"$error":"#N/A"},{"$error":"#N/A"},{"$error":"#N/A"}]
["Fluid Ounce (oz)",0.16669999999999999,0.5,8,1,3.3799999999999997E-2,32,16,128,33.814,{"$error":"#N/A"},{"$error":"#N/A"},{"$error":"#N/A"},{"$error":"#N/A"},{"$error":"#N/A"},{"$error":"#N/A"}]
["Milliliter (ml)",4.9288999999999996,14.786799999999999,236.5882,29.573499999999999,1,946.35289999999998,473.17649999999998,3785.4117999999999,1000,{"$error":"#N/A"},{"$error":"#N/A"},{"$error":"#N/A"},{"$error":"#N/A"},{"$error":"#N/A"},{"$error":"#N/A"}]
["Quart (qt)",5.1999999999999998E-3,1.5599999999999999E-2,0.25,3.1300000000000001E-2,1.1000000000000001E-3,1,0.5,4,1.0567,{"$error":"#N/A"},{"$error":"#N/A"},{"$error":"#N/A"},{"$error":"#N/A"},{"$error":"#N/A"},{"$error":"#N/A"}]
["Pint (pt)",1.04E-2,3.1300000000000001E-2,0.5,6.25E-2,2.0999999999999999E-3,2,1,8,2.1133999999999999,{"$error":"#N/A"},{"$error":"#N/A"},{"$error":"#N/A"},{"$error":"#N/A"},{"$error":"#N/A"},{"$error":"#N/A"}]
["Gallon (gal)",1.2999999999999999E-3,3.8999999999999998E-3,6.25E-2,7.7999999999999996E-3,2.9999999999999997E-4,0.25,0.125,1,0.26419999999999999,{"$error":"#N/A"},{"$error":"#N/A"},{"$error":"#N/A"},{"$error":"#N/A"},{"$error":"#N/A"},{"$error":"#N/A"}]
["Liter (L)",4.8999999999999998E-3,1.4800000000000001E-2,0.2366,2.9600000000000001E-2,1E-3,0.94640000000000002,0.47320000000000001,3.7854000000000001,1,{"$error":"#N/A"},{"$error":"#N/A"},{"$error":"#N/A"},{"$error":"#N/A"},{"$error":"#N/A"},{"$error":"#N/A"}]
["Milligram (mg)",{"$error":"#N/A"},{"$error":"#N/A"},{"$error":"#N/A"},{"$error":"#N/A"},{"$error":"#N/A"},{"$error":"#N/A"},{"$error":"#N/A"},{"$error":"#N/A"},{"$error":"#N/A"},1,1000,1000000,28349.523099999999,453592.37,{"$error":"#N/A"}]
["Gram (g)",{"$error":"#N/A"},{"$error":"#N/A"},{"$error":"#N/A"},{"$error":"#N/A"},{"$error":"#N/A"},{"$error":"#N/A"},{"$error":"#N/A"},{"$error":"#N/A"},{"$error":"#N/A"},1E-3,1,1000,28.349499999999999,453.5924,{"$error":"#N/A"}]
["Kilogram (kg)",{"$error":"#N/A"},{"$error":"#N/A"},{"$error":"#N/A"},{"$error":"#N/A"},{"$error":"#N/A"},{"$error":"#N/A"},{"$error":"#N/A"},{"$error":"#N/A"},{"$error":"#N/A"},0,1E-3,1,2.8299999999999999E-2,0.4536,{"$error":"#N/A"}]
["Ounce (ozm)",{"$error":"#N/A"},{"$error":"#N/A"},{"$error":"#N/A"},{"$error":"#N/A"},{"$error":"#N/A"},{"$error":"#N/A"},{"$error":"#N/A"},{"$error":"#N/A"},{"$error":"#N/A"},0,3.5299999999999998E-2,35.274000000000001,1,16,{"$error":"#N/A"}]
["Pound (lbm)",{"$error":"#N/A"},{"$error":"#N/A"},{"$error":"#N/A"},{"$error":"#N/A"},{"$error":"#N/A"},{"$error":"#N/A"},{"$error":"#N/A"},{"$error":"#N/A"},{"$error":"#N/A"},0,2.2000000000000001E-3,2.2046000000000001,6.25E-2,1,{"$error":"#N/A"}]
["Each",{"$error":"#N/A"},{"$error":"#N/A"},{"$error":"#N/A"},{"$error":"#N/A"},{"$error":"#N/A"},{"$error":"#N/A"},{"$error":"#N/A"},{"$error":"#N/A"},{"$error":"#N/A"},{"$error":"#N/A"},{"$error":"#N/A"},{"$error":"#N/A"},{"$error":"#N/A"},{"$error":"#N/A"},1]

{"sheet":"List","index":5,"n_rows":38,"n_cols":5,"rows_kept":38,"cut":false,"hidden":true,"merged":[]}
["Recipe List",null,"Ingredients & Recipes Drop down",null,"Version - change to free for lite!"]
[{"$f":"IFERROR(_xlfn._xlws.SORT(_xlfn.UNIQUE(_xlfn._xlws.FILTER('Recipes DB'!$A$2:$A$9638, 'Recipes DB'!$A$2:$A$9638<>\"\"))),\"\")","v":"Chicken"},null,{"$f":"IFERROR(_xlfn._xlws.SORT(_xlfn.UNIQUE(_xlfn.VSTACK(\nIFERROR(_xlfn._xlws.FILTER('Ingredient DB'!$A$4:$A$9999,'Ingredient DB'!$A$4:$A$9999<>\"\"),\"\"),\nIFERROR(_xlfn._xlws.FILTER('Recipes DB'!$A$2:$A$9661,'Recipes DB'!$A$2:$A$9661<>\"\"),\"\")))),\"\")","v":"Black pepper"},null,"Free"]
["Grilled Lemon Herb Chicken",null,"Carrots"]
["Pizza Dough",null,"Chicken"]
["Pizza Margarita",null,"Chicken Bouillon Granules"]
["Pizza New",null,"Chicken breast"]
[null,null,"Cloves Garlic"]
[null,null,"Cumin Seeds"]
[null,null,"Dried oregano"]
[null,null,"Dry Yeast"]
[null,null,"Extra-Virgin Olive Oil"]
[null,null,"Fillets Salmon"]
[null,null,"Fresh Basil Leaves"]
[null,null,"Fresh Mozzarella Cheese, Sliced"]
[null,null,"Fresh parsley"]
[null,null,"Garam Masala"]
[null,null,"Garlic"]
[null,null,"Green Olives"]
[null,null,"Grilled Lemon Herb Chicken"]
[null,null,"Ground Turmeric"]
[null,null,"Large Onion"]
[null,null,"Lemon juice"]
[null,null,"Medium Onions"]
[null,null,"Minced Fresh Ginger Root"]
[null,null,"Olive Oil"]
[null,null,"Paprika"]
[null,null,"Pizza Dough"]
[null,null,"Pizza Margarita"]
[null,null,"Pizza New"]
[null,null,"Salt"]
[null,null,"Stalks Celery"]
[null,null,"Steak"]
[null,null,"Sugar"]
[null,null,"Tomato Sauce"]
[null,null,"Tomatoes"]
[null,null,"Water"]
[null,null,"White Flour"]
[null,null,"Whole Chicken"]